{"text_format":"1","workbook":"xlsx","n_sheets":54,"sheets":["Front Cover","Contents","TTWA Summary","LA Summary","ONS LA Codes","ES1. KS1 Phonics Assessment","ES2. KS2 Achievement","ES3. GCSE Results - Attainment","ES4. GCSE Results - Progress","ES5. GCSE Results - Ebacc","ES6. Participation of 16s & 17s","ES7. L2 Attainment by Age 19","ES8. L2 Attainment MathsEnglish","ES9. L3 Attainment by Age 19","ES10. Attainment by FSM","ES11. Destinations by KS4","ES12. Destinations by KS5","ES12a. FE Outcomes","ES12b. Prepardness of Education","ES13. Schools by Ofsted Rating","ES14. NEETs","ES15. Learn. App Starts by Age","ES16a. Learn App Starts Subject","ES16b. Prov. App Start Subject","ES17a. Learn. App Start Level","ES17b. Prov. App Start Level","ES18. Learn. App Achieve by Age","ES19a Learn App Achieve Subject","ES19b Prov. App Achieve Subject","ES20a. Learn. App Achieve Level","ES20b. Prov. App Achieve Level","ES21. Travel Time for FE","ES23 FE Learner Characteristic ","ES22. Learners by Prov Type","ES24 Provider Ofsted Rating","ES25a FE Part. & Achieve","ES25b FE Part by Characteristic","ES25c FE Achieve by Character","ES26. Total HE Students","ES27. HE Students by Institut","ES28. HE Students by Domicile","ES29. HE Students by Ethnicity","ES30. HE Students by Age","ES31. HE Students by Gender","ES32. HE Students by Level","ES33. FT UG Students Domicile","ES34. HE Students by Subject","ES35. Underrepresented in HE","ES36. Home, Study, Emp Geog","ES37. HE Students Home LEP","ES38. Graduates by Employ. LEP","ES39. Graduates by Level","ES40. Graduates After 1 Year","ES41. Graduates After 1 3 5 Yrs"],"not_rendered":{"charts":86,"images":1,"macros":1,"external_links":2,"defined_names":20,"comments":0,"pivot_tables":0},"unopened":[],"bounds":{"document_bytes":16777216,"sheet_cells":100000,"rows_first":2000,"rows_last":500,"rows_between":2000,"halvings":0,"cell_chars":16384,"cell_head_chars":4096},"cells_cut":0,"cells_raw":0,"read":"whole","date_system":"1900"}

{"sheet":"Front Cover","index":0,"n_rows":0,"n_cols":0,"rows_kept":0,"cut":false,"hidden":false,"merged":[]}

{"sheet":"Contents","index":1,"n_rows":27,"n_cols":17,"rows_kept":27,"cut":false,"hidden":false,"merged":[[26,1,38,10],[21,1,24,10],[3,15,3,16],[5,15,7,15],[8,15,11,15],[12,15,14,15]]}
[]
[null,"Labour Market Information Toolkit Data Matrix - Education, Skills and Employment System"]
[]
[null,"Indicators",null,null,null,null,null,null,null,null,null,null,null,null,null,"Composition of Lancashire Travel to Work Areas"]
[null,"The following indicators are included in this workbook:",null,null,null,null,null,null,null,null,null,null,null,null,null,"Lancaster and Morecambe ","Lancaster "]
[null,"ES1: KS1 Phonics Assessment",null,null,null,"ES13: Schools by Ofsted rating",null,null,null,"ES23: Provider Perspective: FE and Skills Provision by Learner Characteristics","ES35: Underrepresented Groups in HE",null,null,null,null,"Blackpool, Fylde and Wyre ","Blackpool"]
[null,"ES2: KS2 achievement - % achieving required level",null,null,null,"ES14: NEETs",null,null,null,"ES24: Ofsted Rating of Local Education Providers","ES36: HE Students by Home, Study and Employment Geography",null,null,null,null,null,"Fylde"]
[null,"ES3: GCSE results - average Attainment 8 score",null,null,null,"ES15: Learner Perspective: Apprenticeships Starts by Age",null,null,null,"ES25a: Learner Perspective: Number of FE Learners (Participation and Achievements)","ES37: HE Students Home LEP",null,null,null,null,null,"Wyre"]
[null,"ES4: GCSE results - average Progress 8 score",null,null,null,"ES16a: Learner Perspective: Apprenticeship Starts by Subject",null,null,null,"ES25b: Learner Perspective: FE and Skills Participation by Characteristics","ES38: Graduates by Employment LEP",null,null,null,null,"Blackburn with Darwen, Hyndburn, Rossendale and Ribble Valley ","Blackburn with Darwen"]
[null,"ES5: GCSE results - % achieving 9-5 in English Bacc",null,null,null,"ES16b: Provider Perspective: Apprenticeship Starts by Subject",null,null,null,"ES25c: Learner Perspective: FE and Skills Achievements by Characteristics","ES39: Graduates by Level",null,null,null,null,null,"Hyndburn "]
[null,"ES6: Participation of 16 & 17 year olds",null,null,null,"ES17a: Learner Perspective: Apprenticeship Starts by Level",null,null,null,"ES26: Total Higher Education (HE) Students","ES40: Graduates by Employment 1 Year After Graduation",null,null,null,null,null,"Rossendale "]
[null,"ES7: Level 2 attainment by age 19",null,null,null,"ES17b: Provider Perspective: Apprenticeship Starts by Level",null,null,null,"ES27: HE Students by Institution","ES41: Graduates by Employment 1, 3 and 5 Years After Graduation",null,null,null,null,null,"Ribble Valley"]
[null,"ES8: Level 2 attainment inc Maths and English by age 19",null,null,null,"ES18: Learner Perspective: Apprenticeship Achievements by Age",null,null,null,"ES28: HE Students by Domicile ",null,null,null,null,null,"Preston, Chorley, South Ribble ","Preston"]
[null,"ES9: Level 3 attainment by age 19",null,null,null,"ES19a: Learner Perspective: Apprenticeship Achievements by Subject",null,null,null,"ES29: HE Students by Ethnicity",null,null,null,null,null,null,"Chorley"]
[null,"ES10: Attainment at 19 by Free School Meal (FSM) eligibility",null,null,null,"ES19b: Provider Perspective: Apprenticeship Achievements by Subject",null,null,null,"ES30: HE Students by Age",null,null,null,null,null,null,"South Ribble "]
[null,"ES11: Destinations at KS4",null,null,null,"ES20a: Learner Perspective: Apprenticeship Achievements by Level",null,null,null,"ES31: HE Students by Gender",null,null,null,null,null,"Burnley and Pendle ","Burnley"]
[null,"ES12: Destinations at KS5",null,null,null,"ES20b: Provider Perspective: Apprenticeship Achievements by Level",null,null,null,"ES32: HE Students by Level",null,null,null,null,null,null,"Pendle "]
[null,"ES12a. Further Education (FE) Outcomes by Learner Type and Characteristics",null,null,null,"ES21. Travel Time for Further Education (FE) by Mode of Travel",null,null,null,"ES33: Full Time Undergraduate Students by Domicile",null,null,null,null,null,"West Lancashire ","West Lancashire "]
[null,"ES12b. Preparedness of Education Leavers for Work",null,null,null,"ES22. Provider Perspective Number of FE and Skills Funded Learners by Provider Type",null,null,null,"ES34: HE Students by Subject"]
[]
[]
[null,"Matrix Data\nThe data was the most up to date available data at the time of writing. The data matrix workbook contains data from the Department for Education (across a number of datasets); Department for Transport; The Office for Students; Employer Perspectives Survey 2016; the Higher Education Statistics Agency (HESA);  the Higher Education Funding Council for England (HEFCE); and Lancashire County Council. All data sources are stated. Please note the data matrix does not reflect any updates to indicators that have been released after November 2019. Please check with the original sources for any updated data releases."]
[]
[]
[]
[]
[null,"How to use the Matrix\nThe matrix contains summary pages for the Travel to Work Areas (TTWA) and Local Authority districts The two summary pages include a drop-down menu (shaded blue at the top of the sheet) for selecting the geography for which summary data will be provided. The relevant indicators can then be selected by clicking the corresponding indicator button. When selecting a geography from the drop-down menu in the Local Authority summary page, the corresponding TTWA will automatically be selected as a comparator geography.\n\nTo access a more comprehensive dataset, click the link above each data table to view the full datasheet for that selected indicator. Links can be used to navigate between each summary tab and datasheet.\n\nPlease note that to use the summary features of the matrix, macros must be enabled. \nYou can enable macros by selecting ‘Enable content’ if prompted to do so in the notification box or banner at the top of the sheet. If you are not prompted to enable macros, you may need to change the spreadsheet’s macro settings. You can do this in Excel 2013 by accessing the following menu options: File \\ Options \\ Trust Centre \\ Trust Centre Settings… \\ Macro Settings  and selecting ‘Disable all macros with notification’. \n\nWhen you reopen this spreadsheet you will receive a notification stating that Macros have been disabled and will be given the option to accept macros within the spreadsheet. It is not recommended that ‘Enable all macros’ is selected as this will enable macros in all spreadsheets, not just the Lancashire LMI Data Matrix. \n"]

{"sheet":"TTWA Summary","index":2,"n_rows":2420,"n_cols":28,"rows_kept":2420,"cut":false,"hidden":false,"merged":[[876,2,876,6],[963,2,963,6],[10,17,10,18],[12,5,12,6],[12,9,12,10],[12,3,12,4],[12,7,12,8],[2,3,2,7],[10,11,10,12],[10,5,10,6],[10,23,10,24],[10,9,10,10],[6,3,6,4],[6,5,6,6],[6,9,6,10],[4,5,4,6],[4,3,4,4],[4,13,4,14],[4,11,4,12],[4,7,4,8],[4,9,4,10],[6,11,6,12],[4,23,4,24],[4,27,4,28],[10,7,10,8],[10,13,10,14],[10,19,10,20],[10,21,10,22],[4,25,4,26],[6,13,6,14],[4,21,4,22],[4,15,4,16],[4,17,4,18],[4,19,4,20],[6,7,6,8],[6,17,6,18],[6,19,6,20],[6,21,6,22],[10,15,10,16],[1076,2,1076,6],[1126,2,1126,6],[1163,2,1163,6],[1211,2,1211,6],[6,15,6,16],[8,3,8,4],[8,5,8,6],[8,7,8,8],[8,9,8,10],[8,11,8,12],[8,13,8,14],[8,15,8,16],[913,2,913,6],[579,2,579,6],[826,2,826,6],[10,3,10,4]]}
["Blackburn with Darwen, Hyndburn, Rossendale and Ribble Valley",null,"Education, Skills and Employment System Indicators: Travel to Work Area Summary"]
["Blackpool, Fylde and Wyre"]
["Burnley and Pendle",null,"Summary Statistics for: ","Blackpool, Fylde and Wyre"]
["Lancaster and Morecambe "]
["Preston, Chorley and South Ribble ",null,"Schools","KS1 Phonics",null,"KS2 Achievements",null,"GCSE Results - Attainment",null,"GCSE Results - Progress",null,"GCSE Results - Ebacc",null,"Participation of 16s and 17s",null,"L2 Attainment by Age 19",null,"L2 Attainment Maths and English",null,"L3 Attainment by Age 19",null,"Attainment by FSM",null,"Destinations by KS4",null,"Destinations by KS5",null,"Schools by Ofsted Rating"]
["West Lancashire "]
[null,null,"Apprenticeships","Learner Perspective: Apprenticeship Starts by Age",null,"Learner Perspective: Apprenticeship Starts by Subject",null,"Provider Perspective: Apprenticeship Starts by Subject",null,"Learner Perspective: Apprenticeship Starts by Level",null,"Provider Perspective: Apprenticeship Starts by Level",null,"Learner Perspective: Apprenticeship Achievements by Age",null,"Learner Perspective: Apprenticeship Achievements by Subject",null,"Provider Perspective: Apprenticeship Achievements by Subject",null,"Learner Perspective: Apprenticeship Achievements by Level",null,"Provider Perspective: Apprenticeship Achievements by Level"]
[]
[null,null,"Further Education","FE Travel Time",null,"Provider Perspective: FE and Skills Funded Learners by Provider Type",null,"Provider Perspective: FE and Skills Provision by Learner Characteristics",null,"Ofsted Provider Rating",null,"Learner Perspective - Number of FE Learners (Participation and Achievements)",null,"Learner Perspective: FE and Skills Participation by Characteristics",null,"Learner Perspective: FE and Skills Achievements by Characteristics"]
[]
[null,null,"Higher Education","Total HE Students",null,"HEI Students by Institution",null,"HEI Students by Domicile ",null,"HE Students by Ethnicity",null,"HE Students by Age",null,"HE Students by Gender",null,"HE Students by Level",null,"FT Undergraduate Students by Domicile",null,"HE Students by Subject",null,"Underrepresented in HE",null,"HE Students by Geography"]
[]
[null,null,"Graduates","Graduates by Employment LEP",null,"Graduates by Level",null,"Graduates 1 Year After Graduation",null,"Graduates 1, 3 and 5 Years After Graduation"]
[null,null,"Back to top"]
[]
[]
[]
[]
[]
[]
[]
[]
[]
[]
[]
[]
[]
[]
[]
[]
[]
[]
[]
[]
[]
[]
[]
[]
[]
[]
[]
[]
[]
[]
[]
[]
[]
[]
[]
[]
[]
[null,null,"ES1. KS1 Phonics Assessment, 2012, 2017 and 2019"]
[null,null,2012,"Lancashire ","North West ","England"]
[null,null,"Year 1 - percentage meeting standard",{"$f":"INDEX('ES1. KS1 Phonics Assessment'!$B4:$Y4,MATCH(D$53,'ES1. KS1 Phonics Assessment'!$B$2:$F$2,0))","v":0.62},{"$f":"INDEX('ES1. KS1 Phonics Assessment'!$B4:$Y4,MATCH(E$53,'ES1. KS1 Phonics Assessment'!$B$2:$F$2,0))","v":0.57999999999999996},{"$f":"INDEX('ES1. KS1 Phonics Assessment'!$B4:$Y4,MATCH(F53,'ES1. KS1 Phonics Assessment'!$B$2:$F$2,0))","v":0.57999999999999996}]
[null,null,"Year 2 - percentage meeting standard",{"$f":"INDEX('ES1. KS1 Phonics Assessment'!$B5:$Y5,MATCH(D$53,'ES1. KS1 Phonics Assessment'!$B$2:$F$2,0))","v":"na"},{"$f":"INDEX('ES1. KS1 Phonics Assessment'!$B5:$Y5,MATCH(E$53,'ES1. KS1 Phonics Assessment'!$B$2:$F$2,0))","v":"na"},{"$f":"INDEX('ES1. KS1 Phonics Assessment'!$B5:$Y5,MATCH(F$53,'ES1. KS1 Phonics Assessment'!$B$2:$F$2,0))","v":"na"}]
[]
[null,null,2017,"Lancashire ","North West","England"]
[null,null,"Year 1 - percentage meeting standard",{"$f":"INDEX('ES1. KS1 Phonics Assessment'!$B8:$Y8,MATCH(D$53,'ES1. KS1 Phonics Assessment'!$B$2:$F$2,0))","v":0.81},{"$f":"INDEX('ES1. KS1 Phonics Assessment'!$B8:$Y8,MATCH(E$53,'ES1. KS1 Phonics Assessment'!$B$2:$F$2,0))","v":0.8},{"$f":"INDEX('ES1. KS1 Phonics Assessment'!$B8:$Y8,MATCH(F57,'ES1. KS1 Phonics Assessment'!$B$2:$F$2,0))","v":0.81}]
[null,null,"Year 2 - percentage meeting standard",{"$f":"INDEX('ES1. KS1 Phonics Assessment'!$B9:$Y9,MATCH(D$53,'ES1. KS1 Phonics Assessment'!$B$2:$F$2,0))","v":0.92},{"$f":"INDEX('ES1. KS1 Phonics Assessment'!$B9:$Y9,MATCH(E$53,'ES1. KS1 Phonics Assessment'!$B$2:$F$2,0))","v":0.91},{"$f":"INDEX('ES1. KS1 Phonics Assessment'!$B9:$Y9,MATCH(F$53,'ES1. KS1 Phonics Assessment'!$B$2:$F$2,0))","v":0.92}]
[]
[null,null,2019,"Lancashire ","North West","England"]
[null,null,"Year 1 - percentage meeting standard",{"$f":"INDEX('ES1. KS1 Phonics Assessment'!$B12:$Y12,MATCH(D$53,'ES1. KS1 Phonics Assessment'!$B$2:$F$2,0))","v":0.81},{"$f":"INDEX('ES1. KS1 Phonics Assessment'!$B12:$Y12,MATCH(E$53,'ES1. KS1 Phonics Assessment'!$B$2:$F$2,0))","v":0.81},{"$f":"INDEX('ES1. KS1 Phonics Assessment'!$B12:$Y12,MATCH(F61,'ES1. KS1 Phonics Assessment'!$B$2:$F$2,0))","v":0.82}]
[null,null,"Year 2 - percentage meeting standard",{"$f":"INDEX('ES1. KS1 Phonics Assessment'!$B13:$Y13,MATCH(D$53,'ES1. KS1 Phonics Assessment'!$B$2:$F$2,0))","v":0.91},{"$f":"INDEX('ES1. KS1 Phonics Assessment'!$B13:$Y13,MATCH(E$53,'ES1. KS1 Phonics Assessment'!$B$2:$F$2,0))","v":0.91},{"$f":"INDEX('ES1. KS1 Phonics Assessment'!$B13:$Y13,MATCH(F$53,'ES1. KS1 Phonics Assessment'!$B$2:$F$2,0))","v":0.91}]
[]
[]
[]
[]
[]
[]
[]
[]
[]
[]
[]
[]
[]
[]
[]
[]
[]
[]
[]
[]
[]
[]
[]
[]
[]
[]
[]
[]
[]
[]
[]
[]
[]
[]
[]
[]
[]
[]
[null,null,"ES2. KS2 Achievement, 2019"]
[null,null,null,{"$f":"D$3","v":"Blackpool, Fylde and Wyre"},"Lancashire ","England Minus London"]
[null,null,"Reaching expected standard",{"$f":"INDEX('ES2. KS2 Achievement'!$B7:$Z7,MATCH(D$3,'ES2. KS2 Achievement'!$B$2:$Z$2,0))","v":0.67450171821305838},{"$f":"INDEX('ES2. KS2 Achievement'!$B7:$Z7,MATCH(E$103,'ES2. KS2 Achievement'!$B$2:$Z$2,0))","v":0.63},{"$f":"INDEX('ES2. KS2 Achievement'!$B7:$Z7,MATCH(F$103,'ES2. KS2 Achievement'!$B$2:$Z$2,0))","v":0.64268949229121741}]
[]
[]
[]
[]
[]
[]
[]
[]
[]
[]
[]
[]
[]
[]
[]
[]
[]
[]
[]
[]
[]
[]
[]
[]
[]
[]
[]
[]
[]
[]
[]
[]
[]
[]
[]
[]
[]
[]
[]
[]
[]
[]
[]
[]
[]
[]
[]
[null,null,"ES3. GCSE Results - Attainment, 2017/18"]
[null,null,null,{"$f":"D$3","v":"Blackpool, Fylde and Wyre"},"Lancashire ","England Minus London"]
[null,null,"Average attainment 8 score per pupil",{"$f":"INDEX('ES3. GCSE Results - Attainment'!$B6:$Z6,MATCH(D$3,'ES3. GCSE Results - Attainment'!$B$2:$Z$2,0))","v":43.191474245115451},{"$f":"INDEX('ES3. GCSE Results - Attainment'!$B6:$Z6,MATCH(E$153,'ES3. GCSE Results - Attainment'!$B$2:$Z$2,0))","v":45.849216407740528},{"$f":"INDEX('ES3. GCSE Results - Attainment'!$B6:$Z6,MATCH(F$153,'ES3. GCSE Results - Attainment'!$B$2:$Z$2,0))","v":43.715365016761986}]
[]
[]
[]
[]
[]
[]
[]
[]
[]
[]
[]
[]
[]
[]
[]
[]
[]
[]
[]
[]
[]
[]
[]
[]
[]
[]
[]
[]
[]
[]
[]
[]
[]
[]
[]
[]
[]
[]
[]
[]
[]
[]
[]
[]
[]
[]
[]
[null,null,"ES4. GCSE Results - Progress, 2017/18"]
[null,null,null,{"$f":"D$3","v":"Blackpool, Fylde and Wyre"},"Lancashire ","England Minus London"]
[null,null,"Overall progress 8 score",{"$f":"INDEX('ES4. GCSE Results - Progress'!$B6:$Z6,MATCH(D$3,'ES4. GCSE Results - Progress'!$B$2:$Z$2,0))","v":-0.42316518650088814},{"$f":"INDEX('ES4. GCSE Results - Progress'!$B6:$Z6,MATCH(E$203,'ES4. GCSE Results - Progress'!$B$2:$Z$2,0))","v":-0.11543608612701009},{"$f":"INDEX('ES4. GCSE Results - Progress'!$B6:$Z6,MATCH(F$203,'ES4. GCSE Results - Progress'!$B$2:$Z$2,0))","v":-5.7722835732597122E-2}]
[]
[]
[]
[]
[]
[]
[]
[]
[]
[]
[]
[]
[]
[]
[]
[]
[]
[]
[]
[]
[]
[]
[]
[]
[]
[]
[]
[]
[]
[]
[]
[]
[]
[]
[]
[]
[]
[]
[]
[]
[]
[]
[]
[]
[]
[]
[]
[null,null,"ES5. GCSE Results - English Baccaleureate, 2017/18"]
[null,null,null,{"$f":"D$3","v":"Blackpool, Fylde and Wyre"},"Lancashire ","England Minus London"]
[null,null,"% achieving English Bacc inc 9-5",{"$f":"INDEX('ES5. GCSE Results - Ebacc'!$B6:$Z6,MATCH(D$3,'ES5. GCSE Results - Ebacc'!$B$2:$Z$2,0))","v":8.8473534635879217E-2},{"$f":"INDEX('ES5. GCSE Results - Ebacc'!$B6:$Z6,MATCH(E$253,'ES5. GCSE Results - Ebacc'!$B$2:$Z$2,0))","v":0.1323039656582175},{"$f":"INDEX('ES5. GCSE Results - Ebacc'!$B6:$Z6,MATCH(F$253,'ES5. GCSE Results - Ebacc'!$B$2:$Z$2,0))","v":0.14132512719384738}]
[]
[]
[]
[]
[]
[]
[]
[]
[]
[]
[]
[]
[]
[]
[]
[]
[]
[]
[]
[]
[]
[]
[]
[]
[]
[]
[]
[]
[]
[]
[]
[]
[]
[]
[]
[]
[]
[]
[]
[]
[]
[]
[]
[]
[]
[]
[]
[null,null,"ES6. Participation of 16 and 17 Year Olds, 2013-19"]
[null,null,null,"Lancashire ","North West ","England Minus London"]
[null,null,2013,{"$f":"INDEX('ES6. Participation of 16s & 17s'!$B4:$G4,MATCH(D$303,'ES6. Participation of 16s & 17s'!$B$2:$G$2,0))","v":0.87723507569265924},{"$f":"INDEX('ES6. Participation of 16s & 17s'!$B4:$G4,MATCH(E$303,'ES6. Participation of 16s & 17s'!$B$2:$G$2,0))","v":0.88800000000000001},{"$f":"INDEX('ES6. Participation of 16s & 17s'!$B4:$G4,MATCH(F$303,'ES6. Participation of 16s & 17s'!$B$2:$G$2,0))","v":0.87915322119005779}]
[null,null,2014,{"$f":"INDEX('ES6. Participation of 16s & 17s'!$B5:$G5,MATCH(D$303,'ES6. Participation of 16s & 17s'!$B$2:$G$2,0))","v":0.89142484731389149},{"$f":"INDEX('ES6. Participation of 16s & 17s'!$B5:$G5,MATCH(E$303,'ES6. Participation of 16s & 17s'!$B$2:$G$2,0))","v":0.89874086626942906},{"$f":"INDEX('ES6. Participation of 16s & 17s'!$B5:$G5,MATCH(F$303,'ES6. Participation of 16s & 17s'!$B$2:$G$2,0))","v":0.89230686087969247}]
[null,null,2015,{"$f":"INDEX('ES6. Participation of 16s & 17s'!$B6:$G6,MATCH(D$303,'ES6. Participation of 16s & 17s'!$B$2:$G$2,0))","v":0.88453665090229883},{"$f":"INDEX('ES6. Participation of 16s & 17s'!$B6:$G6,MATCH(E$303,'ES6. Participation of 16s & 17s'!$B$2:$G$2,0))","v":0.89812105250323115},{"$f":"INDEX('ES6. Participation of 16s & 17s'!$B6:$G6,MATCH(F$303,'ES6. Participation of 16s & 17s'!$B$2:$G$2,0))","v":0.88855066678214589}]
[null,null,2016,{"$f":"INDEX('ES6. Participation of 16s & 17s'!$B7:$G7,MATCH(D$303,'ES6. Participation of 16s & 17s'!$B$2:$G$2,0))","v":0.88453665090229883},{"$f":"INDEX('ES6. Participation of 16s & 17s'!$B7:$G7,MATCH(E$303,'ES6. Participation of 16s & 17s'!$B$2:$G$2,0))","v":0.90328863306496632},{"$f":"INDEX('ES6. Participation of 16s & 17s'!$B7:$G7,MATCH(F$303,'ES6. Participation of 16s & 17s'!$B$2:$G$2,0))","v":0.90675043089141572}]
[null,null,2017,{"$f":"INDEX('ES6. Participation of 16s & 17s'!$B8:$G8,MATCH(D$303,'ES6. Participation of 16s & 17s'!$B$2:$G$2,0))","v":0.88884685485293691},{"$f":"INDEX('ES6. Participation of 16s & 17s'!$B8:$G8,MATCH(E$303,'ES6. Participation of 16s & 17s'!$B$2:$G$2,0))","v":0.90595338106403522},{"$f":"INDEX('ES6. Participation of 16s & 17s'!$B8:$G8,MATCH(F$303,'ES6. Participation of 16s & 17s'!$B$2:$G$2,0))","v":0.90878129268553087}]
[null,null,2018,{"$f":"INDEX('ES6. Participation of 16s & 17s'!$B9:$G9,MATCH(D$303,'ES6. Participation of 16s & 17s'!$B$2:$G$2,0))","v":0.89},{"$f":"INDEX('ES6. Participation of 16s & 17s'!$B9:$G9,MATCH(E$303,'ES6. Participation of 16s & 17s'!$B$2:$G$2,0))","v":0.91},{"$f":"INDEX('ES6. Participation of 16s & 17s'!$B9:$G9,MATCH(F$303,'ES6. Participation of 16s & 17s'!$B$2:$G$2,0))","v":0.92}]
[null,null,2019,{"$f":"INDEX('ES6. Participation of 16s & 17s'!$B10:$G10,MATCH(D$303,'ES6. Participation of 16s & 17s'!$B$2:$G$2,0))","v":0.90028355387523629},{"$f":"INDEX('ES6. Participation of 16s & 17s'!$B10:$G10,MATCH(E$303,'ES6. Participation of 16s & 17s'!$B$2:$G$2,0))","v":0.92},{"$f":"INDEX('ES6. Participation of 16s & 17s'!$B10:$G10,MATCH(F$303,'ES6. Participation of 16s & 17s'!$B$2:$G$2,0))","v":0.92}]
[]
[]
[]
[]
[]
[]
[]
[]
[]
[]
[]
[]
[]
[]
[]
[]
[]
[]
[]
[]
[]
[]
[]
[]
[]
[]
[]
[]
[]
[]
[]
[]
[]
[]
[]
[]
[]
[]
[]
[]
[]
[null,null,"ES7. L2 Attainment by Age 19, 2017/18"]
[null,null,null,{"$f":"D$3","v":"Blackpool, Fylde and Wyre"},"Lancashire ","England Minus London"]
[null,null,"% Qualified to L2",{"$f":"IFERROR(INDEX('ES7. L2 Attainment by Age 19'!$B7:$Z7,MATCH(D$3,'ES7. L2 Attainment by Age 19'!$B$2:$Z$2,0)),\"n/a\")","v":0.80219780219780223},{"$f":"IFERROR(INDEX('ES7. L2 Attainment by Age 19'!$B7:$Z7,MATCH(E$353,'ES7. L2 Attainment by Age 19'!$B$2:$Z$2,0)),\"n/a\")","v":0.81851966553112421},{"$f":"IFERROR(INDEX('ES7. L2 Attainment by Age 19'!$B7:$Z7,MATCH(F$353,'ES7. L2 Attainment by Age 19'!$B$2:$Z$2,0)),\"n/a\")","v":0.79}]
[]
[]
[]
[]
[]
[]
[]
[]
[]
[]
[]
[]
[]
[]
[]
[]
[]
[]
[]
[]
[]
[]
[]
[]
[]
[]
[]
[]
[]
[]
[]
[]
[]
[]
[]
[]
[]
[]
[]
[]
[]
[]
[]
[]
[]
[]
[]
[null,null,"ES8. L2 Maths and English Attainment by Age 19, 2017/18"]
[null,null,null,{"$f":"D$3","v":"Blackpool, Fylde and Wyre"},"Lancashire ","England Minus London"]
[null,null,"% Qualified to L2 with English and Maths",{"$f":"IFERROR(INDEX('ES8. L2 Attainment MathsEnglish'!$B7:$Z7,MATCH(D$3,'ES8. L2 Attainment MathsEnglish'!$B$2:$Z$2,0)),\"n/a\")","v":0.73155416012558871},{"$f":"IFERROR(INDEX('ES8. L2 Attainment MathsEnglish'!$B7:$Z7,MATCH(E$403,'ES8. L2 Attainment MathsEnglish'!$B$2:$Z$2,0)),\"n/a\")","v":0.71786930938371007},{"$f":"IFERROR(INDEX('ES8. L2 Attainment MathsEnglish'!$B7:$Z7,MATCH(F$403,'ES8. L2 Attainment MathsEnglish'!$B$2:$Z$2,0)),\"n/a\")","v":0.7}]
[]
[]
[]
[]
[]
[]
[]
[]
[]
[]
[]
[]
[]
[]
[]
[]
[]
[]
[]
[]
[]
[]
[]
[]
[]
[]
[]
[]
[]
[]
[]
[]
[]
[]
[]
[]
[]
[]
[]
[]
[]
[]
[]
[]
[]
[]
[]
[null,null,"ES9. L3 Attainment by Age 19, 2017/18"]
[null,null,null,{"$f":"D$3","v":"Blackpool, Fylde and Wyre"},"Lancashire ","England Minus London"]
[null,null,"% Qualified to L3",{"$f":"INDEX('ES9. L3 Attainment by Age 19'!$B7:$Z7,MATCH(D$3,'ES9. L3 Attainment by Age 19'!$B$2:$Z$2,0))","v":0.57770800627943486},{"$f":"INDEX('ES9. L3 Attainment by Age 19'!$B7:$Z7,MATCH(E$751,'ES9. L3 Attainment by Age 19'!$B$2:$Z$2,0))","v":0.58748838649736757},{"$f":"INDEX('ES9. L3 Attainment by Age 19'!$B7:$Z7,MATCH(F$751,'ES9. L3 Attainment by Age 19'!$B$2:$Z$2,0))","v":0.56000000000000005}]
[]
[]
[]
[]
[]
[]
[]
[]
[]
[]
[]
[]
[]
[]
[]
[]
[]
[]
[]
[]
[]
[]
[]
[]
[]
[]
[]
[]
[]
[]
[]
[]
[]
[]
[]
[]
[]
[]
[]
[]
[]
[]
[]
[]
[]
[]
[]
[null,null,"ES10. Attainment by FSM Eligibility by Age 19, 2017/18"]
[null,null,null,{"$f":"D$3","v":"Blackpool, Fylde and Wyre"},"Lancashire ","England Minus London"]
[null,null,"FSM Eligible Percentage who attained Level 3 at 19",{"$f":"INDEX('ES10. Attainment by FSM'!$B10:$Z10,MATCH(D$3,'ES10. Attainment by FSM'!$B$2:$Z$2,0))","v":0.33},{"$f":"INDEX('ES10. Attainment by FSM'!$B10:$Z10,MATCH(E$503,'ES10. Attainment by FSM'!$B$2:$Z$2,0))","v":0.33333333333333331},{"$f":"INDEX('ES10. Attainment by FSM'!$B10:$Z10,MATCH(F$503,'ES10. Attainment by FSM'!$B$2:$Z$2,0))","v":0.31}]
[null,null,"All others Percentage who attained Level 3 at 19",{"$f":"INDEX('ES10. Attainment by FSM'!$B11:$Z11,MATCH(D$3,'ES10. Attainment by FSM'!$B$2:$Z$2,0))","v":0.62383612662942267},{"$f":"INDEX('ES10. Attainment by FSM'!$B11:$Z11,MATCH(E$503,'ES10. Attainment by FSM'!$B$2:$Z$2,0))","v":0.62804878048780488},{"$f":"INDEX('ES10. Attainment by FSM'!$B11:$Z11,MATCH(F$503,'ES10. Attainment by FSM'!$B$2:$Z$2,0))","v":0.6}]
[null,null,"FSM Eligible Percentage who attained Level 2 at 19",{"$f":"INDEX('ES10. Attainment by FSM'!$B12:$Z12,MATCH(D$3,'ES10. Attainment by FSM'!$B$2:$Z$2,0))","v":0.56999999999999995},{"$f":"INDEX('ES10. Attainment by FSM'!$B12:$Z12,MATCH(E$503,'ES10. Attainment by FSM'!$B$2:$Z$2,0))","v":0.59637188208616776},{"$f":"INDEX('ES10. Attainment by FSM'!$B12:$Z12,MATCH(F$503,'ES10. Attainment by FSM'!$B$2:$Z$2,0))","v":0.6}]
[null,null,"All others Percentage who attained Level 2 at 19",{"$f":"INDEX('ES10. Attainment by FSM'!$B13:$Z13,MATCH(D$3,'ES10. Attainment by FSM'!$B$2:$Z$2,0))","v":0.84543761638733705},{"$f":"INDEX('ES10. Attainment by FSM'!$B13:$Z13,MATCH(E$503,'ES10. Attainment by FSM'!$B$2:$Z$2,0))","v":0.85329985652797702},{"$f":"INDEX('ES10. Attainment by FSM'!$B13:$Z13,MATCH(F$503,'ES10. Attainment by FSM'!$B$2:$Z$2,0))","v":0.85}]
[]
[]
[]
[]
[]
[]
[]
[]
[]
[]
[]
[]
[]
[]
[]
[]
[]
[]
[]
[]
[]
[]
[]
[]
[]
[]
[]
[]
[]
[]
[]
[]
[]
[]
[]
[]
[]
[]
[]
[]
[]
[]
[]
[]
[null,null,"ES11. Destinations by KS4, 2016/17"]
[null,null,null,{"$f":"D$3","v":"Blackpool, Fylde and Wyre"},"Lancashire ","England Minus London"]
[null,null,"Percentage of pupils in overall sustained education and/or employment / training destination",{"$f":"INDEX('ES11. Destinations by KS4'!$B6:$Z6,MATCH(D$3,'ES11. Destinations by KS4'!$B$2:$Z$2,0))","v":0.94597328244274803},{"$f":"INDEX('ES11. Destinations by KS4'!$B6:$Z6,MATCH(E$553,'ES11. Destinations by KS4'!$B$2:$Z$2,0))","v":0.95},{"$f":"INDEX('ES11. Destinations by KS4'!$B6:$Z6,MATCH(F$553,'ES11. Destinations by KS4'!$B$2:$Z$2,0))","v":0.95}]
[]
[]
[]
[]
[]
[]
[]
[]
[]
[]
[]
[]
[]
[]
[]
[]
[]
[]
[]
[]
[]
[]
[]
[]
[]
[]
[]
[]
[]
[]
[]
[]
[]
[]
[]
[]
[]
[]
[]
[]
[]
[]
[]
[]
[]
[]
[]
[null,null,"ES12. Destinations by KS5, 2016/17"]
[null,null,null,{"$f":"D$3","v":"Blackpool, Fylde and Wyre"},"Lancashire ","England Minus London"]
[null,null,"Apprenticeships",{"$f":"IFERROR(INDEX('ES12. Destinations by KS5'!$B28:$Z28,MATCH(D$3,'ES12. Destinations by KS5'!$B$2:$Z$2,0)),\"n/a\")","v":5.8487394957983198E-2},{"$f":"IFERROR(INDEX('ES12. Destinations by KS5'!$B28:$Z28,MATCH(E$603,'ES12. Destinations by KS5'!$B$2:$Z$2,0)),\"n/a\")","v":0.09},{"$f":"IFERROR(INDEX('ES12. Destinations by KS5'!$B28:$Z28,MATCH(F$603,'ES12. Destinations by KS5'!$B$2:$Z$2,0)),\"n/a\")","v":7.0000000000000007E-2}]
[null,null,"Further education college or other FE provider",{"$f":"IFERROR(INDEX('ES12. Destinations by KS5'!$B29:$Z29,MATCH(D$3,'ES12. Destinations by KS5'!$B$2:$Z$2,0)),\"n/a\")","v":4.733893557422969E-2},{"$f":"IFERROR(INDEX('ES12. Destinations by KS5'!$B29:$Z29,MATCH(E$603,'ES12. Destinations by KS5'!$B$2:$Z$2,0)),\"n/a\")","v":0.15},{"$f":"IFERROR(INDEX('ES12. Destinations by KS5'!$B29:$Z29,MATCH(F$603,'ES12. Destinations by KS5'!$B$2:$Z$2,0)),\"n/a\")","v":7.0000000000000007E-2}]
[null,null,"UK higher education institution",{"$f":"IFERROR(INDEX('ES12. Destinations by KS5'!$B30:$Z30,MATCH(D$3,'ES12. Destinations by KS5'!$B$2:$Z$2,0)),\"n/a\")","v":0.56355742296918765},{"$f":"IFERROR(INDEX('ES12. Destinations by KS5'!$B30:$Z30,MATCH(E$603,'ES12. Destinations by KS5'!$B$2:$Z$2,0)),\"n/a\")","v":0.44},{"$f":"IFERROR(INDEX('ES12. Destinations by KS5'!$B30:$Z30,MATCH(F$603,'ES12. Destinations by KS5'!$B$2:$Z$2,0)),\"n/a\")","v":0.5}]
[null,null,"Top third of HEIs",{"$f":"IFERROR(INDEX('ES12. Destinations by KS5'!$B31:$Z31,MATCH(D$3,'ES12. Destinations by KS5'!$B$2:$Z$2,0)),\"n/a\")","v":0.16647058823529409},{"$f":"IFERROR(INDEX('ES12. Destinations by KS5'!$B31:$Z31,MATCH(E$603,'ES12. Destinations by KS5'!$B$2:$Z$2,0)),\"n/a\")","v":0.09},{"$f":"IFERROR(INDEX('ES12. Destinations by KS5'!$B31:$Z31,MATCH(F$603,'ES12. Destinations by KS5'!$B$2:$Z$2,0)),\"n/a\")","v":0.18}]
[null,null,"Other higher education institutions or providers",{"$f":"IFERROR(INDEX('ES12. Destinations by KS5'!$B32:$Z32,MATCH(D$3,'ES12. Destinations by KS5'!$B$2:$Z$2,0)),\"n/a\")","v":0.39708683473389356},{"$f":"IFERROR(INDEX('ES12. Destinations by KS5'!$B32:$Z32,MATCH(E$603,'ES12. Destinations by KS5'!$B$2:$Z$2,0)),\"n/a\")","v":0.35},{"$f":"IFERROR(INDEX('ES12. Destinations by KS5'!$B32:$Z32,MATCH(F$603,'ES12. Destinations by KS5'!$B$2:$Z$2,0)),\"n/a\")","v":0.33}]
[null,null,"Other education destinations",{"$f":"IFERROR(INDEX('ES12. Destinations by KS5'!$B33:$Z33,MATCH(D$3,'ES12. Destinations by KS5'!$B$2:$Z$2,0)),\"n/a\")","v":2.733893557422969E-2},{"$f":"IFERROR(INDEX('ES12. Destinations by KS5'!$B33:$Z33,MATCH(E$603,'ES12. Destinations by KS5'!$B$2:$Z$2,0)),\"n/a\")","v":0.01},{"$f":"IFERROR(INDEX('ES12. Destinations by KS5'!$B33:$Z33,MATCH(F$603,'ES12. Destinations by KS5'!$B$2:$Z$2,0)),\"n/a\")","v":0.03}]
[null,null,"Destination not sustained",{"$f":"IFERROR(INDEX('ES12. Destinations by KS5'!$B34:$Z34,MATCH(D$3,'ES12. Destinations by KS5'!$B$2:$Z$2,0)),\"n/a\")","v":7.075630252100841E-2},{"$f":"IFERROR(INDEX('ES12. Destinations by KS5'!$B34:$Z34,MATCH(E$603,'ES12. Destinations by KS5'!$B$2:$Z$2,0)),\"n/a\")","v":0.13},{"$f":"IFERROR(INDEX('ES12. Destinations by KS5'!$B34:$Z34,MATCH(F$603,'ES12. Destinations by KS5'!$B$2:$Z$2,0)),\"n/a\")","v":7.0000000000000007E-2}]
[null,null,"Activity not captured in data",{"$f":"IFERROR(INDEX('ES12. Destinations by KS5'!$B35:$Z35,MATCH(D$3,'ES12. Destinations by KS5'!$B$2:$Z$2,0)),\"n/a\")","v":2.3417366946778709E-2},{"$f":"IFERROR(INDEX('ES12. Destinations by KS5'!$B35:$Z35,MATCH(E$603,'ES12. Destinations by KS5'!$B$2:$Z$2,0)),\"n/a\")","v":0.05},{"$f":"IFERROR(INDEX('ES12. Destinations by KS5'!$B35:$Z35,MATCH(F$603,'ES12. Destinations by KS5'!$B$2:$Z$2,0)),\"n/a\")","v":0.04}]
[null,null,"Any sustained education destination",{"$f":"IFERROR(INDEX('ES12. Destinations by KS5'!$B36:$Z36,MATCH(D$3,'ES12. Destinations by KS5'!$B$2:$Z$2,0)),\"n/a\")","v":0.63557422969187671},{"$f":"IFERROR(INDEX('ES12. Destinations by KS5'!$B36:$Z36,MATCH(E$603,'ES12. Destinations by KS5'!$B$2:$Z$2,0)),\"n/a\")","v":0.61},{"$f":"IFERROR(INDEX('ES12. Destinations by KS5'!$B36:$Z36,MATCH(F$603,'ES12. Destinations by KS5'!$B$2:$Z$2,0)),\"n/a\")","v":0.6}]
[null,null,"Sustained employment destination",{"$f":"IFERROR(INDEX('ES12. Destinations by KS5'!$B37:$Z37,MATCH(D$3,'ES12. Destinations by KS5'!$B$2:$Z$2,0)),\"n/a\")","v":0.21252100840336136},{"$f":"IFERROR(INDEX('ES12. Destinations by KS5'!$B37:$Z37,MATCH(E$603,'ES12. Destinations by KS5'!$B$2:$Z$2,0)),\"n/a\")","v":0.22},{"$f":"IFERROR(INDEX('ES12. Destinations by KS5'!$B37:$Z37,MATCH(F$603,'ES12. Destinations by KS5'!$B$2:$Z$2,0)),\"n/a\")","v":0.23}]
[null,null,"Sustained employment and education",{"$f":"IFERROR(INDEX('ES12. Destinations by KS5'!$B38:$Z38,MATCH(D$3,'ES12. Destinations by KS5'!$B$2:$Z$2,0)),\"n/a\")","v":0.84809523809523801},{"$f":"IFERROR(INDEX('ES12. Destinations by KS5'!$B38:$Z38,MATCH(E$603,'ES12. Destinations by KS5'!$B$2:$Z$2,0)),\"n/a\")","v":0.83},{"$f":"IFERROR(INDEX('ES12. Destinations by KS5'!$B38:$Z38,MATCH(F$603,'ES12. Destinations by KS5'!$B$2:$Z$2,0)),\"n/a\")","v":0.83}]
[]
[]
[]
[]
[]
[]
[]
[]
[]
[]
[]
[]
[]
[]
[]
[]
[]
[]
[]
[]
[]
[]
[]
[]
[]
[]
[]
[]
[]
[]
[]
[]
[]
[]
[]
[]
[]
[null,null,"ES13. Primary Schools by Ofsted Rating, 2017"]
[null,null,null,{"$f":"D$3","v":"Blackpool, Fylde and Wyre"},"Lancashire ","England Minus London"]
[null,null,"% pupils in primary schools rated as oustanding",{"$f":"IFERROR(INDEX('ES13. Schools by Ofsted Rating'!$B4:$Z4,MATCH(D$3,'ES13. Schools by Ofsted Rating'!$B$2:$Z$2,0)),\"n/a\")","v":0.17687312034171643},{"$f":"IFERROR(INDEX('ES13. Schools by Ofsted Rating'!$B4:$Z4,MATCH(E$653,'ES13. Schools by Ofsted Rating'!$B$2:$Z$2,0)),\"n/a\")","v":0.19389132080439719},{"$f":"IFERROR(INDEX('ES13. Schools by Ofsted Rating'!$B4:$Z4,MATCH(F$653,'ES13. Schools by Ofsted Rating'!$B$2:$Z$2,0)),\"n/a\")","v":0.18191135160246191}]
[null,null,"% pupils in primary schools rated as good",{"$f":"IFERROR(INDEX('ES13. Schools by Ofsted Rating'!$B5:$Z5,MATCH(D$3,'ES13. Schools by Ofsted Rating'!$B$2:$Z$2,0)),\"n/a\")","v":0.71908643159133501},{"$f":"IFERROR(INDEX('ES13. Schools by Ofsted Rating'!$B5:$Z5,MATCH(E$653,'ES13. Schools by Ofsted Rating'!$B$2:$Z$2,0)),\"n/a\")","v":0.74554849751505781},{"$f":"IFERROR(INDEX('ES13. Schools by Ofsted Rating'!$B5:$Z5,MATCH(F$653,'ES13. Schools by Ofsted Rating'!$B$2:$Z$2,0)),\"n/a\")","v":0.71827307431811827}]
[null,null,"% pupils in primary schools rated as requires improvement",{"$f":"IFERROR(INDEX('ES13. Schools by Ofsted Rating'!$B6:$Z6,MATCH(D$3,'ES13. Schools by Ofsted Rating'!$B$2:$Z$2,0)),\"n/a\")","v":0.10404044806694852},{"$f":"IFERROR(INDEX('ES13. Schools by Ofsted Rating'!$B6:$Z6,MATCH(E$653,'ES13. Schools by Ofsted Rating'!$B$2:$Z$2,0)),\"n/a\")","v":5.906263370964026E-2},{"$f":"IFERROR(INDEX('ES13. Schools by Ofsted Rating'!$B6:$Z6,MATCH(F$653,'ES13. Schools by Ofsted Rating'!$B$2:$Z$2,0)),\"n/a\")","v":8.7651727031770058E-2}]
[null,null,"% pupils in primary schools rated as inadequate",{"$f":"IFERROR(INDEX('ES13. Schools by Ofsted Rating'!$B7:$Z7,MATCH(D$3,'ES13. Schools by Ofsted Rating'!$B$2:$Z$2,0)),\"n/a\")","v":0},{"$f":"IFERROR(INDEX('ES13. Schools by Ofsted Rating'!$B7:$Z7,MATCH(E$653,'ES13. Schools by Ofsted Rating'!$B$2:$Z$2,0)),\"n/a\")","v":1.4975479709047822E-3},{"$f":"IFERROR(INDEX('ES13. Schools by Ofsted Rating'!$B7:$Z7,MATCH(F$653,'ES13. Schools by Ofsted Rating'!$B$2:$Z$2,0)),\"n/a\")","v":1.2163847047649784E-2}]
[]
[null,null,"ES13. Secondary Schools by Ofsted Rating, 2017"]
[null,null,null,{"$f":"D$3","v":"Blackpool, Fylde and Wyre"},"Lancashire ","England Minus London"]
[null,null,"% pupils in secondary schools rated as oustanding",{"$f":"IFERROR(INDEX('ES13. Schools by Ofsted Rating'!$B10:$Z10,MATCH(D$3,'ES13. Schools by Ofsted Rating'!$B$2:$Z$2,0)),\"n/a\")","v":7.5087671044488755E-2},{"$f":"IFERROR(INDEX('ES13. Schools by Ofsted Rating'!$B10:$Z10,MATCH(E$653,'ES13. Schools by Ofsted Rating'!$B$2:$Z$2,0)),\"n/a\")","v":0.21465836864406779},{"$f":"IFERROR(INDEX('ES13. Schools by Ofsted Rating'!$B10:$Z10,MATCH(F$653,'ES13. Schools by Ofsted Rating'!$B$2:$Z$2,0)),\"n/a\")","v":0.22940154121017797}]
[null,null,"% pupils in secondary schools rated as good",{"$f":"IFERROR(INDEX('ES13. Schools by Ofsted Rating'!$B11:$Z11,MATCH(D$3,'ES13. Schools by Ofsted Rating'!$B$2:$Z$2,0)),\"n/a\")","v":0.50801072681014925},{"$f":"IFERROR(INDEX('ES13. Schools by Ofsted Rating'!$B11:$Z11,MATCH(E$653,'ES13. Schools by Ofsted Rating'!$B$2:$Z$2,0)),\"n/a\")","v":0.58244173728813564},{"$f":"IFERROR(INDEX('ES13. Schools by Ofsted Rating'!$B11:$Z11,MATCH(F$653,'ES13. Schools by Ofsted Rating'!$B$2:$Z$2,0)),\"n/a\")","v":0.57007051871968339}]
[null,null,"% pupils in secondary schools rated as requires improvement",{"$f":"IFERROR(INDEX('ES13. Schools by Ofsted Rating'!$B12:$Z12,MATCH(D$3,'ES13. Schools by Ofsted Rating'!$B$2:$Z$2,0)),\"n/a\")","v":0.36677439317884891},{"$f":"IFERROR(INDEX('ES13. Schools by Ofsted Rating'!$B12:$Z12,MATCH(E$653,'ES13. Schools by Ofsted Rating'!$B$2:$Z$2,0)),\"n/a\")","v":0.17319915254237289},{"$f":"IFERROR(INDEX('ES13. Schools by Ofsted Rating'!$B12:$Z12,MATCH(F$653,'ES13. Schools by Ofsted Rating'!$B$2:$Z$2,0)),\"n/a\")","v":0.15518715263320276}]
[null,null,"% pupils in secondary schools rated as inadequate",{"$f":"IFERROR(INDEX('ES13. Schools by Ofsted Rating'!$B13:$Z13,MATCH(D$3,'ES13. Schools by Ofsted Rating'!$B$2:$Z$2,0)),\"n/a\")","v":5.0127208966513098E-2},{"$f":"IFERROR(INDEX('ES13. Schools by Ofsted Rating'!$B13:$Z13,MATCH(E$653,'ES13. Schools by Ofsted Rating'!$B$2:$Z$2,0)),\"n/a\")","v":2.9700741525423728E-2},{"$f":"IFERROR(INDEX('ES13. Schools by Ofsted Rating'!$B13:$Z13,MATCH(F$653,'ES13. Schools by Ofsted Rating'!$B$2:$Z$2,0)),\"n/a\")","v":4.5340787436935828E-2}]
[]
[]
[]
[]
[]
[]
[]
[]
[]
[]
[]
[]
[]
[]
[]
[]
[]
[]
[]
[]
[]
[]
[]
[]
[]
[]
[]
[]
[]
[]
[]
[]
[]
[]
[]
[]
[]
[]
[]
[]
[]
[]
[]
[]
[]
[]
[]
[]
[]
[]
[]
[]
[]
[]
[]
[]
[]
[]
[]
[]
[]
[]
[]
[]
[]
[]
[]
[]
[]
[]
[]
[]
[]
[]
[]
[]
[]
[]
[]
[]
[]
[]
[]
[]
[]
[null,null,"ES15. Learner Perspective: Apprenticeship Starts by Age 2018/19"]
[null,null,null,{"$f":"D$3","v":"Blackpool, Fylde and Wyre"},"Lancashire ","England Minus London"]
[null,null,"Under 19",{"$f":"IFERROR(INDEX('ES15. Learn. App Starts by Age'!$B28:$Z28,MATCH(D$3,'ES15. Learn. App Starts by Age'!$B$2:$Z$2,0)),\"n/a\")","v":690},{"$f":"IFERROR(INDEX('ES15. Learn. App Starts by Age'!$B28:$Z28,MATCH(E$751,'ES15. Learn. App Starts by Age'!$B$2:$Z$2,0)),\"n/a\")","v":3730},{"$f":"IFERROR(INDEX('ES15. Learn. App Starts by Age'!$B28:$Z28,MATCH(F$751,'ES15. Learn. App Starts by Age'!$B$2:$Z$2,0)),\"n/a\")","v":91220}]
[null,null,"19-24",{"$f":"IFERROR(INDEX('ES15. Learn. App Starts by Age'!$B29:$Z29,MATCH(D$3,'ES15. Learn. App Starts by Age'!$B$2:$Z$2,0)),\"n/a\")","v":730},{"$f":"IFERROR(INDEX('ES15. Learn. App Starts by Age'!$B29:$Z29,MATCH(E$751,'ES15. Learn. App Starts by Age'!$B$2:$Z$2,0)),\"n/a\")","v":3570},{"$f":"IFERROR(INDEX('ES15. Learn. App Starts by Age'!$B29:$Z29,MATCH(F$751,'ES15. Learn. App Starts by Age'!$B$2:$Z$2,0)),\"n/a\")","v":103680}]
[null,null,"25+",{"$f":"IFERROR(INDEX('ES15. Learn. App Starts by Age'!$B30:$Z30,MATCH(D$3,'ES15. Learn. App Starts by Age'!$B$2:$Z$2,0)),\"n/a\")","v":1310},{"$f":"IFERROR(INDEX('ES15. Learn. App Starts by Age'!$B30:$Z30,MATCH(E$751,'ES15. Learn. App Starts by Age'!$B$2:$Z$2,0)),\"n/a\")","v":5790},{"$f":"IFERROR(INDEX('ES15. Learn. App Starts by Age'!$B30:$Z30,MATCH(F$751,'ES15. Learn. App Starts by Age'!$B$2:$Z$2,0)),\"n/a\")","v":158430}]
[null,null,"Total",{"$f":"IFERROR(INDEX('ES15. Learn. App Starts by Age'!$B31:$Z31,MATCH(D$3,'ES15. Learn. App Starts by Age'!$B$2:$Z$2,0)),\"n/a\")","v":2730},{"$f":"IFERROR(INDEX('ES15. Learn. App Starts by Age'!$B31:$Z31,MATCH(E$751,'ES15. Learn. App Starts by Age'!$B$2:$Z$2,0)),\"n/a\")","v":13090},{"$f":"IFERROR(INDEX('ES15. Learn. App Starts by Age'!$B31:$Z31,MATCH(F$751,'ES15. Learn. App Starts by Age'!$B$2:$Z$2,0)),\"n/a\")","v":353330}]
[]
[null,null,null,{"$f":"D$3","v":"Blackpool, Fylde and Wyre"},"Lancashire ","England Minus London"]
[null,null,"Under 19",{"$f":"IFERROR(INDEX('ES15. Learn. App Starts by Age'!$B34:$Z34,MATCH(D$3,'ES15. Learn. App Starts by Age'!$B$2:$Z$2,0)),\"n/a\")","v":0.25274725274725274},{"$f":"IFERROR(INDEX('ES15. Learn. App Starts by Age'!$B34:$Z34,MATCH(E$751,'ES15. Learn. App Starts by Age'!$B$2:$Z$2,0)),\"n/a\")","v":0.28495034377387318},{"$f":"IFERROR(INDEX('ES15. Learn. App Starts by Age'!$B34:$Z34,MATCH(F$751,'ES15. Learn. App Starts by Age'!$B$2:$Z$2,0)),\"n/a\")","v":0.25817224690798968}]
[null,null,"19-24",{"$f":"IFERROR(INDEX('ES15. Learn. App Starts by Age'!$B35:$Z35,MATCH(D$3,'ES15. Learn. App Starts by Age'!$B$2:$Z$2,0)),\"n/a\")","v":0.26739926739926739},{"$f":"IFERROR(INDEX('ES15. Learn. App Starts by Age'!$B35:$Z35,MATCH(E$751,'ES15. Learn. App Starts by Age'!$B$2:$Z$2,0)),\"n/a\")","v":0.27272727272727271},{"$f":"IFERROR(INDEX('ES15. Learn. App Starts by Age'!$B35:$Z35,MATCH(F$751,'ES15. Learn. App Starts by Age'!$B$2:$Z$2,0)),\"n/a\")","v":0.2934367305351937}]
[null,null,"25+",{"$f":"IFERROR(INDEX('ES15. Learn. App Starts by Age'!$B36:$Z36,MATCH(D$3,'ES15. Learn. App Starts by Age'!$B$2:$Z$2,0)),\"n/a\")","v":0.47985347985347987},{"$f":"IFERROR(INDEX('ES15. Learn. App Starts by Age'!$B36:$Z36,MATCH(E$751,'ES15. Learn. App Starts by Age'!$B$2:$Z$2,0)),\"n/a\")","v":0.44232238349885411},{"$f":"IFERROR(INDEX('ES15. Learn. App Starts by Age'!$B36:$Z36,MATCH(F$751,'ES15. Learn. App Starts by Age'!$B$2:$Z$2,0)),\"n/a\")","v":0.44839102255681657}]
[]
[]
[]
[]
[]
[]
[]
[]
[]
[]
[]
[]
[]
[]
[]
[]
[]
[]
[]
[]
[]
[]
[]
[]
[]
[]
[]
[]
[]
[]
[]
[]
[]
[]
[]
[]
[]
[]
[]
[null,null,"ES16a: Learner Perspective: Apprenticeship Starts by Subject 2018/19"]
[null,null,null,{"$f":"D$3","v":"Blackpool, Fylde and Wyre"},"Lancashire ","England Minus London"]
[null,null,"Agriculture, Horticulture and Animal Care",{"$f":"IFERROR(INDEX('ES16a. Learn App Starts Subject'!$B60:$Z60,MATCH(D$3,'ES16a. Learn App Starts Subject'!$B$2:$Z$2,0)),\"n/a\")","v":30},{"$f":"IFERROR(INDEX('ES16a. Learn App Starts Subject'!$B60:$Z60,MATCH(E$801,'ES16a. Learn App Starts Subject'!$B$2:$Z$2,0)),\"n/a\")","v":170},{"$f":"IFERROR(INDEX('ES16a. Learn App Starts Subject'!$B60:$Z60,MATCH(F$801,'ES16a. Learn App Starts Subject'!$B$2:$Z$2,0)),\"n/a\")","v":6150}]
[null,null,"Arts, Media and Publishing",{"$f":"IFERROR(INDEX('ES16a. Learn App Starts Subject'!$B61:$Z61,MATCH(D$3,'ES16a. Learn App Starts Subject'!$B$2:$Z$2,0)),\"n/a\")","v":0},{"$f":"IFERROR(INDEX('ES16a. Learn App Starts Subject'!$B61:$Z61,MATCH(E$801,'ES16a. Learn App Starts Subject'!$B$2:$Z$2,0)),\"n/a\")","v":50},{"$f":"IFERROR(INDEX('ES16a. Learn App Starts Subject'!$B61:$Z61,MATCH(F$801,'ES16a. Learn App Starts Subject'!$B$2:$Z$2,0)),\"n/a\")","v":730}]
[null,null,"Business, Administration and Law",{"$f":"IFERROR(INDEX('ES16a. Learn App Starts Subject'!$B62:$Z62,MATCH(D$3,'ES16a. Learn App Starts Subject'!$B$2:$Z$2,0)),\"n/a\")","v":800},{"$f":"IFERROR(INDEX('ES16a. Learn App Starts Subject'!$B62:$Z62,MATCH(E$801,'ES16a. Learn App Starts Subject'!$B$2:$Z$2,0)),\"n/a\")","v":3920},{"$f":"IFERROR(INDEX('ES16a. Learn App Starts Subject'!$B62:$Z62,MATCH(F$801,'ES16a. Learn App Starts Subject'!$B$2:$Z$2,0)),\"n/a\")","v":104200}]
[null,null,"Construction, Planning and the Built Environment",{"$f":"IFERROR(INDEX('ES16a. Learn App Starts Subject'!$B63:$Z63,MATCH(D$3,'ES16a. Learn App Starts Subject'!$B$2:$Z$2,0)),\"n/a\")","v":200},{"$f":"IFERROR(INDEX('ES16a. Learn App Starts Subject'!$B63:$Z63,MATCH(E$801,'ES16a. Learn App Starts Subject'!$B$2:$Z$2,0)),\"n/a\")","v":840},{"$f":"IFERROR(INDEX('ES16a. Learn App Starts Subject'!$B63:$Z63,MATCH(F$801,'ES16a. Learn App Starts Subject'!$B$2:$Z$2,0)),\"n/a\")","v":20980}]
[null,null,"Education and Training",{"$f":"IFERROR(INDEX('ES16a. Learn App Starts Subject'!$B64:$Z64,MATCH(D$3,'ES16a. Learn App Starts Subject'!$B$2:$Z$2,0)),\"n/a\")","v":40},{"$f":"IFERROR(INDEX('ES16a. Learn App Starts Subject'!$B64:$Z64,MATCH(E$801,'ES16a. Learn App Starts Subject'!$B$2:$Z$2,0)),\"n/a\")","v":250},{"$f":"IFERROR(INDEX('ES16a. Learn App Starts Subject'!$B64:$Z64,MATCH(F$801,'ES16a. Learn App Starts Subject'!$B$2:$Z$2,0)),\"n/a\")","v":6400}]
[null,null,"Engineering and Manufacturing Technologies",{"$f":"IFERROR(INDEX('ES16a. Learn App Starts Subject'!$B65:$Z65,MATCH(D$3,'ES16a. Learn App Starts Subject'!$B$2:$Z$2,0)),\"n/a\")","v":330},{"$f":"IFERROR(INDEX('ES16a. Learn App Starts Subject'!$B65:$Z65,MATCH(E$801,'ES16a. Learn App Starts Subject'!$B$2:$Z$2,0)),\"n/a\")","v":2030},{"$f":"IFERROR(INDEX('ES16a. Learn App Starts Subject'!$B65:$Z65,MATCH(F$801,'ES16a. Learn App Starts Subject'!$B$2:$Z$2,0)),\"n/a\")","v":56310}]
[null,null,"Health, Public Services and Care",{"$f":"IFERROR(INDEX('ES16a. Learn App Starts Subject'!$B66:$Z66,MATCH(D$3,'ES16a. Learn App Starts Subject'!$B$2:$Z$2,0)),\"n/a\")","v":890},{"$f":"IFERROR(INDEX('ES16a. Learn App Starts Subject'!$B66:$Z66,MATCH(E$801,'ES16a. Learn App Starts Subject'!$B$2:$Z$2,0)),\"n/a\")","v":3540},{"$f":"IFERROR(INDEX('ES16a. Learn App Starts Subject'!$B66:$Z66,MATCH(F$801,'ES16a. Learn App Starts Subject'!$B$2:$Z$2,0)),\"n/a\")","v":88410}]
[null,null,"Information and Communication Technology",{"$f":"IFERROR(INDEX('ES16a. Learn App Starts Subject'!$B67:$Z67,MATCH(D$3,'ES16a. Learn App Starts Subject'!$B$2:$Z$2,0)),\"n/a\")","v":80},{"$f":"IFERROR(INDEX('ES16a. Learn App Starts Subject'!$B67:$Z67,MATCH(E$801,'ES16a. Learn App Starts Subject'!$B$2:$Z$2,0)),\"n/a\")","v":500},{"$f":"IFERROR(INDEX('ES16a. Learn App Starts Subject'!$B67:$Z67,MATCH(F$801,'ES16a. Learn App Starts Subject'!$B$2:$Z$2,0)),\"n/a\")","v":17420}]
[null,null,"Leisure, Travel and Tourism",{"$f":"IFERROR(INDEX('ES16a. Learn App Starts Subject'!$B68:$Z68,MATCH(D$3,'ES16a. Learn App Starts Subject'!$B$2:$Z$2,0)),\"n/a\")","v":40},{"$f":"IFERROR(INDEX('ES16a. Learn App Starts Subject'!$B68:$Z68,MATCH(E$801,'ES16a. Learn App Starts Subject'!$B$2:$Z$2,0)),\"n/a\")","v":290},{"$f":"IFERROR(INDEX('ES16a. Learn App Starts Subject'!$B68:$Z68,MATCH(F$801,'ES16a. Learn App Starts Subject'!$B$2:$Z$2,0)),\"n/a\")","v":6440}]
[null,null,"Retail and Commercial Enterprise",{"$f":"IFERROR(INDEX('ES16a. Learn App Starts Subject'!$B69:$Z69,MATCH(D$3,'ES16a. Learn App Starts Subject'!$B$2:$Z$2,0)),\"n/a\")","v":320},{"$f":"IFERROR(INDEX('ES16a. Learn App Starts Subject'!$B69:$Z69,MATCH(E$801,'ES16a. Learn App Starts Subject'!$B$2:$Z$2,0)),\"n/a\")","v":1560},{"$f":"IFERROR(INDEX('ES16a. Learn App Starts Subject'!$B69:$Z69,MATCH(F$801,'ES16a. Learn App Starts Subject'!$B$2:$Z$2,0)),\"n/a\")","v":46030}]
[null,null,"Science and Mathematics",{"$f":"IFERROR(INDEX('ES16a. Learn App Starts Subject'!$B70:$Z70,MATCH(D$3,'ES16a. Learn App Starts Subject'!$B$2:$Z$2,0)),\"n/a\")","v":0},{"$f":"IFERROR(INDEX('ES16a. Learn App Starts Subject'!$B70:$Z70,MATCH(E$801,'ES16a. Learn App Starts Subject'!$B$2:$Z$2,0)),\"n/a\")","v":0},{"$f":"IFERROR(INDEX('ES16a. Learn App Starts Subject'!$B70:$Z70,MATCH(F$801,'ES16a. Learn App Starts Subject'!$B$2:$Z$2,0)),\"n/a\")","v":130}]
[null,null,"Total",{"$f":"IFERROR(INDEX('ES16a. Learn App Starts Subject'!$B71:$Z71,MATCH(D$3,'ES16a. Learn App Starts Subject'!$B$2:$Z$2,0)),\"n/a\")","v":2730},{"$f":"IFERROR(INDEX('ES16a. Learn App Starts Subject'!$B71:$Z71,MATCH(E$801,'ES16a. Learn App Starts Subject'!$B$2:$Z$2,0)),\"n/a\")","v":13150},{"$f":"IFERROR(INDEX('ES16a. Learn App Starts Subject'!$B71:$Z71,MATCH(F$801,'ES16a. Learn App Starts Subject'!$B$2:$Z$2,0)),\"n/a\")","v":353200}]
[]
[null,null,null,{"$f":"D$3","v":"Blackpool, Fylde and Wyre"},"Lancashire ","England Minus London"]
[null,null,"Agriculture, Horticulture and Animal Care",{"$f":"IFERROR(INDEX('ES16a. Learn App Starts Subject'!$B74:$Z74,MATCH(D$3,'ES16a. Learn App Starts Subject'!$B$2:$Z$2,0)),\"n/a\")","v":1.098901098901099E-2},{"$f":"IFERROR(INDEX('ES16a. Learn App Starts Subject'!$B74:$Z74,MATCH(E$801,'ES16a. Learn App Starts Subject'!$B$2:$Z$2,0)),\"n/a\")","v":1.2927756653992395E-2},{"$f":"IFERROR(INDEX('ES16a. Learn App Starts Subject'!$B74:$Z74,MATCH(F$801,'ES16a. Learn App Starts Subject'!$B$2:$Z$2,0)),\"n/a\")","v":1.7412231030577575E-2}]
[null,null,"Arts, Media and Publishing",{"$f":"IFERROR(INDEX('ES16a. Learn App Starts Subject'!$B75:$Z75,MATCH(D$3,'ES16a. Learn App Starts Subject'!$B$2:$Z$2,0)),\"n/a\")","v":0},{"$f":"IFERROR(INDEX('ES16a. Learn App Starts Subject'!$B75:$Z75,MATCH(E$801,'ES16a. Learn App Starts Subject'!$B$2:$Z$2,0)),\"n/a\")","v":3.8022813688212928E-3},{"$f":"IFERROR(INDEX('ES16a. Learn App Starts Subject'!$B75:$Z75,MATCH(F$801,'ES16a. Learn App Starts Subject'!$B$2:$Z$2,0)),\"n/a\")","v":2.0668176670441676E-3}]
[null,null,"Business, Administration and Law",{"$f":"IFERROR(INDEX('ES16a. Learn App Starts Subject'!$B76:$Z76,MATCH(D$3,'ES16a. Learn App Starts Subject'!$B$2:$Z$2,0)),\"n/a\")","v":0.29304029304029305},{"$f":"IFERROR(INDEX('ES16a. Learn App Starts Subject'!$B76:$Z76,MATCH(E$801,'ES16a. Learn App Starts Subject'!$B$2:$Z$2,0)),\"n/a\")","v":0.29809885931558933},{"$f":"IFERROR(INDEX('ES16a. Learn App Starts Subject'!$B76:$Z76,MATCH(F$801,'ES16a. Learn App Starts Subject'!$B$2:$Z$2,0)),\"n/a\")","v":0.29501698754246886}]
[null,null,"Construction, Planning and the Built Environment",{"$f":"IFERROR(INDEX('ES16a. Learn App Starts Subject'!$B77:$Z77,MATCH(D$3,'ES16a. Learn App Starts Subject'!$B$2:$Z$2,0)),\"n/a\")","v":7.3260073260073263E-2},{"$f":"IFERROR(INDEX('ES16a. Learn App Starts Subject'!$B77:$Z77,MATCH(E$801,'ES16a. Learn App Starts Subject'!$B$2:$Z$2,0)),\"n/a\")","v":6.3878326996197721E-2},{"$f":"IFERROR(INDEX('ES16a. Learn App Starts Subject'!$B77:$Z77,MATCH(F$801,'ES16a. Learn App Starts Subject'!$B$2:$Z$2,0)),\"n/a\")","v":5.9399773499433747E-2}]
[null,null,"Education and Training",{"$f":"IFERROR(INDEX('ES16a. Learn App Starts Subject'!$B78:$Z78,MATCH(D$3,'ES16a. Learn App Starts Subject'!$B$2:$Z$2,0)),\"n/a\")","v":1.4652014652014652E-2},{"$f":"IFERROR(INDEX('ES16a. Learn App Starts Subject'!$B78:$Z78,MATCH(E$801,'ES16a. Learn App Starts Subject'!$B$2:$Z$2,0)),\"n/a\")","v":1.9011406844106463E-2},{"$f":"IFERROR(INDEX('ES16a. Learn App Starts Subject'!$B78:$Z78,MATCH(F$801,'ES16a. Learn App Starts Subject'!$B$2:$Z$2,0)),\"n/a\")","v":1.8120045300113252E-2}]
[null,null,"Engineering and Manufacturing Technologies",{"$f":"IFERROR(INDEX('ES16a. Learn App Starts Subject'!$B79:$Z79,MATCH(D$3,'ES16a. Learn App Starts Subject'!$B$2:$Z$2,0)),\"n/a\")","v":0.12087912087912088},{"$f":"IFERROR(INDEX('ES16a. Learn App Starts Subject'!$B79:$Z79,MATCH(E$801,'ES16a. Learn App Starts Subject'!$B$2:$Z$2,0)),\"n/a\")","v":0.1543726235741445},{"$f":"IFERROR(INDEX('ES16a. Learn App Starts Subject'!$B79:$Z79,MATCH(F$801,'ES16a. Learn App Starts Subject'!$B$2:$Z$2,0)),\"n/a\")","v":0.15942808607021516}]
[null,null,"Health, Public Services and Care",{"$f":"IFERROR(INDEX('ES16a. Learn App Starts Subject'!$B80:$Z80,MATCH(D$3,'ES16a. Learn App Starts Subject'!$B$2:$Z$2,0)),\"n/a\")","v":0.32600732600732601},{"$f":"IFERROR(INDEX('ES16a. Learn App Starts Subject'!$B80:$Z80,MATCH(E$801,'ES16a. Learn App Starts Subject'!$B$2:$Z$2,0)),\"n/a\")","v":0.26920152091254751},{"$f":"IFERROR(INDEX('ES16a. Learn App Starts Subject'!$B80:$Z80,MATCH(F$801,'ES16a. Learn App Starts Subject'!$B$2:$Z$2,0)),\"n/a\")","v":0.2503114382785957}]
[null,null,"Information and Communication Technology",{"$f":"IFERROR(INDEX('ES16a. Learn App Starts Subject'!$B81:$Z81,MATCH(D$3,'ES16a. Learn App Starts Subject'!$B$2:$Z$2,0)),\"n/a\")","v":2.9304029304029304E-2},{"$f":"IFERROR(INDEX('ES16a. Learn App Starts Subject'!$B81:$Z81,MATCH(E$801,'ES16a. Learn App Starts Subject'!$B$2:$Z$2,0)),\"n/a\")","v":3.8022813688212927E-2},{"$f":"IFERROR(INDEX('ES16a. Learn App Starts Subject'!$B81:$Z81,MATCH(F$801,'ES16a. Learn App Starts Subject'!$B$2:$Z$2,0)),\"n/a\")","v":4.9320498301245755E-2}]
[null,null,"Leisure, Travel and Tourism",{"$f":"IFERROR(INDEX('ES16a. Learn App Starts Subject'!$B82:$Z82,MATCH(D$3,'ES16a. Learn App Starts Subject'!$B$2:$Z$2,0)),\"n/a\")","v":1.4652014652014652E-2},{"$f":"IFERROR(INDEX('ES16a. Learn App Starts Subject'!$B82:$Z82,MATCH(E$801,'ES16a. Learn App Starts Subject'!$B$2:$Z$2,0)),\"n/a\")","v":2.2053231939163497E-2},{"$f":"IFERROR(INDEX('ES16a. Learn App Starts Subject'!$B82:$Z82,MATCH(F$801,'ES16a. Learn App Starts Subject'!$B$2:$Z$2,0)),\"n/a\")","v":1.8233295583238957E-2}]
[null,null,"Retail and Commercial Enterprise",{"$f":"IFERROR(INDEX('ES16a. Learn App Starts Subject'!$B83:$Z83,MATCH(D$3,'ES16a. Learn App Starts Subject'!$B$2:$Z$2,0)),\"n/a\")","v":0.11721611721611722},{"$f":"IFERROR(INDEX('ES16a. Learn App Starts Subject'!$B83:$Z83,MATCH(E$801,'ES16a. Learn App Starts Subject'!$B$2:$Z$2,0)),\"n/a\")","v":0.11863117870722434},{"$f":"IFERROR(INDEX('ES16a. Learn App Starts Subject'!$B83:$Z83,MATCH(F$801,'ES16a. Learn App Starts Subject'!$B$2:$Z$2,0)),\"n/a\")","v":0.13032276330690826}]
[null,null,"Science and Mathematics",{"$f":"IFERROR(INDEX('ES16a. Learn App Starts Subject'!$B84:$Z84,MATCH(D$3,'ES16a. Learn App Starts Subject'!$B$2:$Z$2,0)),\"n/a\")","v":0},{"$f":"IFERROR(INDEX('ES16a. Learn App Starts Subject'!$B84:$Z84,MATCH(E$801,'ES16a. Learn App Starts Subject'!$B$2:$Z$2,0)),\"n/a\")","v":0},{"$f":"IFERROR(INDEX('ES16a. Learn App Starts Subject'!$B84:$Z84,MATCH(F$801,'ES16a. Learn App Starts Subject'!$B$2:$Z$2,0)),\"n/a\")","v":3.6806342015855038E-4}]
[]
[]
[]
[]
[]
[]
[]
[]
[]
[]
[]
[]
[]
[]
[]
[]
[]
[]
[]
[]
[]
[]
[]
[null,null,"ES16b: Provider Perspective: Apprenticeship Starts by Subject 2018/19"]
[null,null,null,{"$f":"D$3","v":"Blackpool, Fylde and Wyre"},"Lancashire ","England Minus London"]
[null,null,"Agriculture, Horticulture and Animal Care",{"$f":"IFERROR(INDEX('ES16b. Prov. App Start Subject'!$B4:$Z4,MATCH(D$3,'ES16b. Prov. App Start Subject'!$B$2:$Z$2,0)),\"n/a\")","v":314},{"$f":"IFERROR(INDEX('ES16b. Prov. App Start Subject'!$B4:$Z4,MATCH(E$851,'ES16b. Prov. App Start Subject'!$B$2:$Z$2,0)),\"n/a\")","v":557},{"$f":"IFERROR(INDEX('ES16b. Prov. App Start Subject'!$B4:$Z4,MATCH(F$851,'ES16b. Prov. App Start Subject'!$B$2:$Z$2,0)),\"n/a\")","v":14450}]
[null,null,"Arts, Media and Publishing",{"$f":"IFERROR(INDEX('ES16b. Prov. App Start Subject'!$B5:$Z5,MATCH(D$3,'ES16b. Prov. App Start Subject'!$B$2:$Z$2,0)),\"n/a\")","v":4},{"$f":"IFERROR(INDEX('ES16b. Prov. App Start Subject'!$B5:$Z5,MATCH(E$851,'ES16b. Prov. App Start Subject'!$B$2:$Z$2,0)),\"n/a\")","v":85},{"$f":"IFERROR(INDEX('ES16b. Prov. App Start Subject'!$B5:$Z5,MATCH(F$851,'ES16b. Prov. App Start Subject'!$B$2:$Z$2,0)),\"n/a\")","v":1911}]
[null,null,"Business, Administration and Law",{"$f":"IFERROR(INDEX('ES16b. Prov. App Start Subject'!$B6:$Z6,MATCH(D$3,'ES16b. Prov. App Start Subject'!$B$2:$Z$2,0)),\"n/a\")","v":1322},{"$f":"IFERROR(INDEX('ES16b. Prov. App Start Subject'!$B6:$Z6,MATCH(E$851,'ES16b. Prov. App Start Subject'!$B$2:$Z$2,0)),\"n/a\")","v":6428},{"$f":"IFERROR(INDEX('ES16b. Prov. App Start Subject'!$B6:$Z6,MATCH(F$851,'ES16b. Prov. App Start Subject'!$B$2:$Z$2,0)),\"n/a\")","v":213509}]
[null,null,"Construction, Planning and the Built Environment",{"$f":"IFERROR(INDEX('ES16b. Prov. App Start Subject'!$B7:$Z7,MATCH(D$3,'ES16b. Prov. App Start Subject'!$B$2:$Z$2,0)),\"n/a\")","v":332},{"$f":"IFERROR(INDEX('ES16b. Prov. App Start Subject'!$B7:$Z7,MATCH(E$851,'ES16b. Prov. App Start Subject'!$B$2:$Z$2,0)),\"n/a\")","v":1580},{"$f":"IFERROR(INDEX('ES16b. Prov. App Start Subject'!$B7:$Z7,MATCH(F$851,'ES16b. Prov. App Start Subject'!$B$2:$Z$2,0)),\"n/a\")","v":47284}]
[null,null,"Education and Training",{"$f":"IFERROR(INDEX('ES16b. Prov. App Start Subject'!$B8:$Z8,MATCH(D$3,'ES16b. Prov. App Start Subject'!$B$2:$Z$2,0)),\"n/a\")","v":40},{"$f":"IFERROR(INDEX('ES16b. Prov. App Start Subject'!$B8:$Z8,MATCH(E$851,'ES16b. Prov. App Start Subject'!$B$2:$Z$2,0)),\"n/a\")","v":436},{"$f":"IFERROR(INDEX('ES16b. Prov. App Start Subject'!$B8:$Z8,MATCH(F$851,'ES16b. Prov. App Start Subject'!$B$2:$Z$2,0)),\"n/a\")","v":12657}]
[null,null,"Engineering and Manufacturing Technologies",{"$f":"IFERROR(INDEX('ES16b. Prov. App Start Subject'!$B9:$Z9,MATCH(D$3,'ES16b. Prov. App Start Subject'!$B$2:$Z$2,0)),\"n/a\")","v":789},{"$f":"IFERROR(INDEX('ES16b. Prov. App Start Subject'!$B9:$Z9,MATCH(E$851,'ES16b. Prov. App Start Subject'!$B$2:$Z$2,0)),\"n/a\")","v":4954},{"$f":"IFERROR(INDEX('ES16b. Prov. App Start Subject'!$B9:$Z9,MATCH(F$851,'ES16b. Prov. App Start Subject'!$B$2:$Z$2,0)),\"n/a\")","v":146784}]
[null,null,"Health, Public Services and Care",{"$f":"IFERROR(INDEX('ES16b. Prov. App Start Subject'!$B10:$Z10,MATCH(D$3,'ES16b. Prov. App Start Subject'!$B$2:$Z$2,0)),\"n/a\")","v":1376},{"$f":"IFERROR(INDEX('ES16b. Prov. App Start Subject'!$B10:$Z10,MATCH(E$851,'ES16b. Prov. App Start Subject'!$B$2:$Z$2,0)),\"n/a\")","v":6389},{"$f":"IFERROR(INDEX('ES16b. Prov. App Start Subject'!$B10:$Z10,MATCH(F$851,'ES16b. Prov. App Start Subject'!$B$2:$Z$2,0)),\"n/a\")","v":180074}]
[null,null,"Information and Communication Technology",{"$f":"IFERROR(INDEX('ES16b. Prov. App Start Subject'!$B11:$Z11,MATCH(D$3,'ES16b. Prov. App Start Subject'!$B$2:$Z$2,0)),\"n/a\")","v":109},{"$f":"IFERROR(INDEX('ES16b. Prov. App Start Subject'!$B11:$Z11,MATCH(E$851,'ES16b. Prov. App Start Subject'!$B$2:$Z$2,0)),\"n/a\")","v":796},{"$f":"IFERROR(INDEX('ES16b. Prov. App Start Subject'!$B11:$Z11,MATCH(F$851,'ES16b. Prov. App Start Subject'!$B$2:$Z$2,0)),\"n/a\")","v":38347}]
[null,null,"Leisure, Travel and Tourism",{"$f":"IFERROR(INDEX('ES16b. Prov. App Start Subject'!$B12:$Z12,MATCH(D$3,'ES16b. Prov. App Start Subject'!$B$2:$Z$2,0)),\"n/a\")","v":88},{"$f":"IFERROR(INDEX('ES16b. Prov. App Start Subject'!$B12:$Z12,MATCH(E$851,'ES16b. Prov. App Start Subject'!$B$2:$Z$2,0)),\"n/a\")","v":1138},{"$f":"IFERROR(INDEX('ES16b. Prov. App Start Subject'!$B12:$Z12,MATCH(F$851,'ES16b. Prov. App Start Subject'!$B$2:$Z$2,0)),\"n/a\")","v":15978}]
[null,null,"Retail and Commercial Enterprise",{"$f":"IFERROR(INDEX('ES16b. Prov. App Start Subject'!$B13:$Z13,MATCH(D$3,'ES16b. Prov. App Start Subject'!$B$2:$Z$2,0)),\"n/a\")","v":537},{"$f":"IFERROR(INDEX('ES16b. Prov. App Start Subject'!$B13:$Z13,MATCH(E$851,'ES16b. Prov. App Start Subject'!$B$2:$Z$2,0)),\"n/a\")","v":2549},{"$f":"IFERROR(INDEX('ES16b. Prov. App Start Subject'!$B13:$Z13,MATCH(F$851,'ES16b. Prov. App Start Subject'!$B$2:$Z$2,0)),\"n/a\")","v":88064}]
[null,null,"Science and Mathematics",{"$f":"IFERROR(INDEX('ES16b. Prov. App Start Subject'!$B14:$Z14,MATCH(D$3,'ES16b. Prov. App Start Subject'!$B$2:$Z$2,0)),\"n/a\")","v":0},{"$f":"IFERROR(INDEX('ES16b. Prov. App Start Subject'!$B14:$Z14,MATCH(E$851,'ES16b. Prov. App Start Subject'!$B$2:$Z$2,0)),\"n/a\")","v":4},{"$f":"IFERROR(INDEX('ES16b. Prov. App Start Subject'!$B14:$Z14,MATCH(F$851,'ES16b. Prov. App Start Subject'!$B$2:$Z$2,0)),\"n/a\")","v":444}]
[null,null,"Total",{"$f":"IFERROR(INDEX('ES16b. Prov. App Start Subject'!$B15:$Z15,MATCH(D$3,'ES16b. Prov. App Start Subject'!$B$2:$Z$2,0)),\"n/a\")","v":4911},{"$f":"IFERROR(INDEX('ES16b. Prov. App Start Subject'!$B15:$Z15,MATCH(E$851,'ES16b. Prov. App Start Subject'!$B$2:$Z$2,0)),\"n/a\")","v":24916},{"$f":"IFERROR(INDEX('ES16b. Prov. App Start Subject'!$B15:$Z15,MATCH(F$851,'ES16b. Prov. App Start Subject'!$B$2:$Z$2,0)),\"n/a\")","v":759502}]
[]
[null,null,null,{"$f":"D$3","v":"Blackpool, Fylde and Wyre"},"Lancashire ","England Minus London"]
[null,null,"Agriculture, Horticulture and Animal Care",{"$f":"IFERROR(INDEX('ES16b. Prov. App Start Subject'!$B18:$Z18,MATCH(D$3,'ES16b. Prov. App Start Subject'!$B$2:$Z$2,0)),\"n/a\")","v":6.3938098147016897E-2},{"$f":"IFERROR(INDEX('ES16b. Prov. App Start Subject'!$B18:$Z18,MATCH(E$851,'ES16b. Prov. App Start Subject'!$B$2:$Z$2,0)),\"n/a\")","v":2.2355113180285761E-2},{"$f":"IFERROR(INDEX('ES16b. Prov. App Start Subject'!$B18:$Z18,MATCH(F$851,'ES16b. Prov. App Start Subject'!$B$2:$Z$2,0)),\"n/a\")","v":1.9025624685649282E-2}]
[null,null,"Arts, Media and Publishing",{"$f":"IFERROR(INDEX('ES16b. Prov. App Start Subject'!$B19:$Z19,MATCH(D$3,'ES16b. Prov. App Start Subject'!$B$2:$Z$2,0)),\"n/a\")","v":8.1449806556709427E-4},{"$f":"IFERROR(INDEX('ES16b. Prov. App Start Subject'!$B19:$Z19,MATCH(E$851,'ES16b. Prov. App Start Subject'!$B$2:$Z$2,0)),\"n/a\")","v":3.4114625140471986E-3},{"$f":"IFERROR(INDEX('ES16b. Prov. App Start Subject'!$B19:$Z19,MATCH(F$851,'ES16b. Prov. App Start Subject'!$B$2:$Z$2,0)),\"n/a\")","v":2.5161224065242752E-3}]
[null,null,"Business, Administration and Law",{"$f":"IFERROR(INDEX('ES16b. Prov. App Start Subject'!$B20:$Z20,MATCH(D$3,'ES16b. Prov. App Start Subject'!$B$2:$Z$2,0)),\"n/a\")","v":0.26919161066992464},{"$f":"IFERROR(INDEX('ES16b. Prov. App Start Subject'!$B20:$Z20,MATCH(E$851,'ES16b. Prov. App Start Subject'!$B$2:$Z$2,0)),\"n/a\")","v":0.2579868357681811},{"$f":"IFERROR(INDEX('ES16b. Prov. App Start Subject'!$B20:$Z20,MATCH(F$851,'ES16b. Prov. App Start Subject'!$B$2:$Z$2,0)),\"n/a\")","v":0.28111710041579879}]
[null,null,"Construction, Planning and the Built Environment",{"$f":"IFERROR(INDEX('ES16b. Prov. App Start Subject'!$B21:$Z21,MATCH(D$3,'ES16b. Prov. App Start Subject'!$B$2:$Z$2,0)),\"n/a\")","v":6.7603339442068824E-2},{"$f":"IFERROR(INDEX('ES16b. Prov. App Start Subject'!$B21:$Z21,MATCH(E$851,'ES16b. Prov. App Start Subject'!$B$2:$Z$2,0)),\"n/a\")","v":6.3413067908171458E-2},{"$f":"IFERROR(INDEX('ES16b. Prov. App Start Subject'!$B21:$Z21,MATCH(F$851,'ES16b. Prov. App Start Subject'!$B$2:$Z$2,0)),\"n/a\")","v":6.2256583919463017E-2}]
[null,null,"Education and Training",{"$f":"IFERROR(INDEX('ES16b. Prov. App Start Subject'!$B22:$Z22,MATCH(D$3,'ES16b. Prov. App Start Subject'!$B$2:$Z$2,0)),\"n/a\")","v":8.1449806556709425E-3},{"$f":"IFERROR(INDEX('ES16b. Prov. App Start Subject'!$B22:$Z22,MATCH(E$851,'ES16b. Prov. App Start Subject'!$B$2:$Z$2,0)),\"n/a\")","v":1.7498795954406808E-2},{"$f":"IFERROR(INDEX('ES16b. Prov. App Start Subject'!$B22:$Z22,MATCH(F$851,'ES16b. Prov. App Start Subject'!$B$2:$Z$2,0)),\"n/a\")","v":1.6664867241955914E-2}]
[null,null,"Engineering and Manufacturing Technologies",{"$f":"IFERROR(INDEX('ES16b. Prov. App Start Subject'!$B23:$Z23,MATCH(D$3,'ES16b. Prov. App Start Subject'!$B$2:$Z$2,0)),\"n/a\")","v":0.16065974343310935},{"$f":"IFERROR(INDEX('ES16b. Prov. App Start Subject'!$B23:$Z23,MATCH(E$851,'ES16b. Prov. App Start Subject'!$B$2:$Z$2,0)),\"n/a\")","v":0.19882806228929203},{"$f":"IFERROR(INDEX('ES16b. Prov. App Start Subject'!$B23:$Z23,MATCH(F$851,'ES16b. Prov. App Start Subject'!$B$2:$Z$2,0)),\"n/a\")","v":0.19326348054383002}]
[null,null,"Health, Public Services and Care",{"$f":"IFERROR(INDEX('ES16b. Prov. App Start Subject'!$B24:$Z24,MATCH(D$3,'ES16b. Prov. App Start Subject'!$B$2:$Z$2,0)),\"n/a\")","v":0.28018733455508044},{"$f":"IFERROR(INDEX('ES16b. Prov. App Start Subject'!$B24:$Z24,MATCH(E$851,'ES16b. Prov. App Start Subject'!$B$2:$Z$2,0)),\"n/a\")","v":0.25642157649703001},{"$f":"IFERROR(INDEX('ES16b. Prov. App Start Subject'!$B24:$Z24,MATCH(F$851,'ES16b. Prov. App Start Subject'!$B$2:$Z$2,0)),\"n/a\")","v":0.2370948331933293}]
[null,null,"Information and Communication Technology",{"$f":"IFERROR(INDEX('ES16b. Prov. App Start Subject'!$B25:$Z25,MATCH(D$3,'ES16b. Prov. App Start Subject'!$B$2:$Z$2,0)),\"n/a\")","v":2.2195072286703321E-2},{"$f":"IFERROR(INDEX('ES16b. Prov. App Start Subject'!$B25:$Z25,MATCH(E$851,'ES16b. Prov. App Start Subject'!$B$2:$Z$2,0)),\"n/a\")","v":3.194734307272435E-2},{"$f":"IFERROR(INDEX('ES16b. Prov. App Start Subject'!$B25:$Z25,MATCH(F$851,'ES16b. Prov. App Start Subject'!$B$2:$Z$2,0)),\"n/a\")","v":5.0489662963362839E-2}]
[null,null,"Leisure, Travel and Tourism",{"$f":"IFERROR(INDEX('ES16b. Prov. App Start Subject'!$B26:$Z26,MATCH(D$3,'ES16b. Prov. App Start Subject'!$B$2:$Z$2,0)),\"n/a\")","v":1.7918957442476072E-2},{"$f":"IFERROR(INDEX('ES16b. Prov. App Start Subject'!$B26:$Z26,MATCH(E$851,'ES16b. Prov. App Start Subject'!$B$2:$Z$2,0)),\"n/a\")","v":4.5673462835126022E-2},{"$f":"IFERROR(INDEX('ES16b. Prov. App Start Subject'!$B26:$Z26,MATCH(F$851,'ES16b. Prov. App Start Subject'!$B$2:$Z$2,0)),\"n/a\")","v":2.1037469289086796E-2}]
[null,null,"Retail and Commercial Enterprise",{"$f":"IFERROR(INDEX('ES16b. Prov. App Start Subject'!$B27:$Z27,MATCH(D$3,'ES16b. Prov. App Start Subject'!$B$2:$Z$2,0)),\"n/a\")","v":0.10934636530238241},{"$f":"IFERROR(INDEX('ES16b. Prov. App Start Subject'!$B27:$Z27,MATCH(E$851,'ES16b. Prov. App Start Subject'!$B$2:$Z$2,0)),\"n/a\")","v":0.10230374056830951},{"$f":"IFERROR(INDEX('ES16b. Prov. App Start Subject'!$B27:$Z27,MATCH(F$851,'ES16b. Prov. App Start Subject'!$B$2:$Z$2,0)),\"n/a\")","v":0.11594966175204278}]
[null,null,"Science and Mathematics",{"$f":"IFERROR(INDEX('ES16b. Prov. App Start Subject'!$B28:$Z28,MATCH(D$3,'ES16b. Prov. App Start Subject'!$B$2:$Z$2,0)),\"n/a\")","v":0},{"$f":"IFERROR(INDEX('ES16b. Prov. App Start Subject'!$B28:$Z28,MATCH(E$851,'ES16b. Prov. App Start Subject'!$B$2:$Z$2,0)),\"n/a\")","v":1.6053941242575052E-4},{"$f":"IFERROR(INDEX('ES16b. Prov. App Start Subject'!$B28:$Z28,MATCH(F$851,'ES16b. Prov. App Start Subject'!$B$2:$Z$2,0)),\"n/a\")","v":5.8459358895697445E-4}]
[]
[]
[]
[]
[]
[]
[]
[]
[]
[]
[]
[]
[]
[]
[]
[]
[]
[]
[]
[]
[]
[]
[]
[null,null,"ES17a. Learner Perspective Apprenticeship Starts by Level, 2018/19"]
[null,null,null,{"$f":"D$3","v":"Blackpool, Fylde and Wyre"},"Lancashire ","England Minus London"]
[null,null,"Intermediate Apprenticeship",{"$f":"IFERROR(INDEX('ES17a. Learn. App Start Level'!$B26:$Z26,MATCH(D$3,'ES17a. Learn. App Start Level'!$B$2:$Z$2,0)),\"n/a\")","v":960},{"$f":"IFERROR(INDEX('ES17a. Learn. App Start Level'!$B26:$Z26,MATCH(E$901,'ES17a. Learn. App Start Level'!$B$2:$Z$2,0)),\"n/a\")","v":4730},{"$f":"IFERROR(INDEX('ES17a. Learn. App Start Level'!$B26:$Z26,MATCH(F$901,'ES17a. Learn. App Start Level'!$B$2:$Z$2,0)),\"n/a\")","v":131840}]
[null,null,"Advanced Apprenticeship",{"$f":"IFERROR(INDEX('ES17a. Learn. App Start Level'!$B27:$Z27,MATCH(D$3,'ES17a. Learn. App Start Level'!$B$2:$Z$2,0)),\"n/a\")","v":1280},{"$f":"IFERROR(INDEX('ES17a. Learn. App Start Level'!$B27:$Z27,MATCH(E$901,'ES17a. Learn. App Start Level'!$B$2:$Z$2,0)),\"n/a\")","v":6000},{"$f":"IFERROR(INDEX('ES17a. Learn. App Start Level'!$B27:$Z27,MATCH(F$901,'ES17a. Learn. App Start Level'!$B$2:$Z$2,0)),\"n/a\")","v":156560}]
[null,null,"Higher Apprenticeship",{"$f":"IFERROR(INDEX('ES17a. Learn. App Start Level'!$B28:$Z28,MATCH(D$3,'ES17a. Learn. App Start Level'!$B$2:$Z$2,0)),\"n/a\")","v":480},{"$f":"IFERROR(INDEX('ES17a. Learn. App Start Level'!$B28:$Z28,MATCH(E$901,'ES17a. Learn. App Start Level'!$B$2:$Z$2,0)),\"n/a\")","v":2390},{"$f":"IFERROR(INDEX('ES17a. Learn. App Start Level'!$B28:$Z28,MATCH(F$901,'ES17a. Learn. App Start Level'!$B$2:$Z$2,0)),\"n/a\")","v":64880}]
[null,null,"Total",{"$f":"IFERROR(INDEX('ES17a. Learn. App Start Level'!$B29:$Z29,MATCH(D$3,'ES17a. Learn. App Start Level'!$B$2:$Z$2,0)),\"n/a\")","v":2720},{"$f":"IFERROR(INDEX('ES17a. Learn. App Start Level'!$B29:$Z29,MATCH(E$901,'ES17a. Learn. App Start Level'!$B$2:$Z$2,0)),\"n/a\")","v":13120},{"$f":"IFERROR(INDEX('ES17a. Learn. App Start Level'!$B29:$Z29,MATCH(F$901,'ES17a. Learn. App Start Level'!$B$2:$Z$2,0)),\"n/a\")","v":353280}]
[]
[null,null,null,{"$f":"D$3","v":"Blackpool, Fylde and Wyre"},"Lancashire ","England Minus London"]
[null,null,"Intermediate Apprenticeship",{"$f":"IFERROR(INDEX('ES17a. Learn. App Start Level'!$B32:$Z32,MATCH(D$3,'ES17a. Learn. App Start Level'!$B$2:$Z$2,0)),\"n/a\")","v":0.35294117647058826},{"$f":"IFERROR(INDEX('ES17a. Learn. App Start Level'!$B32:$Z32,MATCH(E$907,'ES17a. Learn. App Start Level'!$B$2:$Z$2,0)),\"n/a\")","v":0.36051829268292684},{"$f":"IFERROR(INDEX('ES17a. Learn. App Start Level'!$B32:$Z32,MATCH(F$907,'ES17a. Learn. App Start Level'!$B$2:$Z$2,0)),\"n/a\")","v":0.37318840579710144}]
[null,null,"Advanced Apprenticeship",{"$f":"IFERROR(INDEX('ES17a. Learn. App Start Level'!$B33:$Z33,MATCH(D$3,'ES17a. Learn. App Start Level'!$B$2:$Z$2,0)),\"n/a\")","v":0.47058823529411764},{"$f":"IFERROR(INDEX('ES17a. Learn. App Start Level'!$B33:$Z33,MATCH(E$907,'ES17a. Learn. App Start Level'!$B$2:$Z$2,0)),\"n/a\")","v":0.45731707317073172},{"$f":"IFERROR(INDEX('ES17a. Learn. App Start Level'!$B33:$Z33,MATCH(F$907,'ES17a. Learn. App Start Level'!$B$2:$Z$2,0)),\"n/a\")","v":0.44316123188405798}]
[null,null,"Higher Apprenticeship",{"$f":"IFERROR(INDEX('ES17a. Learn. App Start Level'!$B34:$Z34,MATCH(D$3,'ES17a. Learn. App Start Level'!$B$2:$Z$2,0)),\"n/a\")","v":0.17647058823529413},{"$f":"IFERROR(INDEX('ES17a. Learn. App Start Level'!$B34:$Z34,MATCH(E$907,'ES17a. Learn. App Start Level'!$B$2:$Z$2,0)),\"n/a\")","v":0.18216463414634146},{"$f":"IFERROR(INDEX('ES17a. Learn. App Start Level'!$B34:$Z34,MATCH(F$907,'ES17a. Learn. App Start Level'!$B$2:$Z$2,0)),\"n/a\")","v":0.18365036231884058}]
[]
[]
[]
[]
[]
[]
[]
[]
[]
[]
[]
[]
[]
[]
[]
[]
[]
[]
[]
[]
[]
[]
[]
[]
[]
[]
[]
[]
[]
[]
[]
[]
[]
[]
[]
[]
[]
[]
[]
[null,null,"ES17b. Provider Perspective Apprenticeship Starts by Level, 2018/19"]
[null,null,null,{"$f":"D$3","v":"Blackpool, Fylde and Wyre"},"Lancashire ","England Minus London"]
[null,null,"Intermediate Apprenticeship",{"$f":"IFERROR(INDEX('ES17b. Prov. App Start Level'!$B4:$Z4,MATCH(D$3,'ES17b. Prov. App Start Level'!$B$2:$Z$2,0)),\"n/a\")","v":1813},{"$f":"IFERROR(INDEX('ES17b. Prov. App Start Level'!$B4:$Z4,MATCH(E$951,'ES17b. Prov. App Start Level'!$B$2:$Z$2,0)),\"n/a\")","v":8868},{"$f":"IFERROR(INDEX('ES17b. Prov. App Start Level'!$B4:$Z4,MATCH(F$951,'ES17b. Prov. App Start Level'!$B$2:$Z$2,0)),\"n/a\")","v":277515}]
[null,null,"Advanced Apprenticeship",{"$f":"IFERROR(INDEX('ES17b. Prov. App Start Level'!$B5:$Z5,MATCH(D$3,'ES17b. Prov. App Start Level'!$B$2:$Z$2,0)),\"n/a\")","v":2336},{"$f":"IFERROR(INDEX('ES17b. Prov. App Start Level'!$B5:$Z5,MATCH(E$951,'ES17b. Prov. App Start Level'!$B$2:$Z$2,0)),\"n/a\")","v":12280},{"$f":"IFERROR(INDEX('ES17b. Prov. App Start Level'!$B5:$Z5,MATCH(F$951,'ES17b. Prov. App Start Level'!$B$2:$Z$2,0)),\"n/a\")","v":357453}]
[null,null,"Higher Apprenticeship",{"$f":"IFERROR(INDEX('ES17b. Prov. App Start Level'!$B6:$Z6,MATCH(D$3,'ES17b. Prov. App Start Level'!$B$2:$Z$2,0)),\"n/a\")","v":762},{"$f":"IFERROR(INDEX('ES17b. Prov. App Start Level'!$B6:$Z6,MATCH(E$951,'ES17b. Prov. App Start Level'!$B$2:$Z$2,0)),\"n/a\")","v":3768},{"$f":"IFERROR(INDEX('ES17b. Prov. App Start Level'!$B6:$Z6,MATCH(F$951,'ES17b. Prov. App Start Level'!$B$2:$Z$2,0)),\"n/a\")","v":124534}]
[null,null,"Total",{"$f":"IFERROR(INDEX('ES17b. Prov. App Start Level'!$B7:$Z7,MATCH(D$3,'ES17b. Prov. App Start Level'!$B$2:$Z$2,0)),\"n/a\")","v":4911},{"$f":"IFERROR(INDEX('ES17b. Prov. App Start Level'!$B7:$Z7,MATCH(E$951,'ES17b. Prov. App Start Level'!$B$2:$Z$2,0)),\"n/a\")","v":24916},{"$f":"IFERROR(INDEX('ES17b. Prov. App Start Level'!$B7:$Z7,MATCH(F$951,'ES17b. Prov. App Start Level'!$B$2:$Z$2,0)),\"n/a\")","v":759502}]
[]
[null,null,null,{"$f":"D$3","v":"Blackpool, Fylde and Wyre"},"Lancashire ","England Minus London"]
[null,null,"Intermediate Apprenticeship",{"$f":"IFERROR(INDEX('ES17b. Prov. App Start Level'!$B10:$Z10,MATCH(D$3,'ES17b. Prov. App Start Level'!$B$2:$Z$2,0)),\"n/a\")","v":0.36917124821828551},{"$f":"IFERROR(INDEX('ES17b. Prov. App Start Level'!$B10:$Z10,MATCH(E$951,'ES17b. Prov. App Start Level'!$B$2:$Z$2,0)),\"n/a\")","v":0.35591587734788893},{"$f":"IFERROR(INDEX('ES17b. Prov. App Start Level'!$B10:$Z10,MATCH(F$951,'ES17b. Prov. App Start Level'!$B$2:$Z$2,0)),\"n/a\")","v":0.36539074288151974}]
[null,null,"Advanced Apprenticeship",{"$f":"IFERROR(INDEX('ES17b. Prov. App Start Level'!$B11:$Z11,MATCH(D$3,'ES17b. Prov. App Start Level'!$B$2:$Z$2,0)),\"n/a\")","v":0.47566687029118304},{"$f":"IFERROR(INDEX('ES17b. Prov. App Start Level'!$B11:$Z11,MATCH(E$951,'ES17b. Prov. App Start Level'!$B$2:$Z$2,0)),\"n/a\")","v":0.49285599614705411},{"$f":"IFERROR(INDEX('ES17b. Prov. App Start Level'!$B11:$Z11,MATCH(F$951,'ES17b. Prov. App Start Level'!$B$2:$Z$2,0)),\"n/a\")","v":0.470641288633868}]
[null,null,"Higher Apprenticeship",{"$f":"IFERROR(INDEX('ES17b. Prov. App Start Level'!$B12:$Z12,MATCH(D$3,'ES17b. Prov. App Start Level'!$B$2:$Z$2,0)),\"n/a\")","v":0.15516188149053145},{"$f":"IFERROR(INDEX('ES17b. Prov. App Start Level'!$B12:$Z12,MATCH(E$951,'ES17b. Prov. App Start Level'!$B$2:$Z$2,0)),\"n/a\")","v":0.15122812650505699},{"$f":"IFERROR(INDEX('ES17b. Prov. App Start Level'!$B12:$Z12,MATCH(F$951,'ES17b. Prov. App Start Level'!$B$2:$Z$2,0)),\"n/a\")","v":0.16396796848461229}]
[]
[]
[]
[]
[]
[]
[]
[]
[]
[]
[]
[]
[]
[]
[]
[]
[]
[]
[]
[]
[]
[]
[]
[]
[]
[]
[]
[]
[]
[]
[]
[]
[]
[]
[]
[]
[]
[]
[]
[null,null,"ES18. Learner Perspective: Apprenticeship Achievements by Age 2018/19"]
[null,null,null,{"$f":"D$3","v":"Blackpool, Fylde and Wyre"},"Lancashire ","England Minus London"]
[null,null,"Under 19",{"$f":"IFERROR(INDEX('ES18. Learn. App Achieve by Age'!$B28:$Z28,MATCH(D$3,'ES18. Learn. App Achieve by Age'!$B$2:$Z$2,0)),\"n/a\")","v":440},{"$f":"IFERROR(INDEX('ES18. Learn. App Achieve by Age'!$B28:$Z28,MATCH(E$1001,'ES18. Learn. App Achieve by Age'!$B$2:$Z$2,0)),\"n/a\")","v":2330},{"$f":"IFERROR(INDEX('ES18. Learn. App Achieve by Age'!$B28:$Z28,MATCH(F$1001,'ES18. Learn. App Achieve by Age'!$B$2:$Z$2,0)),\"n/a\")","v":53910}]
[null,null,"19-24",{"$f":"IFERROR(INDEX('ES18. Learn. App Achieve by Age'!$B29:$Z29,MATCH(D$3,'ES18. Learn. App Achieve by Age'!$B$2:$Z$2,0)),\"n/a\")","v":380},{"$f":"IFERROR(INDEX('ES18. Learn. App Achieve by Age'!$B29:$Z29,MATCH(E$1001,'ES18. Learn. App Achieve by Age'!$B$2:$Z$2,0)),\"n/a\")","v":1830},{"$f":"IFERROR(INDEX('ES18. Learn. App Achieve by Age'!$B29:$Z29,MATCH(F$1001,'ES18. Learn. App Achieve by Age'!$B$2:$Z$2,0)),\"n/a\")","v":53840}]
[null,null,"25+",{"$f":"IFERROR(INDEX('ES18. Learn. App Achieve by Age'!$B30:$Z30,MATCH(D$3,'ES18. Learn. App Achieve by Age'!$B$2:$Z$2,0)),\"n/a\")","v":580},{"$f":"IFERROR(INDEX('ES18. Learn. App Achieve by Age'!$B30:$Z30,MATCH(E$1001,'ES18. Learn. App Achieve by Age'!$B$2:$Z$2,0)),\"n/a\")","v":2390},{"$f":"IFERROR(INDEX('ES18. Learn. App Achieve by Age'!$B30:$Z30,MATCH(F$1001,'ES18. Learn. App Achieve by Age'!$B$2:$Z$2,0)),\"n/a\")","v":61850}]
[null,null,"Total",{"$f":"IFERROR(INDEX('ES18. Learn. App Achieve by Age'!$B31:$Z31,MATCH(D$3,'ES18. Learn. App Achieve by Age'!$B$2:$Z$2,0)),\"n/a\")","v":1400},{"$f":"IFERROR(INDEX('ES18. Learn. App Achieve by Age'!$B31:$Z31,MATCH(E$1001,'ES18. Learn. App Achieve by Age'!$B$2:$Z$2,0)),\"n/a\")","v":6550},{"$f":"IFERROR(INDEX('ES18. Learn. App Achieve by Age'!$B31:$Z31,MATCH(F$1001,'ES18. Learn. App Achieve by Age'!$B$2:$Z$2,0)),\"n/a\")","v":169600}]
[]
[null,null,null,{"$f":"D$3","v":"Blackpool, Fylde and Wyre"},"Lancashire ","England Minus London"]
[null,null,"Under 19",{"$f":"IFERROR(INDEX('ES18. Learn. App Achieve by Age'!$B34:$Z34,MATCH(D$3,'ES18. Learn. App Achieve by Age'!$B$2:$Z$2,0)),\"n/a\")","v":0.31428571428571428},{"$f":"IFERROR(INDEX('ES18. Learn. App Achieve by Age'!$B34:$Z34,MATCH(E$1001,'ES18. Learn. App Achieve by Age'!$B$2:$Z$2,0)),\"n/a\")","v":0.35572519083969467},{"$f":"IFERROR(INDEX('ES18. Learn. App Achieve by Age'!$B34:$Z34,MATCH(F$1001,'ES18. Learn. App Achieve by Age'!$B$2:$Z$2,0)),\"n/a\")","v":0.31786556603773586}]
[null,null,"19-24",{"$f":"IFERROR(INDEX('ES18. Learn. App Achieve by Age'!$B35:$Z35,MATCH(D$3,'ES18. Learn. App Achieve by Age'!$B$2:$Z$2,0)),\"n/a\")","v":0.27142857142857141},{"$f":"IFERROR(INDEX('ES18. Learn. App Achieve by Age'!$B35:$Z35,MATCH(E$1001,'ES18. Learn. App Achieve by Age'!$B$2:$Z$2,0)),\"n/a\")","v":0.27938931297709924},{"$f":"IFERROR(INDEX('ES18. Learn. App Achieve by Age'!$B35:$Z35,MATCH(F$1001,'ES18. Learn. App Achieve by Age'!$B$2:$Z$2,0)),\"n/a\")","v":0.31745283018867926}]
[null,null,"25+",{"$f":"IFERROR(INDEX('ES18. Learn. App Achieve by Age'!$B36:$Z36,MATCH(D$3,'ES18. Learn. App Achieve by Age'!$B$2:$Z$2,0)),\"n/a\")","v":0.41428571428571431},{"$f":"IFERROR(INDEX('ES18. Learn. App Achieve by Age'!$B36:$Z36,MATCH(E$1001,'ES18. Learn. App Achieve by Age'!$B$2:$Z$2,0)),\"n/a\")","v":0.36488549618320609},{"$f":"IFERROR(INDEX('ES18. Learn. App Achieve by Age'!$B36:$Z36,MATCH(F$1001,'ES18. Learn. App Achieve by Age'!$B$2:$Z$2,0)),\"n/a\")","v":0.36468160377358488}]
[]
[]
[]
[]
[]
[]
[]
[]
[]
[]
[]
[]
[]
[]
[]
[]
[]
[]
[]
[]
[]
[]
[]
[]
[]
[]
[]
[]
[]
[]
[]
[]
[]
[]
[]
[]
[]
[]
[]
[null,null,"ES19a: Learner Perspective: Apprenticeship Achievements by Subject 2018/19"]
[null,null,null,{"$f":"D$3","v":"Blackpool, Fylde and Wyre"},"Lancashire ","England Minus London"]
[null,null,"Agriculture, Horticulture and Animal Care",{"$f":"IFERROR(INDEX('ES19a Learn App Achieve Subject'!$B62:$Z62,MATCH(D$3,'ES19a Learn App Achieve Subject'!$B$2:$Z$2,0)),\"n/a\")","v":30},{"$f":"IFERROR(INDEX('ES19a Learn App Achieve Subject'!$B62:$Z62,MATCH(E$1051,'ES19a Learn App Achieve Subject'!$B$2:$Z$2,0)),\"n/a\")","v":140},{"$f":"IFERROR(INDEX('ES19a Learn App Achieve Subject'!$B62:$Z62,MATCH(F$1051,'ES19a Learn App Achieve Subject'!$B$2:$Z$2,0)),\"n/a\")","v":3810}]
[null,null,"Arts, Media and Publishing",{"$f":"IFERROR(INDEX('ES19a Learn App Achieve Subject'!$B63:$Z63,MATCH(D$3,'ES19a Learn App Achieve Subject'!$B$2:$Z$2,0)),\"n/a\")","v":0},{"$f":"IFERROR(INDEX('ES19a Learn App Achieve Subject'!$B63:$Z63,MATCH(E$1051,'ES19a Learn App Achieve Subject'!$B$2:$Z$2,0)),\"n/a\")","v":0},{"$f":"IFERROR(INDEX('ES19a Learn App Achieve Subject'!$B63:$Z63,MATCH(F$1051,'ES19a Learn App Achieve Subject'!$B$2:$Z$2,0)),\"n/a\")","v":460}]
[null,null,"Business, Administration and Law",{"$f":"IFERROR(INDEX('ES19a Learn App Achieve Subject'!$B64:$Z64,MATCH(D$3,'ES19a Learn App Achieve Subject'!$B$2:$Z$2,0)),\"n/a\")","v":350},{"$f":"IFERROR(INDEX('ES19a Learn App Achieve Subject'!$B64:$Z64,MATCH(E$1051,'ES19a Learn App Achieve Subject'!$B$2:$Z$2,0)),\"n/a\")","v":1640},{"$f":"IFERROR(INDEX('ES19a Learn App Achieve Subject'!$B64:$Z64,MATCH(F$1051,'ES19a Learn App Achieve Subject'!$B$2:$Z$2,0)),\"n/a\")","v":42160}]
[null,null,"Construction, Planning and the Built Environment",{"$f":"IFERROR(INDEX('ES19a Learn App Achieve Subject'!$B65:$Z65,MATCH(D$3,'ES19a Learn App Achieve Subject'!$B$2:$Z$2,0)),\"n/a\")","v":110},{"$f":"IFERROR(INDEX('ES19a Learn App Achieve Subject'!$B65:$Z65,MATCH(E$1051,'ES19a Learn App Achieve Subject'!$B$2:$Z$2,0)),\"n/a\")","v":450},{"$f":"IFERROR(INDEX('ES19a Learn App Achieve Subject'!$B65:$Z65,MATCH(F$1051,'ES19a Learn App Achieve Subject'!$B$2:$Z$2,0)),\"n/a\")","v":10410}]
[null,null,"Education and Training",{"$f":"IFERROR(INDEX('ES19a Learn App Achieve Subject'!$B66:$Z66,MATCH(D$3,'ES19a Learn App Achieve Subject'!$B$2:$Z$2,0)),\"n/a\")","v":10},{"$f":"IFERROR(INDEX('ES19a Learn App Achieve Subject'!$B66:$Z66,MATCH(E$1051,'ES19a Learn App Achieve Subject'!$B$2:$Z$2,0)),\"n/a\")","v":150},{"$f":"IFERROR(INDEX('ES19a Learn App Achieve Subject'!$B66:$Z66,MATCH(F$1051,'ES19a Learn App Achieve Subject'!$B$2:$Z$2,0)),\"n/a\")","v":3650}]
[null,null,"Engineering and Manufacturing Technologies",{"$f":"IFERROR(INDEX('ES19a Learn App Achieve Subject'!$B67:$Z67,MATCH(D$3,'ES19a Learn App Achieve Subject'!$B$2:$Z$2,0)),\"n/a\")","v":220},{"$f":"IFERROR(INDEX('ES19a Learn App Achieve Subject'!$B67:$Z67,MATCH(E$1051,'ES19a Learn App Achieve Subject'!$B$2:$Z$2,0)),\"n/a\")","v":1210},{"$f":"IFERROR(INDEX('ES19a Learn App Achieve Subject'!$B67:$Z67,MATCH(F$1051,'ES19a Learn App Achieve Subject'!$B$2:$Z$2,0)),\"n/a\")","v":33900}]
[null,null,"Health, Public Services and Care",{"$f":"IFERROR(INDEX('ES19a Learn App Achieve Subject'!$B68:$Z68,MATCH(D$3,'ES19a Learn App Achieve Subject'!$B$2:$Z$2,0)),\"n/a\")","v":450},{"$f":"IFERROR(INDEX('ES19a Learn App Achieve Subject'!$B68:$Z68,MATCH(E$1051,'ES19a Learn App Achieve Subject'!$B$2:$Z$2,0)),\"n/a\")","v":1710},{"$f":"IFERROR(INDEX('ES19a Learn App Achieve Subject'!$B68:$Z68,MATCH(F$1051,'ES19a Learn App Achieve Subject'!$B$2:$Z$2,0)),\"n/a\")","v":42110}]
[null,null,"Information and Communication Technology",{"$f":"IFERROR(INDEX('ES19a Learn App Achieve Subject'!$B69:$Z69,MATCH(D$3,'ES19a Learn App Achieve Subject'!$B$2:$Z$2,0)),\"n/a\")","v":30},{"$f":"IFERROR(INDEX('ES19a Learn App Achieve Subject'!$B69:$Z69,MATCH(E$1051,'ES19a Learn App Achieve Subject'!$B$2:$Z$2,0)),\"n/a\")","v":200},{"$f":"IFERROR(INDEX('ES19a Learn App Achieve Subject'!$B69:$Z69,MATCH(F$1051,'ES19a Learn App Achieve Subject'!$B$2:$Z$2,0)),\"n/a\")","v":7300}]
[null,null,"Leisure, Travel and Tourism",{"$f":"IFERROR(INDEX('ES19a Learn App Achieve Subject'!$B70:$Z70,MATCH(D$3,'ES19a Learn App Achieve Subject'!$B$2:$Z$2,0)),\"n/a\")","v":60},{"$f":"IFERROR(INDEX('ES19a Learn App Achieve Subject'!$B70:$Z70,MATCH(E$1051,'ES19a Learn App Achieve Subject'!$B$2:$Z$2,0)),\"n/a\")","v":360},{"$f":"IFERROR(INDEX('ES19a Learn App Achieve Subject'!$B70:$Z70,MATCH(F$1051,'ES19a Learn App Achieve Subject'!$B$2:$Z$2,0)),\"n/a\")","v":5840}]
[null,null,"Retail and Commercial Enterprise",{"$f":"IFERROR(INDEX('ES19a Learn App Achieve Subject'!$B71:$Z71,MATCH(D$3,'ES19a Learn App Achieve Subject'!$B$2:$Z$2,0)),\"n/a\")","v":140},{"$f":"IFERROR(INDEX('ES19a Learn App Achieve Subject'!$B71:$Z71,MATCH(E$1051,'ES19a Learn App Achieve Subject'!$B$2:$Z$2,0)),\"n/a\")","v":720},{"$f":"IFERROR(INDEX('ES19a Learn App Achieve Subject'!$B71:$Z71,MATCH(F$1051,'ES19a Learn App Achieve Subject'!$B$2:$Z$2,0)),\"n/a\")","v":19730}]
[null,null,"Science and Mathematics",{"$f":"IFERROR(INDEX('ES19a Learn App Achieve Subject'!$B72:$Z72,MATCH(D$3,'ES19a Learn App Achieve Subject'!$B$2:$Z$2,0)),\"n/a\")","v":0},{"$f":"IFERROR(INDEX('ES19a Learn App Achieve Subject'!$B72:$Z72,MATCH(E$1051,'ES19a Learn App Achieve Subject'!$B$2:$Z$2,0)),\"n/a\")","v":0},{"$f":"IFERROR(INDEX('ES19a Learn App Achieve Subject'!$B72:$Z72,MATCH(F$1051,'ES19a Learn App Achieve Subject'!$B$2:$Z$2,0)),\"n/a\")","v":170}]
[null,null,"Total",{"$f":"IFERROR(INDEX('ES19a Learn App Achieve Subject'!$B73:$Z73,MATCH(D$3,'ES19a Learn App Achieve Subject'!$B$2:$Z$2,0)),\"n/a\")","v":1400},{"$f":"IFERROR(INDEX('ES19a Learn App Achieve Subject'!$B73:$Z73,MATCH(E$1051,'ES19a Learn App Achieve Subject'!$B$2:$Z$2,0)),\"n/a\")","v":6580},{"$f":"IFERROR(INDEX('ES19a Learn App Achieve Subject'!$B73:$Z73,MATCH(F$1051,'ES19a Learn App Achieve Subject'!$B$2:$Z$2,0)),\"n/a\")","v":169540}]
[]
[null,null,null,{"$f":"D$3","v":"Blackpool, Fylde and Wyre"},"Lancashire ","England Minus London"]
[null,null,"Agriculture, Horticulture and Animal Care",{"$f":"IFERROR(INDEX('ES19a Learn App Achieve Subject'!$B76:$Z76,MATCH(D$3,'ES19a Learn App Achieve Subject'!$B$2:$Z$2,0)),\"n/a\")","v":2.1428571428571429E-2},{"$f":"IFERROR(INDEX('ES19a Learn App Achieve Subject'!$B76:$Z76,MATCH(E$1051,'ES19a Learn App Achieve Subject'!$B$2:$Z$2,0)),\"n/a\")","v":2.1276595744680851E-2},{"$f":"IFERROR(INDEX('ES19a Learn App Achieve Subject'!$B76:$Z76,MATCH(F$1051,'ES19a Learn App Achieve Subject'!$B$2:$Z$2,0)),\"n/a\")","v":2.247257284416657E-2}]
[null,null,"Arts, Media and Publishing",{"$f":"IFERROR(INDEX('ES19a Learn App Achieve Subject'!$B77:$Z77,MATCH(D$3,'ES19a Learn App Achieve Subject'!$B$2:$Z$2,0)),\"n/a\")","v":0},{"$f":"IFERROR(INDEX('ES19a Learn App Achieve Subject'!$B77:$Z77,MATCH(E$1051,'ES19a Learn App Achieve Subject'!$B$2:$Z$2,0)),\"n/a\")","v":0},{"$f":"IFERROR(INDEX('ES19a Learn App Achieve Subject'!$B77:$Z77,MATCH(F$1051,'ES19a Learn App Achieve Subject'!$B$2:$Z$2,0)),\"n/a\")","v":2.7132240179308718E-3}]
[null,null,"Business, Administration and Law",{"$f":"IFERROR(INDEX('ES19a Learn App Achieve Subject'!$B78:$Z78,MATCH(D$3,'ES19a Learn App Achieve Subject'!$B$2:$Z$2,0)),\"n/a\")","v":0.25},{"$f":"IFERROR(INDEX('ES19a Learn App Achieve Subject'!$B78:$Z78,MATCH(E$1051,'ES19a Learn App Achieve Subject'!$B$2:$Z$2,0)),\"n/a\")","v":0.24924012158054712},{"$f":"IFERROR(INDEX('ES19a Learn App Achieve Subject'!$B78:$Z78,MATCH(F$1051,'ES19a Learn App Achieve Subject'!$B$2:$Z$2,0)),\"n/a\")","v":0.24867287955644685}]
[null,null,"Construction, Planning and the Built Environment",{"$f":"IFERROR(INDEX('ES19a Learn App Achieve Subject'!$B79:$Z79,MATCH(D$3,'ES19a Learn App Achieve Subject'!$B$2:$Z$2,0)),\"n/a\")","v":7.857142857142857E-2},{"$f":"IFERROR(INDEX('ES19a Learn App Achieve Subject'!$B79:$Z79,MATCH(E$1051,'ES19a Learn App Achieve Subject'!$B$2:$Z$2,0)),\"n/a\")","v":6.8389057750759874E-2},{"$f":"IFERROR(INDEX('ES19a Learn App Achieve Subject'!$B79:$Z79,MATCH(F$1051,'ES19a Learn App Achieve Subject'!$B$2:$Z$2,0)),\"n/a\")","v":6.1401439188392117E-2}]
[null,null,"Education and Training",{"$f":"IFERROR(INDEX('ES19a Learn App Achieve Subject'!$B80:$Z80,MATCH(D$3,'ES19a Learn App Achieve Subject'!$B$2:$Z$2,0)),\"n/a\")","v":7.1428571428571426E-3},{"$f":"IFERROR(INDEX('ES19a Learn App Achieve Subject'!$B80:$Z80,MATCH(E$1051,'ES19a Learn App Achieve Subject'!$B$2:$Z$2,0)),\"n/a\")","v":2.2796352583586626E-2},{"$f":"IFERROR(INDEX('ES19a Learn App Achieve Subject'!$B80:$Z80,MATCH(F$1051,'ES19a Learn App Achieve Subject'!$B$2:$Z$2,0)),\"n/a\")","v":2.1528842750973221E-2}]
[null,null,"Engineering and Manufacturing Technologies",{"$f":"IFERROR(INDEX('ES19a Learn App Achieve Subject'!$B81:$Z81,MATCH(D$3,'ES19a Learn App Achieve Subject'!$B$2:$Z$2,0)),\"n/a\")","v":0.15714285714285714},{"$f":"IFERROR(INDEX('ES19a Learn App Achieve Subject'!$B81:$Z81,MATCH(E$1051,'ES19a Learn App Achieve Subject'!$B$2:$Z$2,0)),\"n/a\")","v":0.1838905775075988},{"$f":"IFERROR(INDEX('ES19a Learn App Achieve Subject'!$B81:$Z81,MATCH(F$1051,'ES19a Learn App Achieve Subject'!$B$2:$Z$2,0)),\"n/a\")","v":0.19995281349534033}]
[null,null,"Health, Public Services and Care",{"$f":"IFERROR(INDEX('ES19a Learn App Achieve Subject'!$B82:$Z82,MATCH(D$3,'ES19a Learn App Achieve Subject'!$B$2:$Z$2,0)),\"n/a\")","v":0.32142857142857145},{"$f":"IFERROR(INDEX('ES19a Learn App Achieve Subject'!$B82:$Z82,MATCH(E$1051,'ES19a Learn App Achieve Subject'!$B$2:$Z$2,0)),\"n/a\")","v":0.25987841945288753},{"$f":"IFERROR(INDEX('ES19a Learn App Achieve Subject'!$B82:$Z82,MATCH(F$1051,'ES19a Learn App Achieve Subject'!$B$2:$Z$2,0)),\"n/a\")","v":0.24837796390232394}]
[null,null,"Information and Communication Technology",{"$f":"IFERROR(INDEX('ES19a Learn App Achieve Subject'!$B83:$Z83,MATCH(D$3,'ES19a Learn App Achieve Subject'!$B$2:$Z$2,0)),\"n/a\")","v":2.1428571428571429E-2},{"$f":"IFERROR(INDEX('ES19a Learn App Achieve Subject'!$B83:$Z83,MATCH(E$1051,'ES19a Learn App Achieve Subject'!$B$2:$Z$2,0)),\"n/a\")","v":3.0395136778115502E-2},{"$f":"IFERROR(INDEX('ES19a Learn App Achieve Subject'!$B83:$Z83,MATCH(F$1051,'ES19a Learn App Achieve Subject'!$B$2:$Z$2,0)),\"n/a\")","v":4.3057685501946441E-2}]
[null,null,"Leisure, Travel and Tourism",{"$f":"IFERROR(INDEX('ES19a Learn App Achieve Subject'!$B84:$Z84,MATCH(D$3,'ES19a Learn App Achieve Subject'!$B$2:$Z$2,0)),\"n/a\")","v":4.2857142857142858E-2},{"$f":"IFERROR(INDEX('ES19a Learn App Achieve Subject'!$B84:$Z84,MATCH(E$1051,'ES19a Learn App Achieve Subject'!$B$2:$Z$2,0)),\"n/a\")","v":5.4711246200607903E-2},{"$f":"IFERROR(INDEX('ES19a Learn App Achieve Subject'!$B84:$Z84,MATCH(F$1051,'ES19a Learn App Achieve Subject'!$B$2:$Z$2,0)),\"n/a\")","v":3.4446148401557151E-2}]
[null,null,"Retail and Commercial Enterprise",{"$f":"IFERROR(INDEX('ES19a Learn App Achieve Subject'!$B85:$Z85,MATCH(D$3,'ES19a Learn App Achieve Subject'!$B$2:$Z$2,0)),\"n/a\")","v":0.1},{"$f":"IFERROR(INDEX('ES19a Learn App Achieve Subject'!$B85:$Z85,MATCH(E$1051,'ES19a Learn App Achieve Subject'!$B$2:$Z$2,0)),\"n/a\")","v":0.10942249240121581},{"$f":"IFERROR(INDEX('ES19a Learn App Achieve Subject'!$B85:$Z85,MATCH(F$1051,'ES19a Learn App Achieve Subject'!$B$2:$Z$2,0)),\"n/a\")","v":0.11637371711690457}]
[null,null,"Science and Mathematics",{"$f":"IFERROR(INDEX('ES19a Learn App Achieve Subject'!$B86:$Z86,MATCH(D$3,'ES19a Learn App Achieve Subject'!$B$2:$Z$2,0)),\"n/a\")","v":0},{"$f":"IFERROR(INDEX('ES19a Learn App Achieve Subject'!$B86:$Z86,MATCH(E$1051,'ES19a Learn App Achieve Subject'!$B$2:$Z$2,0)),\"n/a\")","v":0},{"$f":"IFERROR(INDEX('ES19a Learn App Achieve Subject'!$B86:$Z86,MATCH(F$1051,'ES19a Learn App Achieve Subject'!$B$2:$Z$2,0)),\"n/a\")","v":1.0027132240179309E-3}]
[]
[]
[]
[]
[]
[]
[]
[]
[]
[]
[]
[]
[]
[]
[]
[]
[]
[]
[]
[]
[]
[]
[]
[null,null,"ES19b: Provider Perspective: Apprenticeship Achievements by Subject 2018/19"]
[null,null,null,{"$f":"D$3","v":"Blackpool, Fylde and Wyre"},"Lancashire ","England Minus London"]
[null,null,"Agriculture, Horticulture and Animal Care",{"$f":"IFERROR(INDEX('ES19b Prov. App Achieve Subject'!$B4:$Z4,MATCH(D$3,'ES19b Prov. App Achieve Subject'!$B$2:$Z$2,0)),\"n/a\")","v":62},{"$f":"IFERROR(INDEX('ES19b Prov. App Achieve Subject'!$B4:$Z4,MATCH(E$1101,'ES19b Prov. App Achieve Subject'!$B$2:$Z$2,0)),\"n/a\")","v":139},{"$f":"IFERROR(INDEX('ES19b Prov. App Achieve Subject'!$B4:$Z4,MATCH(F$1101,'ES19b Prov. App Achieve Subject'!$B$2:$Z$2,0)),\"n/a\")","v":3826}]
[null,null,"Arts, Media and Publishing",{"$f":"IFERROR(INDEX('ES19b Prov. App Achieve Subject'!$B5:$Z5,MATCH(D$3,'ES19b Prov. App Achieve Subject'!$B$2:$Z$2,0)),\"n/a\")","v":1},{"$f":"IFERROR(INDEX('ES19b Prov. App Achieve Subject'!$B5:$Z5,MATCH(E$1101,'ES19b Prov. App Achieve Subject'!$B$2:$Z$2,0)),\"n/a\")","v":11},{"$f":"IFERROR(INDEX('ES19b Prov. App Achieve Subject'!$B5:$Z5,MATCH(F$1101,'ES19b Prov. App Achieve Subject'!$B$2:$Z$2,0)),\"n/a\")","v":397}]
[null,null,"Business, Administration and Law",{"$f":"IFERROR(INDEX('ES19b Prov. App Achieve Subject'!$B6:$Z6,MATCH(D$3,'ES19b Prov. App Achieve Subject'!$B$2:$Z$2,0)),\"n/a\")","v":357},{"$f":"IFERROR(INDEX('ES19b Prov. App Achieve Subject'!$B6:$Z6,MATCH(E$1101,'ES19b Prov. App Achieve Subject'!$B$2:$Z$2,0)),\"n/a\")","v":1544},{"$f":"IFERROR(INDEX('ES19b Prov. App Achieve Subject'!$B6:$Z6,MATCH(F$1101,'ES19b Prov. App Achieve Subject'!$B$2:$Z$2,0)),\"n/a\")","v":41539}]
[null,null,"Construction, Planning and the Built Environment",{"$f":"IFERROR(INDEX('ES19b Prov. App Achieve Subject'!$B7:$Z7,MATCH(D$3,'ES19b Prov. App Achieve Subject'!$B$2:$Z$2,0)),\"n/a\")","v":101},{"$f":"IFERROR(INDEX('ES19b Prov. App Achieve Subject'!$B7:$Z7,MATCH(E$1101,'ES19b Prov. App Achieve Subject'!$B$2:$Z$2,0)),\"n/a\")","v":428},{"$f":"IFERROR(INDEX('ES19b Prov. App Achieve Subject'!$B7:$Z7,MATCH(F$1101,'ES19b Prov. App Achieve Subject'!$B$2:$Z$2,0)),\"n/a\")","v":10549}]
[null,null,"Education and Training",{"$f":"IFERROR(INDEX('ES19b Prov. App Achieve Subject'!$B8:$Z8,MATCH(D$3,'ES19b Prov. App Achieve Subject'!$B$2:$Z$2,0)),\"n/a\")","v":14},{"$f":"IFERROR(INDEX('ES19b Prov. App Achieve Subject'!$B8:$Z8,MATCH(E$1101,'ES19b Prov. App Achieve Subject'!$B$2:$Z$2,0)),\"n/a\")","v":151},{"$f":"IFERROR(INDEX('ES19b Prov. App Achieve Subject'!$B8:$Z8,MATCH(F$1101,'ES19b Prov. App Achieve Subject'!$B$2:$Z$2,0)),\"n/a\")","v":3728}]
[null,null,"Engineering and Manufacturing Technologies",{"$f":"IFERROR(INDEX('ES19b Prov. App Achieve Subject'!$B9:$Z9,MATCH(D$3,'ES19b Prov. App Achieve Subject'!$B$2:$Z$2,0)),\"n/a\")","v":192},{"$f":"IFERROR(INDEX('ES19b Prov. App Achieve Subject'!$B9:$Z9,MATCH(E$1101,'ES19b Prov. App Achieve Subject'!$B$2:$Z$2,0)),\"n/a\")","v":1211},{"$f":"IFERROR(INDEX('ES19b Prov. App Achieve Subject'!$B9:$Z9,MATCH(F$1101,'ES19b Prov. App Achieve Subject'!$B$2:$Z$2,0)),\"n/a\")","v":34212}]
[null,null,"Health, Public Services and Care",{"$f":"IFERROR(INDEX('ES19b Prov. App Achieve Subject'!$B10:$Z10,MATCH(D$3,'ES19b Prov. App Achieve Subject'!$B$2:$Z$2,0)),\"n/a\")","v":387},{"$f":"IFERROR(INDEX('ES19b Prov. App Achieve Subject'!$B10:$Z10,MATCH(E$1101,'ES19b Prov. App Achieve Subject'!$B$2:$Z$2,0)),\"n/a\")","v":1640},{"$f":"IFERROR(INDEX('ES19b Prov. App Achieve Subject'!$B10:$Z10,MATCH(F$1101,'ES19b Prov. App Achieve Subject'!$B$2:$Z$2,0)),\"n/a\")","v":42653}]
[null,null,"Information and Communication Technology",{"$f":"IFERROR(INDEX('ES19b Prov. App Achieve Subject'!$B11:$Z11,MATCH(D$3,'ES19b Prov. App Achieve Subject'!$B$2:$Z$2,0)),\"n/a\")","v":25},{"$f":"IFERROR(INDEX('ES19b Prov. App Achieve Subject'!$B11:$Z11,MATCH(E$1101,'ES19b Prov. App Achieve Subject'!$B$2:$Z$2,0)),\"n/a\")","v":205},{"$f":"IFERROR(INDEX('ES19b Prov. App Achieve Subject'!$B11:$Z11,MATCH(F$1101,'ES19b Prov. App Achieve Subject'!$B$2:$Z$2,0)),\"n/a\")","v":7248}]
[null,null,"Leisure, Travel and Tourism",{"$f":"IFERROR(INDEX('ES19b Prov. App Achieve Subject'!$B12:$Z12,MATCH(D$3,'ES19b Prov. App Achieve Subject'!$B$2:$Z$2,0)),\"n/a\")","v":48},{"$f":"IFERROR(INDEX('ES19b Prov. App Achieve Subject'!$B12:$Z12,MATCH(E$1101,'ES19b Prov. App Achieve Subject'!$B$2:$Z$2,0)),\"n/a\")","v":282},{"$f":"IFERROR(INDEX('ES19b Prov. App Achieve Subject'!$B12:$Z12,MATCH(F$1101,'ES19b Prov. App Achieve Subject'!$B$2:$Z$2,0)),\"n/a\")","v":5978}]
[null,null,"Retail and Commercial Enterprise",{"$f":"IFERROR(INDEX('ES19b Prov. App Achieve Subject'!$B13:$Z13,MATCH(D$3,'ES19b Prov. App Achieve Subject'!$B$2:$Z$2,0)),\"n/a\")","v":127},{"$f":"IFERROR(INDEX('ES19b Prov. App Achieve Subject'!$B13:$Z13,MATCH(E$1101,'ES19b Prov. App Achieve Subject'!$B$2:$Z$2,0)),\"n/a\")","v":686},{"$f":"IFERROR(INDEX('ES19b Prov. App Achieve Subject'!$B13:$Z13,MATCH(F$1101,'ES19b Prov. App Achieve Subject'!$B$2:$Z$2,0)),\"n/a\")","v":19702}]
[null,null,"Science and Mathematics",{"$f":"IFERROR(INDEX('ES19b Prov. App Achieve Subject'!$B14:$Z14,MATCH(D$3,'ES19b Prov. App Achieve Subject'!$B$2:$Z$2,0)),\"n/a\")","v":0},{"$f":"IFERROR(INDEX('ES19b Prov. App Achieve Subject'!$B14:$Z14,MATCH(E$1101,'ES19b Prov. App Achieve Subject'!$B$2:$Z$2,0)),\"n/a\")","v":2},{"$f":"IFERROR(INDEX('ES19b Prov. App Achieve Subject'!$B14:$Z14,MATCH(F$1101,'ES19b Prov. App Achieve Subject'!$B$2:$Z$2,0)),\"n/a\")","v":167}]
[null,null,"Total",{"$f":"IFERROR(INDEX('ES19b Prov. App Achieve Subject'!$B15:$Z15,MATCH(D$3,'ES19b Prov. App Achieve Subject'!$B$2:$Z$2,0)),\"n/a\")","v":1314},{"$f":"IFERROR(INDEX('ES19b Prov. App Achieve Subject'!$B15:$Z15,MATCH(E$1101,'ES19b Prov. App Achieve Subject'!$B$2:$Z$2,0)),\"n/a\")","v":6299},{"$f":"IFERROR(INDEX('ES19b Prov. App Achieve Subject'!$B15:$Z15,MATCH(F$1101,'ES19b Prov. App Achieve Subject'!$B$2:$Z$2,0)),\"n/a\")","v":169999}]
[]
[null,null,null,{"$f":"D$3","v":"Blackpool, Fylde and Wyre"},"Lancashire ","England Minus London"]
[null,null,"Agriculture, Horticulture and Animal Care",{"$f":"IFERROR(INDEX('ES19b Prov. App Achieve Subject'!$B18:$Z18,MATCH(D$3,'ES19b Prov. App Achieve Subject'!$B$2:$Z$2,0)),\"n/a\")","v":4.7184170471841702E-2},{"$f":"IFERROR(INDEX('ES19b Prov. App Achieve Subject'!$B18:$Z18,MATCH(E$1101,'ES19b Prov. App Achieve Subject'!$B$2:$Z$2,0)),\"n/a\")","v":2.2066994761073187E-2},{"$f":"IFERROR(INDEX('ES19b Prov. App Achieve Subject'!$B18:$Z18,MATCH(F$1101,'ES19b Prov. App Achieve Subject'!$B$2:$Z$2,0)),\"n/a\")","v":2.2506014741263184E-2}]
[null,null,"Arts, Media and Publishing",{"$f":"IFERROR(INDEX('ES19b Prov. App Achieve Subject'!$B19:$Z19,MATCH(D$3,'ES19b Prov. App Achieve Subject'!$B$2:$Z$2,0)),\"n/a\")","v":7.6103500761035003E-4},{"$f":"IFERROR(INDEX('ES19b Prov. App Achieve Subject'!$B19:$Z19,MATCH(E$1101,'ES19b Prov. App Achieve Subject'!$B$2:$Z$2,0)),\"n/a\")","v":1.746308937926655E-3},{"$f":"IFERROR(INDEX('ES19b Prov. App Achieve Subject'!$B19:$Z19,MATCH(F$1101,'ES19b Prov. App Achieve Subject'!$B$2:$Z$2,0)),\"n/a\")","v":2.3353078547520868E-3}]
[null,null,"Business, Administration and Law",{"$f":"IFERROR(INDEX('ES19b Prov. App Achieve Subject'!$B20:$Z20,MATCH(D$3,'ES19b Prov. App Achieve Subject'!$B$2:$Z$2,0)),\"n/a\")","v":0.27168949771689499},{"$f":"IFERROR(INDEX('ES19b Prov. App Achieve Subject'!$B20:$Z20,MATCH(E$1101,'ES19b Prov. App Achieve Subject'!$B$2:$Z$2,0)),\"n/a\")","v":0.24511827274170503},{"$f":"IFERROR(INDEX('ES19b Prov. App Achieve Subject'!$B20:$Z20,MATCH(F$1101,'ES19b Prov. App Achieve Subject'!$B$2:$Z$2,0)),\"n/a\")","v":0.24434849616762452}]
[null,null,"Construction, Planning and the Built Environment",{"$f":"IFERROR(INDEX('ES19b Prov. App Achieve Subject'!$B21:$Z21,MATCH(D$3,'ES19b Prov. App Achieve Subject'!$B$2:$Z$2,0)),\"n/a\")","v":7.6864535768645353E-2},{"$f":"IFERROR(INDEX('ES19b Prov. App Achieve Subject'!$B21:$Z21,MATCH(E$1101,'ES19b Prov. App Achieve Subject'!$B$2:$Z$2,0)),\"n/a\")","v":6.7947293221146218E-2},{"$f":"IFERROR(INDEX('ES19b Prov. App Achieve Subject'!$B21:$Z21,MATCH(F$1101,'ES19b Prov. App Achieve Subject'!$B$2:$Z$2,0)),\"n/a\")","v":6.2053306195918798E-2}]
[null,null,"Education and Training",{"$f":"IFERROR(INDEX('ES19b Prov. App Achieve Subject'!$B22:$Z22,MATCH(D$3,'ES19b Prov. App Achieve Subject'!$B$2:$Z$2,0)),\"n/a\")","v":1.06544901065449E-2},{"$f":"IFERROR(INDEX('ES19b Prov. App Achieve Subject'!$B22:$Z22,MATCH(E$1101,'ES19b Prov. App Achieve Subject'!$B$2:$Z$2,0)),\"n/a\")","v":2.3972059056993174E-2},{"$f":"IFERROR(INDEX('ES19b Prov. App Achieve Subject'!$B22:$Z22,MATCH(F$1101,'ES19b Prov. App Achieve Subject'!$B$2:$Z$2,0)),\"n/a\")","v":2.1929540762004481E-2}]
[null,null,"Engineering and Manufacturing Technologies",{"$f":"IFERROR(INDEX('ES19b Prov. App Achieve Subject'!$B23:$Z23,MATCH(D$3,'ES19b Prov. App Achieve Subject'!$B$2:$Z$2,0)),\"n/a\")","v":0.14611872146118721},{"$f":"IFERROR(INDEX('ES19b Prov. App Achieve Subject'!$B23:$Z23,MATCH(E$1101,'ES19b Prov. App Achieve Subject'!$B$2:$Z$2,0)),\"n/a\")","v":0.19225273852992539},{"$f":"IFERROR(INDEX('ES19b Prov. App Achieve Subject'!$B23:$Z23,MATCH(F$1101,'ES19b Prov. App Achieve Subject'!$B$2:$Z$2,0)),\"n/a\")","v":0.20124824263672139}]
[null,null,"Health, Public Services and Care",{"$f":"IFERROR(INDEX('ES19b Prov. App Achieve Subject'!$B24:$Z24,MATCH(D$3,'ES19b Prov. App Achieve Subject'!$B$2:$Z$2,0)),\"n/a\")","v":0.29452054794520549},{"$f":"IFERROR(INDEX('ES19b Prov. App Achieve Subject'!$B24:$Z24,MATCH(E$1101,'ES19b Prov. App Achieve Subject'!$B$2:$Z$2,0)),\"n/a\")","v":0.2603587871090649},{"$f":"IFERROR(INDEX('ES19b Prov. App Achieve Subject'!$B24:$Z24,MATCH(F$1101,'ES19b Prov. App Achieve Subject'!$B$2:$Z$2,0)),\"n/a\")","v":0.25090147589103468}]
[null,null,"Information and Communication Technology",{"$f":"IFERROR(INDEX('ES19b Prov. App Achieve Subject'!$B25:$Z25,MATCH(D$3,'ES19b Prov. App Achieve Subject'!$B$2:$Z$2,0)),\"n/a\")","v":1.9025875190258751E-2},{"$f":"IFERROR(INDEX('ES19b Prov. App Achieve Subject'!$B25:$Z25,MATCH(E$1101,'ES19b Prov. App Achieve Subject'!$B$2:$Z$2,0)),\"n/a\")","v":3.2544848388633113E-2},{"$f":"IFERROR(INDEX('ES19b Prov. App Achieve Subject'!$B25:$Z25,MATCH(F$1101,'ES19b Prov. App Achieve Subject'!$B$2:$Z$2,0)),\"n/a\")","v":4.263554491497009E-2}]
[null,null,"Leisure, Travel and Tourism",{"$f":"IFERROR(INDEX('ES19b Prov. App Achieve Subject'!$B26:$Z26,MATCH(D$3,'ES19b Prov. App Achieve Subject'!$B$2:$Z$2,0)),\"n/a\")","v":3.6529680365296802E-2},{"$f":"IFERROR(INDEX('ES19b Prov. App Achieve Subject'!$B26:$Z26,MATCH(E$1101,'ES19b Prov. App Achieve Subject'!$B$2:$Z$2,0)),\"n/a\")","v":4.4769010954119705E-2},{"$f":"IFERROR(INDEX('ES19b Prov. App Achieve Subject'!$B26:$Z26,MATCH(F$1101,'ES19b Prov. App Achieve Subject'!$B$2:$Z$2,0)),\"n/a\")","v":3.5164912734780791E-2}]
[null,null,"Retail and Commercial Enterprise",{"$f":"IFERROR(INDEX('ES19b Prov. App Achieve Subject'!$B27:$Z27,MATCH(D$3,'ES19b Prov. App Achieve Subject'!$B$2:$Z$2,0)),\"n/a\")","v":9.6651445966514454E-2},{"$f":"IFERROR(INDEX('ES19b Prov. App Achieve Subject'!$B27:$Z27,MATCH(E$1101,'ES19b Prov. App Achieve Subject'!$B$2:$Z$2,0)),\"n/a\")","v":0.10890617558342594},{"$f":"IFERROR(INDEX('ES19b Prov. App Achieve Subject'!$B27:$Z27,MATCH(F$1101,'ES19b Prov. App Achieve Subject'!$B$2:$Z$2,0)),\"n/a\")","v":0.11589479938117284}]
[null,null,"Science and Mathematics",{"$f":"IFERROR(INDEX('ES19b Prov. App Achieve Subject'!$B28:$Z28,MATCH(D$3,'ES19b Prov. App Achieve Subject'!$B$2:$Z$2,0)),\"n/a\")","v":0},{"$f":"IFERROR(INDEX('ES19b Prov. App Achieve Subject'!$B28:$Z28,MATCH(E$1101,'ES19b Prov. App Achieve Subject'!$B$2:$Z$2,0)),\"n/a\")","v":3.1751071598666456E-4},{"$f":"IFERROR(INDEX('ES19b Prov. App Achieve Subject'!$B28:$Z28,MATCH(F$1101,'ES19b Prov. App Achieve Subject'!$B$2:$Z$2,0)),\"n/a\")","v":9.823587197571751E-4}]
[]
[]
[]
[]
[]
[]
[]
[]
[]
[]
[]
[]
[]
[]
[]
[]
[]
[]
[]
[]
[]
[]
[]
[null,null,"ES20a. Learner Perspective Apprenticeship Achievements by Level, 2018/19"]
[null,null,null,{"$f":"D$3","v":"Blackpool, Fylde and Wyre"},"Lancashire ","England Minus London"]
[null,null,"Intermediate Apprenticeship",{"$f":"IFERROR(INDEX('ES20a. Learn. App Achieve Level'!$B28:$Z28,MATCH(D$3,'ES20a. Learn. App Achieve Level'!$B$2:$Z$2,0)),\"n/a\")","v":560},{"$f":"IFERROR(INDEX('ES20a. Learn. App Achieve Level'!$B28:$Z28,MATCH(E$1151,'ES20a. Learn. App Achieve Level'!$B$2:$Z$2,0)),\"n/a\")","v":2970},{"$f":"IFERROR(INDEX('ES20a. Learn. App Achieve Level'!$B28:$Z28,MATCH(F$1151,'ES20a. Learn. App Achieve Level'!$B$2:$Z$2,0)),\"n/a\")","v":79990}]
[null,null,"Advanced Apprenticeship",{"$f":"IFERROR(INDEX('ES20a. Learn. App Achieve Level'!$B29:$Z29,MATCH(D$3,'ES20a. Learn. App Achieve Level'!$B$2:$Z$2,0)),\"n/a\")","v":660},{"$f":"IFERROR(INDEX('ES20a. Learn. App Achieve Level'!$B29:$Z29,MATCH(E$1151,'ES20a. Learn. App Achieve Level'!$B$2:$Z$2,0)),\"n/a\")","v":2970},{"$f":"IFERROR(INDEX('ES20a. Learn. App Achieve Level'!$B29:$Z29,MATCH(F$1151,'ES20a. Learn. App Achieve Level'!$B$2:$Z$2,0)),\"n/a\")","v":77110}]
[null,null,"Higher Apprenticeship",{"$f":"IFERROR(INDEX('ES20a. Learn. App Achieve Level'!$B30:$Z30,MATCH(D$3,'ES20a. Learn. App Achieve Level'!$B$2:$Z$2,0)),\"n/a\")","v":150},{"$f":"IFERROR(INDEX('ES20a. Learn. App Achieve Level'!$B30:$Z30,MATCH(E$1151,'ES20a. Learn. App Achieve Level'!$B$2:$Z$2,0)),\"n/a\")","v":610},{"$f":"IFERROR(INDEX('ES20a. Learn. App Achieve Level'!$B30:$Z30,MATCH(F$1151,'ES20a. Learn. App Achieve Level'!$B$2:$Z$2,0)),\"n/a\")","v":12470}]
[null,null,"Total",{"$f":"IFERROR(INDEX('ES20a. Learn. App Achieve Level'!$B31:$Z31,MATCH(D$3,'ES20a. Learn. App Achieve Level'!$B$2:$Z$2,0)),\"n/a\")","v":1370},{"$f":"IFERROR(INDEX('ES20a. Learn. App Achieve Level'!$B31:$Z31,MATCH(E$1151,'ES20a. Learn. App Achieve Level'!$B$2:$Z$2,0)),\"n/a\")","v":6550},{"$f":"IFERROR(INDEX('ES20a. Learn. App Achieve Level'!$B31:$Z31,MATCH(F$1151,'ES20a. Learn. App Achieve Level'!$B$2:$Z$2,0)),\"n/a\")","v":169570}]
[]
[null,null,null,{"$f":"D$3","v":"Blackpool, Fylde and Wyre"},"Lancashire ","England Minus London"]
[null,null,"Intermediate Apprenticeship",{"$f":"IFERROR(INDEX('ES20a. Learn. App Achieve Level'!$B34:$Z34,MATCH(D$3,'ES20a. Learn. App Achieve Level'!$B$2:$Z$2,0)),\"n/a\")","v":0.40875912408759124},{"$f":"IFERROR(INDEX('ES20a. Learn. App Achieve Level'!$B34:$Z34,MATCH(E$1151,'ES20a. Learn. App Achieve Level'!$B$2:$Z$2,0)),\"n/a\")","v":0.45343511450381679},{"$f":"IFERROR(INDEX('ES20a. Learn. App Achieve Level'!$B34:$Z34,MATCH(F$1151,'ES20a. Learn. App Achieve Level'!$B$2:$Z$2,0)),\"n/a\")","v":0.47172259243970044}]
[null,null,"Advanced Apprenticeship",{"$f":"IFERROR(INDEX('ES20a. Learn. App Achieve Level'!$B35:$Z35,MATCH(D$3,'ES20a. Learn. App Achieve Level'!$B$2:$Z$2,0)),\"n/a\")","v":0.48175182481751827},{"$f":"IFERROR(INDEX('ES20a. Learn. App Achieve Level'!$B35:$Z35,MATCH(E$1151,'ES20a. Learn. App Achieve Level'!$B$2:$Z$2,0)),\"n/a\")","v":0.45343511450381679},{"$f":"IFERROR(INDEX('ES20a. Learn. App Achieve Level'!$B35:$Z35,MATCH(F$1151,'ES20a. Learn. App Achieve Level'!$B$2:$Z$2,0)),\"n/a\")","v":0.4547384560948281}]
[null,null,"Higher Apprenticeship",{"$f":"IFERROR(INDEX('ES20a. Learn. App Achieve Level'!$B36:$Z36,MATCH(D$3,'ES20a. Learn. App Achieve Level'!$B$2:$Z$2,0)),\"n/a\")","v":0.10948905109489052},{"$f":"IFERROR(INDEX('ES20a. Learn. App Achieve Level'!$B36:$Z36,MATCH(E$1151,'ES20a. Learn. App Achieve Level'!$B$2:$Z$2,0)),\"n/a\")","v":9.3129770992366412E-2},{"$f":"IFERROR(INDEX('ES20a. Learn. App Achieve Level'!$B36:$Z36,MATCH(F$1151,'ES20a. Learn. App Achieve Level'!$B$2:$Z$2,0)),\"n/a\")","v":7.3538951465471486E-2}]
[]
[]
[]
[]
[]
[]
[]
[]
[]
[]
[]
[]
[]
[]
[]
[]
[]
[]
[]
[]
[]
[]
[]
[]
[]
[]
[]
[]
[]
[]
[]
[]
[]
[]
[]
[]
[]
[null,null,"ES20b. Provider Perspective Apprenticeship Achievements by Level, 2018/19"]
[null,null,null,{"$f":"D$3","v":"Blackpool, Fylde and Wyre"},"Lancashire ","England Minus London"]
[null,null,"Intermediate Apprenticeship",{"$f":"IFERROR(INDEX('ES20b. Prov. App Achieve Level'!$B4:$Z4,MATCH(D$3,'ES20b. Prov. App Achieve Level'!$B$2:$Z$2,0)),\"n/a\")","v":540},{"$f":"IFERROR(INDEX('ES20b. Prov. App Achieve Level'!$B4:$Z4,MATCH(E$1199,'ES20b. Prov. App Achieve Level'!$B$2:$Z$2,0)),\"n/a\")","v":2833},{"$f":"IFERROR(INDEX('ES20b. Prov. App Achieve Level'!$B4:$Z4,MATCH(F$1199,'ES20b. Prov. App Achieve Level'!$B$2:$Z$2,0)),\"n/a\")","v":80601}]
[null,null,"Advanced Apprenticeship",{"$f":"IFERROR(INDEX('ES20b. Prov. App Achieve Level'!$B5:$Z5,MATCH(D$3,'ES20b. Prov. App Achieve Level'!$B$2:$Z$2,0)),\"n/a\")","v":582},{"$f":"IFERROR(INDEX('ES20b. Prov. App Achieve Level'!$B5:$Z5,MATCH(E$1199,'ES20b. Prov. App Achieve Level'!$B$2:$Z$2,0)),\"n/a\")","v":2878},{"$f":"IFERROR(INDEX('ES20b. Prov. App Achieve Level'!$B5:$Z5,MATCH(F$1199,'ES20b. Prov. App Achieve Level'!$B$2:$Z$2,0)),\"n/a\")","v":77224}]
[null,null,"Higher Apprenticeship",{"$f":"IFERROR(INDEX('ES20b. Prov. App Achieve Level'!$B6:$Z6,MATCH(D$3,'ES20b. Prov. App Achieve Level'!$B$2:$Z$2,0)),\"n/a\")","v":192},{"$f":"IFERROR(INDEX('ES20b. Prov. App Achieve Level'!$B6:$Z6,MATCH(E$1199,'ES20b. Prov. App Achieve Level'!$B$2:$Z$2,0)),\"n/a\")","v":588},{"$f":"IFERROR(INDEX('ES20b. Prov. App Achieve Level'!$B6:$Z6,MATCH(F$1199,'ES20b. Prov. App Achieve Level'!$B$2:$Z$2,0)),\"n/a\")","v":12174}]
[null,null,"Total",{"$f":"IFERROR(INDEX('ES20b. Prov. App Achieve Level'!$B7:$Z7,MATCH(D$3,'ES20b. Prov. App Achieve Level'!$B$2:$Z$2,0)),\"n/a\")","v":1314},{"$f":"IFERROR(INDEX('ES20b. Prov. App Achieve Level'!$B7:$Z7,MATCH(E$1199,'ES20b. Prov. App Achieve Level'!$B$2:$Z$2,0)),\"n/a\")","v":6299},{"$f":"IFERROR(INDEX('ES20b. Prov. App Achieve Level'!$B7:$Z7,MATCH(F$1199,'ES20b. Prov. App Achieve Level'!$B$2:$Z$2,0)),\"n/a\")","v":169999}]
[]
[null,null,null,{"$f":"D$3","v":"Blackpool, Fylde and Wyre"},"Lancashire ","England Minus London"]
[null,null,"Intermediate Apprenticeship",{"$f":"IFERROR(INDEX('ES20b. Prov. App Achieve Level'!$B10:$Z10,MATCH(D$3,'ES20b. Prov. App Achieve Level'!$B$2:$Z$2,0)),\"n/a\")","v":0.41095890410958902},{"$f":"IFERROR(INDEX('ES20b. Prov. App Achieve Level'!$B10:$Z10,MATCH(E$1199,'ES20b. Prov. App Achieve Level'!$B$2:$Z$2,0)),\"n/a\")","v":0.44975392919511031},{"$f":"IFERROR(INDEX('ES20b. Prov. App Achieve Level'!$B10:$Z10,MATCH(F$1199,'ES20b. Prov. App Achieve Level'!$B$2:$Z$2,0)),\"n/a\")","v":0.47412631839010816}]
[null,null,"Advanced Apprenticeship",{"$f":"IFERROR(INDEX('ES20b. Prov. App Achieve Level'!$B11:$Z11,MATCH(D$3,'ES20b. Prov. App Achieve Level'!$B$2:$Z$2,0)),\"n/a\")","v":0.44292237442922372},{"$f":"IFERROR(INDEX('ES20b. Prov. App Achieve Level'!$B11:$Z11,MATCH(E$1199,'ES20b. Prov. App Achieve Level'!$B$2:$Z$2,0)),\"n/a\")","v":0.4568979203048103},{"$f":"IFERROR(INDEX('ES20b. Prov. App Achieve Level'!$B11:$Z11,MATCH(F$1199,'ES20b. Prov. App Achieve Level'!$B$2:$Z$2,0)),\"n/a\")","v":0.45426149565585677}]
[null,null,"Higher Apprenticeship",{"$f":"IFERROR(INDEX('ES20b. Prov. App Achieve Level'!$B12:$Z12,MATCH(D$3,'ES20b. Prov. App Achieve Level'!$B$2:$Z$2,0)),\"n/a\")","v":0.14611872146118721},{"$f":"IFERROR(INDEX('ES20b. Prov. App Achieve Level'!$B12:$Z12,MATCH(E$1199,'ES20b. Prov. App Achieve Level'!$B$2:$Z$2,0)),\"n/a\")","v":9.3348150500079372E-2},{"$f":"IFERROR(INDEX('ES20b. Prov. App Achieve Level'!$B12:$Z12,MATCH(F$1199,'ES20b. Prov. App Achieve Level'!$B$2:$Z$2,0)),\"n/a\")","v":7.1612185954035026E-2}]
[]
[]
[]
[]
[]
[]
[]
[]
[]
[]
[]
[]
[]
[]
[]
[]
[]
[]
[]
[]
[]
[]
[]
[]
[]
[]
[]
[]
[]
[]
[]
[]
[]
[]
[]
[]
[]
[]
[]
[null,null,"ES21: Travel Time for FE"]
[null,null,"For Travel Time for FE by Local Authority please click link above"]
[]
[]
[]
[]
[]
[]
[]
[]
[]
[]
[]
[]
[]
[]
[]
[]
[]
[]
[]
[]
[]
[]
[]
[]
[]
[]
[]
[]
[]
[]
[]
[]
[]
[]
[]
[]
[]
[]
[]
[]
[]
[]
[]
[]
[]
[]
[]
[]
[]
[]
[null,null,"ES22: Provider Perspective: FE and Skills Funded Learners by Provider Type"]
[null,null,null,{"$f":"D$3","v":"Blackpool, Fylde and Wyre"},"Lancashire ","England Minus London"]
[null,null,"Education and Training",{"$f":"INDEX('ES22. Learners by Prov Type'!$B4:$Z4,MATCH(D$3,'ES22. Learners by Prov Type'!$B$2:$Z$2,0))","v":10080},{"$f":"INDEX('ES22. Learners by Prov Type'!$B4:$Z4,MATCH(E$1301,'ES22. Learners by Prov Type'!$B$2:$Z$2,0))","v":47340},{"$f":"INDEX('ES22. Learners by Prov Type'!$B4:$Z4,MATCH(F$1301,'ES22. Learners by Prov Type'!$B$2:$Z$2,0))","v":1510310}]
[null,null,"Apprenticeships",{"$f":"INDEX('ES22. Learners by Prov Type'!$B5:$Z5,MATCH(D$3,'ES22. Learners by Prov Type'!$B$2:$Z$2,0))","v":3160},{"$f":"INDEX('ES22. Learners by Prov Type'!$B5:$Z5,MATCH(E$1301,'ES22. Learners by Prov Type'!$B$2:$Z$2,0))","v":19690},{"$f":"INDEX('ES22. Learners by Prov Type'!$B5:$Z5,MATCH(F$1301,'ES22. Learners by Prov Type'!$B$2:$Z$2,0))","v":627750}]
[null,null,"Community Learning",{"$f":"INDEX('ES22. Learners by Prov Type'!$B6:$Z6,MATCH(D$3,'ES22. Learners by Prov Type'!$B$2:$Z$2,0))","v":2060},{"$f":"INDEX('ES22. Learners by Prov Type'!$B6:$Z6,MATCH(E$1301,'ES22. Learners by Prov Type'!$B$2:$Z$2,0))","v":18670},{"$f":"INDEX('ES22. Learners by Prov Type'!$B6:$Z6,MATCH(F$1301,'ES22. Learners by Prov Type'!$B$2:$Z$2,0))","v":344520}]
[null,null,"FE and Skills",{"$f":"INDEX('ES22. Learners by Prov Type'!$B7:$Z7,MATCH(D$3,'ES22. Learners by Prov Type'!$B$2:$Z$2,0))","v":14880},{"$f":"INDEX('ES22. Learners by Prov Type'!$B7:$Z7,MATCH(E$1301,'ES22. Learners by Prov Type'!$B$2:$Z$2,0))","v":82240},{"$f":"INDEX('ES22. Learners by Prov Type'!$B7:$Z7,MATCH(F$1301,'ES22. Learners by Prov Type'!$B$2:$Z$2,0))","v":2404560}]
[]
[]
[]
[]
[]
[]
[]
[]
[]
[]
[]
[]
[]
[]
[]
[]
[]
[]
[]
[]
[]
[]
[]
[]
[]
[]
[]
[]
[]
[]
[]
[]
[]
[]
[]
[]
[]
[]
[]
[]
[]
[]
[]
[]
[null,null,"ES23: Provider Perspective: FE and Skills Funded Provision by Learner Characteristic"]
[null,null,"By Age",{"$f":"D$3","v":"Blackpool, Fylde and Wyre"},"Lancashire ","England Minus London"]
[null,null,"Under 19",{"$f":"IFERROR(INDEX('ES23 FE Learner Characteristic '!$B4:$Z4,MATCH(D$3,'ES23 FE Learner Characteristic '!$B$2:$Z$2,0)),\"n/a\")","v":6357.54},{"$f":"IFERROR(INDEX('ES23 FE Learner Characteristic '!$B4:$Z4,MATCH(E$1351,'ES23 FE Learner Characteristic '!$B$2:$Z$2,0)),\"n/a\")","v":31753.810000000005},{"$f":"IFERROR(INDEX('ES23 FE Learner Characteristic '!$B4:$Z4,MATCH(F$1351,'ES23 FE Learner Characteristic '!$B$2:$Z$2,0)),\"n/a\")","v":756107.79999999993}]
[null,null,"19-24",{"$f":"IFERROR(INDEX('ES23 FE Learner Characteristic '!$B5:$Z5,MATCH(D$3,'ES23 FE Learner Characteristic '!$B$2:$Z$2,0)),\"n/a\")","v":2336.9300000000003},{"$f":"IFERROR(INDEX('ES23 FE Learner Characteristic '!$B5:$Z5,MATCH(E$1351,'ES23 FE Learner Characteristic '!$B$2:$Z$2,0)),\"n/a\")","v":11830.549999999997},{"$f":"IFERROR(INDEX('ES23 FE Learner Characteristic '!$B5:$Z5,MATCH(F$1351,'ES23 FE Learner Characteristic '!$B$2:$Z$2,0)),\"n/a\")","v":412348.89}]
[null,null,"25+",{"$f":"IFERROR(INDEX('ES23 FE Learner Characteristic '!$B6:$Z6,MATCH(D$3,'ES23 FE Learner Characteristic '!$B$2:$Z$2,0)),\"n/a\")","v":6182.35},{"$f":"IFERROR(INDEX('ES23 FE Learner Characteristic '!$B6:$Z6,MATCH(E$1351,'ES23 FE Learner Characteristic '!$B$2:$Z$2,0)),\"n/a\")","v":38640.720000000001},{"$f":"IFERROR(INDEX('ES23 FE Learner Characteristic '!$B6:$Z6,MATCH(F$1351,'ES23 FE Learner Characteristic '!$B$2:$Z$2,0)),\"n/a\")","v":1236241.2300000002}]
[]
[null,null,"By Age",{"$f":"D$3","v":"Blackpool, Fylde and Wyre"},"Lancashire ","England Minus London"]
[null,null,"Under 19",{"$f":"IFERROR(INDEX('ES23 FE Learner Characteristic '!$B9:$Z9,MATCH(D$3,'ES23 FE Learner Characteristic '!$B$2:$Z$2,0)),\"n/a\")","v":0.42734536009711749},{"$f":"IFERROR(INDEX('ES23 FE Learner Characteristic '!$B9:$Z9,MATCH(E$1351,'ES23 FE Learner Characteristic '!$B$2:$Z$2,0)),\"n/a\")","v":0.3861815640678003},{"$f":"IFERROR(INDEX('ES23 FE Learner Characteristic '!$B9:$Z9,MATCH(F$1351,'ES23 FE Learner Characteristic '!$B$2:$Z$2,0)),\"n/a\")","v":0.31442943153541714}]
[null,null,"19-24",{"$f":"IFERROR(INDEX('ES23 FE Learner Characteristic '!$B10:$Z10,MATCH(D$3,'ES23 FE Learner Characteristic '!$B$2:$Z$2,0)),\"n/a\")","v":0.15708531796445746},{"$f":"IFERROR(INDEX('ES23 FE Learner Characteristic '!$B10:$Z10,MATCH(E$1351,'ES23 FE Learner Characteristic '!$B$2:$Z$2,0)),\"n/a\")","v":0.1438800667630849},{"$f":"IFERROR(INDEX('ES23 FE Learner Characteristic '!$B10:$Z10,MATCH(F$1351,'ES23 FE Learner Characteristic '!$B$2:$Z$2,0)),\"n/a\")","v":0.17147637820554193}]
[null,null,"25+",{"$f":"IFERROR(INDEX('ES23 FE Learner Characteristic '!$B11:$Z11,MATCH(D$3,'ES23 FE Learner Characteristic '!$B$2:$Z$2,0)),\"n/a\")","v":0.415569321938425},{"$f":"IFERROR(INDEX('ES23 FE Learner Characteristic '!$B11:$Z11,MATCH(E$1351,'ES23 FE Learner Characteristic '!$B$2:$Z$2,0)),\"n/a\")","v":0.46993836916911486},{"$f":"IFERROR(INDEX('ES23 FE Learner Characteristic '!$B11:$Z11,MATCH(F$1351,'ES23 FE Learner Characteristic '!$B$2:$Z$2,0)),\"n/a\")","v":0.51409419025904102}]
[]
[]
[]
[]
[null,null,"By Gender",{"$f":"D$3","v":"Blackpool, Fylde and Wyre"},"Lancashire ","England Minus London"]
[null,null,"Female ",{"$f":"IFERROR(INDEX('ES23 FE Learner Characteristic '!$B15:$Z15,MATCH(D$3,'ES23 FE Learner Characteristic '!$B$2:$Z$2,0)),\"n/a\")","v":7631.04},{"$f":"IFERROR(INDEX('ES23 FE Learner Characteristic '!$B15:$Z15,MATCH(E$1364,'ES23 FE Learner Characteristic '!$B$2:$Z$2,0)),\"n/a\")","v":44064.639999999999},{"$f":"IFERROR(INDEX('ES23 FE Learner Characteristic '!$B15:$Z15,MATCH(F$1364,'ES23 FE Learner Characteristic '!$B$2:$Z$2,0)),\"n/a\")","v":1314031.1100000003}]
[null,null,"Male",{"$f":"IFERROR(INDEX('ES23 FE Learner Characteristic '!$B16:$Z16,MATCH(D$3,'ES23 FE Learner Characteristic '!$B$2:$Z$2,0)),\"n/a\")","v":7248.96},{"$f":"IFERROR(INDEX('ES23 FE Learner Characteristic '!$B16:$Z16,MATCH(E$1364,'ES23 FE Learner Characteristic '!$B$2:$Z$2,0)),\"n/a\")","v":38175.360000000008},{"$f":"IFERROR(INDEX('ES23 FE Learner Characteristic '!$B16:$Z16,MATCH(F$1364,'ES23 FE Learner Characteristic '!$B$2:$Z$2,0)),\"n/a\")","v":1090528.8499999999}]
[]
[null,null,"By Gender ",{"$f":"D$3","v":"Blackpool, Fylde and Wyre"},"Lancashire ","England Minus London"]
[null,null,"Female ",{"$f":"IFERROR(INDEX('ES23 FE Learner Characteristic '!$B19:$Z19,MATCH(D$3,'ES23 FE Learner Characteristic '!$B$2:$Z$2,0)),\"n/a\")","v":0.51294833169991971},{"$f":"IFERROR(INDEX('ES23 FE Learner Characteristic '!$B19:$Z19,MATCH(E$1364,'ES23 FE Learner Characteristic '!$B$2:$Z$2,0)),\"n/a\")","v":0.53590267105851397},{"$f":"IFERROR(INDEX('ES23 FE Learner Characteristic '!$B19:$Z19,MATCH(F$1364,'ES23 FE Learner Characteristic '!$B$2:$Z$2,0)),\"n/a\")","v":0.54644331791994916}]
[null,null,"Male",{"$f":"IFERROR(INDEX('ES23 FE Learner Characteristic '!$B20:$Z20,MATCH(D$3,'ES23 FE Learner Characteristic '!$B$2:$Z$2,0)),\"n/a\")","v":0.48726542365908837},{"$f":"IFERROR(INDEX('ES23 FE Learner Characteristic '!$B20:$Z20,MATCH(E$1364,'ES23 FE Learner Characteristic '!$B$2:$Z$2,0)),\"n/a\")","v":0.46427878209422241},{"$f":"IFERROR(INDEX('ES23 FE Learner Characteristic '!$B20:$Z20,MATCH(F$1364,'ES23 FE Learner Characteristic '!$B$2:$Z$2,0)),\"n/a\")","v":0.45349931104859936}]
[]
[]
[]
[]
[]
[null,null,"By Ethnicity",{"$f":"D$3","v":"Blackpool, Fylde and Wyre"},"Lancashire ","England Minus London"]
[null,null,"Black, Asian or Minority ",{"$f":"IFERROR(INDEX('ES23 FE Learner Characteristic '!$B24:$Z24,MATCH(D$3,'ES23 FE Learner Characteristic '!$B$2:$Z$2,0)),\"n/a\")","v":623.81000000000006},{"$f":"IFERROR(INDEX('ES23 FE Learner Characteristic '!$B24:$Z24,MATCH(E$1376,'ES23 FE Learner Characteristic '!$B$2:$Z$2,0)),\"n/a\")","v":14474.04},{"$f":"IFERROR(INDEX('ES23 FE Learner Characteristic '!$B24:$Z24,MATCH(F$1376,'ES23 FE Learner Characteristic '!$B$2:$Z$2,0)),\"n/a\")","v":441459.63999999996}]
[null,null,"White",{"$f":"IFERROR(INDEX('ES23 FE Learner Characteristic '!$B25:$Z25,MATCH(D$3,'ES23 FE Learner Characteristic '!$B$2:$Z$2,0)),\"n/a\")","v":14256.189999999999},{"$f":"IFERROR(INDEX('ES23 FE Learner Characteristic '!$B25:$Z25,MATCH(E$1376,'ES23 FE Learner Characteristic '!$B$2:$Z$2,0)),\"n/a\")","v":67765.959999999992},{"$f":"IFERROR(INDEX('ES23 FE Learner Characteristic '!$B25:$Z25,MATCH(F$1376,'ES23 FE Learner Characteristic '!$B$2:$Z$2,0)),\"n/a\")","v":1963300.3399999999}]
[]
[null,null,"By Ethnicity",{"$f":"D$3","v":"Blackpool, Fylde and Wyre"},"Lancashire ","England Minus London"]
[null,null,"Black, Asian or Minority ",{"$f":"IFERROR(INDEX('ES23 FE Learner Characteristic '!$B28:$Z28,MATCH(D$3,'ES23 FE Learner Characteristic '!$B$2:$Z$2,0)),\"n/a\")","v":4.1931676258770353E-2},{"$f":"IFERROR(INDEX('ES23 FE Learner Characteristic '!$B28:$Z28,MATCH(E$1376,'ES23 FE Learner Characteristic '!$B$2:$Z$2,0)),\"n/a\")","v":0.1760295034069897},{"$f":"IFERROR(INDEX('ES23 FE Learner Characteristic '!$B28:$Z28,MATCH(F$1376,'ES23 FE Learner Characteristic '!$B$2:$Z$2,0)),\"n/a\")","v":0.18358216070648906}]
[null,null,"White",{"$f":"IFERROR(INDEX('ES23 FE Learner Characteristic '!$B29:$Z29,MATCH(D$3,'ES23 FE Learner Characteristic '!$B$2:$Z$2,0)),\"n/a\")","v":0.95828207910023766},{"$f":"IFERROR(INDEX('ES23 FE Learner Characteristic '!$B29:$Z29,MATCH(E$1376,'ES23 FE Learner Characteristic '!$B$2:$Z$2,0)),\"n/a\")","v":0.82415194974574657},{"$f":"IFERROR(INDEX('ES23 FE Learner Characteristic '!$B29:$Z29,MATCH(F$1376,'ES23 FE Learner Characteristic '!$B$2:$Z$2,0)),\"n/a\")","v":0.81644364710890582}]
[]
[]
[]
[]
[]
[null,null,"By Level",{"$f":"D$3","v":"Blackpool, Fylde and Wyre"},"Lancashire ","England Minus London"]
[null,null,"Below Level 2 (excluding English and Maths)",{"$f":"IFERROR(INDEX('ES23 FE Learner Characteristic '!$B33:$Z33,MATCH(D$3,'ES23 FE Learner Characteristic '!$B$2:$Z$2,0)),\"n/a\")","v":2550},{"$f":"IFERROR(INDEX('ES23 FE Learner Characteristic '!$B33:$Z33,MATCH(E$1388,'ES23 FE Learner Characteristic '!$B$2:$Z$2,0)),\"n/a\")","v":16470},{"$f":"IFERROR(INDEX('ES23 FE Learner Characteristic '!$B33:$Z33,MATCH(F$1388,'ES23 FE Learner Characteristic '!$B$2:$Z$2,0)),\"n/a\")","v":487820}]
[null,null,"English and Maths",{"$f":"IFERROR(INDEX('ES23 FE Learner Characteristic '!$B34:$Z34,MATCH(D$3,'ES23 FE Learner Characteristic '!$B$2:$Z$2,0)),\"n/a\")","v":5230},{"$f":"IFERROR(INDEX('ES23 FE Learner Characteristic '!$B34:$Z34,MATCH(E$1388,'ES23 FE Learner Characteristic '!$B$2:$Z$2,0)),\"n/a\")","v":22790},{"$f":"IFERROR(INDEX('ES23 FE Learner Characteristic '!$B34:$Z34,MATCH(F$1388,'ES23 FE Learner Characteristic '!$B$2:$Z$2,0)),\"n/a\")","v":776450}]
[null,null,"Level 2",{"$f":"IFERROR(INDEX('ES23 FE Learner Characteristic '!$B35:$Z35,MATCH(D$3,'ES23 FE Learner Characteristic '!$B$2:$Z$2,0)),\"n/a\")","v":6760},{"$f":"IFERROR(INDEX('ES23 FE Learner Characteristic '!$B35:$Z35,MATCH(E$1388,'ES23 FE Learner Characteristic '!$B$2:$Z$2,0)),\"n/a\")","v":26110},{"$f":"IFERROR(INDEX('ES23 FE Learner Characteristic '!$B35:$Z35,MATCH(F$1388,'ES23 FE Learner Characteristic '!$B$2:$Z$2,0)),\"n/a\")","v":960360}]
[null,null,"Full level 2",{"$f":"IFERROR(INDEX('ES23 FE Learner Characteristic '!$B36:$Z36,MATCH(D$3,'ES23 FE Learner Characteristic '!$B$2:$Z$2,0)),\"n/a\")","v":1910},{"$f":"IFERROR(INDEX('ES23 FE Learner Characteristic '!$B36:$Z36,MATCH(E$1388,'ES23 FE Learner Characteristic '!$B$2:$Z$2,0)),\"n/a\")","v":8910},{"$f":"IFERROR(INDEX('ES23 FE Learner Characteristic '!$B36:$Z36,MATCH(F$1388,'ES23 FE Learner Characteristic '!$B$2:$Z$2,0)),\"n/a\")","v":316840}]
[null,null,"Level 3",{"$f":"IFERROR(INDEX('ES23 FE Learner Characteristic '!$B37:$Z37,MATCH(D$3,'ES23 FE Learner Characteristic '!$B$2:$Z$2,0)),\"n/a\")","v":6450},{"$f":"IFERROR(INDEX('ES23 FE Learner Characteristic '!$B37:$Z37,MATCH(E$1388,'ES23 FE Learner Characteristic '!$B$2:$Z$2,0)),\"n/a\")","v":30980},{"$f":"IFERROR(INDEX('ES23 FE Learner Characteristic '!$B37:$Z37,MATCH(F$1388,'ES23 FE Learner Characteristic '!$B$2:$Z$2,0)),\"n/a\")","v":779770}]
[null,null,"Full level 3",{"$f":"IFERROR(INDEX('ES23 FE Learner Characteristic '!$B38:$Z38,MATCH(D$3,'ES23 FE Learner Characteristic '!$B$2:$Z$2,0)),\"n/a\")","v":5280},{"$f":"IFERROR(INDEX('ES23 FE Learner Characteristic '!$B38:$Z38,MATCH(E$1388,'ES23 FE Learner Characteristic '!$B$2:$Z$2,0)),\"n/a\")","v":26490},{"$f":"IFERROR(INDEX('ES23 FE Learner Characteristic '!$B38:$Z38,MATCH(F$1388,'ES23 FE Learner Characteristic '!$B$2:$Z$2,0)),\"n/a\")","v":666110}]
[null,null,"Level 4 and above",{"$f":"IFERROR(INDEX('ES23 FE Learner Characteristic '!$B39:$Z39,MATCH(D$3,'ES23 FE Learner Characteristic '!$B$2:$Z$2,0)),\"n/a\")","v":510},{"$f":"IFERROR(INDEX('ES23 FE Learner Characteristic '!$B39:$Z39,MATCH(E$1388,'ES23 FE Learner Characteristic '!$B$2:$Z$2,0)),\"n/a\")","v":3590},{"$f":"IFERROR(INDEX('ES23 FE Learner Characteristic '!$B39:$Z39,MATCH(F$1388,'ES23 FE Learner Characteristic '!$B$2:$Z$2,0)),\"n/a\")","v":116350}]
[]
[null,null,"By Level",{"$f":"D$3","v":"Blackpool, Fylde and Wyre"},"Lancashire ","England Minus London"]
[null,null,"Below Level 2 (excluding English and Maths)",{"$f":"IFERROR(INDEX('ES23 FE Learner Characteristic '!$B42:$Z42,MATCH(D$3,'ES23 FE Learner Characteristic '!$B$2:$Z$2,0)),\"n/a\")","v":8.8881143255489722E-2},{"$f":"IFERROR(INDEX('ES23 FE Learner Characteristic '!$B42:$Z42,MATCH(E$1388,'ES23 FE Learner Characteristic '!$B$2:$Z$2,0)),\"n/a\")","v":0.12169351263484557},{"$f":"IFERROR(INDEX('ES23 FE Learner Characteristic '!$B42:$Z42,MATCH(F$1388,'ES23 FE Learner Characteristic '!$B$2:$Z$2,0)),\"n/a\")","v":0.11887321197943319}]
[null,null,"English and Maths",{"$f":"IFERROR(INDEX('ES23 FE Learner Characteristic '!$B43:$Z43,MATCH(D$3,'ES23 FE Learner Characteristic '!$B$2:$Z$2,0)),\"n/a\")","v":0.18229348204949461},{"$f":"IFERROR(INDEX('ES23 FE Learner Characteristic '!$B43:$Z43,MATCH(E$1388,'ES23 FE Learner Characteristic '!$B$2:$Z$2,0)),\"n/a\")","v":0.16839071966898184},{"$f":"IFERROR(INDEX('ES23 FE Learner Characteristic '!$B43:$Z43,MATCH(F$1388,'ES23 FE Learner Characteristic '!$B$2:$Z$2,0)),\"n/a\")","v":0.18920730072861078}]
[null,null,"Level 2",{"$f":"IFERROR(INDEX('ES23 FE Learner Characteristic '!$B44:$Z44,MATCH(D$3,'ES23 FE Learner Characteristic '!$B$2:$Z$2,0)),\"n/a\")","v":0.23562216800278843},{"$f":"IFERROR(INDEX('ES23 FE Learner Characteristic '!$B44:$Z44,MATCH(E$1388,'ES23 FE Learner Characteristic '!$B$2:$Z$2,0)),\"n/a\")","v":0.19292153095906606},{"$f":"IFERROR(INDEX('ES23 FE Learner Characteristic '!$B44:$Z44,MATCH(F$1388,'ES23 FE Learner Characteristic '!$B$2:$Z$2,0)),\"n/a\")","v":0.23402295489436362}]
[null,null,"Full level 2",{"$f":"IFERROR(INDEX('ES23 FE Learner Characteristic '!$B45:$Z45,MATCH(D$3,'ES23 FE Learner Characteristic '!$B$2:$Z$2,0)),\"n/a\")","v":6.6573719065876613E-2},{"$f":"IFERROR(INDEX('ES23 FE Learner Characteristic '!$B45:$Z45,MATCH(E$1388,'ES23 FE Learner Characteristic '!$B$2:$Z$2,0)),\"n/a\")","v":6.5834195359834494E-2},{"$f":"IFERROR(INDEX('ES23 FE Learner Characteristic '!$B45:$Z45,MATCH(F$1388,'ES23 FE Learner Characteristic '!$B$2:$Z$2,0)),\"n/a\")","v":7.7208372931744526E-2}]
[null,null,"Level 3",{"$f":"IFERROR(INDEX('ES23 FE Learner Characteristic '!$B46:$Z46,MATCH(D$3,'ES23 FE Learner Characteristic '!$B$2:$Z$2,0)),\"n/a\")","v":0.22481700941094457},{"$f":"IFERROR(INDEX('ES23 FE Learner Characteristic '!$B46:$Z46,MATCH(E$1388,'ES23 FE Learner Characteristic '!$B$2:$Z$2,0)),\"n/a\")","v":0.22890498005024382},{"$f":"IFERROR(INDEX('ES23 FE Learner Characteristic '!$B46:$Z46,MATCH(F$1388,'ES23 FE Learner Characteristic '!$B$2:$Z$2,0)),\"n/a\")","v":0.19001632672953675}]
[null,null,"Full level 3",{"$f":"IFERROR(INDEX('ES23 FE Learner Characteristic '!$B47:$Z47,MATCH(D$3,'ES23 FE Learner Characteristic '!$B$2:$Z$2,0)),\"n/a\")","v":0.18403624956430811},{"$f":"IFERROR(INDEX('ES23 FE Learner Characteristic '!$B47:$Z47,MATCH(E$1388,'ES23 FE Learner Characteristic '!$B$2:$Z$2,0)),\"n/a\")","v":0.19572927441997931},{"$f":"IFERROR(INDEX('ES23 FE Learner Characteristic '!$B47:$Z47,MATCH(F$1388,'ES23 FE Learner Characteristic '!$B$2:$Z$2,0)),\"n/a\")","v":0.16231937032434146}]
[null,null,"Level 4 and above",{"$f":"IFERROR(INDEX('ES23 FE Learner Characteristic '!$B48:$Z48,MATCH(D$3,'ES23 FE Learner Characteristic '!$B$2:$Z$2,0)),\"n/a\")","v":1.7776228651097944E-2},{"$f":"IFERROR(INDEX('ES23 FE Learner Characteristic '!$B48:$Z48,MATCH(E$1388,'ES23 FE Learner Characteristic '!$B$2:$Z$2,0)),\"n/a\")","v":2.6525786907048914E-2},{"$f":"IFERROR(INDEX('ES23 FE Learner Characteristic '!$B48:$Z48,MATCH(F$1388,'ES23 FE Learner Characteristic '!$B$2:$Z$2,0)),\"n/a\")","v":2.8352462411969686E-2}]
[]
[]
[]
[]
[]
[]
[]
[]
[]
[]
[]
[]
[]
[]
[]
[]
[]
[]
[]
[]
[]
[]
[]
[]
[]
[]
[]
[]
[]
[]
[]
[]
[]
[]
[]
[]
[]
[]
[]
[]
[]
[]
[]
[]
[]
[null,null,"ES24: Ofsted Provider Rating"]
[null,null,"For Ofsted Ratings please click link above"]
[]
[]
[]
[]
[]
[]
[]
[]
[]
[]
[]
[]
[]
[]
[]
[]
[]
[]
[]
[]
[]
[]
[]
[]
[]
[]
[]
[]
[]
[]
[]
[]
[]
[]
[]
[]
[]
[]
[]
[]
[]
[]
[]
[]
[]
[]
[]
[]
[null,null,"ES25a: Learner Perspective: Number of FE Learners (Participation and Achievements)"]
[null,null,"Particpation ",{"$f":"D3","v":"Blackpool, Fylde and Wyre"},"Lancashire ","England Minus London"]
[null,null,"2014/15",{"$f":"INDEX('ES25a FE Part. & Achieve'!$B4:$Z4,MATCH(D$1501,'ES25a FE Part. & Achieve'!$B$2:$Z$2,0))","v":27910},{"$f":"INDEX('ES25a FE Part. & Achieve'!$B4:$Z4,MATCH(E$1501,'ES25a FE Part. & Achieve'!$B$2:$Z$2,0))","v":121950},{"$f":"INDEX('ES25a FE Part. & Achieve'!$B4:$Z4,MATCH(F$1501,'ES25a FE Part. & Achieve'!$B$2:$Z$2,0))","v":3050310}]
[null,null,"2015/16",{"$f":"INDEX('ES25a FE Part. & Achieve'!$B5:$Z5,MATCH(D$1501,'ES25a FE Part. & Achieve'!$B$2:$Z$2,0))","v":24510},{"$f":"INDEX('ES25a FE Part. & Achieve'!$B5:$Z5,MATCH(E$1501,'ES25a FE Part. & Achieve'!$B$2:$Z$2,0))","v":108890},{"$f":"INDEX('ES25a FE Part. & Achieve'!$B5:$Z5,MATCH(F$1501,'ES25a FE Part. & Achieve'!$B$2:$Z$2,0))","v":2803170}]
[null,null,"2016/17",{"$f":"INDEX('ES25a FE Part. & Achieve'!$B6:$Z6,MATCH(D$1501,'ES25a FE Part. & Achieve'!$B$2:$Z$2,0))","v":23660},{"$f":"INDEX('ES25a FE Part. & Achieve'!$B6:$Z6,MATCH(E$1501,'ES25a FE Part. & Achieve'!$B$2:$Z$2,0))","v":107130},{"$f":"INDEX('ES25a FE Part. & Achieve'!$B6:$Z6,MATCH(F$1501,'ES25a FE Part. & Achieve'!$B$2:$Z$2,0))","v":2694890}]
[null,null,"2017/18",{"$f":"INDEX('ES25a FE Part. & Achieve'!$B7:$Z7,MATCH(D$1501,'ES25a FE Part. & Achieve'!$B$2:$Z$2,0))","v":23200},{"$f":"INDEX('ES25a FE Part. & Achieve'!$B7:$Z7,MATCH(E$1501,'ES25a FE Part. & Achieve'!$B$2:$Z$2,0))","v":106680},{"$f":"INDEX('ES25a FE Part. & Achieve'!$B7:$Z7,MATCH(F$1501,'ES25a FE Part. & Achieve'!$B$2:$Z$2,0))","v":2605170}]
[null,null,"2018/19",{"$f":"INDEX('ES25a FE Part. & Achieve'!$B8:$Z8,MATCH(D$1501,'ES25a FE Part. & Achieve'!$B$2:$Z$2,0))","v":20680},{"$f":"INDEX('ES25a FE Part. & Achieve'!$B8:$Z8,MATCH(E$1501,'ES25a FE Part. & Achieve'!$B$2:$Z$2,0))","v":100060},{"$f":"INDEX('ES25a FE Part. & Achieve'!$B8:$Z8,MATCH(F$1501,'ES25a FE Part. & Achieve'!$B$2:$Z$2,0))","v":2485890}]
[]
[]
[null,null,"Achievements",{"$f":"D3","v":"Blackpool, Fylde and Wyre"},"Lancashire ","England Minus London"]
[null,null,"2014/15",{"$f":"INDEX('ES25a FE Part. & Achieve'!$B12:$Z12,MATCH(D$1501,'ES25a FE Part. & Achieve'!$B$2:$Z$2,0))","v":22170},{"$f":"INDEX('ES25a FE Part. & Achieve'!$B12:$Z12,MATCH(E$1501,'ES25a FE Part. & Achieve'!$B$2:$Z$2,0))","v":96590},{"$f":"INDEX('ES25a FE Part. & Achieve'!$B12:$Z12,MATCH(F$1501,'ES25a FE Part. & Achieve'!$B$2:$Z$2,0))","v":2321870}]
[null,null,"2015/16",{"$f":"INDEX('ES25a FE Part. & Achieve'!$B13:$Z13,MATCH(D$1501,'ES25a FE Part. & Achieve'!$B$2:$Z$2,0))","v":18800},{"$f":"INDEX('ES25a FE Part. & Achieve'!$B13:$Z13,MATCH(E$1501,'ES25a FE Part. & Achieve'!$B$2:$Z$2,0))","v":82690},{"$f":"INDEX('ES25a FE Part. & Achieve'!$B13:$Z13,MATCH(F$1501,'ES25a FE Part. & Achieve'!$B$2:$Z$2,0))","v":2063310}]
[null,null,"2016/17",{"$f":"INDEX('ES25a FE Part. & Achieve'!$B14:$Z14,MATCH(D$1501,'ES25a FE Part. & Achieve'!$B$2:$Z$2,0))","v":17780},{"$f":"INDEX('ES25a FE Part. & Achieve'!$B14:$Z14,MATCH(E$1501,'ES25a FE Part. & Achieve'!$B$2:$Z$2,0))","v":79420},{"$f":"INDEX('ES25a FE Part. & Achieve'!$B14:$Z14,MATCH(F$1501,'ES25a FE Part. & Achieve'!$B$2:$Z$2,0))","v":1932280}]
[null,null,"2017/18",{"$f":"INDEX('ES25a FE Part. & Achieve'!$B15:$Z15,MATCH(D$1501,'ES25a FE Part. & Achieve'!$B$2:$Z$2,0))","v":17210},{"$f":"INDEX('ES25a FE Part. & Achieve'!$B15:$Z15,MATCH(E$1501,'ES25a FE Part. & Achieve'!$B$2:$Z$2,0))","v":79860},{"$f":"INDEX('ES25a FE Part. & Achieve'!$B15:$Z15,MATCH(F$1501,'ES25a FE Part. & Achieve'!$B$2:$Z$2,0))","v":1877960}]
[null,null,"2018/19",{"$f":"INDEX('ES25a FE Part. & Achieve'!$B16:$Z16,MATCH(D$1501,'ES25a FE Part. & Achieve'!$B$2:$Z$2,0))","v":14950},{"$f":"INDEX('ES25a FE Part. & Achieve'!$B16:$Z16,MATCH(E$1501,'ES25a FE Part. & Achieve'!$B$2:$Z$2,0))","v":74030},{"$f":"INDEX('ES25a FE Part. & Achieve'!$B16:$Z16,MATCH(F$1501,'ES25a FE Part. & Achieve'!$B$2:$Z$2,0))","v":1771790}]
[]
[]
[]
[]
[]
[]
[]
[]
[]
[]
[]
[]
[]
[]
[]
[]
[]
[]
[]
[]
[]
[]
[]
[]
[]
[]
[]
[]
[]
[]
[]
[]
[]
[]
[]
[null,null,"ES25b: Learner Perspective: FE and Skills Particpation by Characteristics 2018/19"]
[null,null,"By Age",{"$f":"D$3","v":"Blackpool, Fylde and Wyre"},"Lancashire ","England Minus London"]
[null,null,"16-18",{"$f":"IFERROR(INDEX('ES25b FE Part by Characteristic'!$B4:$Z4,MATCH(D$3,'ES25b FE Part by Characteristic'!$B$2:$Z$2,0)),\"n/a\")","v":6820},{"$f":"IFERROR(INDEX('ES25b FE Part by Characteristic'!$B4:$Z4,MATCH(E$1551,'ES25b FE Part by Characteristic'!$B$2:$Z$2,0)),\"n/a\")","v":31640},{"$f":"IFERROR(INDEX('ES25b FE Part by Characteristic'!$B4:$Z4,MATCH(F$1551,'ES25b FE Part by Characteristic'!$B$2:$Z$2,0)),\"n/a\")","v":758330}]
[null,null,"Adult (19+)",{"$f":"IFERROR(INDEX('ES25b FE Part by Characteristic'!$B5:$Z5,MATCH(D$3,'ES25b FE Part by Characteristic'!$B$2:$Z$2,0)),\"n/a\")","v":13860},{"$f":"IFERROR(INDEX('ES25b FE Part by Characteristic'!$B5:$Z5,MATCH(E$1551,'ES25b FE Part by Characteristic'!$B$2:$Z$2,0)),\"n/a\")","v":68420},{"$f":"IFERROR(INDEX('ES25b FE Part by Characteristic'!$B5:$Z5,MATCH(F$1551,'ES25b FE Part by Characteristic'!$B$2:$Z$2,0)),\"n/a\")","v":1713250}]
[]
[null,null,"By Age",{"$f":"D$3","v":"Blackpool, Fylde and Wyre"},"Lancashire ","England Minus London"]
[null,null,"16-18",{"$f":"IFERROR(INDEX('ES25b FE Part by Characteristic'!$B8:$Z8,MATCH(D$3,'ES25b FE Part by Characteristic'!$B$2:$Z$2,0)),\"n/a\")","v":0.32978723404255317},{"$f":"IFERROR(INDEX('ES25b FE Part by Characteristic'!$B8:$Z8,MATCH(E$1551,'ES25b FE Part by Characteristic'!$B$2:$Z$2,0)),\"n/a\")","v":0.32},{"$f":"IFERROR(INDEX('ES25b FE Part by Characteristic'!$B8:$Z8,MATCH(F$1551,'ES25b FE Part by Characteristic'!$B$2:$Z$2,0)),\"n/a\")","v":0.30682117034921125}]
[null,null,"Adult (19+)",{"$f":"IFERROR(INDEX('ES25b FE Part by Characteristic'!$B9:$Z9,MATCH(D$3,'ES25b FE Part by Characteristic'!$B$2:$Z$2,0)),\"n/a\")","v":0.67021276595744683},{"$f":"IFERROR(INDEX('ES25b FE Part by Characteristic'!$B9:$Z9,MATCH(E$1551,'ES25b FE Part by Characteristic'!$B$2:$Z$2,0)),\"n/a\")","v":0.68},{"$f":"IFERROR(INDEX('ES25b FE Part by Characteristic'!$B9:$Z9,MATCH(F$1551,'ES25b FE Part by Characteristic'!$B$2:$Z$2,0)),\"n/a\")","v":0.69318287566202863}]
[]
[]
[]
[]
[]
[null,null,"By Level",{"$f":"D$3","v":"Blackpool, Fylde and Wyre"},"Lancashire ","England Minus London"]
[null,null,"Below Level 2 (excluding English and Maths)",{"$f":"IFERROR(INDEX('ES25b FE Part by Characteristic'!$B12:$Z12,MATCH(D$3,'ES25b FE Part by Characteristic'!$B$2:$Z$2,0)),\"n/a\")","v":3470},{"$f":"IFERROR(INDEX('ES25b FE Part by Characteristic'!$B12:$Z12,MATCH(E$1563,'ES25b FE Part by Characteristic'!$B$2:$Z$2,0)),\"n/a\")","v":21700},{"$f":"IFERROR(INDEX('ES25b FE Part by Characteristic'!$B12:$Z12,MATCH(F$1563,'ES25b FE Part by Characteristic'!$B$2:$Z$2,0)),\"n/a\")","v":318180}]
[null,null,"English and Maths",{"$f":"IFERROR(INDEX('ES25b FE Part by Characteristic'!$B13:$Z13,MATCH(D$3,'ES25b FE Part by Characteristic'!$B$2:$Z$2,0)),\"n/a\")","v":6180},{"$f":"IFERROR(INDEX('ES25b FE Part by Characteristic'!$B13:$Z13,MATCH(E$1563,'ES25b FE Part by Characteristic'!$B$2:$Z$2,0)),\"n/a\")","v":29040},{"$f":"IFERROR(INDEX('ES25b FE Part by Characteristic'!$B13:$Z13,MATCH(F$1563,'ES25b FE Part by Characteristic'!$B$2:$Z$2,0)),\"n/a\")","v":451000}]
[null,null,"Level 2",{"$f":"IFERROR(INDEX('ES25b FE Part by Characteristic'!$B14:$Z14,MATCH(D$3,'ES25b FE Part by Characteristic'!$B$2:$Z$2,0)),\"n/a\")","v":8460},{"$f":"IFERROR(INDEX('ES25b FE Part by Characteristic'!$B14:$Z14,MATCH(E$1563,'ES25b FE Part by Characteristic'!$B$2:$Z$2,0)),\"n/a\")","v":35580},{"$f":"IFERROR(INDEX('ES25b FE Part by Characteristic'!$B14:$Z14,MATCH(F$1563,'ES25b FE Part by Characteristic'!$B$2:$Z$2,0)),\"n/a\")","v":607750}]
[null,null,"Full level 2",{"$f":"IFERROR(INDEX('ES25b FE Part by Characteristic'!$B15:$Z15,MATCH(D$3,'ES25b FE Part by Characteristic'!$B$2:$Z$2,0)),\"n/a\")","v":2300},{"$f":"IFERROR(INDEX('ES25b FE Part by Characteristic'!$B15:$Z15,MATCH(E$1563,'ES25b FE Part by Characteristic'!$B$2:$Z$2,0)),\"n/a\")","v":11300},{"$f":"IFERROR(INDEX('ES25b FE Part by Characteristic'!$B15:$Z15,MATCH(F$1563,'ES25b FE Part by Characteristic'!$B$2:$Z$2,0)),\"n/a\")","v":194180}]
[null,null,"Level 3",{"$f":"IFERROR(INDEX('ES25b FE Part by Characteristic'!$B16:$Z16,MATCH(D$3,'ES25b FE Part by Characteristic'!$B$2:$Z$2,0)),\"n/a\")","v":8140},{"$f":"IFERROR(INDEX('ES25b FE Part by Characteristic'!$B16:$Z16,MATCH(E$1563,'ES25b FE Part by Characteristic'!$B$2:$Z$2,0)),\"n/a\")","v":34020},{"$f":"IFERROR(INDEX('ES25b FE Part by Characteristic'!$B16:$Z16,MATCH(F$1563,'ES25b FE Part by Characteristic'!$B$2:$Z$2,0)),\"n/a\")","v":365840}]
[null,null,"Full level 3",{"$f":"IFERROR(INDEX('ES25b FE Part by Characteristic'!$B17:$Z17,MATCH(D$3,'ES25b FE Part by Characteristic'!$B$2:$Z$2,0)),\"n/a\")","v":6600},{"$f":"IFERROR(INDEX('ES25b FE Part by Characteristic'!$B17:$Z17,MATCH(E$1563,'ES25b FE Part by Characteristic'!$B$2:$Z$2,0)),\"n/a\")","v":28580},{"$f":"IFERROR(INDEX('ES25b FE Part by Characteristic'!$B17:$Z17,MATCH(F$1563,'ES25b FE Part by Characteristic'!$B$2:$Z$2,0)),\"n/a\")","v":313980}]
[null,null,"Level 4 and above",{"$f":"IFERROR(INDEX('ES25b FE Part by Characteristic'!$B18:$Z18,MATCH(D$3,'ES25b FE Part by Characteristic'!$B$2:$Z$2,0)),\"n/a\")","v":1050},{"$f":"IFERROR(INDEX('ES25b FE Part by Characteristic'!$B18:$Z18,MATCH(E$1563,'ES25b FE Part by Characteristic'!$B$2:$Z$2,0)),\"n/a\")","v":4740},{"$f":"IFERROR(INDEX('ES25b FE Part by Characteristic'!$B18:$Z18,MATCH(F$1563,'ES25b FE Part by Characteristic'!$B$2:$Z$2,0)),\"n/a\")","v":115150}]
[]
[null,null,"By Level",{"$f":"D$3","v":"Blackpool, Fylde and Wyre"},"Lancashire ","England Minus London"]
[null,null,"Below Level 2 (excluding English and Maths)",{"$f":"IFERROR(INDEX('ES25b FE Part by Characteristic'!$B21:$Z21,MATCH(D$3,'ES25b FE Part by Characteristic'!$B$2:$Z$2,0)),\"n/a\")","v":9.5856353591160223E-2},{"$f":"IFERROR(INDEX('ES25b FE Part by Characteristic'!$B21:$Z21,MATCH(E$1563,'ES25b FE Part by Characteristic'!$B$2:$Z$2,0)),\"n/a\")","v":0.13154704170708051},{"$f":"IFERROR(INDEX('ES25b FE Part by Characteristic'!$B21:$Z21,MATCH(F$1563,'ES25b FE Part by Characteristic'!$B$2:$Z$2,0)),\"n/a\")","v":0.13447558831484988}]
[null,null,"English and Maths",{"$f":"IFERROR(INDEX('ES25b FE Part by Characteristic'!$B22:$Z22,MATCH(D$3,'ES25b FE Part by Characteristic'!$B$2:$Z$2,0)),\"n/a\")","v":0.17071823204419889},{"$f":"IFERROR(INDEX('ES25b FE Part by Characteristic'!$B22:$Z22,MATCH(E$1563,'ES25b FE Part by Characteristic'!$B$2:$Z$2,0)),\"n/a\")","v":0.17604267701260912},{"$f":"IFERROR(INDEX('ES25b FE Part by Characteristic'!$B22:$Z22,MATCH(F$1563,'ES25b FE Part by Characteristic'!$B$2:$Z$2,0)),\"n/a\")","v":0.19061063024073574}]
[null,null,"Level 2",{"$f":"IFERROR(INDEX('ES25b FE Part by Characteristic'!$B23:$Z23,MATCH(D$3,'ES25b FE Part by Characteristic'!$B$2:$Z$2,0)),\"n/a\")","v":0.23370165745856353},{"$f":"IFERROR(INDEX('ES25b FE Part by Characteristic'!$B23:$Z23,MATCH(E$1563,'ES25b FE Part by Characteristic'!$B$2:$Z$2,0)),\"n/a\")","v":0.21568865179437438},{"$f":"IFERROR(INDEX('ES25b FE Part by Characteristic'!$B23:$Z23,MATCH(F$1563,'ES25b FE Part by Characteristic'!$B$2:$Z$2,0)),\"n/a\")","v":0.2568594468487963}]
[null,null,"Full level 2",{"$f":"IFERROR(INDEX('ES25b FE Part by Characteristic'!$B24:$Z24,MATCH(D$3,'ES25b FE Part by Characteristic'!$B$2:$Z$2,0)),\"n/a\")","v":6.3535911602209949E-2},{"$f":"IFERROR(INDEX('ES25b FE Part by Characteristic'!$B24:$Z24,MATCH(E$1563,'ES25b FE Part by Characteristic'!$B$2:$Z$2,0)),\"n/a\")","v":6.8501454898157135E-2},{"$f":"IFERROR(INDEX('ES25b FE Part by Characteristic'!$B24:$Z24,MATCH(F$1563,'ES25b FE Part by Characteristic'!$B$2:$Z$2,0)),\"n/a\")","v":8.2068230998106576E-2}]
[null,null,"Level 3",{"$f":"IFERROR(INDEX('ES25b FE Part by Characteristic'!$B25:$Z25,MATCH(D$3,'ES25b FE Part by Characteristic'!$B$2:$Z$2,0)),\"n/a\")","v":0.22486187845303868},{"$f":"IFERROR(INDEX('ES25b FE Part by Characteristic'!$B25:$Z25,MATCH(E$1563,'ES25b FE Part by Characteristic'!$B$2:$Z$2,0)),\"n/a\")","v":0.2062318137730359},{"$f":"IFERROR(INDEX('ES25b FE Part by Characteristic'!$B25:$Z25,MATCH(F$1563,'ES25b FE Part by Characteristic'!$B$2:$Z$2,0)),\"n/a\")","v":0.1546186096835272}]
[null,null,"Full level 3",{"$f":"IFERROR(INDEX('ES25b FE Part by Characteristic'!$B26:$Z26,MATCH(D$3,'ES25b FE Part by Characteristic'!$B$2:$Z$2,0)),\"n/a\")","v":0.18232044198895028},{"$f":"IFERROR(INDEX('ES25b FE Part by Characteristic'!$B26:$Z26,MATCH(E$1563,'ES25b FE Part by Characteristic'!$B$2:$Z$2,0)),\"n/a\")","v":0.17325412221144521},{"$f":"IFERROR(INDEX('ES25b FE Part by Characteristic'!$B26:$Z26,MATCH(F$1563,'ES25b FE Part by Characteristic'!$B$2:$Z$2,0)),\"n/a\")","v":0.13270050040573439}]
[null,null,"Level 4 and above",{"$f":"IFERROR(INDEX('ES25b FE Part by Characteristic'!$B27:$Z27,MATCH(D$3,'ES25b FE Part by Characteristic'!$B$2:$Z$2,0)),\"n/a\")","v":2.9005524861878452E-2},{"$f":"IFERROR(INDEX('ES25b FE Part by Characteristic'!$B27:$Z27,MATCH(E$1563,'ES25b FE Part by Characteristic'!$B$2:$Z$2,0)),\"n/a\")","v":2.8734238603297768E-2},{"$f":"IFERROR(INDEX('ES25b FE Part by Characteristic'!$B27:$Z27,MATCH(F$1563,'ES25b FE Part by Characteristic'!$B$2:$Z$2,0)),\"n/a\")","v":4.8666993508249934E-2}]
[]
[]
[]
[]
[]
[]
[]
[]
[]
[]
[]
[]
[]
[]
[]
[]
[]
[]
[]
[]
[]
[]
[]
[]
[]
[]
[]
[]
[]
[]
[]
[]
[]
[]
[]
[]
[]
[]
[]
[]
[]
[]
[]
[]
[]
[]
[]
[null,null,"ES25c: Learner Perspective: FE and Skills Achievements by Characteristics 2018/19"]
[null,null,"By Age",{"$f":"D$3","v":"Blackpool, Fylde and Wyre"},"Lancashire ","England Minus London"]
[null,null,"16-18",{"$f":"IFERROR(INDEX('ES25c FE Achieve by Character'!$B4:$Z4,MATCH(D$3,'ES25c FE Achieve by Character'!$B$2:$Z$2,0)),\"n/a\")","v":5020},{"$f":"IFERROR(INDEX('ES25c FE Achieve by Character'!$B4:$Z4,MATCH(E$1628,'ES25c FE Achieve by Character'!$B$2:$Z$2,0)),\"n/a\")","v":22930},{"$f":"IFERROR(INDEX('ES25c FE Achieve by Character'!$B4:$Z4,MATCH(F$1628,'ES25c FE Achieve by Character'!$B$2:$Z$2,0)),\"n/a\")","v":563670}]
[null,null,"Adult (19+)",{"$f":"IFERROR(INDEX('ES25c FE Achieve by Character'!$B5:$Z5,MATCH(D$3,'ES25c FE Achieve by Character'!$B$2:$Z$2,0)),\"n/a\")","v":9930},{"$f":"IFERROR(INDEX('ES25c FE Achieve by Character'!$B5:$Z5,MATCH(E$1628,'ES25c FE Achieve by Character'!$B$2:$Z$2,0)),\"n/a\")","v":51100},{"$f":"IFERROR(INDEX('ES25c FE Achieve by Character'!$B5:$Z5,MATCH(F$1628,'ES25c FE Achieve by Character'!$B$2:$Z$2,0)),\"n/a\")","v":1196680}]
[]
[null,null,"By Age",{"$f":"D$3","v":"Blackpool, Fylde and Wyre"},"Lancashire ","England Minus London"]
[null,null,"16-18",{"$f":"IFERROR(INDEX('ES25c FE Achieve by Character'!$B8:$Z8,MATCH(D$3,'ES25c FE Achieve by Character'!$B$2:$Z$2,0)),\"n/a\")","v":0.33578595317725751},{"$f":"IFERROR(INDEX('ES25c FE Achieve by Character'!$B8:$Z8,MATCH(E$1628,'ES25c FE Achieve by Character'!$B$2:$Z$2,0)),\"n/a\")","v":0.31},{"$f":"IFERROR(INDEX('ES25c FE Achieve by Character'!$B8:$Z8,MATCH(F$1628,'ES25c FE Achieve by Character'!$B$2:$Z$2,0)),\"n/a\")","v":0.32}]
[null,null,"Adult (19+)",{"$f":"IFERROR(INDEX('ES25c FE Achieve by Character'!$B9:$Z9,MATCH(D$3,'ES25c FE Achieve by Character'!$B$2:$Z$2,0)),\"n/a\")","v":0.66421404682274243},{"$f":"IFERROR(INDEX('ES25c FE Achieve by Character'!$B9:$Z9,MATCH(E$1628,'ES25c FE Achieve by Character'!$B$2:$Z$2,0)),\"n/a\")","v":0.69},{"$f":"IFERROR(INDEX('ES25c FE Achieve by Character'!$B9:$Z9,MATCH(F$1628,'ES25c FE Achieve by Character'!$B$2:$Z$2,0)),\"n/a\")","v":0.68}]
[]
[]
[]
[]
[]
[null,null,"By Level",{"$f":"D$3","v":"Blackpool, Fylde and Wyre"},"Lancashire ","England Minus London"]
[null,null,"Below Level 2 (excluding English and Maths)",{"$f":"IFERROR(INDEX('ES25c FE Achieve by Character'!$B12:$Z12,MATCH(D$3,'ES25c FE Achieve by Character'!$B$2:$Z$2,0)),\"n/a\")","v":3140},{"$f":"IFERROR(INDEX('ES25c FE Achieve by Character'!$B12:$Z12,MATCH(E$1640,'ES25c FE Achieve by Character'!$B$2:$Z$2,0)),\"n/a\")","v":20020},{"$f":"IFERROR(INDEX('ES25c FE Achieve by Character'!$B12:$Z12,MATCH(F$1640,'ES25c FE Achieve by Character'!$B$2:$Z$2,0)),\"n/a\")","v":290300}]
[null,null,"English and Maths",{"$f":"IFERROR(INDEX('ES25c FE Achieve by Character'!$B13:$Z13,MATCH(D$3,'ES25c FE Achieve by Character'!$B$2:$Z$2,0)),\"n/a\")","v":4100},{"$f":"IFERROR(INDEX('ES25c FE Achieve by Character'!$B13:$Z13,MATCH(E$1640,'ES25c FE Achieve by Character'!$B$2:$Z$2,0)),\"n/a\")","v":19480},{"$f":"IFERROR(INDEX('ES25c FE Achieve by Character'!$B13:$Z13,MATCH(F$1640,'ES25c FE Achieve by Character'!$B$2:$Z$2,0)),\"n/a\")","v":275320}]
[null,null,"Level 2",{"$f":"IFERROR(INDEX('ES25c FE Achieve by Character'!$B14:$Z14,MATCH(D$3,'ES25c FE Achieve by Character'!$B$2:$Z$2,0)),\"n/a\")","v":6140},{"$f":"IFERROR(INDEX('ES25c FE Achieve by Character'!$B14:$Z14,MATCH(E$1640,'ES25c FE Achieve by Character'!$B$2:$Z$2,0)),\"n/a\")","v":24730},{"$f":"IFERROR(INDEX('ES25c FE Achieve by Character'!$B14:$Z14,MATCH(F$1640,'ES25c FE Achieve by Character'!$B$2:$Z$2,0)),\"n/a\")","v":412390}]
[null,null,"Full level 2",{"$f":"IFERROR(INDEX('ES25c FE Achieve by Character'!$B15:$Z15,MATCH(D$3,'ES25c FE Achieve by Character'!$B$2:$Z$2,0)),\"n/a\")","v":880},{"$f":"IFERROR(INDEX('ES25c FE Achieve by Character'!$B15:$Z15,MATCH(E$1640,'ES25c FE Achieve by Character'!$B$2:$Z$2,0)),\"n/a\")","v":4550},{"$f":"IFERROR(INDEX('ES25c FE Achieve by Character'!$B15:$Z15,MATCH(F$1640,'ES25c FE Achieve by Character'!$B$2:$Z$2,0)),\"n/a\")","v":79870}]
[null,null,"Level 3",{"$f":"IFERROR(INDEX('ES25c FE Achieve by Character'!$B16:$Z16,MATCH(D$3,'ES25c FE Achieve by Character'!$B$2:$Z$2,0)),\"n/a\")","v":4620},{"$f":"IFERROR(INDEX('ES25c FE Achieve by Character'!$B16:$Z16,MATCH(E$1640,'ES25c FE Achieve by Character'!$B$2:$Z$2,0)),\"n/a\")","v":17430},{"$f":"IFERROR(INDEX('ES25c FE Achieve by Character'!$B16:$Z16,MATCH(F$1640,'ES25c FE Achieve by Character'!$B$2:$Z$2,0)),\"n/a\")","v":134560}]
[null,null,"Full level 3",{"$f":"IFERROR(INDEX('ES25c FE Achieve by Character'!$B17:$Z17,MATCH(D$3,'ES25c FE Achieve by Character'!$B$2:$Z$2,0)),\"n/a\")","v":3360},{"$f":"IFERROR(INDEX('ES25c FE Achieve by Character'!$B17:$Z17,MATCH(E$1640,'ES25c FE Achieve by Character'!$B$2:$Z$2,0)),\"n/a\")","v":13170},{"$f":"IFERROR(INDEX('ES25c FE Achieve by Character'!$B17:$Z17,MATCH(F$1640,'ES25c FE Achieve by Character'!$B$2:$Z$2,0)),\"n/a\")","v":106730}]
[null,null,"Level 4 and above",{"$f":"IFERROR(INDEX('ES25c FE Achieve by Character'!$B18:$Z18,MATCH(D$3,'ES25c FE Achieve by Character'!$B$2:$Z$2,0)),\"n/a\")","v":220},{"$f":"IFERROR(INDEX('ES25c FE Achieve by Character'!$B18:$Z18,MATCH(E$1640,'ES25c FE Achieve by Character'!$B$2:$Z$2,0)),\"n/a\")","v":860},{"$f":"IFERROR(INDEX('ES25c FE Achieve by Character'!$B18:$Z18,MATCH(F$1640,'ES25c FE Achieve by Character'!$B$2:$Z$2,0)),\"n/a\")","v":17470}]
[]
[null,null,"By Level",{"$f":"D$3","v":"Blackpool, Fylde and Wyre"},"Lancashire ","England Minus London"]
[null,null,"Below Level 2 (excluding English and Maths)",{"$f":"IFERROR(INDEX('ES25c FE Achieve by Character'!$B21:$Z21,MATCH(D$3,'ES25c FE Achieve by Character'!$B$2:$Z$2,0)),\"n/a\")","v":0.13980409617097062},{"$f":"IFERROR(INDEX('ES25c FE Achieve by Character'!$B21:$Z21,MATCH(E$1640,'ES25c FE Achieve by Character'!$B$2:$Z$2,0)),\"n/a\")","v":0.19972067039106145},{"$f":"IFERROR(INDEX('ES25c FE Achieve by Character'!$B21:$Z21,MATCH(F$1640,'ES25c FE Achieve by Character'!$B$2:$Z$2,0)),\"n/a\")","v":0.22048547818689998}]
[null,null,"English and Maths",{"$f":"IFERROR(INDEX('ES25c FE Achieve by Character'!$B22:$Z22,MATCH(D$3,'ES25c FE Achieve by Character'!$B$2:$Z$2,0)),\"n/a\")","v":0.182546749777382},{"$f":"IFERROR(INDEX('ES25c FE Achieve by Character'!$B22:$Z22,MATCH(E$1640,'ES25c FE Achieve by Character'!$B$2:$Z$2,0)),\"n/a\")","v":0.19433359936153233},{"$f":"IFERROR(INDEX('ES25c FE Achieve by Character'!$B22:$Z22,MATCH(F$1640,'ES25c FE Achieve by Character'!$B$2:$Z$2,0)),\"n/a\")","v":0.20910803256774821}]
[null,null,"Level 2",{"$f":"IFERROR(INDEX('ES25c FE Achieve by Character'!$B23:$Z23,MATCH(D$3,'ES25c FE Achieve by Character'!$B$2:$Z$2,0)),\"n/a\")","v":0.27337488869100623},{"$f":"IFERROR(INDEX('ES25c FE Achieve by Character'!$B23:$Z23,MATCH(E$1640,'ES25c FE Achieve by Character'!$B$2:$Z$2,0)),\"n/a\")","v":0.24670790103750997},{"$f":"IFERROR(INDEX('ES25c FE Achieve by Character'!$B23:$Z23,MATCH(F$1640,'ES25c FE Achieve by Character'!$B$2:$Z$2,0)),\"n/a\")","v":0.31321393851014706}]
[null,null,"Full level 2",{"$f":"IFERROR(INDEX('ES25c FE Achieve by Character'!$B24:$Z24,MATCH(D$3,'ES25c FE Achieve by Character'!$B$2:$Z$2,0)),\"n/a\")","v":3.9180765805877114E-2},{"$f":"IFERROR(INDEX('ES25c FE Achieve by Character'!$B24:$Z24,MATCH(E$1640,'ES25c FE Achieve by Character'!$B$2:$Z$2,0)),\"n/a\")","v":4.5391061452513967E-2},{"$f":"IFERROR(INDEX('ES25c FE Achieve by Character'!$B24:$Z24,MATCH(F$1640,'ES25c FE Achieve by Character'!$B$2:$Z$2,0)),\"n/a\")","v":6.0661988090898046E-2}]
[null,null,"Level 3",{"$f":"IFERROR(INDEX('ES25c FE Achieve by Character'!$B25:$Z25,MATCH(D$3,'ES25c FE Achieve by Character'!$B$2:$Z$2,0)),\"n/a\")","v":0.20569902048085487},{"$f":"IFERROR(INDEX('ES25c FE Achieve by Character'!$B25:$Z25,MATCH(E$1640,'ES25c FE Achieve by Character'!$B$2:$Z$2,0)),\"n/a\")","v":0.1738826815642458},{"$f":"IFERROR(INDEX('ES25c FE Achieve by Character'!$B25:$Z25,MATCH(F$1640,'ES25c FE Achieve by Character'!$B$2:$Z$2,0)),\"n/a\")","v":0.10219953821849556}]
[null,null,"Full level 3",{"$f":"IFERROR(INDEX('ES25c FE Achieve by Character'!$B26:$Z26,MATCH(D$3,'ES25c FE Achieve by Character'!$B$2:$Z$2,0)),\"n/a\")","v":0.1495992876224399},{"$f":"IFERROR(INDEX('ES25c FE Achieve by Character'!$B26:$Z26,MATCH(E$1640,'ES25c FE Achieve by Character'!$B$2:$Z$2,0)),\"n/a\")","v":0.13138467677573823},{"$f":"IFERROR(INDEX('ES25c FE Achieve by Character'!$B26:$Z26,MATCH(F$1640,'ES25c FE Achieve by Character'!$B$2:$Z$2,0)),\"n/a\")","v":8.1062401263823067E-2}]
[null,null,"Level 4 and above",{"$f":"IFERROR(INDEX('ES25c FE Achieve by Character'!$B27:$Z27,MATCH(D$3,'ES25c FE Achieve by Character'!$B$2:$Z$2,0)),\"n/a\")","v":9.7951914514692786E-3},{"$f":"IFERROR(INDEX('ES25c FE Achieve by Character'!$B27:$Z27,MATCH(E$1640,'ES25c FE Achieve by Character'!$B$2:$Z$2,0)),\"n/a\")","v":8.5794094173982441E-3},{"$f":"IFERROR(INDEX('ES25c FE Achieve by Character'!$B27:$Z27,MATCH(F$1640,'ES25c FE Achieve by Character'!$B$2:$Z$2,0)),\"n/a\")","v":1.3268623161988092E-2}]
[]
[]
[]
[]
[]
[]
[]
[]
[]
[]
[]
[]
[]
[]
[]
[]
[]
[]
[]
[]
[]
[]
[]
[]
[]
[]
[]
[]
[]
[]
[]
[]
[]
[]
[]
[]
[]
[]
[]
[]
[]
[]
[]
[null,null,"ES26. Total HE Students, 2017/18"]
[null,null,null,"Lancashire ","North West ","England"]
[null,null,"Full Time Equivalent",{"$f":"IFERROR(INDEX('ES26. Total HE Students'!$B4:$Z4,MATCH(D$1701,'ES26. Total HE Students'!$B$2:$Z$2,0)),\"n/a\")","v":56460},{"$f":"IFERROR(INDEX('ES26. Total HE Students'!$B4:$Z4,MATCH(E$1701,'ES26. Total HE Students'!$B$2:$Z$2,0)),\"n/a\")","v":203611},{"$f":"IFERROR(INDEX('ES26. Total HE Students'!$B4:$Z4,MATCH(F$1701,'ES26. Total HE Students'!$B$2:$Z$2,0)),\"n/a\")","v":1773252}]
[]
[]
[]
[]
[]
[]
[]
[]
[]
[]
[]
[]
[]
[]
[]
[]
[]
[]
[]
[]
[]
[]
[]
[]
[]
[]
[]
[]
[]
[]
[]
[]
[]
[]
[]
[]
[]
[]
[]
[]
[]
[]
[]
[]
[]
[]
[]
[null,null,"ES27. HE Students by Institution, 2017/18"]
[null,null,null,"Lancashire ","North West"]
[null,null,"FEC Taught",7215,13562]
[null,null,"HEI Taught",49245,189512]
[null,null,"AP Taught","~",537]
[null,null,"Total",56460,203611]
[]
[]
[null,null,null,"Lancashire ","North West"]
[null,null,"FEC Taught",0.12778958554729011,6.6607403332825832E-2]
[null,null,"HEI Taught",0.87221041445270986,0.93075521460039001]
[null,null,"AP Taught","--",2.6373820667842112E-3]
[]
[]
[]
[]
[]
[]
[]
[]
[]
[]
[]
[]
[]
[]
[]
[]
[]
[]
[]
[]
[]
[]
[]
[]
[]
[]
[]
[]
[]
[]
[]
[]
[]
[]
[]
[]
[]
[]
[null,null,"ES28. HE Students by Domicile, 2017/18"]
[]
[null,null,null,"Lancashire ","North West ","England"]
[null,null,"UK",{"$f":"IFERROR(INDEX('ES28. HE Students by Domicile'!$B4:$E4,MATCH(D$1802,'ES28. HE Students by Domicile'!$B$2:$E$2,0)),\"n/a\")","v":0.873486323990177},{"$f":"IFERROR(INDEX('ES28. HE Students by Domicile'!$B4:$E4,MATCH(E$1802,'ES28. HE Students by Domicile'!$B$2:$E$2,0)),\"n/a\")","v":0.83244467836792602},{"$f":"IFERROR(INDEX('ES28. HE Students by Domicile'!$B4:$E4,MATCH(F$1802,'ES28. HE Students by Domicile'!$B$2:$E$2,0)),\"n/a\")","v":0.80273439543081893}]
[null,null,"Other European Union",{"$f":"IFERROR(INDEX('ES28. HE Students by Domicile'!$B5:$E5,MATCH(D$1802,'ES28. HE Students by Domicile'!$B$2:$E$2,0)),\"n/a\")","v":3.7598441866373108E-2},{"$f":"IFERROR(INDEX('ES28. HE Students by Domicile'!$B5:$E5,MATCH(E$1802,'ES28. HE Students by Domicile'!$B$2:$E$2,0)),\"n/a\")","v":3.8444815670839148E-2},{"$f":"IFERROR(INDEX('ES28. HE Students by Domicile'!$B5:$E5,MATCH(F$1802,'ES28. HE Students by Domicile'!$B$2:$E$2,0)),\"n/a\")","v":5.6662342960553155E-2}]
[null,null,"Non European Union",{"$f":"IFERROR(INDEX('ES28. HE Students by Domicile'!$B6:$E6,MATCH(D$1802,'ES28. HE Students by Domicile'!$B$2:$E$2,0)),\"n/a\")","v":8.8999915318824618E-2},{"$f":"IFERROR(INDEX('ES28. HE Students by Domicile'!$B6:$E6,MATCH(E$1802,'ES28. HE Students by Domicile'!$B$2:$E$2,0)),\"n/a\")","v":0.12913338978008651},{"$f":"IFERROR(INDEX('ES28. HE Students by Domicile'!$B6:$E6,MATCH(F$1802,'ES28. HE Students by Domicile'!$B$2:$E$2,0)),\"n/a\")","v":0.14059280102932101}]
[]
[]
[]
[]
[]
[]
[]
[]
[]
[]
[]
[]
[]
[]
[]
[]
[]
[]
[]
[]
[]
[]
[]
[]
[]
[]
[]
[]
[]
[]
[]
[]
[]
[]
[]
[]
[]
[]
[]
[]
[]
[]
[]
[]
[null,null,"ES29. HE Students by Ethnicity, 2017/18"]
[null,null,"HEIs","Lancashire ","North West","England"]
[null,null,"Asian or Asian British",{"$f":"IFERROR(INDEX('ES29. HE Students by Ethnicity'!$B4:$Z4,MATCH(D$1701,'ES29. HE Students by Ethnicity'!$B$2:$Z$2,0)),\"n/a\")","v":0.09},{"$f":"IFERROR(INDEX('ES29. HE Students by Ethnicity'!$B4:$Z4,MATCH(E$1701,'ES29. HE Students by Ethnicity'!$B$2:$Z$2,0)),\"n/a\")","v":0.1},{"$f":"IFERROR(INDEX('ES29. HE Students by Ethnicity'!$B4:$Z4,MATCH(F$1851,'ES29. HE Students by Ethnicity'!$B$2:$Z$2,0)),\"n/a\")","v":0.11}]
[null,null,"Black or Black British",{"$f":"IFERROR(INDEX('ES29. HE Students by Ethnicity'!$B5:$Z5,MATCH(D$1701,'ES29. HE Students by Ethnicity'!$B$2:$Z$2,0)),\"n/a\")","v":2.9916410300000001E-2},{"$f":"IFERROR(INDEX('ES29. HE Students by Ethnicity'!$B5:$Z5,MATCH(E$1701,'ES29. HE Students by Ethnicity'!$B$2:$Z$2,0)),\"n/a\")","v":3.7111589899999999E-2},{"$f":"IFERROR(INDEX('ES29. HE Students by Ethnicity'!$B5:$Z5,MATCH(F$1851,'ES29. HE Students by Ethnicity'!$B$2:$Z$2,0)),\"n/a\")","v":7.4431479100000003E-2}]
[null,null,"Other (including mixed)",{"$f":"IFERROR(INDEX('ES29. HE Students by Ethnicity'!$B6:$Z6,MATCH(D$1701,'ES29. HE Students by Ethnicity'!$B$2:$Z$2,0)),\"n/a\")","v":0.01},{"$f":"IFERROR(INDEX('ES29. HE Students by Ethnicity'!$B6:$Z6,MATCH(E$1701,'ES29. HE Students by Ethnicity'!$B$2:$Z$2,0)),\"n/a\")","v":0.01},{"$f":"IFERROR(INDEX('ES29. HE Students by Ethnicity'!$B6:$Z6,MATCH(F$1851,'ES29. HE Students by Ethnicity'!$B$2:$Z$2,0)),\"n/a\")","v":0.02}]
[null,null,"Unknown",{"$f":"IFERROR(INDEX('ES29. HE Students by Ethnicity'!$B7:$Z7,MATCH(D$1701,'ES29. HE Students by Ethnicity'!$B$2:$Z$2,0)),\"n/a\")","v":0.01},{"$f":"IFERROR(INDEX('ES29. HE Students by Ethnicity'!$B7:$Z7,MATCH(E$1701,'ES29. HE Students by Ethnicity'!$B$2:$Z$2,0)),\"n/a\")","v":0.02},{"$f":"IFERROR(INDEX('ES29. HE Students by Ethnicity'!$B7:$Z7,MATCH(F$1851,'ES29. HE Students by Ethnicity'!$B$2:$Z$2,0)),\"n/a\")","v":0.02}]
[null,null,"White",{"$f":"IFERROR(INDEX('ES29. HE Students by Ethnicity'!$B8:$Z8,MATCH(D$1701,'ES29. HE Students by Ethnicity'!$B$2:$Z$2,0)),\"n/a\")","v":0.83},{"$f":"IFERROR(INDEX('ES29. HE Students by Ethnicity'!$B8:$Z8,MATCH(E$1701,'ES29. HE Students by Ethnicity'!$B$2:$Z$2,0)),\"n/a\")","v":0.79},{"$f":"IFERROR(INDEX('ES29. HE Students by Ethnicity'!$B8:$Z8,MATCH(F$1851,'ES29. HE Students by Ethnicity'!$B$2:$Z$2,0)),\"n/a\")","v":0.75}]
[]
[]
[]
[]
[]
[]
[]
[]
[]
[]
[]
[]
[]
[]
[]
[]
[]
[]
[]
[]
[]
[]
[]
[]
[]
[]
[]
[]
[]
[]
[]
[]
[]
[]
[]
[]
[]
[]
[]
[]
[]
[]
[]
[null,null,"ES30. HE Students by Age, 2017/18"]
[null,null,"HEIs","Lancashire ","North West ","England"]
[null,null,"Under 21",{"$f":"IFERROR(INDEX('ES30. HE Students by Age'!$B4:$Z4,MATCH(D$1901,'ES30. HE Students by Age'!$B$2:$Z$2,0)),\"n/a\")","v":0.42653908036243543},{"$f":"IFERROR(INDEX('ES30. HE Students by Age'!$B4:$Z4,MATCH(E$1901,'ES30. HE Students by Age'!$B$2:$Z$2,0)),\"n/a\")","v":0.45960967059276203},{"$f":"IFERROR(INDEX('ES30. HE Students by Age'!$B4:$Z4,MATCH(F$1901,'ES30. HE Students by Age'!$B$2:$Z$2,0)),\"n/a\")","v":0.42126060441227237}]
[null,null,"21-24",{"$f":"IFERROR(INDEX('ES30. HE Students by Age'!$B5:$Z5,MATCH(D$1901,'ES30. HE Students by Age'!$B$2:$Z$2,0)),\"n/a\")","v":0.23880091455669405},{"$f":"IFERROR(INDEX('ES30. HE Students by Age'!$B5:$Z5,MATCH(E$1901,'ES30. HE Students by Age'!$B$2:$Z$2,0)),\"n/a\")","v":0.27271755627284583},{"$f":"IFERROR(INDEX('ES30. HE Students by Age'!$B5:$Z5,MATCH(F$1901,'ES30. HE Students by Age'!$B$2:$Z$2,0)),\"n/a\")","v":0.27971066037637166}]
[null,null,"Over 24",{"$f":"IFERROR(INDEX('ES30. HE Students by Age'!$B6:$Z6,MATCH(D$1901,'ES30. HE Students by Age'!$B$2:$Z$2,0)),\"n/a\")","v":0.33449064273012108},{"$f":"IFERROR(INDEX('ES30. HE Students by Age'!$B6:$Z6,MATCH(E$1901,'ES30. HE Students by Age'!$B$2:$Z$2,0)),\"n/a\")","v":0.26760864453517452},{"$f":"IFERROR(INDEX('ES30. HE Students by Age'!$B6:$Z6,MATCH(F$1901,'ES30. HE Students by Age'!$B$2:$Z$2,0)),\"n/a\")","v":0.29893458999759409}]
[]
[]
[]
[]
[]
[]
[]
[]
[]
[]
[]
[]
[]
[]
[]
[]
[]
[]
[]
[]
[]
[]
[]
[]
[]
[]
[]
[]
[]
[]
[]
[]
[]
[]
[]
[]
[]
[]
[]
[]
[]
[]
[]
[]
[]
[null,null,"ES31. HE Students by Gender, 2017/18"]
[null,null,"HEIs","Lancashire ","North West ","England"]
[null,null,"Female",{"$f":"IFERROR(INDEX('ES31. HE Students by Gender'!$B4:$Z4,MATCH(D$1901,'ES31. HE Students by Gender'!$B$2:$Z$2,0)),\"n/a\")","v":0.60451042710000003},{"$f":"IFERROR(INDEX('ES31. HE Students by Gender'!$B4:$Z4,MATCH(E$1901,'ES31. HE Students by Gender'!$B$2:$Z$2,0)),\"n/a\")","v":0.57999999999999996},{"$f":"IFERROR(INDEX('ES31. HE Students by Gender'!$B4:$Z4,MATCH(F$1901,'ES31. HE Students by Gender'!$B$2:$Z$2,0)),\"n/a\")","v":0.56999999999999995}]
[null,null,"Male",{"$f":"IFERROR(INDEX('ES31. HE Students by Gender'!$B5:$Z5,MATCH(D$1901,'ES31. HE Students by Gender'!$B$2:$Z$2,0)),\"n/a\")","v":0.39548957289999997},{"$f":"IFERROR(INDEX('ES31. HE Students by Gender'!$B5:$Z5,MATCH(E$1901,'ES31. HE Students by Gender'!$B$2:$Z$2,0)),\"n/a\")","v":0.42},{"$f":"IFERROR(INDEX('ES31. HE Students by Gender'!$B5:$Z5,MATCH(F$1901,'ES31. HE Students by Gender'!$B$2:$Z$2,0)),\"n/a\")","v":0.43}]
[]
[]
[]
[]
[]
[]
[]
[]
[]
[]
[]
[]
[]
[]
[]
[]
[]
[]
[]
[]
[]
[]
[]
[]
[]
[]
[]
[]
[]
[]
[]
[]
[]
[]
[]
[]
[]
[]
[]
[]
[]
[]
[]
[]
[]
[]
[null,null,"ES32. HE Students by Level, 2017/18"]
[null,null,null,"Lancashire ","North West","England Minus London"]
[null,null,"Postgraduate research",{"$f":"IFERROR(INDEX('ES32. HE Students by Level'!$B11:$Z11,MATCH(D$1701,'ES32. HE Students by Level'!$B$2:$Z$2,0)),\"n/a\")","v":1965},{"$f":"IFERROR(INDEX('ES32. HE Students by Level'!$B11:$Z11,MATCH(E$1701,'ES32. HE Students by Level'!$B$2:$Z$2,0)),\"n/a\")","v":9750},{"$f":"IFERROR(INDEX('ES32. HE Students by Level'!$B11:$Z11,MATCH(F$1701,'ES32. HE Students by Level'!$B$2:$Z$2,0)),\"n/a\")","v":82435}]
[null,null,"Postgraduate taught",{"$f":"IFERROR(INDEX('ES32. HE Students by Level'!$B12:$Z12,MATCH(D$1701,'ES32. HE Students by Level'!$B$2:$Z$2,0)),\"n/a\")","v":5910},{"$f":"IFERROR(INDEX('ES32. HE Students by Level'!$B12:$Z12,MATCH(E$1701,'ES32. HE Students by Level'!$B$2:$Z$2,0)),\"n/a\")","v":26110},{"$f":"IFERROR(INDEX('ES32. HE Students by Level'!$B12:$Z12,MATCH(F$1701,'ES32. HE Students by Level'!$B$2:$Z$2,0)),\"n/a\")","v":241250}]
[null,null,"First degree",{"$f":"IFERROR(INDEX('ES32. HE Students by Level'!$B13:$Z13,MATCH(D$1701,'ES32. HE Students by Level'!$B$2:$Z$2,0)),\"n/a\")","v":39275},{"$f":"IFERROR(INDEX('ES32. HE Students by Level'!$B13:$Z13,MATCH(E$1701,'ES32. HE Students by Level'!$B$2:$Z$2,0)),\"n/a\")","v":161460},{"$f":"IFERROR(INDEX('ES32. HE Students by Level'!$B13:$Z13,MATCH(F$1701,'ES32. HE Students by Level'!$B$2:$Z$2,0)),\"n/a\")","v":1244625}]
[null,null,"Other undergraduate",{"$f":"IFERROR(INDEX('ES32. HE Students by Level'!$B14:$Z14,MATCH(D$1701,'ES32. HE Students by Level'!$B$2:$Z$2,0)),\"n/a\")","v":2095},{"$f":"IFERROR(INDEX('ES32. HE Students by Level'!$B14:$Z14,MATCH(E$1701,'ES32. HE Students by Level'!$B$2:$Z$2,0)),\"n/a\")","v":4680},{"$f":"IFERROR(INDEX('ES32. HE Students by Level'!$B14:$Z14,MATCH(F$1701,'ES32. HE Students by Level'!$B$2:$Z$2,0)),\"n/a\")","v":55680}]
[null,null,"Total",{"$f":"IFERROR(INDEX('ES32. HE Students by Level'!$B15:$Z15,MATCH(D$1701,'ES32. HE Students by Level'!$B$2:$Z$2,0)),\"n/a\")","v":49245},{"$f":"IFERROR(INDEX('ES32. HE Students by Level'!$B15:$Z15,MATCH(E$1701,'ES32. HE Students by Level'!$B$2:$Z$2,0)),\"n/a\")","v":202005},{"$f":"IFERROR(INDEX('ES32. HE Students by Level'!$B15:$Z15,MATCH(F$1701,'ES32. HE Students by Level'!$B$2:$Z$2,0)),\"n/a\")","v":1623995}]
[]
[null,null,null,"Lancashire ","North West","England Minus London"]
[null,null,"Postgraduate research",{"$f":"IFERROR(INDEX('ES32. HE Students by Level'!$B24:$Z24,MATCH(D$1701,'ES32. HE Students by Level'!$B$2:$Z$2,0)),\"n/a\")","v":3.9902528175449287E-2},{"$f":"IFERROR(INDEX('ES32. HE Students by Level'!$B24:$Z24,MATCH(E$1701,'ES32. HE Students by Level'!$B$2:$Z$2,0)),\"n/a\")","v":4.8266132026434989E-2},{"$f":"IFERROR(INDEX('ES32. HE Students by Level'!$B24:$Z24,MATCH(F$1701,'ES32. HE Students by Level'!$B$2:$Z$2,0)),\"n/a\")","v":5.0760624263005732E-2}]
[null,null,"Postgraduate taught",{"$f":"IFERROR(INDEX('ES32. HE Students by Level'!$B25:$Z25,MATCH(D$1701,'ES32. HE Students by Level'!$B$2:$Z$2,0)),\"n/a\")","v":0.12001218397806884},{"$f":"IFERROR(INDEX('ES32. HE Students by Level'!$B25:$Z25,MATCH(E$1701,'ES32. HE Students by Level'!$B$2:$Z$2,0)),\"n/a\")","v":0.12925422638053513},{"$f":"IFERROR(INDEX('ES32. HE Students by Level'!$B25:$Z25,MATCH(F$1701,'ES32. HE Students by Level'!$B$2:$Z$2,0)),\"n/a\")","v":0.14855341303390712}]
[null,null,"First degree",{"$f":"IFERROR(INDEX('ES32. HE Students by Level'!$B26:$Z26,MATCH(D$1701,'ES32. HE Students by Level'!$B$2:$Z$2,0)),\"n/a\")","v":0.79754289775611742},{"$f":"IFERROR(INDEX('ES32. HE Students by Level'!$B26:$Z26,MATCH(E$1701,'ES32. HE Students by Level'!$B$2:$Z$2,0)),\"n/a\")","v":0.79928714635776343},{"$f":"IFERROR(INDEX('ES32. HE Students by Level'!$B26:$Z26,MATCH(F$1701,'ES32. HE Students by Level'!$B$2:$Z$2,0)),\"n/a\")","v":0.76639706403036956}]
[null,null,"Other undergraduate",{"$f":"IFERROR(INDEX('ES32. HE Students by Level'!$B27:$Z27,MATCH(D$1701,'ES32. HE Students by Level'!$B$2:$Z$2,0)),\"n/a\")","v":4.2542390090364507E-2},{"$f":"IFERROR(INDEX('ES32. HE Students by Level'!$B27:$Z27,MATCH(E$1701,'ES32. HE Students by Level'!$B$2:$Z$2,0)),\"n/a\")","v":2.3167743372688794E-2},{"$f":"IFERROR(INDEX('ES32. HE Students by Level'!$B27:$Z27,MATCH(F$1701,'ES32. HE Students by Level'!$B$2:$Z$2,0)),\"n/a\")","v":3.4285819845504453E-2}]
[]
[]
[]
[]
[]
[]
[]
[]
[]
[]
[]
[]
[]
[]
[]
[]
[]
[]
[]
[]
[]
[]
[]
[]
[]
[]
[]
[]
[]
[]
[]
[]
[]
[]
[]
[]
[]
[null,null,"ES33. Full Time Undergraduate Students by Domicile, 2017/18"]
[null,null,"HEIs","Lancashire ","North West ","England"]
[null,null,"Total UK  ",{"$f":"IFERROR(INDEX('ES33. FT UG Students Domicile'!$B4:$E4,MATCH(D$2051,'ES33. FT UG Students Domicile'!$B$2:$E$2,0)),\"n/a\")","v":36255},{"$f":"IFERROR(INDEX('ES33. FT UG Students Domicile'!$B4:$E4,MATCH(E$2051,'ES33. FT UG Students Domicile'!$B$2:$E$2,0)),\"n/a\")","v":142720},{"$f":"IFERROR(INDEX('ES33. FT UG Students Domicile'!$B4:$E4,MATCH(F$2051,'ES33. FT UG Students Domicile'!$B$2:$E$2,0)),\"n/a\")","v":1023700}]
[null,null,"Other European Union",{"$f":"IFERROR(INDEX('ES33. FT UG Students Domicile'!$B5:$E5,MATCH(D$2051,'ES33. FT UG Students Domicile'!$B$2:$E$2,0)),\"n/a\")","v":3170},{"$f":"IFERROR(INDEX('ES33. FT UG Students Domicile'!$B5:$E5,MATCH(E$2051,'ES33. FT UG Students Domicile'!$B$2:$E$2,0)),\"n/a\")","v":16320},{"$f":"IFERROR(INDEX('ES33. FT UG Students Domicile'!$B5:$E5,MATCH(F$2051,'ES33. FT UG Students Domicile'!$B$2:$E$2,0)),\"n/a\")","v":127480}]
[null,null,"Non-European Union",{"$f":"IFERROR(INDEX('ES33. FT UG Students Domicile'!$B6:$E6,MATCH(D$2051,'ES33. FT UG Students Domicile'!$B$2:$E$2,0)),\"n/a\")","v":1430},{"$f":"IFERROR(INDEX('ES33. FT UG Students Domicile'!$B6:$E6,MATCH(E$2051,'ES33. FT UG Students Domicile'!$B$2:$E$2,0)),\"n/a\")","v":5540},{"$f":"IFERROR(INDEX('ES33. FT UG Students Domicile'!$B6:$E6,MATCH(F$2051,'ES33. FT UG Students Domicile'!$B$2:$E$2,0)),\"n/a\")","v":65190}]
[]
[]
[]
[]
[]
[]
[]
[]
[]
[]
[]
[]
[]
[]
[]
[]
[]
[]
[]
[]
[]
[]
[]
[]
[]
[]
[]
[]
[]
[]
[]
[]
[]
[]
[]
[]
[]
[]
[]
[]
[]
[]
[]
[]
[]
[null,null,"ES34. HE Students by Subject, 2017/18"]
[null,null,"HEIs","Lancashire ","North West ","England"]
[null,null,"Medicine and Dentistry",{"$f":"IFERROR(INDEX('ES34. HE Students by Subject'!$B4:$Z4,MATCH(D$1901,'ES34. HE Students by Subject'!$B$2:$Z$2,0)),\"n/a\")","v":2.2525192649673977E-2},{"$f":"IFERROR(INDEX('ES34. HE Students by Subject'!$B4:$Z4,MATCH(E$1901,'ES34. HE Students by Subject'!$B$2:$Z$2,0)),\"n/a\")","v":3.2085675808554752E-2},{"$f":"IFERROR(INDEX('ES34. HE Students by Subject'!$B4:$Z4,MATCH(F$1901,'ES34. HE Students by Subject'!$B$2:$Z$2,0)),\"n/a\")","v":2.8114523738900898E-2}]
[null,null,"Subjects allied to Medicine",{"$f":"IFERROR(INDEX('ES34. HE Students by Subject'!$B5:$Z5,MATCH(D$1901,'ES34. HE Students by Subject'!$B$2:$Z$2,0)),\"n/a\")","v":0.20374290795156236},{"$f":"IFERROR(INDEX('ES34. HE Students by Subject'!$B5:$Z5,MATCH(E$1901,'ES34. HE Students by Subject'!$B$2:$Z$2,0)),\"n/a\")","v":0.15290395673457172},{"$f":"IFERROR(INDEX('ES34. HE Students by Subject'!$B5:$Z5,MATCH(F$1901,'ES34. HE Students by Subject'!$B$2:$Z$2,0)),\"n/a\")","v":0.12294209154985179}]
[null,null,"Biological Sciences",{"$f":"IFERROR(INDEX('ES34. HE Students by Subject'!$B6:$Z6,MATCH(D$1901,'ES34. HE Students by Subject'!$B$2:$Z$2,0)),\"n/a\")","v":9.8484206960792617E-2},{"$f":"IFERROR(INDEX('ES34. HE Students by Subject'!$B6:$Z6,MATCH(E$1901,'ES34. HE Students by Subject'!$B$2:$Z$2,0)),\"n/a\")","v":0.10361044013595264},{"$f":"IFERROR(INDEX('ES34. HE Students by Subject'!$B6:$Z6,MATCH(F$1901,'ES34. HE Students by Subject'!$B$2:$Z$2,0)),\"n/a\")","v":9.9855106173672006E-2}]
[null,null,"Veterinary Sciences",{"$f":"IFERROR(INDEX('ES34. HE Students by Subject'!$B7:$Z7,MATCH(D$1901,'ES34. HE Students by Subject'!$B$2:$Z$2,0)),\"n/a\")","v":0},{"$f":"IFERROR(INDEX('ES34. HE Students by Subject'!$B7:$Z7,MATCH(E$1901,'ES34. HE Students by Subject'!$B$2:$Z$2,0)),\"n/a\")","v":8.5077274962057237E-3},{"$f":"IFERROR(INDEX('ES34. HE Students by Subject'!$B7:$Z7,MATCH(F$1901,'ES34. HE Students by Subject'!$B$2:$Z$2,0)),\"n/a\")","v":3.3545374814081376E-3}]
[null,null,"Agriculture and related subjects",{"$f":"IFERROR(INDEX('ES34. HE Students by Subject'!$B8:$Z8,MATCH(D$1901,'ES34. HE Students by Subject'!$B$2:$Z$2,0)),\"n/a\")","v":3.2178846642391397E-3},{"$f":"IFERROR(INDEX('ES34. HE Students by Subject'!$B8:$Z8,MATCH(E$1901,'ES34. HE Students by Subject'!$B$2:$Z$2,0)),\"n/a\")","v":4.9165259400183832E-3},{"$f":"IFERROR(INDEX('ES34. HE Students by Subject'!$B8:$Z8,MATCH(F$1901,'ES34. HE Students by Subject'!$B$2:$Z$2,0)),\"n/a\")","v":7.9723613425832073E-3}]
[null,null,"Physical Sciences",{"$f":"IFERROR(INDEX('ES34. HE Students by Subject'!$B9:$Z9,MATCH(D$1901,'ES34. HE Students by Subject'!$B$2:$Z$2,0)),\"n/a\")","v":5.2248285206198661E-2},{"$f":"IFERROR(INDEX('ES34. HE Students by Subject'!$B9:$Z9,MATCH(E$1901,'ES34. HE Students by Subject'!$B$2:$Z$2,0)),\"n/a\")","v":4.982792159209936E-2},{"$f":"IFERROR(INDEX('ES34. HE Students by Subject'!$B9:$Z9,MATCH(F$1901,'ES34. HE Students by Subject'!$B$2:$Z$2,0)),\"n/a\")","v":4.0851950091652281E-2}]
[null,null,"Mathematical Sciences",{"$f":"IFERROR(INDEX('ES34. HE Students by Subject'!$B10:$Z10,MATCH(D$1901,'ES34. HE Students by Subject'!$B$2:$Z$2,0)),\"n/a\")","v":2.2440511474299263E-2},{"$f":"IFERROR(INDEX('ES34. HE Students by Subject'!$B10:$Z10,MATCH(E$1901,'ES34. HE Students by Subject'!$B$2:$Z$2,0)),\"n/a\")","v":2.0392894551206686E-2},{"$f":"IFERROR(INDEX('ES34. HE Students by Subject'!$B10:$Z10,MATCH(F$1901,'ES34. HE Students by Subject'!$B$2:$Z$2,0)),\"n/a\")","v":1.9023983235848311E-2}]
[null,null,"Computer Science",{"$f":"IFERROR(INDEX('ES34. HE Students by Subject'!$B11:$Z11,MATCH(D$1901,'ES34. HE Students by Subject'!$B$2:$Z$2,0)),\"n/a\")","v":3.8106528918621388E-2},{"$f":"IFERROR(INDEX('ES34. HE Students by Subject'!$B11:$Z11,MATCH(E$1901,'ES34. HE Students by Subject'!$B$2:$Z$2,0)),\"n/a\")","v":3.8370278531882601E-2},{"$f":"IFERROR(INDEX('ES34. HE Students by Subject'!$B11:$Z11,MATCH(F$1901,'ES34. HE Students by Subject'!$B$2:$Z$2,0)),\"n/a\")","v":4.5772791969595772E-2}]
[null,null,"Engineering and Technology",{"$f":"IFERROR(INDEX('ES34. HE Students by Subject'!$B12:$Z12,MATCH(D$1901,'ES34. HE Students by Subject'!$B$2:$Z$2,0)),\"n/a\")","v":3.1162672537894825E-2},{"$f":"IFERROR(INDEX('ES34. HE Students by Subject'!$B12:$Z12,MATCH(E$1901,'ES34. HE Students by Subject'!$B$2:$Z$2,0)),\"n/a\")","v":6.6009704794681601E-2},{"$f":"IFERROR(INDEX('ES34. HE Students by Subject'!$B12:$Z12,MATCH(F$1901,'ES34. HE Students by Subject'!$B$2:$Z$2,0)),\"n/a\")","v":7.04090103047465E-2}]
[null,null,"Architecture, Building and Planning",{"$f":"IFERROR(INDEX('ES34. HE Students by Subject'!$B13:$Z13,MATCH(D$1901,'ES34. HE Students by Subject'!$B$2:$Z$2,0)),\"n/a\")","v":9.3149292912185627E-3},{"$f":"IFERROR(INDEX('ES34. HE Students by Subject'!$B13:$Z13,MATCH(E$1901,'ES34. HE Students by Subject'!$B$2:$Z$2,0)),\"n/a\")","v":2.4368867702699814E-2},{"$f":"IFERROR(INDEX('ES34. HE Students by Subject'!$B13:$Z13,MATCH(F$1901,'ES34. HE Students by Subject'!$B$2:$Z$2,0)),\"n/a\")","v":2.2884262055102331E-2}]
[null,null,"Social studies",{"$f":"IFERROR(INDEX('ES34. HE Students by Subject'!$B14:$Z14,MATCH(D$1901,'ES34. HE Students by Subject'!$B$2:$Z$2,0)),\"n/a\")","v":0.10449657041239732},{"$f":"IFERROR(INDEX('ES34. HE Students by Subject'!$B14:$Z14,MATCH(E$1901,'ES34. HE Students by Subject'!$B$2:$Z$2,0)),\"n/a\")","v":9.1041234689296938E-2},{"$f":"IFERROR(INDEX('ES34. HE Students by Subject'!$B14:$Z14,MATCH(F$1901,'ES34. HE Students by Subject'!$B$2:$Z$2,0)),\"n/a\")","v":9.7887622994372828E-2}]
[null,null,"Law",{"$f":"IFERROR(INDEX('ES34. HE Students by Subject'!$B15:$Z15,MATCH(D$1901,'ES34. HE Students by Subject'!$B$2:$Z$2,0)),\"n/a\")","v":3.5481412482005252E-2},{"$f":"IFERROR(INDEX('ES34. HE Students by Subject'!$B15:$Z15,MATCH(E$1901,'ES34. HE Students by Subject'!$B$2:$Z$2,0)),\"n/a\")","v":3.751523054231419E-2},{"$f":"IFERROR(INDEX('ES34. HE Students by Subject'!$B15:$Z15,MATCH(F$1901,'ES34. HE Students by Subject'!$B$2:$Z$2,0)),\"n/a\")","v":3.9334726078114633E-2}]
[null,null,"Business and Administrative studies",{"$f":"IFERROR(INDEX('ES34. HE Students by Subject'!$B16:$Z16,MATCH(D$1901,'ES34. HE Students by Subject'!$B$2:$Z$2,0)),\"n/a\")","v":0.12448132780082988},{"$f":"IFERROR(INDEX('ES34. HE Students by Subject'!$B16:$Z16,MATCH(E$1901,'ES34. HE Students by Subject'!$B$2:$Z$2,0)),\"n/a\")","v":0.14486650563262862},{"$f":"IFERROR(INDEX('ES34. HE Students by Subject'!$B16:$Z16,MATCH(F$1901,'ES34. HE Students by Subject'!$B$2:$Z$2,0)),\"n/a\")","v":0.14637477353671105}]
[null,null,"Mass Communications and Documentation",{"$f":"IFERROR(INDEX('ES34. HE Students by Subject'!$B17:$Z17,MATCH(D$1901,'ES34. HE Students by Subject'!$B$2:$Z$2,0)),\"n/a\")","v":1.7698365653315267E-2},{"$f":"IFERROR(INDEX('ES34. HE Students by Subject'!$B17:$Z17,MATCH(E$1901,'ES34. HE Students by Subject'!$B$2:$Z$2,0)),\"n/a\")","v":2.1803723733994571E-2},{"$f":"IFERROR(INDEX('ES34. HE Students by Subject'!$B17:$Z17,MATCH(F$1901,'ES34. HE Students by Subject'!$B$2:$Z$2,0)),\"n/a\")","v":2.1919725832712716E-2}]
[null,null,"Languages",{"$f":"IFERROR(INDEX('ES34. HE Students by Subject'!$B18:$Z18,MATCH(D$1901,'ES34. HE Students by Subject'!$B$2:$Z$2,0)),\"n/a\")","v":4.4203573545600811E-2},{"$f":"IFERROR(INDEX('ES34. HE Students by Subject'!$B18:$Z18,MATCH(E$1901,'ES34. HE Students by Subject'!$B$2:$Z$2,0)),\"n/a\")","v":3.7429725743357345E-2},{"$f":"IFERROR(INDEX('ES34. HE Students by Subject'!$B18:$Z18,MATCH(F$1901,'ES34. HE Students by Subject'!$B$2:$Z$2,0)),\"n/a\")","v":4.419155006519155E-2}]
[null,null,"Historical and Philosophical studies",{"$f":"IFERROR(INDEX('ES34. HE Students by Subject'!$B19:$Z19,MATCH(D$1901,'ES34. HE Students by Subject'!$B$2:$Z$2,0)),\"n/a\")","v":2.0408163265306121E-2},{"$f":"IFERROR(INDEX('ES34. HE Students by Subject'!$B19:$Z19,MATCH(E$1901,'ES34. HE Students by Subject'!$B$2:$Z$2,0)),\"n/a\")","v":2.8665483850281098E-2},{"$f":"IFERROR(INDEX('ES34. HE Students by Subject'!$B19:$Z19,MATCH(F$1901,'ES34. HE Students by Subject'!$B$2:$Z$2,0)),\"n/a\")","v":3.589909926827551E-2}]
[null,null,"Creative Arts and Design",{"$f":"IFERROR(INDEX('ES34. HE Students by Subject'!$B20:$Z20,MATCH(D$1901,'ES34. HE Students by Subject'!$B$2:$Z$2,0)),\"n/a\")","v":7.5450927258870357E-2},{"$f":"IFERROR(INDEX('ES34. HE Students by Subject'!$B20:$Z20,MATCH(E$1901,'ES34. HE Students by Subject'!$B$2:$Z$2,0)),\"n/a\")","v":6.6330347790769753E-2},{"$f":"IFERROR(INDEX('ES34. HE Students by Subject'!$B20:$Z20,MATCH(F$1901,'ES34. HE Students by Subject'!$B$2:$Z$2,0)),\"n/a\")","v":7.6145013326390953E-2}]
[null,null,"Education",{"$f":"IFERROR(INDEX('ES34. HE Students by Subject'!$B21:$Z21,MATCH(D$1901,'ES34. HE Students by Subject'!$B$2:$Z$2,0)),\"n/a\")","v":9.6875264628673047E-2},{"$f":"IFERROR(INDEX('ES34. HE Students by Subject'!$B21:$Z21,MATCH(E$1901,'ES34. HE Students by Subject'!$B$2:$Z$2,0)),\"n/a\")","v":6.8788610760778954E-2},{"$f":"IFERROR(INDEX('ES34. HE Students by Subject'!$B21:$Z21,MATCH(F$1901,'ES34. HE Students by Subject'!$B$2:$Z$2,0)),\"n/a\")","v":6.207388091391941E-2}]
[null,null,"Combined",{"$f":"IFERROR(INDEX('ES34. HE Students by Subject'!$B22:$Z22,MATCH(D$1901,'ES34. HE Students by Subject'!$B$2:$Z$2,0)),\"n/a\")","v":0},{"$f":"IFERROR(INDEX('ES34. HE Students by Subject'!$B22:$Z22,MATCH(E$1901,'ES34. HE Students by Subject'!$B$2:$Z$2,0)),\"n/a\")","v":2.6506487676620852E-3},{"$f":"IFERROR(INDEX('ES34. HE Students by Subject'!$B22:$Z22,MATCH(F$1901,'ES34. HE Students by Subject'!$B$2:$Z$2,0)),\"n/a\")","v":1.4988722181559007E-2}]
[null,null,"Initial Teacher Training",{"$f":"IFERROR(INDEX('ES34. HE Students by Subject'!$B23:$Z23,MATCH(D$1901,'ES34. HE Students by Subject'!$B$2:$Z$2,0)),\"n/a\")","v":".."},{"$f":"IFERROR(INDEX('ES34. HE Students by Subject'!$B23:$Z23,MATCH(E$1901,'ES34. HE Students by Subject'!$B$2:$Z$2,0)),\"n/a\")","v":".."},{"$f":"IFERROR(INDEX('ES34. HE Students by Subject'!$B23:$Z23,MATCH(F$1901,'ES34. HE Students by Subject'!$B$2:$Z$2,0)),\"n/a\")","v":".."}]
[null,null,"Geographical Studies",{"$f":"IFERROR(INDEX('ES34. HE Students by Subject'!$B24:$Z24,MATCH(D$1901,'ES34. HE Students by Subject'!$B$2:$Z$2,0)),\"n/a\")","v":".."},{"$f":"IFERROR(INDEX('ES34. HE Students by Subject'!$B24:$Z24,MATCH(E$1901,'ES34. HE Students by Subject'!$B$2:$Z$2,0)),\"n/a\")","v":".."},{"$f":"IFERROR(INDEX('ES34. HE Students by Subject'!$B24:$Z24,MATCH(F$1901,'ES34. HE Students by Subject'!$B$2:$Z$2,0)),\"n/a\")","v":".."}]
[]
[]
[]
[]
[]
[]
[]
[]
[]
[]
[]
[]
[]
[]
[]
[]
[]
[]
[]
[]
[]
[]
[]
[]
[]
[]
[]
[null,null,"ES35. Underrepresented in HE, 2017/18"]
[null,null,null,"Lancashire ","England"]
[null,null,"Number of entrants from state schools or colleges",{"$f":"'ES35. Underrepresented in HE'!B12","v":8205},{"$f":"'ES35. Underrepresented in HE'!E12","v":241330}]
[null,null,"Number of entrants from low participation neighbourhoods",{"$f":"'ES35. Underrepresented in HE'!B13","v":1480},{"$f":"'ES35. Underrepresented in HE'!E13","v":31645}]
[]
[null,null,null,"Lancashire ","England"]
[null,null,"Number of entrants from state schools or colleges",{"$f":"'ES35. Underrepresented in HE'!B16","v":0.96},{"$f":"'ES35. Underrepresented in HE'!E16","v":0.9}]
[null,null,"Number of entrants from low participation neighbourhoods",{"$f":"'ES35. Underrepresented in HE'!B17","v":0.17},{"$f":"'ES35. Underrepresented in HE'!E17","v":0.12}]
[]
[]
[]
[]
[]
[]
[]
[]
[]
[]
[]
[]
[]
[]
[]
[]
[]
[]
[]
[]
[]
[]
[]
[]
[]
[]
[]
[]
[]
[]
[]
[]
[]
[]
[]
[]
[]
[]
[]
[]
[]
[]
[null,null,"ES36. HE Students by Home, Study and Employment Geography, 2010/11-2014/15"]
[null,null,null,"Lancashire ","North West","England (LEP)","England (Region)"]
[null,null,"Stay for study and employment",{"$f":"IFERROR(INDEX('ES36. Home, Study, Emp Geog'!$B4:$Z4,MATCH(D$1701,'ES36. Home, Study, Emp Geog'!$B$2:$Z$2,0)),\"n/a\")","v":0.39300000000000002},{"$f":"IFERROR(INDEX('ES36. Home, Study, Emp Geog'!$B4:$Z4,MATCH(E$1701,'ES36. Home, Study, Emp Geog'!$B$2:$Z$2,0)),\"n/a\")","v":0.628},{"$f":"IFERROR(INDEX('ES36. Home, Study, Emp Geog'!$B4:$Z4,MATCH(F$2201,'ES36. Home, Study, Emp Geog'!$B$2:$Z$2,0)),\"n/a\")","v":0.29299999999999998},{"$f":"IFERROR(INDEX('ES36. Home, Study, Emp Geog'!$B4:$Z4,MATCH(G$2201,'ES36. Home, Study, Emp Geog'!$B$2:$Z$2,0)),\"n/a\")","v":0.44900000000000001}]
[null,null,"Leave for study, return for employment",{"$f":"IFERROR(INDEX('ES36. Home, Study, Emp Geog'!$B5:$Z5,MATCH(D$1701,'ES36. Home, Study, Emp Geog'!$B$2:$Z$2,0)),\"n/a\")","v":0.21299999999999999},{"$f":"IFERROR(INDEX('ES36. Home, Study, Emp Geog'!$B5:$Z5,MATCH(E$1701,'ES36. Home, Study, Emp Geog'!$B$2:$Z$2,0)),\"n/a\")","v":0.16800000000000001},{"$f":"IFERROR(INDEX('ES36. Home, Study, Emp Geog'!$B5:$Z5,MATCH(F$2201,'ES36. Home, Study, Emp Geog'!$B$2:$Z$2,0)),\"n/a\")","v":0.30399999999999999},{"$f":"IFERROR(INDEX('ES36. Home, Study, Emp Geog'!$B5:$Z5,MATCH(G$2201,'ES36. Home, Study, Emp Geog'!$B$2:$Z$2,0)),\"n/a\")","v":0.249}]
[null,null,"Leave for study, do not return",{"$f":"IFERROR(INDEX('ES36. Home, Study, Emp Geog'!$B6:$Z6,MATCH(D$1701,'ES36. Home, Study, Emp Geog'!$B$2:$Z$2,0)),\"n/a\")","v":0.29899999999999999},{"$f":"IFERROR(INDEX('ES36. Home, Study, Emp Geog'!$B6:$Z6,MATCH(E$1701,'ES36. Home, Study, Emp Geog'!$B$2:$Z$2,0)),\"n/a\")","v":0.14899999999999999},{"$f":"IFERROR(INDEX('ES36. Home, Study, Emp Geog'!$B6:$Z6,MATCH(F$2201,'ES36. Home, Study, Emp Geog'!$B$2:$Z$2,0)),\"n/a\")","v":0.34300000000000003},{"$f":"IFERROR(INDEX('ES36. Home, Study, Emp Geog'!$B6:$Z6,MATCH(G$2201,'ES36. Home, Study, Emp Geog'!$B$2:$Z$2,0)),\"n/a\")","v":0.23200000000000001}]
[null,null,"Stay for study, leave for employment",{"$f":"IFERROR(INDEX('ES36. Home, Study, Emp Geog'!$B7:$Z7,MATCH(D$1701,'ES36. Home, Study, Emp Geog'!$B$2:$Z$2,0)),\"n/a\")","v":9.5000000000000001E-2},{"$f":"IFERROR(INDEX('ES36. Home, Study, Emp Geog'!$B7:$Z7,MATCH(E$1701,'ES36. Home, Study, Emp Geog'!$B$2:$Z$2,0)),\"n/a\")","v":5.5E-2},{"$f":"IFERROR(INDEX('ES36. Home, Study, Emp Geog'!$B7:$Z7,MATCH(F$2201,'ES36. Home, Study, Emp Geog'!$B$2:$Z$2,0)),\"n/a\")","v":0.06},{"$f":"IFERROR(INDEX('ES36. Home, Study, Emp Geog'!$B7:$Z7,MATCH(G$2201,'ES36. Home, Study, Emp Geog'!$B$2:$Z$2,0)),\"n/a\")","v":7.0999999999999994E-2}]
[]
[]
[]
[]
[]
[]
[]
[]
[]
[]
[]
[]
[]
[]
[]
[]
[]
[]
[]
[]
[]
[]
[]
[]
[]
[]
[]
[]
[]
[]
[]
[]
[]
[]
[]
[]
[]
[]
[]
[]
[]
[]
[]
[]
[null,null,"ES38. Graduates by Employment LEP, 2016/17"]
[null,null,"For details on graduates by employment LEP, please click here"]
[]
[]
[]
[]
[]
[]
[]
[]
[]
[]
[]
[]
[]
[]
[]
[]
[]
[]
[]
[]
[]
[]
[]
[]
[]
[]
[]
[]
[]
[]
[]
[]
[]
[]
[]
[]
[]
[]
[]
[]
[]
[]
[]
[]
[]
[]
[]
[]
[null,null,"ES39. Graduates by Level, 2017/18"]
[null,null,null,"Lancashire ","North West ","England Minus London"]
[null,null,"First degree",{"$f":"IFERROR(INDEX('ES39. Graduates by Level'!$B16:$Z16,MATCH(D$2301,'ES39. Graduates by Level'!$B$2:$Z$2,0)),\"n/a\")","v":11850},{"$f":"IFERROR(INDEX('ES39. Graduates by Level'!$B16:$Z16,MATCH(E$2301,'ES39. Graduates by Level'!$B$2:$Z$2,0)),\"n/a\")","v":46730},{"$f":"IFERROR(INDEX('ES39. Graduates by Level'!$B16:$Z16,MATCH(F$2301,'ES39. Graduates by Level'!$B$2:$Z$2,0)),\"n/a\")","v":288440}]
[null,null,"Other undergraduate",{"$f":"IFERROR(INDEX('ES39. Graduates by Level'!$B17:$Z17,MATCH(D$2301,'ES39. Graduates by Level'!$B$2:$Z$2,0)),\"n/a\")","v":2410},{"$f":"IFERROR(INDEX('ES39. Graduates by Level'!$B17:$Z17,MATCH(E$2301,'ES39. Graduates by Level'!$B$2:$Z$2,0)),\"n/a\")","v":6560},{"$f":"IFERROR(INDEX('ES39. Graduates by Level'!$B17:$Z17,MATCH(F$2301,'ES39. Graduates by Level'!$B$2:$Z$2,0)),\"n/a\")","v":34460}]
[null,null,"Masters taught",{"$f":"IFERROR(INDEX('ES39. Graduates by Level'!$B18:$Z18,MATCH(D$2301,'ES39. Graduates by Level'!$B$2:$Z$2,0)),\"n/a\")","v":3270},{"$f":"IFERROR(INDEX('ES39. Graduates by Level'!$B18:$Z18,MATCH(E$2301,'ES39. Graduates by Level'!$B$2:$Z$2,0)),\"n/a\")","v":16320},{"$f":"IFERROR(INDEX('ES39. Graduates by Level'!$B18:$Z18,MATCH(F$2301,'ES39. Graduates by Level'!$B$2:$Z$2,0)),\"n/a\")","v":106610}]
[null,null,"Other postgraduate",{"$f":"IFERROR(INDEX('ES39. Graduates by Level'!$B19:$Z19,MATCH(D$2301,'ES39. Graduates by Level'!$B$2:$Z$2,0)),\"n/a\")","v":2825},{"$f":"IFERROR(INDEX('ES39. Graduates by Level'!$B19:$Z19,MATCH(E$2301,'ES39. Graduates by Level'!$B$2:$Z$2,0)),\"n/a\")","v":9840},{"$f":"IFERROR(INDEX('ES39. Graduates by Level'!$B19:$Z19,MATCH(F$2301,'ES39. Graduates by Level'!$B$2:$Z$2,0)),\"n/a\")","v":48985}]
[]
[null,null,null,"Lancashire ","North West ","England Minus London"]
[null,null,"First degree",{"$f":"IFERROR(INDEX('ES39. Graduates by Level'!$B22:$Z22,MATCH(D$2301,'ES39. Graduates by Level'!$B$2:$Z$2,0)),\"n/a\")","v":0.58216654384672073},{"$f":"IFERROR(INDEX('ES39. Graduates by Level'!$B22:$Z22,MATCH(E$2301,'ES39. Graduates by Level'!$B$2:$Z$2,0)),\"n/a\")","v":0.58816865953429831},{"$f":"IFERROR(INDEX('ES39. Graduates by Level'!$B22:$Z22,MATCH(F$2301,'ES39. Graduates by Level'!$B$2:$Z$2,0)),\"n/a\")","v":0.60280671689359344}]
[null,null,"Other undergraduate",{"$f":"IFERROR(INDEX('ES39. Graduates by Level'!$B23:$Z23,MATCH(D$2301,'ES39. Graduates by Level'!$B$2:$Z$2,0)),\"n/a\")","v":0.11839842790469172},{"$f":"IFERROR(INDEX('ES39. Graduates by Level'!$B23:$Z23,MATCH(E$2301,'ES39. Graduates by Level'!$B$2:$Z$2,0)),\"n/a\")","v":8.2567652611705469E-2},{"$f":"IFERROR(INDEX('ES39. Graduates by Level'!$B23:$Z23,MATCH(F$2301,'ES39. Graduates by Level'!$B$2:$Z$2,0)),\"n/a\")","v":7.2017471446932574E-2}]
[null,null,"Masters taught",{"$f":"IFERROR(INDEX('ES39. Graduates by Level'!$B24:$Z24,MATCH(D$2301,'ES39. Graduates by Level'!$B$2:$Z$2,0)),\"n/a\")","v":0.16064848931466469},{"$f":"IFERROR(INDEX('ES39. Graduates by Level'!$B24:$Z24,MATCH(E$2301,'ES39. Graduates by Level'!$B$2:$Z$2,0)),\"n/a\")","v":0.20541220893643802},{"$f":"IFERROR(INDEX('ES39. Graduates by Level'!$B24:$Z24,MATCH(F$2301,'ES39. Graduates by Level'!$B$2:$Z$2,0)),\"n/a\")","v":0.22280274611019968}]
[null,null,"Other postgraduate",{"$f":"IFERROR(INDEX('ES39. Graduates by Level'!$B25:$Z25,MATCH(D$2301,'ES39. Graduates by Level'!$B$2:$Z$2,0)),\"n/a\")","v":0.13878653893392287},{"$f":"IFERROR(INDEX('ES39. Graduates by Level'!$B25:$Z25,MATCH(E$2301,'ES39. Graduates by Level'!$B$2:$Z$2,0)),\"n/a\")","v":0.12385147891755821},{"$f":"IFERROR(INDEX('ES39. Graduates by Level'!$B25:$Z25,MATCH(F$2301,'ES39. Graduates by Level'!$B$2:$Z$2,0)),\"n/a\")","v":0.10237306554927429}]
[]
[]
[]
[]
[]
[]
[]
[]
[]
[]
[]
[]
[]
[]
[]
[]
[]
[]
[]
[]
[]
[]
[]
[]
[]
[]
[]
[]
[]
[]
[]
[]
[]
[]
[]
[]
[]
[]
[null,null,"ES40. Graduates by Employment 1 Year After Graduation, 2014/15"]
[null,null,null,"Lancashire ","North West "]
[null,null,"Activity not captured",{"$f":"IFERROR(INDEX('ES40. Graduates After 1 Year'!$B81:$Z81,MATCH(D$1901,'ES40. Graduates After 1 Year'!$B$2:$Z$2,0)),\"n/a\")","v":4.2148720424915499E-2},{"$f":"IFERROR(INDEX('ES40. Graduates After 1 Year'!$B81:$Z81,MATCH(E$1901,'ES40. Graduates After 1 Year'!$B$2:$Z$2,0)),\"n/a\")","v":4.4999999999999998E-2}]
[null,null,"No sustained destination",{"$f":"IFERROR(INDEX('ES40. Graduates After 1 Year'!$B82:$Z82,MATCH(D$1901,'ES40. Graduates After 1 Year'!$B$2:$Z$2,0)),\"n/a\")","v":7.1291163689039122E-2},{"$f":"IFERROR(INDEX('ES40. Graduates After 1 Year'!$B82:$Z82,MATCH(E$1901,'ES40. Graduates After 1 Year'!$B$2:$Z$2,0)),\"n/a\")","v":0.08}]
[null,null,"Sustained employment only",{"$f":"IFERROR(INDEX('ES40. Graduates After 1 Year'!$B83:$Z83,MATCH(D$1901,'ES40. Graduates After 1 Year'!$B$2:$Z$2,0)),\"n/a\")","v":0.69028005794302261},{"$f":"IFERROR(INDEX('ES40. Graduates After 1 Year'!$B83:$Z83,MATCH(E$1901,'ES40. Graduates After 1 Year'!$B$2:$Z$2,0)),\"n/a\")","v":0.66}]
[null,null,"Sustained employment with or without further study",{"$f":"IFERROR(INDEX('ES40. Graduates After 1 Year'!$B84:$Z84,MATCH(D$1901,'ES40. Graduates After 1 Year'!$B$2:$Z$2,0)),\"n/a\")","v":0.84119748913568326},{"$f":"IFERROR(INDEX('ES40. Graduates After 1 Year'!$B84:$Z84,MATCH(E$1901,'ES40. Graduates After 1 Year'!$B$2:$Z$2,0)),\"n/a\")","v":0.81}]
[null,null,"Further study, sustained employment or both",{"$f":"IFERROR(INDEX('ES40. Graduates After 1 Year'!$B85:$Z85,MATCH(D$1901,'ES40. Graduates After 1 Year'!$B$2:$Z$2,0)),\"n/a\")","v":0.88650507001448575},{"$f":"IFERROR(INDEX('ES40. Graduates After 1 Year'!$B85:$Z85,MATCH(E$1901,'ES40. Graduates After 1 Year'!$B$2:$Z$2,0)),\"n/a\")","v":0.88}]
[]
[]
[]
[]
[]
[]
[]
[]
[]
[]
[]
[]
[]
[]
[]
[]
[]
[]
[]
[]
[]
[]
[]
[]
[]
[]
[]
[]
[]
[]
[]
[]
[]
[]
[]
[]
[]
[]
[]
[]
[]
[]
[]
[null,null,"ES41. Graduates by Employment 1, 3 and 5 Years After Graduation, 2016/17"]
[null,null,"One Year","Lancashire ","North West "]
[null,null,"Activity not captured",{"$f":"IFERROR(INDEX('ES41. Graduates After 1 3 5 Yrs'!$B4:$Z4,MATCH(D$1901,'ES41. Graduates After 1 3 5 Yrs'!$B$2:$Z$2,0)),\"n/a\")","v":4.2148720424915499E-2},{"$f":"IFERROR(INDEX('ES41. Graduates After 1 3 5 Yrs'!$B4:$Z4,MATCH(E$1901,'ES41. Graduates After 1 3 5 Yrs'!$B$2:$Z$2,0)),\"n/a\")","v":4.4999999999999998E-2}]
[null,null,"No sustained destination",{"$f":"IFERROR(INDEX('ES41. Graduates After 1 3 5 Yrs'!$B5:$Z5,MATCH(D$1901,'ES41. Graduates After 1 3 5 Yrs'!$B$2:$Z$2,0)),\"n/a\")","v":7.1291163689039122E-2},{"$f":"IFERROR(INDEX('ES41. Graduates After 1 3 5 Yrs'!$B5:$Z5,MATCH(E$1901,'ES41. Graduates After 1 3 5 Yrs'!$B$2:$Z$2,0)),\"n/a\")","v":0.08}]
[null,null,"Sustained employment only",{"$f":"IFERROR(INDEX('ES41. Graduates After 1 3 5 Yrs'!$B6:$Z6,MATCH(D$1901,'ES41. Graduates After 1 3 5 Yrs'!$B$2:$Z$2,0)),\"n/a\")","v":0.69028005794302261},{"$f":"IFERROR(INDEX('ES41. Graduates After 1 3 5 Yrs'!$B6:$Z6,MATCH(E$1901,'ES41. Graduates After 1 3 5 Yrs'!$B$2:$Z$2,0)),\"n/a\")","v":0.66}]
[null,null,"Sustained employment with or without further study",{"$f":"IFERROR(INDEX('ES41. Graduates After 1 3 5 Yrs'!$B7:$Z7,MATCH(D$1901,'ES41. Graduates After 1 3 5 Yrs'!$B$2:$Z$2,0)),\"n/a\")","v":0.84119748913568326},{"$f":"IFERROR(INDEX('ES41. Graduates After 1 3 5 Yrs'!$B7:$Z7,MATCH(E$1901,'ES41. Graduates After 1 3 5 Yrs'!$B$2:$Z$2,0)),\"n/a\")","v":0.81}]
[null,null,"Further study, sustained employment or both",{"$f":"IFERROR(INDEX('ES41. Graduates After 1 3 5 Yrs'!$B8:$Z8,MATCH(D$1901,'ES41. Graduates After 1 3 5 Yrs'!$B$2:$Z$2,0)),\"n/a\")","v":0.88650507001448575},{"$f":"IFERROR(INDEX('ES41. Graduates After 1 3 5 Yrs'!$B8:$Z8,MATCH(E$1901,'ES41. Graduates After 1 3 5 Yrs'!$B$2:$Z$2,0)),\"n/a\")","v":0.88}]
[]
[null,null,"Three Years","Lancashire ","North West "]
[null,null,"Activity not captured",{"$f":"IFERROR(INDEX('ES41. Graduates After 1 3 5 Yrs'!$B11:$Z11,MATCH(D$1901,'ES41. Graduates After 1 3 5 Yrs'!$B$2:$Z$2,0)),\"n/a\")","v":0.10922460286710887},{"$f":"IFERROR(INDEX('ES41. Graduates After 1 3 5 Yrs'!$B11:$Z11,MATCH(E$1901,'ES41. Graduates After 1 3 5 Yrs'!$B$2:$Z$2,0)),\"n/a\")","v":6.8000000000000005E-2}]
[null,null,"No sustained destination",{"$f":"IFERROR(INDEX('ES41. Graduates After 1 3 5 Yrs'!$B12:$Z12,MATCH(D$1901,'ES41. Graduates After 1 3 5 Yrs'!$B$2:$Z$2,0)),\"n/a\")","v":0.10963212942125029},{"$f":"IFERROR(INDEX('ES41. Graduates After 1 3 5 Yrs'!$B12:$Z12,MATCH(E$1901,'ES41. Graduates After 1 3 5 Yrs'!$B$2:$Z$2,0)),\"n/a\")","v":6.3E-2}]
[null,null,"Sustained employment only",{"$f":"IFERROR(INDEX('ES41. Graduates After 1 3 5 Yrs'!$B13:$Z13,MATCH(D$1901,'ES41. Graduates After 1 3 5 Yrs'!$B$2:$Z$2,0)),\"n/a\")","v":0.71693008244386591},{"$f":"IFERROR(INDEX('ES41. Graduates After 1 3 5 Yrs'!$B13:$Z13,MATCH(E$1901,'ES41. Graduates After 1 3 5 Yrs'!$B$2:$Z$2,0)),\"n/a\")","v":0.72799999999999998}]
[null,null,"Sustained employment with or without further study",{"$f":"IFERROR(INDEX('ES41. Graduates After 1 3 5 Yrs'!$B14:$Z14,MATCH(D$1901,'ES41. Graduates After 1 3 5 Yrs'!$B$2:$Z$2,0)),\"n/a\")","v":0.82557034832462151},{"$f":"IFERROR(INDEX('ES41. Graduates After 1 3 5 Yrs'!$B14:$Z14,MATCH(E$1901,'ES41. Graduates After 1 3 5 Yrs'!$B$2:$Z$2,0)),\"n/a\")","v":0.83799999999999997}]
[null,null,"Further study, sustained employment or both",{"$f":"IFERROR(INDEX('ES41. Graduates After 1 3 5 Yrs'!$B15:$Z15,MATCH(D$1901,'ES41. Graduates After 1 3 5 Yrs'!$B$2:$Z$2,0)),\"n/a\")","v":0.88836817197406981},{"$f":"IFERROR(INDEX('ES41. Graduates After 1 3 5 Yrs'!$B15:$Z15,MATCH(E$1901,'ES41. Graduates After 1 3 5 Yrs'!$B$2:$Z$2,0)),\"n/a\")","v":0.86899999999999999}]
[]
[null,null,"Five Years","Lancashire ","North West "]
[null,null,"Activity not captured",{"$f":"IFERROR(INDEX('ES41. Graduates After 1 3 5 Yrs'!$B18:$Z18,MATCH(D$1901,'ES41. Graduates After 1 3 5 Yrs'!$B$2:$Z$2,0)),\"n/a\")","v":7.529678735339114E-2},{"$f":"IFERROR(INDEX('ES41. Graduates After 1 3 5 Yrs'!$B18:$Z18,MATCH(E$1901,'ES41. Graduates After 1 3 5 Yrs'!$B$2:$Z$2,0)),\"n/a\")","v":8.1000000000000003E-2}]
[null,null,"No sustained destination",{"$f":"IFERROR(INDEX('ES41. Graduates After 1 3 5 Yrs'!$B19:$Z19,MATCH(D$1901,'ES41. Graduates After 1 3 5 Yrs'!$B$2:$Z$2,0)),\"n/a\")","v":5.5932687404385513E-2},{"$f":"IFERROR(INDEX('ES41. Graduates After 1 3 5 Yrs'!$B19:$Z19,MATCH(E$1901,'ES41. Graduates After 1 3 5 Yrs'!$B$2:$Z$2,0)),\"n/a\")","v":5.6000000000000001E-2}]
[null,null,"Sustained employment only",{"$f":"IFERROR(INDEX('ES41. Graduates After 1 3 5 Yrs'!$B20:$Z20,MATCH(D$1901,'ES41. Graduates After 1 3 5 Yrs'!$B$2:$Z$2,0)),\"n/a\")","v":0.77329984701682819},{"$f":"IFERROR(INDEX('ES41. Graduates After 1 3 5 Yrs'!$B20:$Z20,MATCH(E$1901,'ES41. Graduates After 1 3 5 Yrs'!$B$2:$Z$2,0)),\"n/a\")","v":0.76200000000000001}]
[null,null,"Sustained employment with or without further study",{"$f":"IFERROR(INDEX('ES41. Graduates After 1 3 5 Yrs'!$B21:$Z21,MATCH(D$1901,'ES41. Graduates After 1 3 5 Yrs'!$B$2:$Z$2,0)),\"n/a\")","v":0.85473125956144813},{"$f":"IFERROR(INDEX('ES41. Graduates After 1 3 5 Yrs'!$B21:$Z21,MATCH(E$1901,'ES41. Graduates After 1 3 5 Yrs'!$B$2:$Z$2,0)),\"n/a\")","v":0.84399999999999997}]
[null,null,"Further study, sustained employment or both",{"$f":"IFERROR(INDEX('ES41. Graduates After 1 3 5 Yrs'!$B22:$Z22,MATCH(D$1901,'ES41. Graduates After 1 3 5 Yrs'!$B$2:$Z$2,0)),\"n/a\")","v":0.86869556348801624},{"$f":"IFERROR(INDEX('ES41. Graduates After 1 3 5 Yrs'!$B22:$Z22,MATCH(E$1901,'ES41. Graduates After 1 3 5 Yrs'!$B$2:$Z$2,0)),\"n/a\")","v":0.86299999999999999}]

{"sheet":"LA Summary","index":3,"n_rows":2420,"n_cols":28,"rows_kept":2420,"cut":false,"hidden":false,"merged":[[1211,2,1211,6],[826,2,826,6],[876,2,876,6],[963,2,963,6],[1126,2,1126,6],[1163,2,1163,6],[913,2,913,6],[1076,2,1076,6],[2,3,2,7],[3,3,3,7],[12,3,12,4],[12,5,12,6],[12,7,12,8],[8,7,8,8],[8,3,8,4],[8,5,8,6],[6,7,6,8],[6,3,6,4],[6,5,6,6],[10,3,10,4],[10,5,10,6],[6,13,6,14],[6,9,6,10],[6,11,6,12],[8,13,8,14],[6,21,6,22],[8,21,8,22],[8,11,8,12],[8,15,8,16],[8,17,8,18],[8,19,8,20],[8,9,8,10],[6,23,6,24],[6,25,6,26],[6,27,6,28],[6,15,6,16],[6,17,6,18],[6,19,6,20],[10,15,10,16],[10,11,10,12],[10,7,10,8],[10,13,10,14],[10,9,10,10],[12,23,12,24],[14,3,14,4],[14,5,14,6],[579,2,579,6],[12,9,12,10],[12,11,12,12],[12,13,12,14],[12,15,12,16],[12,17,12,18],[12,19,12,20],[12,21,12,22],[14,7,14,8],[14,9,14,10]]}
["Blackburn with Darwen ",null,"Education, Skills and Employment System Indicators: Local Authority Summary"]
["Blackpool"]
["Burnley",null,"Summary Statistics for: ","Chorley "]
["Chorley ",null,"Corresponding TTWA:",{"$f":"INDEX('ONS LA Codes'!F4:F17,MATCH(D3,'ONS LA Codes'!E4:E17,0))","v":"Preston, Chorley and South Ribble "}]
["Fylde"]
["Hyndburn"]
["Lancaster ",null,"Schools","KS1 Phonics",null,"KS2 Achievements",null,"GCSE Results - Attainment",null,"GCSE Results - Progress",null,"GCSE Results - Ebacc",null,"Participation of 16s and 17s",null,"L2 Attainment by Age 19",null,"L2 Attainment Maths and English",null,"L3 Attainment by Age 19",null,"Attainment by FSM",null,"Destinations by KS4",null,"Destinations by KS5",null,"Schools by Ofsted Rating"]
["Pendle "]
[null,null,"Apprenticeships","Learner Perspective: Apprenticeship Starts by Age",null,"Learner Perspective: Apprenticeship Starts by Subject",null,"Provider Perspective: Apprenticeship Starts by Subject",null,"Learner Perspective: Apprenticeship Starts by Level",null,"Provider Perspective: Apprenticeship Starts by Level",null,"Learner Perspective: Apprenticeship Achievements by Age",null,"Learner Perspective: Apprenticeship Achievements by Subject",null,"Provider Perspective: Apprenticeship Achievements by Subject",null,"Learner Perspective: Apprenticeship Achievements by Level",null,"Provider Perspective: Apprenticeship Achievements by Level"]
[]
[null,null,"Further Education","FE Travel Time",null,"Provider Perspective: FE and Skills Funded Learners by Provider Type",null,"Provider Perspective: FE and Skills Provision by Learner Characteristics",null,"Ofsted Provider Rating",null,"Learner Perspective - Number of FE Learners (Participation and Achievements)",null,"Learner Perspective: FE and Skills Participation by Characteristics",null,"Learner Perspective: FE and Skills Achievements by Characteristics"]
[]
[null,null,"Higher Education","Total HE Students",null,"HEI Students by Institution",null,"HEI Students by Domicile ",null,"HE Students by Ethnicity",null,"HE Students by Age",null,"HE Students by Gender",null,"HE Students by Level",null,"FT Undergraduate Students by Domicile",null,"HE Students by Subject",null,"Underrepresented in HE",null,"HE Students by Geography"]
[]
[null,null,"Graduates","Graduates by Employment LEP",null,"Graduates by Level",null,"Graduates 1 Year After Graduation",null,"Graduates 1, 3 and 5 Years After Graduation"]
["Wyre ",null,"Back to top"]
[]
[]
[]
[]
[]
[]
[]
[]
[]
[]
[]
[]
[]
[]
[]
[]
[]
[]
[]
[]
[]
[]
[]
[]
[]
[]
[]
[]
[]
[]
[]
[]
[]
[]
[]
[null,null,"ES1. KS1 Phonics Assessment, 2012, 2017 & 2019"]
[null,null,2012,{"$f":"D$3","v":"Chorley "},"Lancashire ","North West ","England"]
[null,null,"Year 1 - percentage meeting standard",{"$f":"INDEX('ES1. KS1 Phonics Assessment'!$B4:$Y4,MATCH($D$3,'ES1. KS1 Phonics Assessment'!$B$2:$F$2,0))","v":{"$error":"#N/A"}},{"$f":"INDEX('ES1. KS1 Phonics Assessment'!$B4:$Y4,MATCH(E$53,'ES1. KS1 Phonics Assessment'!$B$2:$F$2,0))","v":0.62},{"$f":"INDEX('ES1. KS1 Phonics Assessment'!$B4:$Y4,MATCH(F$53,'ES1. KS1 Phonics Assessment'!$B$2:$F$2,0))","v":0.57999999999999996},{"$f":"INDEX('ES1. KS1 Phonics Assessment'!$B4:$Y4,MATCH(G53,'ES1. KS1 Phonics Assessment'!$B$2:$F$2,0))","v":0.57999999999999996}]
[null,null,"Year 2 - percentage meeting standard",{"$f":"INDEX('ES1. KS1 Phonics Assessment'!$B5:$Y5,MATCH($D$3,'ES1. KS1 Phonics Assessment'!$B$2:$F$2,0))","v":{"$error":"#N/A"}},{"$f":"INDEX('ES1. KS1 Phonics Assessment'!$B5:$Y5,MATCH(E$53,'ES1. KS1 Phonics Assessment'!$B$2:$F$2,0))","v":"na"},{"$f":"INDEX('ES1. KS1 Phonics Assessment'!$B5:$Y5,MATCH(F$53,'ES1. KS1 Phonics Assessment'!$B$2:$F$2,0))","v":"na"},{"$f":"INDEX('ES1. KS1 Phonics Assessment'!$B5:$Y5,MATCH(G$53,'ES1. KS1 Phonics Assessment'!$B$2:$F$2,0))","v":"na"}]
[]
[null,null,2017,{"$f":"D$3","v":"Chorley "},"Lancashire ","North West ","England"]
[null,null,"Year 1 - percentage meeting standard",{"$f":"INDEX('ES1. KS1 Phonics Assessment'!$B8:$Y8,MATCH($D$3,'ES1. KS1 Phonics Assessment'!$B$2:$F$2,0))","v":{"$error":"#N/A"}},{"$f":"INDEX('ES1. KS1 Phonics Assessment'!$B8:$Y8,MATCH(E$53,'ES1. KS1 Phonics Assessment'!$B$2:$F$2,0))","v":0.81},{"$f":"INDEX('ES1. KS1 Phonics Assessment'!$B8:$Y8,MATCH(F$53,'ES1. KS1 Phonics Assessment'!$B$2:$F$2,0))","v":0.8},{"$f":"INDEX('ES1. KS1 Phonics Assessment'!$B8:$Y8,MATCH(G57,'ES1. KS1 Phonics Assessment'!$B$2:$F$2,0))","v":0.81}]
[null,null,"Year 2 - percentage meeting standard",{"$f":"INDEX('ES1. KS1 Phonics Assessment'!$B9:$Y9,MATCH($D$3,'ES1. KS1 Phonics Assessment'!$B$2:$F$2,0))","v":{"$error":"#N/A"}},{"$f":"INDEX('ES1. KS1 Phonics Assessment'!$B9:$Y9,MATCH(E$53,'ES1. KS1 Phonics Assessment'!$B$2:$F$2,0))","v":0.92},{"$f":"INDEX('ES1. KS1 Phonics Assessment'!$B9:$Y9,MATCH(F$53,'ES1. KS1 Phonics Assessment'!$B$2:$F$2,0))","v":0.91},{"$f":"INDEX('ES1. KS1 Phonics Assessment'!$B9:$Y9,MATCH(G$53,'ES1. KS1 Phonics Assessment'!$B$2:$F$2,0))","v":0.92}]
[]
[null,null,2019,{"$f":"D$3","v":"Chorley "},"Lancashire ","North West ","England"]
[null,null,"Year 1 - percentage meeting standard",{"$f":"INDEX('ES1. KS1 Phonics Assessment'!$B12:$Y12,MATCH($D$3,'ES1. KS1 Phonics Assessment'!$B$2:$F$2,0))","v":{"$error":"#N/A"}},{"$f":"INDEX('ES1. KS1 Phonics Assessment'!$B12:$Y12,MATCH(E$53,'ES1. KS1 Phonics Assessment'!$B$2:$F$2,0))","v":0.81},{"$f":"INDEX('ES1. KS1 Phonics Assessment'!$B12:$Y12,MATCH(F$53,'ES1. KS1 Phonics Assessment'!$B$2:$F$2,0))","v":0.81},{"$f":"INDEX('ES1. KS1 Phonics Assessment'!$B12:$Y12,MATCH(G61,'ES1. KS1 Phonics Assessment'!$B$2:$F$2,0))","v":0.82}]
[null,null,"Year 2 - percentage meeting standard",{"$f":"INDEX('ES1. KS1 Phonics Assessment'!$B13:$Y13,MATCH($D$3,'ES1. KS1 Phonics Assessment'!$B$2:$F$2,0))","v":{"$error":"#N/A"}},{"$f":"INDEX('ES1. KS1 Phonics Assessment'!$B13:$Y13,MATCH(E$53,'ES1. KS1 Phonics Assessment'!$B$2:$F$2,0))","v":0.91},{"$f":"INDEX('ES1. KS1 Phonics Assessment'!$B13:$Y13,MATCH(F$53,'ES1. KS1 Phonics Assessment'!$B$2:$F$2,0))","v":0.91},{"$f":"INDEX('ES1. KS1 Phonics Assessment'!$B13:$Y13,MATCH(G$53,'ES1. KS1 Phonics Assessment'!$B$2:$F$2,0))","v":0.91}]
[]
[]
[]
[]
[]
[]
[]
[]
[]
[]
[]
[]
[]
[]
[]
[]
[]
[]
[]
[]
[]
[]
[]
[]
[]
[]
[]
[]
[]
[]
[]
[]
[]
[]
[]
[]
[]
[]
[null,null,"ES2. KS2 Achievement, 2019"]
[null,null,null,{"$f":"D$3","v":"Chorley "},{"$f":"D$4","v":"Preston, Chorley and South Ribble "},"Lancashire ","England Minus London"]
[null,null,"Reaching expected standard",{"$f":"INDEX('ES2. KS2 Achievement'!$B7:$Z7,MATCH(D$3,'ES2. KS2 Achievement'!$B$2:$Z$2,0))","v":0.68},{"$f":"INDEX('ES2. KS2 Achievement'!$B7:$Z7,MATCH(D$4,'ES2. KS2 Achievement'!$B$2:$Z$2,0))","v":0.65101442531409959},{"$f":"INDEX('ES2. KS2 Achievement'!$B7:$Z7,MATCH(F$103,'ES2. KS2 Achievement'!$B$2:$Z$2,0))","v":0.63},{"$f":"INDEX('ES2. KS2 Achievement'!$B7:$Z7,MATCH(G$103,'ES2. KS2 Achievement'!$B$2:$Z$2,0))","v":0.64268949229121741}]
[]
[]
[]
[]
[]
[]
[]
[]
[]
[]
[]
[]
[]
[]
[]
[]
[]
[]
[]
[]
[]
[]
[]
[]
[]
[]
[]
[]
[]
[]
[]
[]
[]
[]
[]
[]
[]
[]
[]
[]
[]
[]
[]
[]
[]
[]
[]
[null,null,"ES3. GCSE Results - Attainment, 2017/18"]
[null,null,null,{"$f":"D$3","v":"Chorley "},{"$f":"D$4","v":"Preston, Chorley and South Ribble "},"Lancashire ","England Minus London"]
[null,null,"Average attainment 8 score per pupil",{"$f":"INDEX('ES3. GCSE Results - Attainment'!$B6:$Z6,MATCH(D$3,'ES3. GCSE Results - Attainment'!$B$2:$Z$2,0))","v":49.5},{"$f":"INDEX('ES3. GCSE Results - Attainment'!$B6:$Z6,MATCH(D$4,'ES3. GCSE Results - Attainment'!$B$2:$Z$2,0))","v":49.314012380416429},{"$f":"INDEX('ES3. GCSE Results - Attainment'!$B6:$Z6,MATCH(F$153,'ES3. GCSE Results - Attainment'!$B$2:$Z$2,0))","v":45.849216407740528},{"$f":"INDEX('ES3. GCSE Results - Attainment'!$B6:$Z6,MATCH(G$153,'ES3. GCSE Results - Attainment'!$B$2:$Z$2,0))","v":43.715365016761986}]
[]
[]
[]
[]
[]
[]
[]
[]
[]
[]
[]
[]
[]
[]
[]
[]
[]
[]
[]
[]
[]
[]
[]
[]
[]
[]
[]
[]
[]
[]
[]
[]
[]
[]
[]
[]
[]
[]
[]
[]
[]
[]
[]
[]
[]
[]
[]
[null,null,"ES4. GCSE Results - Progress, 2017/18"]
[null,null,null,{"$f":"D$3","v":"Chorley "},{"$f":"D$4","v":"Preston, Chorley and South Ribble "},"Lancashire ","England Minus London"]
[null,null,"Overall progress 8 score",{"$f":"INDEX('ES4. GCSE Results - Progress'!$B6:$Z6,MATCH(D$3,'ES4. GCSE Results - Progress'!$B$2:$Z$2,0))","v":0.05},{"$f":"INDEX('ES4. GCSE Results - Progress'!$B6:$Z6,MATCH(D$4,'ES4. GCSE Results - Progress'!$B$2:$Z$2,0))","v":8.8773213280810351E-2},{"$f":"INDEX('ES4. GCSE Results - Progress'!$B6:$Z6,MATCH(F$203,'ES4. GCSE Results - Progress'!$B$2:$Z$2,0))","v":-0.11543608612701009},{"$f":"INDEX('ES4. GCSE Results - Progress'!$B6:$Z6,MATCH(G$203,'ES4. GCSE Results - Progress'!$B$2:$Z$2,0))","v":-5.7722835732597122E-2}]
[]
[]
[]
[]
[]
[]
[]
[]
[]
[]
[]
[]
[]
[]
[]
[]
[]
[]
[]
[]
[]
[]
[]
[]
[]
[]
[]
[]
[]
[]
[]
[]
[]
[]
[]
[]
[]
[]
[]
[]
[]
[]
[]
[]
[]
[]
[]
[null,null,"ES5. GCSE Results - English Baccaleureate, 2017/18"]
[null,null,null,{"$f":"D$3","v":"Chorley "},{"$f":"D$4","v":"Preston, Chorley and South Ribble "},"Lancashire ","England Minus London"]
[null,null,"% achieving English Bacc inc 9-5",{"$f":"INDEX('ES5. GCSE Results - Ebacc'!$B6:$Z6,MATCH(D$3,'ES5. GCSE Results - Ebacc'!$B$2:$Z$2,0))","v":0.188},{"$f":"INDEX('ES5. GCSE Results - Ebacc'!$B6:$Z6,MATCH(D$4,'ES5. GCSE Results - Ebacc'!$B$2:$Z$2,0))","v":0.17854361283061337},{"$f":"INDEX('ES5. GCSE Results - Ebacc'!$B6:$Z6,MATCH(F$103,'ES5. GCSE Results - Ebacc'!$B$2:$Z$2,0))","v":0.1323039656582175},{"$f":"INDEX('ES5. GCSE Results - Ebacc'!$B6:$Z6,MATCH(G$103,'ES5. GCSE Results - Ebacc'!$B$2:$Z$2,0))","v":0.14132512719384738}]
[]
[]
[]
[]
[]
[]
[]
[]
[]
[]
[]
[]
[]
[]
[]
[]
[]
[]
[]
[]
[]
[]
[]
[]
[]
[]
[]
[]
[]
[]
[]
[]
[]
[]
[]
[]
[]
[]
[]
[]
[]
[]
[]
[]
[]
[]
[]
[null,null,"ES6. Participation of 16 and 17 Year Olds, 2013-19"]
[null,null,null,{"$f":"D$3","v":"Chorley "},"Lancashire ","North West ","England Minus London"]
[null,null,2013,{"$f":"INDEX('ES6. Participation of 16s & 17s'!$B4:$G4,MATCH(D$3,'ES6. Participation of 16s & 17s'!$B$2:$G$2,0))","v":{"$error":"#N/A"}},{"$f":"INDEX('ES6. Participation of 16s & 17s'!$B4:$G4,MATCH(E$303,'ES6. Participation of 16s & 17s'!$B$2:$G$2,0))","v":0.87723507569265924},{"$f":"INDEX('ES6. Participation of 16s & 17s'!$B4:$G4,MATCH(F$303,'ES6. Participation of 16s & 17s'!$B$2:$G$2,0))","v":0.88800000000000001},{"$f":"INDEX('ES6. Participation of 16s & 17s'!$B4:$G4,MATCH(G$303,'ES6. Participation of 16s & 17s'!$B$2:$G$2,0))","v":0.87915322119005779}]
[null,null,2014,{"$f":"INDEX('ES6. Participation of 16s & 17s'!$B5:$G5,MATCH(D$3,'ES6. Participation of 16s & 17s'!$B$2:$G$2,0))","v":{"$error":"#N/A"}},{"$f":"INDEX('ES6. Participation of 16s & 17s'!$B5:$G5,MATCH(E$303,'ES6. Participation of 16s & 17s'!$B$2:$G$2,0))","v":0.89142484731389149},{"$f":"INDEX('ES6. Participation of 16s & 17s'!$B5:$G5,MATCH(F$303,'ES6. Participation of 16s & 17s'!$B$2:$G$2,0))","v":0.89874086626942906},{"$f":"INDEX('ES6. Participation of 16s & 17s'!$B5:$G5,MATCH(G$303,'ES6. Participation of 16s & 17s'!$B$2:$G$2,0))","v":0.89230686087969247}]
[null,null,2015,{"$f":"INDEX('ES6. Participation of 16s & 17s'!$B6:$G6,MATCH(D$3,'ES6. Participation of 16s & 17s'!$B$2:$G$2,0))","v":{"$error":"#N/A"}},{"$f":"INDEX('ES6. Participation of 16s & 17s'!$B6:$G6,MATCH(E$303,'ES6. Participation of 16s & 17s'!$B$2:$G$2,0))","v":0.88453665090229883},{"$f":"INDEX('ES6. Participation of 16s & 17s'!$B6:$G6,MATCH(F$303,'ES6. Participation of 16s & 17s'!$B$2:$G$2,0))","v":0.89812105250323115},{"$f":"INDEX('ES6. Participation of 16s & 17s'!$B6:$G6,MATCH(G$303,'ES6. Participation of 16s & 17s'!$B$2:$G$2,0))","v":0.88855066678214589}]
[null,null,2016,{"$f":"INDEX('ES6. Participation of 16s & 17s'!$B7:$G7,MATCH(D$3,'ES6. Participation of 16s & 17s'!$B$2:$G$2,0))","v":{"$error":"#N/A"}},{"$f":"INDEX('ES6. Participation of 16s & 17s'!$B7:$G7,MATCH(E$303,'ES6. Participation of 16s & 17s'!$B$2:$G$2,0))","v":0.88453665090229883},{"$f":"INDEX('ES6. Participation of 16s & 17s'!$B7:$G7,MATCH(F$303,'ES6. Participation of 16s & 17s'!$B$2:$G$2,0))","v":0.90328863306496632},{"$f":"INDEX('ES6. Participation of 16s & 17s'!$B7:$G7,MATCH(G$303,'ES6. Participation of 16s & 17s'!$B$2:$G$2,0))","v":0.90675043089141572}]
[null,null,2017,{"$f":"INDEX('ES6. Participation of 16s & 17s'!$B8:$G8,MATCH(D$3,'ES6. Participation of 16s & 17s'!$B$2:$G$2,0))","v":{"$error":"#N/A"}},{"$f":"INDEX('ES6. Participation of 16s & 17s'!$B8:$G8,MATCH(E$303,'ES6. Participation of 16s & 17s'!$B$2:$G$2,0))","v":0.88884685485293691},{"$f":"INDEX('ES6. Participation of 16s & 17s'!$B8:$G8,MATCH(F$303,'ES6. Participation of 16s & 17s'!$B$2:$G$2,0))","v":0.90595338106403522},{"$f":"INDEX('ES6. Participation of 16s & 17s'!$B8:$G8,MATCH(G$303,'ES6. Participation of 16s & 17s'!$B$2:$G$2,0))","v":0.90878129268553087}]
[null,null,2018,{"$f":"INDEX('ES6. Participation of 16s & 17s'!$B9:$G9,MATCH(D$3,'ES6. Participation of 16s & 17s'!$B$2:$G$2,0))","v":{"$error":"#N/A"}},{"$f":"INDEX('ES6. Participation of 16s & 17s'!$B9:$G9,MATCH(E$303,'ES6. Participation of 16s & 17s'!$B$2:$G$2,0))","v":0.89},{"$f":"INDEX('ES6. Participation of 16s & 17s'!$B9:$G9,MATCH(F$303,'ES6. Participation of 16s & 17s'!$B$2:$G$2,0))","v":0.91},{"$f":"INDEX('ES6. Participation of 16s & 17s'!$B9:$G9,MATCH(G$303,'ES6. Participation of 16s & 17s'!$B$2:$G$2,0))","v":0.92}]
[null,null,2019,{"$f":"INDEX('ES6. Participation of 16s & 17s'!$B10:$G10,MATCH(D$3,'ES6. Participation of 16s & 17s'!$B$2:$G$2,0))","v":{"$error":"#N/A"}},{"$f":"INDEX('ES6. Participation of 16s & 17s'!$B10:$G10,MATCH(E$303,'ES6. Participation of 16s & 17s'!$B$2:$G$2,0))","v":0.90028355387523629},{"$f":"INDEX('ES6. Participation of 16s & 17s'!$B10:$G10,MATCH(F$303,'ES6. Participation of 16s & 17s'!$B$2:$G$2,0))","v":0.92},{"$f":"INDEX('ES6. Participation of 16s & 17s'!$B10:$G10,MATCH(G$303,'ES6. Participation of 16s & 17s'!$B$2:$G$2,0))","v":0.92}]
[]
[]
[]
[]
[]
[]
[]
[]
[]
[]
[]
[]
[]
[]
[]
[]
[]
[]
[]
[]
[]
[]
[]
[]
[]
[]
[]
[]
[]
[]
[]
[]
[]
[]
[]
[]
[]
[]
[]
[]
[]
[null,null,"ES7. L2 Attainment by Age 19"]
[null,null,null,{"$f":"D$3","v":"Chorley "},{"$f":"D$4","v":"Preston, Chorley and South Ribble "},"Lancashire ","England Minus London"]
[null,null,"% Qualified to L2",{"$f":"IFERROR(INDEX('ES7. L2 Attainment by Age 19'!$B7:$Z7,MATCH(D$3,'ES7. L2 Attainment by Age 19'!$B$2:$Z$2,0)),\"n/a\")","v":0.85608856088560881},{"$f":"IFERROR(INDEX('ES7. L2 Attainment by Age 19'!$B7:$Z7,MATCH(D$4,'ES7. L2 Attainment by Age 19'!$B$2:$Z$2,0)),\"n/a\")","v":0.83950617283950613},{"$f":"IFERROR(INDEX('ES7. L2 Attainment by Age 19'!$B7:$Z7,MATCH(F$353,'ES7. L2 Attainment by Age 19'!$B$2:$Z$2,0)),\"n/a\")","v":0.81851966553112421},{"$f":"IFERROR(INDEX('ES7. L2 Attainment by Age 19'!$B7:$Z7,MATCH(G$353,'ES7. L2 Attainment by Age 19'!$B$2:$Z$2,0)),\"n/a\")","v":0.79}]
[]
[]
[]
[]
[]
[]
[]
[]
[]
[]
[]
[]
[]
[]
[]
[]
[]
[]
[]
[]
[]
[]
[]
[]
[]
[]
[]
[]
[]
[]
[]
[]
[]
[]
[]
[]
[]
[]
[]
[]
[]
[]
[]
[]
[]
[]
[]
[null,null,"ES8. L2 Maths and English Attainment by Age 19, 2017/18"]
[null,null,null,{"$f":"D$3","v":"Chorley "},{"$f":"D$4","v":"Preston, Chorley and South Ribble "},"Lancashire ","England Minus London"]
[null,null,"% Qualified to L2 with English and Maths",{"$f":"IFERROR(INDEX('ES8. L2 Attainment MathsEnglish'!$B7:$Z7,MATCH(D$3,'ES8. L2 Attainment MathsEnglish'!$B$2:$Z$2,0)),\"n/a\")","v":0.76014760147601479},{"$f":"IFERROR(INDEX('ES8. L2 Attainment MathsEnglish'!$B7:$Z7,MATCH(D$4,'ES8. L2 Attainment MathsEnglish'!$B$2:$Z$2,0)),\"n/a\")","v":0.74814814814814812},{"$f":"IFERROR(INDEX('ES8. L2 Attainment MathsEnglish'!$B7:$Z7,MATCH(F$403,'ES8. L2 Attainment MathsEnglish'!$B$2:$Z$2,0)),\"n/a\")","v":0.71786930938371007},{"$f":"IFERROR(INDEX('ES8. L2 Attainment MathsEnglish'!$B7:$Z7,MATCH(G$403,'ES8. L2 Attainment MathsEnglish'!$B$2:$Z$2,0)),\"n/a\")","v":0.7}]
[]
[]
[]
[]
[]
[]
[]
[]
[]
[]
[]
[]
[]
[]
[]
[]
[]
[]
[]
[]
[]
[]
[]
[]
[]
[]
[]
[]
[]
[]
[]
[]
[]
[]
[]
[]
[]
[]
[]
[]
[]
[]
[]
[]
[]
[]
[]
[null,null,"ES9. L3 Attainment by Age 19, 2017/18"]
[null,null,null,{"$f":"D$3","v":"Chorley "},{"$f":"D$4","v":"Preston, Chorley and South Ribble "},"Lancashire ","England Minus London"]
[null,null,"% Qualified to L3",{"$f":"INDEX('ES9. L3 Attainment by Age 19'!$B7:$Z7,MATCH(D$3,'ES9. L3 Attainment by Age 19'!$B$2:$Z$2,0))","v":0.64206642066420661},{"$f":"INDEX('ES9. L3 Attainment by Age 19'!$B7:$Z7,MATCH(D$4,'ES9. L3 Attainment by Age 19'!$B$2:$Z$2,0))","v":0.6308641975308642},{"$f":"INDEX('ES9. L3 Attainment by Age 19'!$B7:$Z7,MATCH(F$453,'ES9. L3 Attainment by Age 19'!$B$2:$Z$2,0))","v":0.58748838649736757},{"$f":"INDEX('ES9. L3 Attainment by Age 19'!$B7:$Z7,MATCH(G$453,'ES9. L3 Attainment by Age 19'!$B$2:$Z$2,0))","v":0.56000000000000005}]
[]
[]
[]
[]
[]
[]
[]
[]
[]
[]
[]
[]
[]
[]
[]
[]
[]
[]
[]
[]
[]
[]
[]
[]
[]
[]
[]
[]
[]
[]
[]
[]
[]
[]
[]
[]
[]
[]
[]
[]
[]
[]
[]
[]
[]
[]
[]
[null,null,"ES10. Attainment by FSM Eligibility by Age 19, 2017/18"]
[null,null,null,{"$f":"D$3","v":"Chorley "},{"$f":"D$4","v":"Preston, Chorley and South Ribble "},"Lancashire ","England Minus London"]
[null,null,"FSM Eligible Percentage who attained Level 3 at 19",{"$f":"INDEX('ES10. Attainment by FSM'!$B10:$Z10,MATCH(D$3,'ES10. Attainment by FSM'!$B$2:$Z$2,0))","v":0.36},{"$f":"INDEX('ES10. Attainment by FSM'!$B10:$Z10,MATCH(D$4,'ES10. Attainment by FSM'!$B$2:$Z$2,0))","v":0.3707865168539326},{"$f":"INDEX('ES10. Attainment by FSM'!$B10:$Z10,MATCH(F$503,'ES10. Attainment by FSM'!$B$2:$Z$2,0))","v":0.33333333333333331},{"$f":"INDEX('ES10. Attainment by FSM'!$B10:$Z10,MATCH(G$503,'ES10. Attainment by FSM'!$B$2:$Z$2,0))","v":0.31}]
[null,null,"All others Percentage who attained Level 3 at 19",{"$f":"INDEX('ES10. Attainment by FSM'!$B11:$Z11,MATCH(D$3,'ES10. Attainment by FSM'!$B$2:$Z$2,0))","v":0.67073170731707321},{"$f":"INDEX('ES10. Attainment by FSM'!$B11:$Z11,MATCH(D$4,'ES10. Attainment by FSM'!$B$2:$Z$2,0))","v":0.66527777777777775},{"$f":"INDEX('ES10. Attainment by FSM'!$B11:$Z11,MATCH(F$503,'ES10. Attainment by FSM'!$B$2:$Z$2,0))","v":0.62804878048780488},{"$f":"INDEX('ES10. Attainment by FSM'!$B11:$Z11,MATCH(G$503,'ES10. Attainment by FSM'!$B$2:$Z$2,0))","v":0.6}]
[null,null,"FSM Eligible Percentage who attained Level 2 at 19",{"$f":"INDEX('ES10. Attainment by FSM'!$B12:$Z12,MATCH(D$3,'ES10. Attainment by FSM'!$B$2:$Z$2,0))","v":0.68},{"$f":"INDEX('ES10. Attainment by FSM'!$B12:$Z12,MATCH(D$4,'ES10. Attainment by FSM'!$B$2:$Z$2,0))","v":0.651685393258427},{"$f":"INDEX('ES10. Attainment by FSM'!$B12:$Z12,MATCH(F$503,'ES10. Attainment by FSM'!$B$2:$Z$2,0))","v":0.59637188208616776},{"$f":"INDEX('ES10. Attainment by FSM'!$B12:$Z12,MATCH(G$503,'ES10. Attainment by FSM'!$B$2:$Z$2,0))","v":0.6}]
[null,null,"All others Percentage who attained Level 2 at 19",{"$f":"INDEX('ES10. Attainment by FSM'!$B13:$Z13,MATCH(D$3,'ES10. Attainment by FSM'!$B$2:$Z$2,0))","v":0.87398373983739841},{"$f":"INDEX('ES10. Attainment by FSM'!$B13:$Z13,MATCH(D$4,'ES10. Attainment by FSM'!$B$2:$Z$2,0))","v":0.86388888888888893},{"$f":"INDEX('ES10. Attainment by FSM'!$B13:$Z13,MATCH(F$503,'ES10. Attainment by FSM'!$B$2:$Z$2,0))","v":0.85329985652797702},{"$f":"INDEX('ES10. Attainment by FSM'!$B13:$Z13,MATCH(G$503,'ES10. Attainment by FSM'!$B$2:$Z$2,0))","v":0.85}]
[]
[]
[]
[]
[]
[]
[]
[]
[]
[]
[]
[]
[]
[]
[]
[]
[]
[]
[]
[]
[]
[]
[]
[]
[]
[]
[]
[]
[]
[]
[]
[]
[]
[]
[]
[]
[]
[]
[]
[]
[]
[]
[]
[]
[null,null,"ES11. Destinations by KS4, 2016/17"]
[null,null,null,{"$f":"D$3","v":"Chorley "},{"$f":"D$4","v":"Preston, Chorley and South Ribble "},"Lancashire ","England Minus London"]
[null,null,"Percentage of pupils in overall sustained education and/or employment / training destination",{"$f":"INDEX('ES11. Destinations by KS4'!$B6:$Z6,MATCH(D$3,'ES11. Destinations by KS4'!$B$2:$Z$2,0))","v":0.97},{"$f":"INDEX('ES11. Destinations by KS4'!$B6:$Z6,MATCH(D$4,'ES11. Destinations by KS4'!$B$2:$Z$2,0))","v":0.95414141414141407},{"$f":"INDEX('ES11. Destinations by KS4'!$B6:$Z6,MATCH(F$553,'ES11. Destinations by KS4'!$B$2:$Z$2,0))","v":0.95},{"$f":"INDEX('ES11. Destinations by KS4'!$B6:$Z6,MATCH(G$553,'ES11. Destinations by KS4'!$B$2:$Z$2,0))","v":0.95}]
[]
[]
[]
[]
[]
[]
[]
[]
[]
[]
[]
[]
[]
[]
[]
[]
[]
[]
[]
[]
[]
[]
[]
[]
[]
[]
[]
[]
[]
[]
[]
[]
[]
[]
[]
[]
[]
[]
[]
[]
[]
[]
[]
[]
[]
[]
[]
[null,null,"ES12. Destinations by KS5, 2016/17"]
[null,null,null,{"$f":"D$3","v":"Chorley "},{"$f":"D$4","v":"Preston, Chorley and South Ribble "},"Lancashire ","England Minus London"]
[null,null,"Apprenticeships",{"$f":"IFERROR(INDEX('ES12. Destinations by KS5'!$B28:$Z28,MATCH(D$3,'ES12. Destinations by KS5'!$B$2:$Z$2,0)),\"n/a\")","v":0.09},{"$f":"IFERROR(INDEX('ES12. Destinations by KS5'!$B28:$Z28,MATCH(D$4,'ES12. Destinations by KS5'!$B$2:$Z$2,0)),\"n/a\")","v":0.09},{"$f":"IFERROR(INDEX('ES12. Destinations by KS5'!$B28:$Z28,MATCH(F$603,'ES12. Destinations by KS5'!$B$2:$Z$2,0)),\"n/a\")","v":0.09},{"$f":"IFERROR(INDEX('ES12. Destinations by KS5'!$B28:$Z28,MATCH(G$603,'ES12. Destinations by KS5'!$B$2:$Z$2,0)),\"n/a\")","v":7.0000000000000007E-2}]
[null,null,"Further education college or other FE provider",{"$f":"IFERROR(INDEX('ES12. Destinations by KS5'!$B29:$Z29,MATCH(D$3,'ES12. Destinations by KS5'!$B$2:$Z$2,0)),\"n/a\")","v":7.0000000000000007E-2},{"$f":"IFERROR(INDEX('ES12. Destinations by KS5'!$B29:$Z29,MATCH(D$4,'ES12. Destinations by KS5'!$B$2:$Z$2,0)),\"n/a\")","v":6.0043010752688183E-2},{"$f":"IFERROR(INDEX('ES12. Destinations by KS5'!$B29:$Z29,MATCH(F$603,'ES12. Destinations by KS5'!$B$2:$Z$2,0)),\"n/a\")","v":0.15},{"$f":"IFERROR(INDEX('ES12. Destinations by KS5'!$B29:$Z29,MATCH(G$603,'ES12. Destinations by KS5'!$B$2:$Z$2,0)),\"n/a\")","v":7.0000000000000007E-2}]
[null,null,"UK higher education institution",{"$f":"IFERROR(INDEX('ES12. Destinations by KS5'!$B30:$Z30,MATCH(D$3,'ES12. Destinations by KS5'!$B$2:$Z$2,0)),\"n/a\")","v":0.56999999999999995},{"$f":"IFERROR(INDEX('ES12. Destinations by KS5'!$B30:$Z30,MATCH(D$4,'ES12. Destinations by KS5'!$B$2:$Z$2,0)),\"n/a\")","v":0.55819354838709678},{"$f":"IFERROR(INDEX('ES12. Destinations by KS5'!$B30:$Z30,MATCH(F$603,'ES12. Destinations by KS5'!$B$2:$Z$2,0)),\"n/a\")","v":0.44},{"$f":"IFERROR(INDEX('ES12. Destinations by KS5'!$B30:$Z30,MATCH(G$603,'ES12. Destinations by KS5'!$B$2:$Z$2,0)),\"n/a\")","v":0.5}]
[null,null,"Top third of HEIs",{"$f":"IFERROR(INDEX('ES12. Destinations by KS5'!$B31:$Z31,MATCH(D$3,'ES12. Destinations by KS5'!$B$2:$Z$2,0)),\"n/a\")","v":0.22},{"$f":"IFERROR(INDEX('ES12. Destinations by KS5'!$B31:$Z31,MATCH(D$4,'ES12. Destinations by KS5'!$B$2:$Z$2,0)),\"n/a\")","v":0.19911827956989248},{"$f":"IFERROR(INDEX('ES12. Destinations by KS5'!$B31:$Z31,MATCH(F$603,'ES12. Destinations by KS5'!$B$2:$Z$2,0)),\"n/a\")","v":0.09},{"$f":"IFERROR(INDEX('ES12. Destinations by KS5'!$B31:$Z31,MATCH(G$603,'ES12. Destinations by KS5'!$B$2:$Z$2,0)),\"n/a\")","v":0.18}]
[null,null,"Other higher education institutions or providers",{"$f":"IFERROR(INDEX('ES12. Destinations by KS5'!$B32:$Z32,MATCH(D$3,'ES12. Destinations by KS5'!$B$2:$Z$2,0)),\"n/a\")","v":0.35},{"$f":"IFERROR(INDEX('ES12. Destinations by KS5'!$B32:$Z32,MATCH(D$4,'ES12. Destinations by KS5'!$B$2:$Z$2,0)),\"n/a\")","v":0.35995698924731184},{"$f":"IFERROR(INDEX('ES12. Destinations by KS5'!$B32:$Z32,MATCH(F$603,'ES12. Destinations by KS5'!$B$2:$Z$2,0)),\"n/a\")","v":0.35},{"$f":"IFERROR(INDEX('ES12. Destinations by KS5'!$B32:$Z32,MATCH(G$603,'ES12. Destinations by KS5'!$B$2:$Z$2,0)),\"n/a\")","v":0.33}]
[null,null,"Other education destinations",{"$f":"IFERROR(INDEX('ES12. Destinations by KS5'!$B33:$Z33,MATCH(D$3,'ES12. Destinations by KS5'!$B$2:$Z$2,0)),\"n/a\")","v":0.01},{"$f":"IFERROR(INDEX('ES12. Destinations by KS5'!$B33:$Z33,MATCH(D$4,'ES12. Destinations by KS5'!$B$2:$Z$2,0)),\"n/a\")","v":1.8193548387096775E-2},{"$f":"IFERROR(INDEX('ES12. Destinations by KS5'!$B33:$Z33,MATCH(F$603,'ES12. Destinations by KS5'!$B$2:$Z$2,0)),\"n/a\")","v":0.01},{"$f":"IFERROR(INDEX('ES12. Destinations by KS5'!$B33:$Z33,MATCH(G$603,'ES12. Destinations by KS5'!$B$2:$Z$2,0)),\"n/a\")","v":0.03}]
[null,null,"Destination not sustained",{"$f":"IFERROR(INDEX('ES12. Destinations by KS5'!$B34:$Z34,MATCH(D$3,'ES12. Destinations by KS5'!$B$2:$Z$2,0)),\"n/a\")","v":0.06},{"$f":"IFERROR(INDEX('ES12. Destinations by KS5'!$B34:$Z34,MATCH(D$4,'ES12. Destinations by KS5'!$B$2:$Z$2,0)),\"n/a\")","v":6.273118279569892E-2},{"$f":"IFERROR(INDEX('ES12. Destinations by KS5'!$B34:$Z34,MATCH(F$603,'ES12. Destinations by KS5'!$B$2:$Z$2,0)),\"n/a\")","v":0.13},{"$f":"IFERROR(INDEX('ES12. Destinations by KS5'!$B34:$Z34,MATCH(G$603,'ES12. Destinations by KS5'!$B$2:$Z$2,0)),\"n/a\")","v":7.0000000000000007E-2}]
[null,null,"Activity not captured in data",{"$f":"IFERROR(INDEX('ES12. Destinations by KS5'!$B35:$Z35,MATCH(D$3,'ES12. Destinations by KS5'!$B$2:$Z$2,0)),\"n/a\")","v":0.02},{"$f":"IFERROR(INDEX('ES12. Destinations by KS5'!$B35:$Z35,MATCH(D$4,'ES12. Destinations by KS5'!$B$2:$Z$2,0)),\"n/a\")","v":2.3612903225806454E-2},{"$f":"IFERROR(INDEX('ES12. Destinations by KS5'!$B35:$Z35,MATCH(F$603,'ES12. Destinations by KS5'!$B$2:$Z$2,0)),\"n/a\")","v":0.05},{"$f":"IFERROR(INDEX('ES12. Destinations by KS5'!$B35:$Z35,MATCH(G$603,'ES12. Destinations by KS5'!$B$2:$Z$2,0)),\"n/a\")","v":0.04}]
[null,null,"Any sustained education destination",{"$f":"IFERROR(INDEX('ES12. Destinations by KS5'!$B36:$Z36,MATCH(D$3,'ES12. Destinations by KS5'!$B$2:$Z$2,0)),\"n/a\")","v":0.65},{"$f":"IFERROR(INDEX('ES12. Destinations by KS5'!$B36:$Z36,MATCH(D$4,'ES12. Destinations by KS5'!$B$2:$Z$2,0)),\"n/a\")","v":0.64004301075268821},{"$f":"IFERROR(INDEX('ES12. Destinations by KS5'!$B36:$Z36,MATCH(F$603,'ES12. Destinations by KS5'!$B$2:$Z$2,0)),\"n/a\")","v":0.61},{"$f":"IFERROR(INDEX('ES12. Destinations by KS5'!$B36:$Z36,MATCH(G$603,'ES12. Destinations by KS5'!$B$2:$Z$2,0)),\"n/a\")","v":0.6}]
[null,null,"Sustained employment destination",{"$f":"IFERROR(INDEX('ES12. Destinations by KS5'!$B37:$Z37,MATCH(D$3,'ES12. Destinations by KS5'!$B$2:$Z$2,0)),\"n/a\")","v":0.18},{"$f":"IFERROR(INDEX('ES12. Destinations by KS5'!$B37:$Z37,MATCH(D$4,'ES12. Destinations by KS5'!$B$2:$Z$2,0)),\"n/a\")","v":0.18361290322580645},{"$f":"IFERROR(INDEX('ES12. Destinations by KS5'!$B37:$Z37,MATCH(F$603,'ES12. Destinations by KS5'!$B$2:$Z$2,0)),\"n/a\")","v":0.22},{"$f":"IFERROR(INDEX('ES12. Destinations by KS5'!$B37:$Z37,MATCH(G$603,'ES12. Destinations by KS5'!$B$2:$Z$2,0)),\"n/a\")","v":0.23}]
[null,null,"Sustained employment and education",{"$f":"IFERROR(INDEX('ES12. Destinations by KS5'!$B38:$Z38,MATCH(D$3,'ES12. Destinations by KS5'!$B$2:$Z$2,0)),\"n/a\")","v":0.83000000000000007},{"$f":"IFERROR(INDEX('ES12. Destinations by KS5'!$B38:$Z38,MATCH(D$4,'ES12. Destinations by KS5'!$B$2:$Z$2,0)),\"n/a\")","v":0.82365591397849469},{"$f":"IFERROR(INDEX('ES12. Destinations by KS5'!$B38:$Z38,MATCH(F$603,'ES12. Destinations by KS5'!$B$2:$Z$2,0)),\"n/a\")","v":0.83},{"$f":"IFERROR(INDEX('ES12. Destinations by KS5'!$B38:$Z38,MATCH(G$603,'ES12. Destinations by KS5'!$B$2:$Z$2,0)),\"n/a\")","v":0.83}]
[]
[]
[]
[]
[]
[]
[]
[]
[]
[]
[]
[]
[]
[]
[]
[]
[]
[]
[]
[]
[]
[]
[]
[]
[]
[]
[]
[]
[]
[]
[]
[]
[]
[]
[]
[]
[]
[null,null,"ES13. Primary Schools by Ofsted Rating, 2017"]
[null,null,null,{"$f":"D$3","v":"Chorley "},{"$f":"D$4","v":"Preston, Chorley and South Ribble "},"Lancashire ","England Minus London"]
[null,null,"% pupils in primary schools rated as oustanding",{"$f":"IFERROR(INDEX('ES13. Schools by Ofsted Rating'!$B4:$Z4,MATCH(D$3,'ES13. Schools by Ofsted Rating'!$B$2:$Z$2,0)),\"n/a\")","v":0.23860898711637163},{"$f":"IFERROR(INDEX('ES13. Schools by Ofsted Rating'!$B4:$Z4,MATCH(D$4,'ES13. Schools by Ofsted Rating'!$B$2:$Z$2,0)),\"n/a\")","v":0.21040701356711891},{"$f":"IFERROR(INDEX('ES13. Schools by Ofsted Rating'!$B4:$Z4,MATCH(F$653,'ES13. Schools by Ofsted Rating'!$B$2:$Z$2,0)),\"n/a\")","v":0.19389132080439719},{"$f":"IFERROR(INDEX('ES13. Schools by Ofsted Rating'!$B4:$Z4,MATCH(G$653,'ES13. Schools by Ofsted Rating'!$B$2:$Z$2,0)),\"n/a\")","v":0.18191135160246191}]
[null,null,"% pupils in primary schools rated as good",{"$f":"IFERROR(INDEX('ES13. Schools by Ofsted Rating'!$B5:$Z5,MATCH(D$3,'ES13. Schools by Ofsted Rating'!$B$2:$Z$2,0)),\"n/a\")","v":0.76139101288362832},{"$f":"IFERROR(INDEX('ES13. Schools by Ofsted Rating'!$B5:$Z5,MATCH(D$4,'ES13. Schools by Ofsted Rating'!$B$2:$Z$2,0)),\"n/a\")","v":0.75249174972499089},{"$f":"IFERROR(INDEX('ES13. Schools by Ofsted Rating'!$B5:$Z5,MATCH(F$653,'ES13. Schools by Ofsted Rating'!$B$2:$Z$2,0)),\"n/a\")","v":0.74554849751505781},{"$f":"IFERROR(INDEX('ES13. Schools by Ofsted Rating'!$B5:$Z5,MATCH(G$653,'ES13. Schools by Ofsted Rating'!$B$2:$Z$2,0)),\"n/a\")","v":0.71827307431811827}]
[null,null,"% pupils in primary schools rated as requires improvement",{"$f":"IFERROR(INDEX('ES13. Schools by Ofsted Rating'!$B6:$Z6,MATCH(D$3,'ES13. Schools by Ofsted Rating'!$B$2:$Z$2,0)),\"n/a\")","v":0},{"$f":"IFERROR(INDEX('ES13. Schools by Ofsted Rating'!$B6:$Z6,MATCH(D$4,'ES13. Schools by Ofsted Rating'!$B$2:$Z$2,0)),\"n/a\")","v":3.7101236707890263E-2},{"$f":"IFERROR(INDEX('ES13. Schools by Ofsted Rating'!$B6:$Z6,MATCH(F$653,'ES13. Schools by Ofsted Rating'!$B$2:$Z$2,0)),\"n/a\")","v":5.906263370964026E-2},{"$f":"IFERROR(INDEX('ES13. Schools by Ofsted Rating'!$B6:$Z6,MATCH(G$653,'ES13. Schools by Ofsted Rating'!$B$2:$Z$2,0)),\"n/a\")","v":8.7651727031770058E-2}]
[null,null,"% pupils in primary schools rated as inadequate",{"$f":"IFERROR(INDEX('ES13. Schools by Ofsted Rating'!$B7:$Z7,MATCH(D$3,'ES13. Schools by Ofsted Rating'!$B$2:$Z$2,0)),\"n/a\")","v":0},{"$f":"IFERROR(INDEX('ES13. Schools by Ofsted Rating'!$B7:$Z7,MATCH(D$4,'ES13. Schools by Ofsted Rating'!$B$2:$Z$2,0)),\"n/a\")","v":0},{"$f":"IFERROR(INDEX('ES13. Schools by Ofsted Rating'!$B7:$Z7,MATCH(F$653,'ES13. Schools by Ofsted Rating'!$B$2:$Z$2,0)),\"n/a\")","v":1.4975479709047822E-3},{"$f":"IFERROR(INDEX('ES13. Schools by Ofsted Rating'!$B7:$Z7,MATCH(G$653,'ES13. Schools by Ofsted Rating'!$B$2:$Z$2,0)),\"n/a\")","v":1.2163847047649784E-2}]
[]
[null,null,"ES13. Secondary Schools by Ofsted Rating, 2017"]
[null,null,null,{"$f":"D$3","v":"Chorley "},{"$f":"D$4","v":"Preston, Chorley and South Ribble "},"Lancashire ","England Minus London"]
[null,null,"% pupils in secondary schools rated as oustanding",{"$f":"IFERROR(INDEX('ES13. Schools by Ofsted Rating'!$B10:$Z10,MATCH(D$3,'ES13. Schools by Ofsted Rating'!$B$2:$Z$2,0)),\"n/a\")","v":0.30115316380839741},{"$f":"IFERROR(INDEX('ES13. Schools by Ofsted Rating'!$B10:$Z10,MATCH(D$4,'ES13. Schools by Ofsted Rating'!$B$2:$Z$2,0)),\"n/a\")","v":0.41831220645421946},{"$f":"IFERROR(INDEX('ES13. Schools by Ofsted Rating'!$B10:$Z10,MATCH(F$660,'ES13. Schools by Ofsted Rating'!$B$2:$Z$2,0)),\"n/a\")","v":0.21465836864406779},{"$f":"IFERROR(INDEX('ES13. Schools by Ofsted Rating'!$B10:$Z10,MATCH(G$660,'ES13. Schools by Ofsted Rating'!$B$2:$Z$2,0)),\"n/a\")","v":0.22940154121017797}]
[null,null,"% pupils in secondary schools rated as good",{"$f":"IFERROR(INDEX('ES13. Schools by Ofsted Rating'!$B11:$Z11,MATCH(D$3,'ES13. Schools by Ofsted Rating'!$B$2:$Z$2,0)),\"n/a\")","v":0.69884683619160259},{"$f":"IFERROR(INDEX('ES13. Schools by Ofsted Rating'!$B11:$Z11,MATCH(D$4,'ES13. Schools by Ofsted Rating'!$B$2:$Z$2,0)),\"n/a\")","v":0.4614918438462704},{"$f":"IFERROR(INDEX('ES13. Schools by Ofsted Rating'!$B11:$Z11,MATCH(F$660,'ES13. Schools by Ofsted Rating'!$B$2:$Z$2,0)),\"n/a\")","v":0.58244173728813564},{"$f":"IFERROR(INDEX('ES13. Schools by Ofsted Rating'!$B11:$Z11,MATCH(G$660,'ES13. Schools by Ofsted Rating'!$B$2:$Z$2,0)),\"n/a\")","v":0.57007051871968339}]
[null,null,"% pupils in secondary schools rated as requires improvement",{"$f":"IFERROR(INDEX('ES13. Schools by Ofsted Rating'!$B12:$Z12,MATCH(D$3,'ES13. Schools by Ofsted Rating'!$B$2:$Z$2,0)),\"n/a\")","v":0},{"$f":"IFERROR(INDEX('ES13. Schools by Ofsted Rating'!$B12:$Z12,MATCH(D$4,'ES13. Schools by Ofsted Rating'!$B$2:$Z$2,0)),\"n/a\")","v":0.12019594969951013},{"$f":"IFERROR(INDEX('ES13. Schools by Ofsted Rating'!$B12:$Z12,MATCH(F$660,'ES13. Schools by Ofsted Rating'!$B$2:$Z$2,0)),\"n/a\")","v":0.17319915254237289},{"$f":"IFERROR(INDEX('ES13. Schools by Ofsted Rating'!$B12:$Z12,MATCH(G$660,'ES13. Schools by Ofsted Rating'!$B$2:$Z$2,0)),\"n/a\")","v":0.15518715263320276}]
[null,null,"% pupils in secondary schools rated as inadequate",{"$f":"IFERROR(INDEX('ES13. Schools by Ofsted Rating'!$B13:$Z13,MATCH(D$3,'ES13. Schools by Ofsted Rating'!$B$2:$Z$2,0)),\"n/a\")","v":0},{"$f":"IFERROR(INDEX('ES13. Schools by Ofsted Rating'!$B13:$Z13,MATCH(D$4,'ES13. Schools by Ofsted Rating'!$B$2:$Z$2,0)),\"n/a\")","v":0},{"$f":"IFERROR(INDEX('ES13. Schools by Ofsted Rating'!$B13:$Z13,MATCH(F$660,'ES13. Schools by Ofsted Rating'!$B$2:$Z$2,0)),\"n/a\")","v":2.9700741525423728E-2},{"$f":"IFERROR(INDEX('ES13. Schools by Ofsted Rating'!$B13:$Z13,MATCH(G$660,'ES13. Schools by Ofsted Rating'!$B$2:$Z$2,0)),\"n/a\")","v":4.5340787436935828E-2}]
[]
[]
[]
[]
[]
[]
[]
[]
[]
[]
[]
[]
[]
[]
[]
[]
[]
[]
[]
[]
[]
[]
[]
[]
[]
[]
[]
[]
[]
[]
[]
[]
[]
[]
[]
[]
[]
[]
[]
[]
[]
[]
[]
[]
[]
[]
[]
[]
[]
[]
[]
[]
[]
[]
[]
[]
[]
[]
[]
[]
[]
[]
[]
[]
[]
[]
[]
[]
[]
[]
[]
[]
[]
[]
[]
[]
[]
[]
[]
[]
[]
[]
[]
[]
[]
[null,null,"ES15. Learner Perspective: Apprenticeship Starts by Age 2018/19"]
[null,null,null,{"$f":"D$3","v":"Chorley "},{"$f":"D$4","v":"Preston, Chorley and South Ribble "},"Lancashire ","England Minus London"]
[null,null,"Under 19",{"$f":"IFERROR(INDEX('ES15. Learn. App Starts by Age'!$B28:$Z28,MATCH(D$3,'ES15. Learn. App Starts by Age'!$B$2:$Z$2,0)),\"n/a\")","v":270},{"$f":"IFERROR(INDEX('ES15. Learn. App Starts by Age'!$B28:$Z28,MATCH(E$751,'ES15. Learn. App Starts by Age'!$B$2:$Z$2,0)),\"n/a\")","v":860},{"$f":"IFERROR(INDEX('ES15. Learn. App Starts by Age'!$B28:$Z28,MATCH(F$751,'ES15. Learn. App Starts by Age'!$B$2:$Z$2,0)),\"n/a\")","v":3730},{"$f":"IFERROR(INDEX('ES15. Learn. App Starts by Age'!$B28:$Z28,MATCH(G$751,'ES15. Learn. App Starts by Age'!$B$2:$Z$2,0)),\"n/a\")","v":91220}]
[null,null,"19-24",{"$f":"IFERROR(INDEX('ES15. Learn. App Starts by Age'!$B29:$Z29,MATCH(D$3,'ES15. Learn. App Starts by Age'!$B$2:$Z$2,0)),\"n/a\")","v":290},{"$f":"IFERROR(INDEX('ES15. Learn. App Starts by Age'!$B29:$Z29,MATCH(E$751,'ES15. Learn. App Starts by Age'!$B$2:$Z$2,0)),\"n/a\")","v":970},{"$f":"IFERROR(INDEX('ES15. Learn. App Starts by Age'!$B29:$Z29,MATCH(F$751,'ES15. Learn. App Starts by Age'!$B$2:$Z$2,0)),\"n/a\")","v":3570},{"$f":"IFERROR(INDEX('ES15. Learn. App Starts by Age'!$B29:$Z29,MATCH(G$751,'ES15. Learn. App Starts by Age'!$B$2:$Z$2,0)),\"n/a\")","v":103680}]
[null,null,"25+",{"$f":"IFERROR(INDEX('ES15. Learn. App Starts by Age'!$B30:$Z30,MATCH(D$3,'ES15. Learn. App Starts by Age'!$B$2:$Z$2,0)),\"n/a\")","v":460},{"$f":"IFERROR(INDEX('ES15. Learn. App Starts by Age'!$B30:$Z30,MATCH(E$751,'ES15. Learn. App Starts by Age'!$B$2:$Z$2,0)),\"n/a\")","v":1660},{"$f":"IFERROR(INDEX('ES15. Learn. App Starts by Age'!$B30:$Z30,MATCH(F$751,'ES15. Learn. App Starts by Age'!$B$2:$Z$2,0)),\"n/a\")","v":5790},{"$f":"IFERROR(INDEX('ES15. Learn. App Starts by Age'!$B30:$Z30,MATCH(G$751,'ES15. Learn. App Starts by Age'!$B$2:$Z$2,0)),\"n/a\")","v":158430}]
[null,null,"Total",{"$f":"IFERROR(INDEX('ES15. Learn. App Starts by Age'!$B31:$Z31,MATCH(D$3,'ES15. Learn. App Starts by Age'!$B$2:$Z$2,0)),\"n/a\")","v":1020},{"$f":"IFERROR(INDEX('ES15. Learn. App Starts by Age'!$B31:$Z31,MATCH(E$751,'ES15. Learn. App Starts by Age'!$B$2:$Z$2,0)),\"n/a\")","v":3490},{"$f":"IFERROR(INDEX('ES15. Learn. App Starts by Age'!$B31:$Z31,MATCH(F$751,'ES15. Learn. App Starts by Age'!$B$2:$Z$2,0)),\"n/a\")","v":13090},{"$f":"IFERROR(INDEX('ES15. Learn. App Starts by Age'!$B31:$Z31,MATCH(G$751,'ES15. Learn. App Starts by Age'!$B$2:$Z$2,0)),\"n/a\")","v":353330}]
[]
[null,null,null,{"$f":"D$3","v":"Chorley "},{"$f":"D$4","v":"Preston, Chorley and South Ribble "},"Lancashire ","England Minus London"]
[null,null,"Under 19",{"$f":"IFERROR(INDEX('ES15. Learn. App Starts by Age'!$B34:$Z34,MATCH(D$3,'ES15. Learn. App Starts by Age'!$B$2:$Z$2,0)),\"n/a\")","v":0.26470588235294118},{"$f":"IFERROR(INDEX('ES15. Learn. App Starts by Age'!$B34:$Z34,MATCH(E$751,'ES15. Learn. App Starts by Age'!$B$2:$Z$2,0)),\"n/a\")","v":0.24641833810888253},{"$f":"IFERROR(INDEX('ES15. Learn. App Starts by Age'!$B34:$Z34,MATCH(F$751,'ES15. Learn. App Starts by Age'!$B$2:$Z$2,0)),\"n/a\")","v":0.28495034377387318},{"$f":"IFERROR(INDEX('ES15. Learn. App Starts by Age'!$B34:$Z34,MATCH(G$751,'ES15. Learn. App Starts by Age'!$B$2:$Z$2,0)),\"n/a\")","v":0.25817224690798968}]
[null,null,"19-24",{"$f":"IFERROR(INDEX('ES15. Learn. App Starts by Age'!$B35:$Z35,MATCH(D$3,'ES15. Learn. App Starts by Age'!$B$2:$Z$2,0)),\"n/a\")","v":0.28431372549019607},{"$f":"IFERROR(INDEX('ES15. Learn. App Starts by Age'!$B35:$Z35,MATCH(E$751,'ES15. Learn. App Starts by Age'!$B$2:$Z$2,0)),\"n/a\")","v":0.27793696275071633},{"$f":"IFERROR(INDEX('ES15. Learn. App Starts by Age'!$B35:$Z35,MATCH(F$751,'ES15. Learn. App Starts by Age'!$B$2:$Z$2,0)),\"n/a\")","v":0.27272727272727271},{"$f":"IFERROR(INDEX('ES15. Learn. App Starts by Age'!$B35:$Z35,MATCH(G$751,'ES15. Learn. App Starts by Age'!$B$2:$Z$2,0)),\"n/a\")","v":0.2934367305351937}]
[null,null,"25+",{"$f":"IFERROR(INDEX('ES15. Learn. App Starts by Age'!$B36:$Z36,MATCH(D$3,'ES15. Learn. App Starts by Age'!$B$2:$Z$2,0)),\"n/a\")","v":0.45098039215686275},{"$f":"IFERROR(INDEX('ES15. Learn. App Starts by Age'!$B36:$Z36,MATCH(E$751,'ES15. Learn. App Starts by Age'!$B$2:$Z$2,0)),\"n/a\")","v":0.47564469914040114},{"$f":"IFERROR(INDEX('ES15. Learn. App Starts by Age'!$B36:$Z36,MATCH(F$751,'ES15. Learn. App Starts by Age'!$B$2:$Z$2,0)),\"n/a\")","v":0.44232238349885411},{"$f":"IFERROR(INDEX('ES15. Learn. App Starts by Age'!$B36:$Z36,MATCH(G$751,'ES15. Learn. App Starts by Age'!$B$2:$Z$2,0)),\"n/a\")","v":0.44839102255681657}]
[]
[]
[]
[]
[]
[]
[]
[]
[]
[]
[]
[]
[]
[]
[]
[]
[]
[]
[]
[]
[]
[]
[]
[]
[]
[]
[]
[]
[]
[]
[]
[]
[]
[]
[]
[]
[]
[]
[]
[null,null,"ES16a: Learner Perspective: Apprenticeship Starts by Subject 2018/19"]
[null,null,null,{"$f":"D$3","v":"Chorley "},{"$f":"D$4","v":"Preston, Chorley and South Ribble "},"Lancashire ","England Minus London"]
[null,null,"Agriculture, Horticulture and Animal Care",{"$f":"IFERROR(INDEX('ES16a. Learn App Starts Subject'!$B60:$Z60,MATCH(D$3,'ES16a. Learn App Starts Subject'!$B$2:$Z$2,0)),\"n/a\")","v":20},{"$f":"IFERROR(INDEX('ES16a. Learn App Starts Subject'!$B60:$Z60,MATCH(E$801,'ES16a. Learn App Starts Subject'!$B$2:$Z$2,0)),\"n/a\")","v":30},{"$f":"IFERROR(INDEX('ES16a. Learn App Starts Subject'!$B60:$Z60,MATCH(F$801,'ES16a. Learn App Starts Subject'!$B$2:$Z$2,0)),\"n/a\")","v":170},{"$f":"IFERROR(INDEX('ES16a. Learn App Starts Subject'!$B60:$Z60,MATCH(G$801,'ES16a. Learn App Starts Subject'!$B$2:$Z$2,0)),\"n/a\")","v":6150}]
[null,null,"Arts, Media and Publishing",{"$f":"IFERROR(INDEX('ES16a. Learn App Starts Subject'!$B61:$Z61,MATCH(D$3,'ES16a. Learn App Starts Subject'!$B$2:$Z$2,0)),\"n/a\")","v":0},{"$f":"IFERROR(INDEX('ES16a. Learn App Starts Subject'!$B61:$Z61,MATCH(E$801,'ES16a. Learn App Starts Subject'!$B$2:$Z$2,0)),\"n/a\")","v":0},{"$f":"IFERROR(INDEX('ES16a. Learn App Starts Subject'!$B61:$Z61,MATCH(F$801,'ES16a. Learn App Starts Subject'!$B$2:$Z$2,0)),\"n/a\")","v":50},{"$f":"IFERROR(INDEX('ES16a. Learn App Starts Subject'!$B61:$Z61,MATCH(G$801,'ES16a. Learn App Starts Subject'!$B$2:$Z$2,0)),\"n/a\")","v":730}]
[null,null,"Business, Administration and Law",{"$f":"IFERROR(INDEX('ES16a. Learn App Starts Subject'!$B62:$Z62,MATCH(D$3,'ES16a. Learn App Starts Subject'!$B$2:$Z$2,0)),\"n/a\")","v":350},{"$f":"IFERROR(INDEX('ES16a. Learn App Starts Subject'!$B62:$Z62,MATCH(E$801,'ES16a. Learn App Starts Subject'!$B$2:$Z$2,0)),\"n/a\")","v":1200},{"$f":"IFERROR(INDEX('ES16a. Learn App Starts Subject'!$B62:$Z62,MATCH(F$801,'ES16a. Learn App Starts Subject'!$B$2:$Z$2,0)),\"n/a\")","v":3920},{"$f":"IFERROR(INDEX('ES16a. Learn App Starts Subject'!$B62:$Z62,MATCH(G$801,'ES16a. Learn App Starts Subject'!$B$2:$Z$2,0)),\"n/a\")","v":104200}]
[null,null,"Construction, Planning and the Built Environment",{"$f":"IFERROR(INDEX('ES16a. Learn App Starts Subject'!$B63:$Z63,MATCH(D$3,'ES16a. Learn App Starts Subject'!$B$2:$Z$2,0)),\"n/a\")","v":60},{"$f":"IFERROR(INDEX('ES16a. Learn App Starts Subject'!$B63:$Z63,MATCH(E$801,'ES16a. Learn App Starts Subject'!$B$2:$Z$2,0)),\"n/a\")","v":200},{"$f":"IFERROR(INDEX('ES16a. Learn App Starts Subject'!$B63:$Z63,MATCH(F$801,'ES16a. Learn App Starts Subject'!$B$2:$Z$2,0)),\"n/a\")","v":840},{"$f":"IFERROR(INDEX('ES16a. Learn App Starts Subject'!$B63:$Z63,MATCH(G$801,'ES16a. Learn App Starts Subject'!$B$2:$Z$2,0)),\"n/a\")","v":20980}]
[null,null,"Education and Training",{"$f":"IFERROR(INDEX('ES16a. Learn App Starts Subject'!$B64:$Z64,MATCH(D$3,'ES16a. Learn App Starts Subject'!$B$2:$Z$2,0)),\"n/a\")","v":10},{"$f":"IFERROR(INDEX('ES16a. Learn App Starts Subject'!$B64:$Z64,MATCH(E$801,'ES16a. Learn App Starts Subject'!$B$2:$Z$2,0)),\"n/a\")","v":50},{"$f":"IFERROR(INDEX('ES16a. Learn App Starts Subject'!$B64:$Z64,MATCH(F$801,'ES16a. Learn App Starts Subject'!$B$2:$Z$2,0)),\"n/a\")","v":250},{"$f":"IFERROR(INDEX('ES16a. Learn App Starts Subject'!$B64:$Z64,MATCH(G$801,'ES16a. Learn App Starts Subject'!$B$2:$Z$2,0)),\"n/a\")","v":6400}]
[null,null,"Engineering and Manufacturing Technologies",{"$f":"IFERROR(INDEX('ES16a. Learn App Starts Subject'!$B65:$Z65,MATCH(D$3,'ES16a. Learn App Starts Subject'!$B$2:$Z$2,0)),\"n/a\")","v":160},{"$f":"IFERROR(INDEX('ES16a. Learn App Starts Subject'!$B65:$Z65,MATCH(E$801,'ES16a. Learn App Starts Subject'!$B$2:$Z$2,0)),\"n/a\")","v":500},{"$f":"IFERROR(INDEX('ES16a. Learn App Starts Subject'!$B65:$Z65,MATCH(F$801,'ES16a. Learn App Starts Subject'!$B$2:$Z$2,0)),\"n/a\")","v":2030},{"$f":"IFERROR(INDEX('ES16a. Learn App Starts Subject'!$B65:$Z65,MATCH(G$801,'ES16a. Learn App Starts Subject'!$B$2:$Z$2,0)),\"n/a\")","v":56310}]
[null,null,"Health, Public Services and Care",{"$f":"IFERROR(INDEX('ES16a. Learn App Starts Subject'!$B66:$Z66,MATCH(D$3,'ES16a. Learn App Starts Subject'!$B$2:$Z$2,0)),\"n/a\")","v":270},{"$f":"IFERROR(INDEX('ES16a. Learn App Starts Subject'!$B66:$Z66,MATCH(E$801,'ES16a. Learn App Starts Subject'!$B$2:$Z$2,0)),\"n/a\")","v":960},{"$f":"IFERROR(INDEX('ES16a. Learn App Starts Subject'!$B66:$Z66,MATCH(F$801,'ES16a. Learn App Starts Subject'!$B$2:$Z$2,0)),\"n/a\")","v":3540},{"$f":"IFERROR(INDEX('ES16a. Learn App Starts Subject'!$B66:$Z66,MATCH(G$801,'ES16a. Learn App Starts Subject'!$B$2:$Z$2,0)),\"n/a\")","v":88410}]
[null,null,"Information and Communication Technology",{"$f":"IFERROR(INDEX('ES16a. Learn App Starts Subject'!$B67:$Z67,MATCH(D$3,'ES16a. Learn App Starts Subject'!$B$2:$Z$2,0)),\"n/a\")","v":40},{"$f":"IFERROR(INDEX('ES16a. Learn App Starts Subject'!$B67:$Z67,MATCH(E$801,'ES16a. Learn App Starts Subject'!$B$2:$Z$2,0)),\"n/a\")","v":130},{"$f":"IFERROR(INDEX('ES16a. Learn App Starts Subject'!$B67:$Z67,MATCH(F$801,'ES16a. Learn App Starts Subject'!$B$2:$Z$2,0)),\"n/a\")","v":500},{"$f":"IFERROR(INDEX('ES16a. Learn App Starts Subject'!$B67:$Z67,MATCH(G$801,'ES16a. Learn App Starts Subject'!$B$2:$Z$2,0)),\"n/a\")","v":17420}]
[null,null,"Leisure, Travel and Tourism",{"$f":"IFERROR(INDEX('ES16a. Learn App Starts Subject'!$B68:$Z68,MATCH(D$3,'ES16a. Learn App Starts Subject'!$B$2:$Z$2,0)),\"n/a\")","v":10},{"$f":"IFERROR(INDEX('ES16a. Learn App Starts Subject'!$B68:$Z68,MATCH(E$801,'ES16a. Learn App Starts Subject'!$B$2:$Z$2,0)),\"n/a\")","v":40},{"$f":"IFERROR(INDEX('ES16a. Learn App Starts Subject'!$B68:$Z68,MATCH(F$801,'ES16a. Learn App Starts Subject'!$B$2:$Z$2,0)),\"n/a\")","v":290},{"$f":"IFERROR(INDEX('ES16a. Learn App Starts Subject'!$B68:$Z68,MATCH(G$801,'ES16a. Learn App Starts Subject'!$B$2:$Z$2,0)),\"n/a\")","v":6440}]
[null,null,"Retail and Commercial Enterprise",{"$f":"IFERROR(INDEX('ES16a. Learn App Starts Subject'!$B69:$Z69,MATCH(D$3,'ES16a. Learn App Starts Subject'!$B$2:$Z$2,0)),\"n/a\")","v":90},{"$f":"IFERROR(INDEX('ES16a. Learn App Starts Subject'!$B69:$Z69,MATCH(E$801,'ES16a. Learn App Starts Subject'!$B$2:$Z$2,0)),\"n/a\")","v":370},{"$f":"IFERROR(INDEX('ES16a. Learn App Starts Subject'!$B69:$Z69,MATCH(F$801,'ES16a. Learn App Starts Subject'!$B$2:$Z$2,0)),\"n/a\")","v":1560},{"$f":"IFERROR(INDEX('ES16a. Learn App Starts Subject'!$B69:$Z69,MATCH(G$801,'ES16a. Learn App Starts Subject'!$B$2:$Z$2,0)),\"n/a\")","v":46030}]
[null,null,"Science and Mathematics",{"$f":"IFERROR(INDEX('ES16a. Learn App Starts Subject'!$B70:$Z70,MATCH(D$3,'ES16a. Learn App Starts Subject'!$B$2:$Z$2,0)),\"n/a\")","v":0},{"$f":"IFERROR(INDEX('ES16a. Learn App Starts Subject'!$B70:$Z70,MATCH(E$801,'ES16a. Learn App Starts Subject'!$B$2:$Z$2,0)),\"n/a\")","v":0},{"$f":"IFERROR(INDEX('ES16a. Learn App Starts Subject'!$B70:$Z70,MATCH(F$801,'ES16a. Learn App Starts Subject'!$B$2:$Z$2,0)),\"n/a\")","v":0},{"$f":"IFERROR(INDEX('ES16a. Learn App Starts Subject'!$B70:$Z70,MATCH(G$801,'ES16a. Learn App Starts Subject'!$B$2:$Z$2,0)),\"n/a\")","v":130}]
[null,null,"Total",{"$f":"IFERROR(INDEX('ES16a. Learn App Starts Subject'!$B71:$Z71,MATCH(D$3,'ES16a. Learn App Starts Subject'!$B$2:$Z$2,0)),\"n/a\")","v":1010},{"$f":"IFERROR(INDEX('ES16a. Learn App Starts Subject'!$B71:$Z71,MATCH(E$801,'ES16a. Learn App Starts Subject'!$B$2:$Z$2,0)),\"n/a\")","v":3480},{"$f":"IFERROR(INDEX('ES16a. Learn App Starts Subject'!$B71:$Z71,MATCH(F$801,'ES16a. Learn App Starts Subject'!$B$2:$Z$2,0)),\"n/a\")","v":13150},{"$f":"IFERROR(INDEX('ES16a. Learn App Starts Subject'!$B71:$Z71,MATCH(G$801,'ES16a. Learn App Starts Subject'!$B$2:$Z$2,0)),\"n/a\")","v":353200}]
[]
[null,null,null,{"$f":"D$3","v":"Chorley "},{"$f":"D$4","v":"Preston, Chorley and South Ribble "},"Lancashire ","England Minus London"]
[null,null,"Agriculture, Horticulture and Animal Care",{"$f":"IFERROR(INDEX('ES16a. Learn App Starts Subject'!$B74:$Z74,MATCH(D$3,'ES16a. Learn App Starts Subject'!$B$2:$Z$2,0)),\"n/a\")","v":1.9801980198019802E-2},{"$f":"IFERROR(INDEX('ES16a. Learn App Starts Subject'!$B74:$Z74,MATCH(E$801,'ES16a. Learn App Starts Subject'!$B$2:$Z$2,0)),\"n/a\")","v":8.6206896551724137E-3},{"$f":"IFERROR(INDEX('ES16a. Learn App Starts Subject'!$B74:$Z74,MATCH(F$801,'ES16a. Learn App Starts Subject'!$B$2:$Z$2,0)),\"n/a\")","v":1.2927756653992395E-2},{"$f":"IFERROR(INDEX('ES16a. Learn App Starts Subject'!$B74:$Z74,MATCH(G$801,'ES16a. Learn App Starts Subject'!$B$2:$Z$2,0)),\"n/a\")","v":1.7412231030577575E-2}]
[null,null,"Arts, Media and Publishing",{"$f":"IFERROR(INDEX('ES16a. Learn App Starts Subject'!$B75:$Z75,MATCH(D$3,'ES16a. Learn App Starts Subject'!$B$2:$Z$2,0)),\"n/a\")","v":0},{"$f":"IFERROR(INDEX('ES16a. Learn App Starts Subject'!$B75:$Z75,MATCH(E$801,'ES16a. Learn App Starts Subject'!$B$2:$Z$2,0)),\"n/a\")","v":0},{"$f":"IFERROR(INDEX('ES16a. Learn App Starts Subject'!$B75:$Z75,MATCH(F$801,'ES16a. Learn App Starts Subject'!$B$2:$Z$2,0)),\"n/a\")","v":3.8022813688212928E-3},{"$f":"IFERROR(INDEX('ES16a. Learn App Starts Subject'!$B75:$Z75,MATCH(G$801,'ES16a. Learn App Starts Subject'!$B$2:$Z$2,0)),\"n/a\")","v":2.0668176670441676E-3}]
[null,null,"Business, Administration and Law",{"$f":"IFERROR(INDEX('ES16a. Learn App Starts Subject'!$B76:$Z76,MATCH(D$3,'ES16a. Learn App Starts Subject'!$B$2:$Z$2,0)),\"n/a\")","v":0.34653465346534651},{"$f":"IFERROR(INDEX('ES16a. Learn App Starts Subject'!$B76:$Z76,MATCH(E$801,'ES16a. Learn App Starts Subject'!$B$2:$Z$2,0)),\"n/a\")","v":0.34482758620689657},{"$f":"IFERROR(INDEX('ES16a. Learn App Starts Subject'!$B76:$Z76,MATCH(F$801,'ES16a. Learn App Starts Subject'!$B$2:$Z$2,0)),\"n/a\")","v":0.29809885931558933},{"$f":"IFERROR(INDEX('ES16a. Learn App Starts Subject'!$B76:$Z76,MATCH(G$801,'ES16a. Learn App Starts Subject'!$B$2:$Z$2,0)),\"n/a\")","v":0.29501698754246886}]
[null,null,"Construction, Planning and the Built Environment",{"$f":"IFERROR(INDEX('ES16a. Learn App Starts Subject'!$B77:$Z77,MATCH(D$3,'ES16a. Learn App Starts Subject'!$B$2:$Z$2,0)),\"n/a\")","v":5.9405940594059403E-2},{"$f":"IFERROR(INDEX('ES16a. Learn App Starts Subject'!$B77:$Z77,MATCH(E$801,'ES16a. Learn App Starts Subject'!$B$2:$Z$2,0)),\"n/a\")","v":5.7471264367816091E-2},{"$f":"IFERROR(INDEX('ES16a. Learn App Starts Subject'!$B77:$Z77,MATCH(F$801,'ES16a. Learn App Starts Subject'!$B$2:$Z$2,0)),\"n/a\")","v":6.3878326996197721E-2},{"$f":"IFERROR(INDEX('ES16a. Learn App Starts Subject'!$B77:$Z77,MATCH(G$801,'ES16a. Learn App Starts Subject'!$B$2:$Z$2,0)),\"n/a\")","v":5.9399773499433747E-2}]
[null,null,"Education and Training",{"$f":"IFERROR(INDEX('ES16a. Learn App Starts Subject'!$B78:$Z78,MATCH(D$3,'ES16a. Learn App Starts Subject'!$B$2:$Z$2,0)),\"n/a\")","v":9.9009900990099011E-3},{"$f":"IFERROR(INDEX('ES16a. Learn App Starts Subject'!$B78:$Z78,MATCH(E$801,'ES16a. Learn App Starts Subject'!$B$2:$Z$2,0)),\"n/a\")","v":1.4367816091954023E-2},{"$f":"IFERROR(INDEX('ES16a. Learn App Starts Subject'!$B78:$Z78,MATCH(F$801,'ES16a. Learn App Starts Subject'!$B$2:$Z$2,0)),\"n/a\")","v":1.9011406844106463E-2},{"$f":"IFERROR(INDEX('ES16a. Learn App Starts Subject'!$B78:$Z78,MATCH(G$801,'ES16a. Learn App Starts Subject'!$B$2:$Z$2,0)),\"n/a\")","v":1.8120045300113252E-2}]
[null,null,"Engineering and Manufacturing Technologies",{"$f":"IFERROR(INDEX('ES16a. Learn App Starts Subject'!$B79:$Z79,MATCH(D$3,'ES16a. Learn App Starts Subject'!$B$2:$Z$2,0)),\"n/a\")","v":0.15841584158415842},{"$f":"IFERROR(INDEX('ES16a. Learn App Starts Subject'!$B79:$Z79,MATCH(E$801,'ES16a. Learn App Starts Subject'!$B$2:$Z$2,0)),\"n/a\")","v":0.14367816091954022},{"$f":"IFERROR(INDEX('ES16a. Learn App Starts Subject'!$B79:$Z79,MATCH(F$801,'ES16a. Learn App Starts Subject'!$B$2:$Z$2,0)),\"n/a\")","v":0.1543726235741445},{"$f":"IFERROR(INDEX('ES16a. Learn App Starts Subject'!$B79:$Z79,MATCH(G$801,'ES16a. Learn App Starts Subject'!$B$2:$Z$2,0)),\"n/a\")","v":0.15942808607021516}]
[null,null,"Health, Public Services and Care",{"$f":"IFERROR(INDEX('ES16a. Learn App Starts Subject'!$B80:$Z80,MATCH(D$3,'ES16a. Learn App Starts Subject'!$B$2:$Z$2,0)),\"n/a\")","v":0.26732673267326734},{"$f":"IFERROR(INDEX('ES16a. Learn App Starts Subject'!$B80:$Z80,MATCH(E$801,'ES16a. Learn App Starts Subject'!$B$2:$Z$2,0)),\"n/a\")","v":0.27586206896551724},{"$f":"IFERROR(INDEX('ES16a. Learn App Starts Subject'!$B80:$Z80,MATCH(F$801,'ES16a. Learn App Starts Subject'!$B$2:$Z$2,0)),\"n/a\")","v":0.26920152091254751},{"$f":"IFERROR(INDEX('ES16a. Learn App Starts Subject'!$B80:$Z80,MATCH(G$801,'ES16a. Learn App Starts Subject'!$B$2:$Z$2,0)),\"n/a\")","v":0.2503114382785957}]
[null,null,"Information and Communication Technology",{"$f":"IFERROR(INDEX('ES16a. Learn App Starts Subject'!$B81:$Z81,MATCH(D$3,'ES16a. Learn App Starts Subject'!$B$2:$Z$2,0)),\"n/a\")","v":3.9603960396039604E-2},{"$f":"IFERROR(INDEX('ES16a. Learn App Starts Subject'!$B81:$Z81,MATCH(E$801,'ES16a. Learn App Starts Subject'!$B$2:$Z$2,0)),\"n/a\")","v":3.7356321839080463E-2},{"$f":"IFERROR(INDEX('ES16a. Learn App Starts Subject'!$B81:$Z81,MATCH(F$801,'ES16a. Learn App Starts Subject'!$B$2:$Z$2,0)),\"n/a\")","v":3.8022813688212927E-2},{"$f":"IFERROR(INDEX('ES16a. Learn App Starts Subject'!$B81:$Z81,MATCH(G$801,'ES16a. Learn App Starts Subject'!$B$2:$Z$2,0)),\"n/a\")","v":4.9320498301245755E-2}]
[null,null,"Leisure, Travel and Tourism",{"$f":"IFERROR(INDEX('ES16a. Learn App Starts Subject'!$B82:$Z82,MATCH(D$3,'ES16a. Learn App Starts Subject'!$B$2:$Z$2,0)),\"n/a\")","v":9.9009900990099011E-3},{"$f":"IFERROR(INDEX('ES16a. Learn App Starts Subject'!$B82:$Z82,MATCH(E$801,'ES16a. Learn App Starts Subject'!$B$2:$Z$2,0)),\"n/a\")","v":1.1494252873563218E-2},{"$f":"IFERROR(INDEX('ES16a. Learn App Starts Subject'!$B82:$Z82,MATCH(F$801,'ES16a. Learn App Starts Subject'!$B$2:$Z$2,0)),\"n/a\")","v":2.2053231939163497E-2},{"$f":"IFERROR(INDEX('ES16a. Learn App Starts Subject'!$B82:$Z82,MATCH(G$801,'ES16a. Learn App Starts Subject'!$B$2:$Z$2,0)),\"n/a\")","v":1.8233295583238957E-2}]
[null,null,"Retail and Commercial Enterprise",{"$f":"IFERROR(INDEX('ES16a. Learn App Starts Subject'!$B83:$Z83,MATCH(D$3,'ES16a. Learn App Starts Subject'!$B$2:$Z$2,0)),\"n/a\")","v":8.9108910891089105E-2},{"$f":"IFERROR(INDEX('ES16a. Learn App Starts Subject'!$B83:$Z83,MATCH(E$801,'ES16a. Learn App Starts Subject'!$B$2:$Z$2,0)),\"n/a\")","v":0.10632183908045977},{"$f":"IFERROR(INDEX('ES16a. Learn App Starts Subject'!$B83:$Z83,MATCH(F$801,'ES16a. Learn App Starts Subject'!$B$2:$Z$2,0)),\"n/a\")","v":0.11863117870722434},{"$f":"IFERROR(INDEX('ES16a. Learn App Starts Subject'!$B83:$Z83,MATCH(G$801,'ES16a. Learn App Starts Subject'!$B$2:$Z$2,0)),\"n/a\")","v":0.13032276330690826}]
[null,null,"Science and Mathematics",{"$f":"IFERROR(INDEX('ES16a. Learn App Starts Subject'!$B84:$Z84,MATCH(D$3,'ES16a. Learn App Starts Subject'!$B$2:$Z$2,0)),\"n/a\")","v":0},{"$f":"IFERROR(INDEX('ES16a. Learn App Starts Subject'!$B84:$Z84,MATCH(E$801,'ES16a. Learn App Starts Subject'!$B$2:$Z$2,0)),\"n/a\")","v":0},{"$f":"IFERROR(INDEX('ES16a. Learn App Starts Subject'!$B84:$Z84,MATCH(F$801,'ES16a. Learn App Starts Subject'!$B$2:$Z$2,0)),\"n/a\")","v":0},{"$f":"IFERROR(INDEX('ES16a. Learn App Starts Subject'!$B84:$Z84,MATCH(G$801,'ES16a. Learn App Starts Subject'!$B$2:$Z$2,0)),\"n/a\")","v":3.6806342015855038E-4}]
[]
[]
[]
[]
[]
[]
[]
[]
[]
[]
[]
[]
[]
[]
[]
[]
[]
[]
[]
[]
[]
[]
[]
[null,null,"ES16b: Provider Perspective: Apprenticeship Starts by Subject 2018/19"]
[null,null,null,{"$f":"D$3","v":"Chorley "},{"$f":"D$4","v":"Preston, Chorley and South Ribble "},"Lancashire ","England Minus London"]
[null,null,"Agriculture, Horticulture and Animal Care",{"$f":"IFERROR(INDEX('ES16b. Prov. App Start Subject'!$B4:$Z4,MATCH(D$3,'ES16b. Prov. App Start Subject'!$B$2:$Z$2,0)),\"n/a\")","v":53},{"$f":"IFERROR(INDEX('ES16b. Prov. App Start Subject'!$B4:$Z4,MATCH(E$851,'ES16b. Prov. App Start Subject'!$B$2:$Z$2,0)),\"n/a\")","v":103},{"$f":"IFERROR(INDEX('ES16b. Prov. App Start Subject'!$B4:$Z4,MATCH(F$851,'ES16b. Prov. App Start Subject'!$B$2:$Z$2,0)),\"n/a\")","v":557},{"$f":"IFERROR(INDEX('ES16b. Prov. App Start Subject'!$B4:$Z4,MATCH(G$851,'ES16b. Prov. App Start Subject'!$B$2:$Z$2,0)),\"n/a\")","v":14450}]
[null,null,"Arts, Media and Publishing",{"$f":"IFERROR(INDEX('ES16b. Prov. App Start Subject'!$B5:$Z5,MATCH(D$3,'ES16b. Prov. App Start Subject'!$B$2:$Z$2,0)),\"n/a\")","v":0},{"$f":"IFERROR(INDEX('ES16b. Prov. App Start Subject'!$B5:$Z5,MATCH(E$851,'ES16b. Prov. App Start Subject'!$B$2:$Z$2,0)),\"n/a\")","v":13},{"$f":"IFERROR(INDEX('ES16b. Prov. App Start Subject'!$B5:$Z5,MATCH(F$851,'ES16b. Prov. App Start Subject'!$B$2:$Z$2,0)),\"n/a\")","v":85},{"$f":"IFERROR(INDEX('ES16b. Prov. App Start Subject'!$B5:$Z5,MATCH(G$851,'ES16b. Prov. App Start Subject'!$B$2:$Z$2,0)),\"n/a\")","v":1911}]
[null,null,"Business, Administration and Law",{"$f":"IFERROR(INDEX('ES16b. Prov. App Start Subject'!$B6:$Z6,MATCH(D$3,'ES16b. Prov. App Start Subject'!$B$2:$Z$2,0)),\"n/a\")","v":265},{"$f":"IFERROR(INDEX('ES16b. Prov. App Start Subject'!$B6:$Z6,MATCH(E$851,'ES16b. Prov. App Start Subject'!$B$2:$Z$2,0)),\"n/a\")","v":1934},{"$f":"IFERROR(INDEX('ES16b. Prov. App Start Subject'!$B6:$Z6,MATCH(F$851,'ES16b. Prov. App Start Subject'!$B$2:$Z$2,0)),\"n/a\")","v":6428},{"$f":"IFERROR(INDEX('ES16b. Prov. App Start Subject'!$B6:$Z6,MATCH(G$851,'ES16b. Prov. App Start Subject'!$B$2:$Z$2,0)),\"n/a\")","v":213509}]
[null,null,"Construction, Planning and the Built Environment",{"$f":"IFERROR(INDEX('ES16b. Prov. App Start Subject'!$B7:$Z7,MATCH(D$3,'ES16b. Prov. App Start Subject'!$B$2:$Z$2,0)),\"n/a\")","v":60},{"$f":"IFERROR(INDEX('ES16b. Prov. App Start Subject'!$B7:$Z7,MATCH(E$851,'ES16b. Prov. App Start Subject'!$B$2:$Z$2,0)),\"n/a\")","v":504},{"$f":"IFERROR(INDEX('ES16b. Prov. App Start Subject'!$B7:$Z7,MATCH(F$851,'ES16b. Prov. App Start Subject'!$B$2:$Z$2,0)),\"n/a\")","v":1580},{"$f":"IFERROR(INDEX('ES16b. Prov. App Start Subject'!$B7:$Z7,MATCH(G$851,'ES16b. Prov. App Start Subject'!$B$2:$Z$2,0)),\"n/a\")","v":47284}]
[null,null,"Education and Training",{"$f":"IFERROR(INDEX('ES16b. Prov. App Start Subject'!$B8:$Z8,MATCH(D$3,'ES16b. Prov. App Start Subject'!$B$2:$Z$2,0)),\"n/a\")","v":10},{"$f":"IFERROR(INDEX('ES16b. Prov. App Start Subject'!$B8:$Z8,MATCH(E$851,'ES16b. Prov. App Start Subject'!$B$2:$Z$2,0)),\"n/a\")","v":61},{"$f":"IFERROR(INDEX('ES16b. Prov. App Start Subject'!$B8:$Z8,MATCH(F$851,'ES16b. Prov. App Start Subject'!$B$2:$Z$2,0)),\"n/a\")","v":436},{"$f":"IFERROR(INDEX('ES16b. Prov. App Start Subject'!$B8:$Z8,MATCH(G$851,'ES16b. Prov. App Start Subject'!$B$2:$Z$2,0)),\"n/a\")","v":12657}]
[null,null,"Engineering and Manufacturing Technologies",{"$f":"IFERROR(INDEX('ES16b. Prov. App Start Subject'!$B9:$Z9,MATCH(D$3,'ES16b. Prov. App Start Subject'!$B$2:$Z$2,0)),\"n/a\")","v":210},{"$f":"IFERROR(INDEX('ES16b. Prov. App Start Subject'!$B9:$Z9,MATCH(E$851,'ES16b. Prov. App Start Subject'!$B$2:$Z$2,0)),\"n/a\")","v":1308},{"$f":"IFERROR(INDEX('ES16b. Prov. App Start Subject'!$B9:$Z9,MATCH(F$851,'ES16b. Prov. App Start Subject'!$B$2:$Z$2,0)),\"n/a\")","v":4954},{"$f":"IFERROR(INDEX('ES16b. Prov. App Start Subject'!$B9:$Z9,MATCH(G$851,'ES16b. Prov. App Start Subject'!$B$2:$Z$2,0)),\"n/a\")","v":146784}]
[null,null,"Health, Public Services and Care",{"$f":"IFERROR(INDEX('ES16b. Prov. App Start Subject'!$B10:$Z10,MATCH(D$3,'ES16b. Prov. App Start Subject'!$B$2:$Z$2,0)),\"n/a\")","v":461},{"$f":"IFERROR(INDEX('ES16b. Prov. App Start Subject'!$B10:$Z10,MATCH(E$851,'ES16b. Prov. App Start Subject'!$B$2:$Z$2,0)),\"n/a\")","v":2185},{"$f":"IFERROR(INDEX('ES16b. Prov. App Start Subject'!$B10:$Z10,MATCH(F$851,'ES16b. Prov. App Start Subject'!$B$2:$Z$2,0)),\"n/a\")","v":6389},{"$f":"IFERROR(INDEX('ES16b. Prov. App Start Subject'!$B10:$Z10,MATCH(G$851,'ES16b. Prov. App Start Subject'!$B$2:$Z$2,0)),\"n/a\")","v":180074}]
[null,null,"Information and Communication Technology",{"$f":"IFERROR(INDEX('ES16b. Prov. App Start Subject'!$B11:$Z11,MATCH(D$3,'ES16b. Prov. App Start Subject'!$B$2:$Z$2,0)),\"n/a\")","v":96},{"$f":"IFERROR(INDEX('ES16b. Prov. App Start Subject'!$B11:$Z11,MATCH(E$851,'ES16b. Prov. App Start Subject'!$B$2:$Z$2,0)),\"n/a\")","v":287},{"$f":"IFERROR(INDEX('ES16b. Prov. App Start Subject'!$B11:$Z11,MATCH(F$851,'ES16b. Prov. App Start Subject'!$B$2:$Z$2,0)),\"n/a\")","v":796},{"$f":"IFERROR(INDEX('ES16b. Prov. App Start Subject'!$B11:$Z11,MATCH(G$851,'ES16b. Prov. App Start Subject'!$B$2:$Z$2,0)),\"n/a\")","v":38347}]
[null,null,"Leisure, Travel and Tourism",{"$f":"IFERROR(INDEX('ES16b. Prov. App Start Subject'!$B12:$Z12,MATCH(D$3,'ES16b. Prov. App Start Subject'!$B$2:$Z$2,0)),\"n/a\")","v":16},{"$f":"IFERROR(INDEX('ES16b. Prov. App Start Subject'!$B12:$Z12,MATCH(E$851,'ES16b. Prov. App Start Subject'!$B$2:$Z$2,0)),\"n/a\")","v":606},{"$f":"IFERROR(INDEX('ES16b. Prov. App Start Subject'!$B12:$Z12,MATCH(F$851,'ES16b. Prov. App Start Subject'!$B$2:$Z$2,0)),\"n/a\")","v":1138},{"$f":"IFERROR(INDEX('ES16b. Prov. App Start Subject'!$B12:$Z12,MATCH(G$851,'ES16b. Prov. App Start Subject'!$B$2:$Z$2,0)),\"n/a\")","v":15978}]
[null,null,"Retail and Commercial Enterprise",{"$f":"IFERROR(INDEX('ES16b. Prov. App Start Subject'!$B13:$Z13,MATCH(D$3,'ES16b. Prov. App Start Subject'!$B$2:$Z$2,0)),\"n/a\")","v":127},{"$f":"IFERROR(INDEX('ES16b. Prov. App Start Subject'!$B13:$Z13,MATCH(E$851,'ES16b. Prov. App Start Subject'!$B$2:$Z$2,0)),\"n/a\")","v":654},{"$f":"IFERROR(INDEX('ES16b. Prov. App Start Subject'!$B13:$Z13,MATCH(F$851,'ES16b. Prov. App Start Subject'!$B$2:$Z$2,0)),\"n/a\")","v":2549},{"$f":"IFERROR(INDEX('ES16b. Prov. App Start Subject'!$B13:$Z13,MATCH(G$851,'ES16b. Prov. App Start Subject'!$B$2:$Z$2,0)),\"n/a\")","v":88064}]
[null,null,"Science and Mathematics",{"$f":"IFERROR(INDEX('ES16b. Prov. App Start Subject'!$B14:$Z14,MATCH(D$3,'ES16b. Prov. App Start Subject'!$B$2:$Z$2,0)),\"n/a\")","v":0},{"$f":"IFERROR(INDEX('ES16b. Prov. App Start Subject'!$B14:$Z14,MATCH(E$851,'ES16b. Prov. App Start Subject'!$B$2:$Z$2,0)),\"n/a\")","v":1},{"$f":"IFERROR(INDEX('ES16b. Prov. App Start Subject'!$B14:$Z14,MATCH(F$851,'ES16b. Prov. App Start Subject'!$B$2:$Z$2,0)),\"n/a\")","v":4},{"$f":"IFERROR(INDEX('ES16b. Prov. App Start Subject'!$B14:$Z14,MATCH(G$851,'ES16b. Prov. App Start Subject'!$B$2:$Z$2,0)),\"n/a\")","v":444}]
[null,null,"Total",{"$f":"IFERROR(INDEX('ES16b. Prov. App Start Subject'!$B15:$Z15,MATCH(D$3,'ES16b. Prov. App Start Subject'!$B$2:$Z$2,0)),\"n/a\")","v":1298},{"$f":"IFERROR(INDEX('ES16b. Prov. App Start Subject'!$B15:$Z15,MATCH(E$851,'ES16b. Prov. App Start Subject'!$B$2:$Z$2,0)),\"n/a\")","v":7656},{"$f":"IFERROR(INDEX('ES16b. Prov. App Start Subject'!$B15:$Z15,MATCH(F$851,'ES16b. Prov. App Start Subject'!$B$2:$Z$2,0)),\"n/a\")","v":24916},{"$f":"IFERROR(INDEX('ES16b. Prov. App Start Subject'!$B15:$Z15,MATCH(G$851,'ES16b. Prov. App Start Subject'!$B$2:$Z$2,0)),\"n/a\")","v":759502}]
[]
[null,null,null,{"$f":"D$3","v":"Chorley "},{"$f":"D$4","v":"Preston, Chorley and South Ribble "},"Lancashire ","England Minus London"]
[null,null,"Agriculture, Horticulture and Animal Care",{"$f":"IFERROR(INDEX('ES16b. Prov. App Start Subject'!$B18:$Z18,MATCH(D$3,'ES16b. Prov. App Start Subject'!$B$2:$Z$2,0)),\"n/a\")","v":4.0832049306625574E-2},{"$f":"IFERROR(INDEX('ES16b. Prov. App Start Subject'!$B18:$Z18,MATCH(E$851,'ES16b. Prov. App Start Subject'!$B$2:$Z$2,0)),\"n/a\")","v":1.3453500522466039E-2},{"$f":"IFERROR(INDEX('ES16b. Prov. App Start Subject'!$B18:$Z18,MATCH(F$851,'ES16b. Prov. App Start Subject'!$B$2:$Z$2,0)),\"n/a\")","v":2.2355113180285761E-2},{"$f":"IFERROR(INDEX('ES16b. Prov. App Start Subject'!$B18:$Z18,MATCH(G$851,'ES16b. Prov. App Start Subject'!$B$2:$Z$2,0)),\"n/a\")","v":1.9025624685649282E-2}]
[null,null,"Arts, Media and Publishing",{"$f":"IFERROR(INDEX('ES16b. Prov. App Start Subject'!$B19:$Z19,MATCH(D$3,'ES16b. Prov. App Start Subject'!$B$2:$Z$2,0)),\"n/a\")","v":0},{"$f":"IFERROR(INDEX('ES16b. Prov. App Start Subject'!$B19:$Z19,MATCH(E$851,'ES16b. Prov. App Start Subject'!$B$2:$Z$2,0)),\"n/a\")","v":1.6980146290491117E-3},{"$f":"IFERROR(INDEX('ES16b. Prov. App Start Subject'!$B19:$Z19,MATCH(F$851,'ES16b. Prov. App Start Subject'!$B$2:$Z$2,0)),\"n/a\")","v":3.4114625140471986E-3},{"$f":"IFERROR(INDEX('ES16b. Prov. App Start Subject'!$B19:$Z19,MATCH(G$851,'ES16b. Prov. App Start Subject'!$B$2:$Z$2,0)),\"n/a\")","v":2.5161224065242752E-3}]
[null,null,"Business, Administration and Law",{"$f":"IFERROR(INDEX('ES16b. Prov. App Start Subject'!$B20:$Z20,MATCH(D$3,'ES16b. Prov. App Start Subject'!$B$2:$Z$2,0)),\"n/a\")","v":0.20416024653312789},{"$f":"IFERROR(INDEX('ES16b. Prov. App Start Subject'!$B20:$Z20,MATCH(E$851,'ES16b. Prov. App Start Subject'!$B$2:$Z$2,0)),\"n/a\")","v":0.25261233019853707},{"$f":"IFERROR(INDEX('ES16b. Prov. App Start Subject'!$B20:$Z20,MATCH(F$851,'ES16b. Prov. App Start Subject'!$B$2:$Z$2,0)),\"n/a\")","v":0.2579868357681811},{"$f":"IFERROR(INDEX('ES16b. Prov. App Start Subject'!$B20:$Z20,MATCH(G$851,'ES16b. Prov. App Start Subject'!$B$2:$Z$2,0)),\"n/a\")","v":0.28111710041579879}]
[null,null,"Construction, Planning and the Built Environment",{"$f":"IFERROR(INDEX('ES16b. Prov. App Start Subject'!$B21:$Z21,MATCH(D$3,'ES16b. Prov. App Start Subject'!$B$2:$Z$2,0)),\"n/a\")","v":4.6224961479198766E-2},{"$f":"IFERROR(INDEX('ES16b. Prov. App Start Subject'!$B21:$Z21,MATCH(E$851,'ES16b. Prov. App Start Subject'!$B$2:$Z$2,0)),\"n/a\")","v":6.5830721003134793E-2},{"$f":"IFERROR(INDEX('ES16b. Prov. App Start Subject'!$B21:$Z21,MATCH(F$851,'ES16b. Prov. App Start Subject'!$B$2:$Z$2,0)),\"n/a\")","v":6.3413067908171458E-2},{"$f":"IFERROR(INDEX('ES16b. Prov. App Start Subject'!$B21:$Z21,MATCH(G$851,'ES16b. Prov. App Start Subject'!$B$2:$Z$2,0)),\"n/a\")","v":6.2256583919463017E-2}]
[null,null,"Education and Training",{"$f":"IFERROR(INDEX('ES16b. Prov. App Start Subject'!$B22:$Z22,MATCH(D$3,'ES16b. Prov. App Start Subject'!$B$2:$Z$2,0)),\"n/a\")","v":7.7041602465331279E-3},{"$f":"IFERROR(INDEX('ES16b. Prov. App Start Subject'!$B22:$Z22,MATCH(E$851,'ES16b. Prov. App Start Subject'!$B$2:$Z$2,0)),\"n/a\")","v":7.9676071055381405E-3},{"$f":"IFERROR(INDEX('ES16b. Prov. App Start Subject'!$B22:$Z22,MATCH(F$851,'ES16b. Prov. App Start Subject'!$B$2:$Z$2,0)),\"n/a\")","v":1.7498795954406808E-2},{"$f":"IFERROR(INDEX('ES16b. Prov. App Start Subject'!$B22:$Z22,MATCH(G$851,'ES16b. Prov. App Start Subject'!$B$2:$Z$2,0)),\"n/a\")","v":1.6664867241955914E-2}]
[null,null,"Engineering and Manufacturing Technologies",{"$f":"IFERROR(INDEX('ES16b. Prov. App Start Subject'!$B23:$Z23,MATCH(D$3,'ES16b. Prov. App Start Subject'!$B$2:$Z$2,0)),\"n/a\")","v":0.16178736517719569},{"$f":"IFERROR(INDEX('ES16b. Prov. App Start Subject'!$B23:$Z23,MATCH(E$851,'ES16b. Prov. App Start Subject'!$B$2:$Z$2,0)),\"n/a\")","v":0.17084639498432602},{"$f":"IFERROR(INDEX('ES16b. Prov. App Start Subject'!$B23:$Z23,MATCH(F$851,'ES16b. Prov. App Start Subject'!$B$2:$Z$2,0)),\"n/a\")","v":0.19882806228929203},{"$f":"IFERROR(INDEX('ES16b. Prov. App Start Subject'!$B23:$Z23,MATCH(G$851,'ES16b. Prov. App Start Subject'!$B$2:$Z$2,0)),\"n/a\")","v":0.19326348054383002}]
[null,null,"Health, Public Services and Care",{"$f":"IFERROR(INDEX('ES16b. Prov. App Start Subject'!$B24:$Z24,MATCH(D$3,'ES16b. Prov. App Start Subject'!$B$2:$Z$2,0)),\"n/a\")","v":0.35516178736517717},{"$f":"IFERROR(INDEX('ES16b. Prov. App Start Subject'!$B24:$Z24,MATCH(E$851,'ES16b. Prov. App Start Subject'!$B$2:$Z$2,0)),\"n/a\")","v":0.28539707419017762},{"$f":"IFERROR(INDEX('ES16b. Prov. App Start Subject'!$B24:$Z24,MATCH(F$851,'ES16b. Prov. App Start Subject'!$B$2:$Z$2,0)),\"n/a\")","v":0.25642157649703001},{"$f":"IFERROR(INDEX('ES16b. Prov. App Start Subject'!$B24:$Z24,MATCH(G$851,'ES16b. Prov. App Start Subject'!$B$2:$Z$2,0)),\"n/a\")","v":0.2370948331933293}]
[null,null,"Information and Communication Technology",{"$f":"IFERROR(INDEX('ES16b. Prov. App Start Subject'!$B25:$Z25,MATCH(D$3,'ES16b. Prov. App Start Subject'!$B$2:$Z$2,0)),\"n/a\")","v":7.3959938366718034E-2},{"$f":"IFERROR(INDEX('ES16b. Prov. App Start Subject'!$B25:$Z25,MATCH(E$851,'ES16b. Prov. App Start Subject'!$B$2:$Z$2,0)),\"n/a\")","v":3.7486938349007314E-2},{"$f":"IFERROR(INDEX('ES16b. Prov. App Start Subject'!$B25:$Z25,MATCH(F$851,'ES16b. Prov. App Start Subject'!$B$2:$Z$2,0)),\"n/a\")","v":3.194734307272435E-2},{"$f":"IFERROR(INDEX('ES16b. Prov. App Start Subject'!$B25:$Z25,MATCH(G$851,'ES16b. Prov. App Start Subject'!$B$2:$Z$2,0)),\"n/a\")","v":5.0489662963362839E-2}]
[null,null,"Leisure, Travel and Tourism",{"$f":"IFERROR(INDEX('ES16b. Prov. App Start Subject'!$B26:$Z26,MATCH(D$3,'ES16b. Prov. App Start Subject'!$B$2:$Z$2,0)),\"n/a\")","v":1.2326656394453005E-2},{"$f":"IFERROR(INDEX('ES16b. Prov. App Start Subject'!$B26:$Z26,MATCH(E$851,'ES16b. Prov. App Start Subject'!$B$2:$Z$2,0)),\"n/a\")","v":7.9153605015673978E-2},{"$f":"IFERROR(INDEX('ES16b. Prov. App Start Subject'!$B26:$Z26,MATCH(F$851,'ES16b. Prov. App Start Subject'!$B$2:$Z$2,0)),\"n/a\")","v":4.5673462835126022E-2},{"$f":"IFERROR(INDEX('ES16b. Prov. App Start Subject'!$B26:$Z26,MATCH(G$851,'ES16b. Prov. App Start Subject'!$B$2:$Z$2,0)),\"n/a\")","v":2.1037469289086796E-2}]
[null,null,"Retail and Commercial Enterprise",{"$f":"IFERROR(INDEX('ES16b. Prov. App Start Subject'!$B27:$Z27,MATCH(D$3,'ES16b. Prov. App Start Subject'!$B$2:$Z$2,0)),\"n/a\")","v":9.7842835130970723E-2},{"$f":"IFERROR(INDEX('ES16b. Prov. App Start Subject'!$B27:$Z27,MATCH(E$851,'ES16b. Prov. App Start Subject'!$B$2:$Z$2,0)),\"n/a\")","v":8.5423197492163011E-2},{"$f":"IFERROR(INDEX('ES16b. Prov. App Start Subject'!$B27:$Z27,MATCH(F$851,'ES16b. Prov. App Start Subject'!$B$2:$Z$2,0)),\"n/a\")","v":0.10230374056830951},{"$f":"IFERROR(INDEX('ES16b. Prov. App Start Subject'!$B27:$Z27,MATCH(G$851,'ES16b. Prov. App Start Subject'!$B$2:$Z$2,0)),\"n/a\")","v":0.11594966175204278}]
[null,null,"Science and Mathematics",{"$f":"IFERROR(INDEX('ES16b. Prov. App Start Subject'!$B28:$Z28,MATCH(D$3,'ES16b. Prov. App Start Subject'!$B$2:$Z$2,0)),\"n/a\")","v":0},{"$f":"IFERROR(INDEX('ES16b. Prov. App Start Subject'!$B28:$Z28,MATCH(E$851,'ES16b. Prov. App Start Subject'!$B$2:$Z$2,0)),\"n/a\")","v":1.3061650992685477E-4},{"$f":"IFERROR(INDEX('ES16b. Prov. App Start Subject'!$B28:$Z28,MATCH(F$851,'ES16b. Prov. App Start Subject'!$B$2:$Z$2,0)),\"n/a\")","v":1.6053941242575052E-4},{"$f":"IFERROR(INDEX('ES16b. Prov. App Start Subject'!$B28:$Z28,MATCH(G$851,'ES16b. Prov. App Start Subject'!$B$2:$Z$2,0)),\"n/a\")","v":5.8459358895697445E-4}]
[]
[]
[]
[]
[]
[]
[]
[]
[]
[]
[]
[]
[]
[]
[]
[]
[]
[]
[]
[]
[]
[]
[]
[null,null,"ES17a. Learner Perspective Apprenticeship Starts by Level, 2018/19"]
[null,null,null,{"$f":"D$3","v":"Chorley "},{"$f":"D$4","v":"Preston, Chorley and South Ribble "},"Lancashire ","England Minus London"]
[null,null,"Intermediate Apprenticeship",{"$f":"IFERROR(INDEX('ES17a. Learn. App Start Level'!$B26:$Z26,MATCH(D$3,'ES17a. Learn. App Start Level'!$B$2:$Z$2,0)),\"n/a\")","v":360},{"$f":"IFERROR(INDEX('ES17a. Learn. App Start Level'!$B26:$Z26,MATCH(E$901,'ES17a. Learn. App Start Level'!$B$2:$Z$2,0)),\"n/a\")","v":1180},{"$f":"IFERROR(INDEX('ES17a. Learn. App Start Level'!$B26:$Z26,MATCH(F$901,'ES17a. Learn. App Start Level'!$B$2:$Z$2,0)),\"n/a\")","v":4730},{"$f":"IFERROR(INDEX('ES17a. Learn. App Start Level'!$B26:$Z26,MATCH(G$901,'ES17a. Learn. App Start Level'!$B$2:$Z$2,0)),\"n/a\")","v":131840}]
[null,null,"Advanced Apprenticeship",{"$f":"IFERROR(INDEX('ES17a. Learn. App Start Level'!$B27:$Z27,MATCH(D$3,'ES17a. Learn. App Start Level'!$B$2:$Z$2,0)),\"n/a\")","v":450},{"$f":"IFERROR(INDEX('ES17a. Learn. App Start Level'!$B27:$Z27,MATCH(E$901,'ES17a. Learn. App Start Level'!$B$2:$Z$2,0)),\"n/a\")","v":1610},{"$f":"IFERROR(INDEX('ES17a. Learn. App Start Level'!$B27:$Z27,MATCH(F$901,'ES17a. Learn. App Start Level'!$B$2:$Z$2,0)),\"n/a\")","v":6000},{"$f":"IFERROR(INDEX('ES17a. Learn. App Start Level'!$B27:$Z27,MATCH(G$901,'ES17a. Learn. App Start Level'!$B$2:$Z$2,0)),\"n/a\")","v":156560}]
[null,null,"Higher Apprenticeship",{"$f":"IFERROR(INDEX('ES17a. Learn. App Start Level'!$B28:$Z28,MATCH(D$3,'ES17a. Learn. App Start Level'!$B$2:$Z$2,0)),\"n/a\")","v":210},{"$f":"IFERROR(INDEX('ES17a. Learn. App Start Level'!$B28:$Z28,MATCH(E$901,'ES17a. Learn. App Start Level'!$B$2:$Z$2,0)),\"n/a\")","v":710},{"$f":"IFERROR(INDEX('ES17a. Learn. App Start Level'!$B28:$Z28,MATCH(F$901,'ES17a. Learn. App Start Level'!$B$2:$Z$2,0)),\"n/a\")","v":2390},{"$f":"IFERROR(INDEX('ES17a. Learn. App Start Level'!$B28:$Z28,MATCH(G$901,'ES17a. Learn. App Start Level'!$B$2:$Z$2,0)),\"n/a\")","v":64880}]
[null,null,"Total",{"$f":"IFERROR(INDEX('ES17a. Learn. App Start Level'!$B29:$Z29,MATCH(D$3,'ES17a. Learn. App Start Level'!$B$2:$Z$2,0)),\"n/a\")","v":1020},{"$f":"IFERROR(INDEX('ES17a. Learn. App Start Level'!$B29:$Z29,MATCH(E$901,'ES17a. Learn. App Start Level'!$B$2:$Z$2,0)),\"n/a\")","v":3500},{"$f":"IFERROR(INDEX('ES17a. Learn. App Start Level'!$B29:$Z29,MATCH(F$901,'ES17a. Learn. App Start Level'!$B$2:$Z$2,0)),\"n/a\")","v":13120},{"$f":"IFERROR(INDEX('ES17a. Learn. App Start Level'!$B29:$Z29,MATCH(G$901,'ES17a. Learn. App Start Level'!$B$2:$Z$2,0)),\"n/a\")","v":353280}]
[]
[null,null,null,{"$f":"D$3","v":"Chorley "},{"$f":"D$4","v":"Preston, Chorley and South Ribble "},"Lancashire ","England Minus London"]
[null,null,"Intermediate Apprenticeship",{"$f":"IFERROR(INDEX('ES17a. Learn. App Start Level'!$B32:$Z32,MATCH(D$3,'ES17a. Learn. App Start Level'!$B$2:$Z$2,0)),\"n/a\")","v":0.35294117647058826},{"$f":"IFERROR(INDEX('ES17a. Learn. App Start Level'!$B32:$Z32,MATCH(E$907,'ES17a. Learn. App Start Level'!$B$2:$Z$2,0)),\"n/a\")","v":0.33714285714285713},{"$f":"IFERROR(INDEX('ES17a. Learn. App Start Level'!$B32:$Z32,MATCH(F$907,'ES17a. Learn. App Start Level'!$B$2:$Z$2,0)),\"n/a\")","v":0.36051829268292684},{"$f":"IFERROR(INDEX('ES17a. Learn. App Start Level'!$B32:$Z32,MATCH(G$907,'ES17a. Learn. App Start Level'!$B$2:$Z$2,0)),\"n/a\")","v":0.37318840579710144}]
[null,null,"Advanced Apprenticeship",{"$f":"IFERROR(INDEX('ES17a. Learn. App Start Level'!$B33:$Z33,MATCH(D$3,'ES17a. Learn. App Start Level'!$B$2:$Z$2,0)),\"n/a\")","v":0.44117647058823528},{"$f":"IFERROR(INDEX('ES17a. Learn. App Start Level'!$B33:$Z33,MATCH(E$907,'ES17a. Learn. App Start Level'!$B$2:$Z$2,0)),\"n/a\")","v":0.46},{"$f":"IFERROR(INDEX('ES17a. Learn. App Start Level'!$B33:$Z33,MATCH(F$907,'ES17a. Learn. App Start Level'!$B$2:$Z$2,0)),\"n/a\")","v":0.45731707317073172},{"$f":"IFERROR(INDEX('ES17a. Learn. App Start Level'!$B33:$Z33,MATCH(G$907,'ES17a. Learn. App Start Level'!$B$2:$Z$2,0)),\"n/a\")","v":0.44316123188405798}]
[null,null,"Higher Apprenticeship",{"$f":"IFERROR(INDEX('ES17a. Learn. App Start Level'!$B34:$Z34,MATCH(D$3,'ES17a. Learn. App Start Level'!$B$2:$Z$2,0)),\"n/a\")","v":0.20588235294117646},{"$f":"IFERROR(INDEX('ES17a. Learn. App Start Level'!$B34:$Z34,MATCH(E$907,'ES17a. Learn. App Start Level'!$B$2:$Z$2,0)),\"n/a\")","v":0.20285714285714285},{"$f":"IFERROR(INDEX('ES17a. Learn. App Start Level'!$B34:$Z34,MATCH(F$907,'ES17a. Learn. App Start Level'!$B$2:$Z$2,0)),\"n/a\")","v":0.18216463414634146},{"$f":"IFERROR(INDEX('ES17a. Learn. App Start Level'!$B34:$Z34,MATCH(G$907,'ES17a. Learn. App Start Level'!$B$2:$Z$2,0)),\"n/a\")","v":0.18365036231884058}]
[]
[]
[]
[]
[]
[]
[]
[]
[]
[]
[]
[]
[]
[]
[]
[]
[]
[]
[]
[]
[]
[]
[]
[]
[]
[]
[]
[]
[]
[]
[]
[]
[]
[]
[]
[]
[]
[]
[]
[null,null,"ES17b. Provider Perspective Apprenticeship Starts by Level, 2018/19"]
[null,null,null,{"$f":"D$3","v":"Chorley "},{"$f":"$D$4","v":"Preston, Chorley and South Ribble "},"Lancashire ","England Minus London"]
[null,null,"Intermediate Apprenticeship",{"$f":"IFERROR(INDEX('ES17b. Prov. App Start Level'!$B4:$Z4,MATCH(D$3,'ES17b. Prov. App Start Level'!$B$2:$Z$2,0)),\"n/a\")","v":532},{"$f":"IFERROR(INDEX('ES17b. Prov. App Start Level'!$B4:$Z4,MATCH(E$951,'ES17b. Prov. App Start Level'!$B$2:$Z$2,0)),\"n/a\")","v":2293},{"$f":"IFERROR(INDEX('ES17b. Prov. App Start Level'!$B4:$Z4,MATCH(F$951,'ES17b. Prov. App Start Level'!$B$2:$Z$2,0)),\"n/a\")","v":8868},{"$f":"IFERROR(INDEX('ES17b. Prov. App Start Level'!$B4:$Z4,MATCH(G$951,'ES17b. Prov. App Start Level'!$B$2:$Z$2,0)),\"n/a\")","v":277515}]
[null,null,"Advanced Apprenticeship",{"$f":"IFERROR(INDEX('ES17b. Prov. App Start Level'!$B5:$Z5,MATCH(D$3,'ES17b. Prov. App Start Level'!$B$2:$Z$2,0)),\"n/a\")","v":618},{"$f":"IFERROR(INDEX('ES17b. Prov. App Start Level'!$B5:$Z5,MATCH(E$951,'ES17b. Prov. App Start Level'!$B$2:$Z$2,0)),\"n/a\")","v":3894},{"$f":"IFERROR(INDEX('ES17b. Prov. App Start Level'!$B5:$Z5,MATCH(F$951,'ES17b. Prov. App Start Level'!$B$2:$Z$2,0)),\"n/a\")","v":12280},{"$f":"IFERROR(INDEX('ES17b. Prov. App Start Level'!$B5:$Z5,MATCH(G$951,'ES17b. Prov. App Start Level'!$B$2:$Z$2,0)),\"n/a\")","v":357453}]
[null,null,"Higher Apprenticeship",{"$f":"IFERROR(INDEX('ES17b. Prov. App Start Level'!$B6:$Z6,MATCH(D$3,'ES17b. Prov. App Start Level'!$B$2:$Z$2,0)),\"n/a\")","v":148},{"$f":"IFERROR(INDEX('ES17b. Prov. App Start Level'!$B6:$Z6,MATCH(E$951,'ES17b. Prov. App Start Level'!$B$2:$Z$2,0)),\"n/a\")","v":1469},{"$f":"IFERROR(INDEX('ES17b. Prov. App Start Level'!$B6:$Z6,MATCH(F$951,'ES17b. Prov. App Start Level'!$B$2:$Z$2,0)),\"n/a\")","v":3768},{"$f":"IFERROR(INDEX('ES17b. Prov. App Start Level'!$B6:$Z6,MATCH(G$951,'ES17b. Prov. App Start Level'!$B$2:$Z$2,0)),\"n/a\")","v":124534}]
[null,null,"Total",{"$f":"IFERROR(INDEX('ES17b. Prov. App Start Level'!$B7:$Z7,MATCH(D$3,'ES17b. Prov. App Start Level'!$B$2:$Z$2,0)),\"n/a\")","v":1298},{"$f":"IFERROR(INDEX('ES17b. Prov. App Start Level'!$B7:$Z7,MATCH(E$951,'ES17b. Prov. App Start Level'!$B$2:$Z$2,0)),\"n/a\")","v":7656},{"$f":"IFERROR(INDEX('ES17b. Prov. App Start Level'!$B7:$Z7,MATCH(F$951,'ES17b. Prov. App Start Level'!$B$2:$Z$2,0)),\"n/a\")","v":24916},{"$f":"IFERROR(INDEX('ES17b. Prov. App Start Level'!$B7:$Z7,MATCH(G$951,'ES17b. Prov. App Start Level'!$B$2:$Z$2,0)),\"n/a\")","v":759502}]
[]
[null,null,null,{"$f":"D$3","v":"Chorley "},{"$f":"$D$4","v":"Preston, Chorley and South Ribble "},"Lancashire ","England Minus London"]
[null,null,"Intermediate Apprenticeship",{"$f":"IFERROR(INDEX('ES17b. Prov. App Start Level'!$B10:$Z10,MATCH(D$3,'ES17b. Prov. App Start Level'!$B$2:$Z$2,0)),\"n/a\")","v":0.40986132511556239},{"$f":"IFERROR(INDEX('ES17b. Prov. App Start Level'!$B10:$Z10,MATCH(E$951,'ES17b. Prov. App Start Level'!$B$2:$Z$2,0)),\"n/a\")","v":0.29950365726227796},{"$f":"IFERROR(INDEX('ES17b. Prov. App Start Level'!$B10:$Z10,MATCH(F$951,'ES17b. Prov. App Start Level'!$B$2:$Z$2,0)),\"n/a\")","v":0.35591587734788893},{"$f":"IFERROR(INDEX('ES17b. Prov. App Start Level'!$B10:$Z10,MATCH(G$951,'ES17b. Prov. App Start Level'!$B$2:$Z$2,0)),\"n/a\")","v":0.36539074288151974}]
[null,null,"Advanced Apprenticeship",{"$f":"IFERROR(INDEX('ES17b. Prov. App Start Level'!$B11:$Z11,MATCH(D$3,'ES17b. Prov. App Start Level'!$B$2:$Z$2,0)),\"n/a\")","v":0.4761171032357473},{"$f":"IFERROR(INDEX('ES17b. Prov. App Start Level'!$B11:$Z11,MATCH(E$951,'ES17b. Prov. App Start Level'!$B$2:$Z$2,0)),\"n/a\")","v":0.50862068965517238},{"$f":"IFERROR(INDEX('ES17b. Prov. App Start Level'!$B11:$Z11,MATCH(F$951,'ES17b. Prov. App Start Level'!$B$2:$Z$2,0)),\"n/a\")","v":0.49285599614705411},{"$f":"IFERROR(INDEX('ES17b. Prov. App Start Level'!$B11:$Z11,MATCH(G$951,'ES17b. Prov. App Start Level'!$B$2:$Z$2,0)),\"n/a\")","v":0.470641288633868}]
[null,null,"Higher Apprenticeship",{"$f":"IFERROR(INDEX('ES17b. Prov. App Start Level'!$B12:$Z12,MATCH(D$3,'ES17b. Prov. App Start Level'!$B$2:$Z$2,0)),\"n/a\")","v":0.1140215716486903},{"$f":"IFERROR(INDEX('ES17b. Prov. App Start Level'!$B12:$Z12,MATCH(E$951,'ES17b. Prov. App Start Level'!$B$2:$Z$2,0)),\"n/a\")","v":0.19187565308254964},{"$f":"IFERROR(INDEX('ES17b. Prov. App Start Level'!$B12:$Z12,MATCH(F$951,'ES17b. Prov. App Start Level'!$B$2:$Z$2,0)),\"n/a\")","v":0.15122812650505699},{"$f":"IFERROR(INDEX('ES17b. Prov. App Start Level'!$B12:$Z12,MATCH(G$951,'ES17b. Prov. App Start Level'!$B$2:$Z$2,0)),\"n/a\")","v":0.16396796848461229}]
[]
[]
[]
[]
[]
[]
[]
[]
[]
[]
[]
[]
[]
[]
[]
[]
[]
[]
[]
[]
[]
[]
[]
[]
[]
[]
[]
[]
[]
[]
[]
[]
[]
[]
[]
[]
[]
[]
[]
[null,null,"ES18. Learner Perspective: Apprenticeship Achievements by Age 2018/19"]
[null,null,null,{"$f":"D$3","v":"Chorley "},{"$f":"D$4","v":"Preston, Chorley and South Ribble "},"Lancashire ","England Minus London"]
[null,null,"Under 19",{"$f":"IFERROR(INDEX('ES18. Learn. App Achieve by Age'!$B28:$Z28,MATCH(D$3,'ES18. Learn. App Achieve by Age'!$B$2:$Z$2,0)),\"n/a\")","v":150},{"$f":"IFERROR(INDEX('ES18. Learn. App Achieve by Age'!$B28:$Z28,MATCH(E$1001,'ES18. Learn. App Achieve by Age'!$B$2:$Z$2,0)),\"n/a\")","v":500},{"$f":"IFERROR(INDEX('ES18. Learn. App Achieve by Age'!$B28:$Z28,MATCH(F$1001,'ES18. Learn. App Achieve by Age'!$B$2:$Z$2,0)),\"n/a\")","v":2330},{"$f":"IFERROR(INDEX('ES18. Learn. App Achieve by Age'!$B28:$Z28,MATCH(G$1001,'ES18. Learn. App Achieve by Age'!$B$2:$Z$2,0)),\"n/a\")","v":53910}]
[null,null,"19-24",{"$f":"IFERROR(INDEX('ES18. Learn. App Achieve by Age'!$B29:$Z29,MATCH(D$3,'ES18. Learn. App Achieve by Age'!$B$2:$Z$2,0)),\"n/a\")","v":160},{"$f":"IFERROR(INDEX('ES18. Learn. App Achieve by Age'!$B29:$Z29,MATCH(E$1001,'ES18. Learn. App Achieve by Age'!$B$2:$Z$2,0)),\"n/a\")","v":460},{"$f":"IFERROR(INDEX('ES18. Learn. App Achieve by Age'!$B29:$Z29,MATCH(F$1001,'ES18. Learn. App Achieve by Age'!$B$2:$Z$2,0)),\"n/a\")","v":1830},{"$f":"IFERROR(INDEX('ES18. Learn. App Achieve by Age'!$B29:$Z29,MATCH(G$1001,'ES18. Learn. App Achieve by Age'!$B$2:$Z$2,0)),\"n/a\")","v":53840}]
[null,null,"25+",{"$f":"IFERROR(INDEX('ES18. Learn. App Achieve by Age'!$B30:$Z30,MATCH(D$3,'ES18. Learn. App Achieve by Age'!$B$2:$Z$2,0)),\"n/a\")","v":150},{"$f":"IFERROR(INDEX('ES18. Learn. App Achieve by Age'!$B30:$Z30,MATCH(E$1001,'ES18. Learn. App Achieve by Age'!$B$2:$Z$2,0)),\"n/a\")","v":540},{"$f":"IFERROR(INDEX('ES18. Learn. App Achieve by Age'!$B30:$Z30,MATCH(F$1001,'ES18. Learn. App Achieve by Age'!$B$2:$Z$2,0)),\"n/a\")","v":2390},{"$f":"IFERROR(INDEX('ES18. Learn. App Achieve by Age'!$B30:$Z30,MATCH(G$1001,'ES18. Learn. App Achieve by Age'!$B$2:$Z$2,0)),\"n/a\")","v":61850}]
[null,null,"Total",{"$f":"IFERROR(INDEX('ES18. Learn. App Achieve by Age'!$B31:$Z31,MATCH(D$3,'ES18. Learn. App Achieve by Age'!$B$2:$Z$2,0)),\"n/a\")","v":460},{"$f":"IFERROR(INDEX('ES18. Learn. App Achieve by Age'!$B31:$Z31,MATCH(E$1001,'ES18. Learn. App Achieve by Age'!$B$2:$Z$2,0)),\"n/a\")","v":1500},{"$f":"IFERROR(INDEX('ES18. Learn. App Achieve by Age'!$B31:$Z31,MATCH(F$1001,'ES18. Learn. App Achieve by Age'!$B$2:$Z$2,0)),\"n/a\")","v":6550},{"$f":"IFERROR(INDEX('ES18. Learn. App Achieve by Age'!$B31:$Z31,MATCH(G$1001,'ES18. Learn. App Achieve by Age'!$B$2:$Z$2,0)),\"n/a\")","v":169600}]
[]
[null,null,null,{"$f":"D$3","v":"Chorley "},{"$f":"D$4","v":"Preston, Chorley and South Ribble "},"Lancashire ","England Minus London"]
[null,null,"Under 19",{"$f":"IFERROR(INDEX('ES18. Learn. App Achieve by Age'!$B34:$Z34,MATCH(D$3,'ES18. Learn. App Achieve by Age'!$B$2:$Z$2,0)),\"n/a\")","v":0.32608695652173914},{"$f":"IFERROR(INDEX('ES18. Learn. App Achieve by Age'!$B34:$Z34,MATCH(E$1001,'ES18. Learn. App Achieve by Age'!$B$2:$Z$2,0)),\"n/a\")","v":0.33333333333333331},{"$f":"IFERROR(INDEX('ES18. Learn. App Achieve by Age'!$B34:$Z34,MATCH(F$1001,'ES18. Learn. App Achieve by Age'!$B$2:$Z$2,0)),\"n/a\")","v":0.35572519083969467},{"$f":"IFERROR(INDEX('ES18. Learn. App Achieve by Age'!$B34:$Z34,MATCH(G$1001,'ES18. Learn. App Achieve by Age'!$B$2:$Z$2,0)),\"n/a\")","v":0.31786556603773586}]
[null,null,"19-24",{"$f":"IFERROR(INDEX('ES18. Learn. App Achieve by Age'!$B35:$Z35,MATCH(D$3,'ES18. Learn. App Achieve by Age'!$B$2:$Z$2,0)),\"n/a\")","v":0.34782608695652173},{"$f":"IFERROR(INDEX('ES18. Learn. App Achieve by Age'!$B35:$Z35,MATCH(E$1001,'ES18. Learn. App Achieve by Age'!$B$2:$Z$2,0)),\"n/a\")","v":0.30666666666666664},{"$f":"IFERROR(INDEX('ES18. Learn. App Achieve by Age'!$B35:$Z35,MATCH(F$1001,'ES18. Learn. App Achieve by Age'!$B$2:$Z$2,0)),\"n/a\")","v":0.27938931297709924},{"$f":"IFERROR(INDEX('ES18. Learn. App Achieve by Age'!$B35:$Z35,MATCH(G$1001,'ES18. Learn. App Achieve by Age'!$B$2:$Z$2,0)),\"n/a\")","v":0.31745283018867926}]
[null,null,"25+",{"$f":"IFERROR(INDEX('ES18. Learn. App Achieve by Age'!$B36:$Z36,MATCH(D$3,'ES18. Learn. App Achieve by Age'!$B$2:$Z$2,0)),\"n/a\")","v":0.32608695652173914},{"$f":"IFERROR(INDEX('ES18. Learn. App Achieve by Age'!$B36:$Z36,MATCH(E$1001,'ES18. Learn. App Achieve by Age'!$B$2:$Z$2,0)),\"n/a\")","v":0.36},{"$f":"IFERROR(INDEX('ES18. Learn. App Achieve by Age'!$B36:$Z36,MATCH(F$1001,'ES18. Learn. App Achieve by Age'!$B$2:$Z$2,0)),\"n/a\")","v":0.36488549618320609},{"$f":"IFERROR(INDEX('ES18. Learn. App Achieve by Age'!$B36:$Z36,MATCH(G$1001,'ES18. Learn. App Achieve by Age'!$B$2:$Z$2,0)),\"n/a\")","v":0.36468160377358488}]
[]
[]
[]
[]
[]
[]
[]
[]
[]
[]
[]
[]
[]
[]
[]
[]
[]
[]
[]
[]
[]
[]
[]
[]
[]
[]
[]
[]
[]
[]
[]
[]
[]
[]
[]
[]
[]
[]
[]
[null,null,"ES19a: Learner Perspective: Apprenticeship Achievements by Subject 2018/19"]
[null,null,null,{"$f":"D$3","v":"Chorley "},{"$f":"D$4","v":"Preston, Chorley and South Ribble "},"Lancashire ","England Minus London"]
[null,null,"Agriculture, Horticulture and Animal Care",{"$f":"IFERROR(INDEX('ES19a Learn App Achieve Subject'!$B62:$Z62,MATCH(D$3,'ES19a Learn App Achieve Subject'!$B$2:$Z$2,0)),\"n/a\")","v":20},{"$f":"IFERROR(INDEX('ES19a Learn App Achieve Subject'!$B62:$Z62,MATCH(E$1051,'ES19a Learn App Achieve Subject'!$B$2:$Z$2,0)),\"n/a\")","v":40},{"$f":"IFERROR(INDEX('ES19a Learn App Achieve Subject'!$B62:$Z62,MATCH(F$1051,'ES19a Learn App Achieve Subject'!$B$2:$Z$2,0)),\"n/a\")","v":140},{"$f":"IFERROR(INDEX('ES19a Learn App Achieve Subject'!$B62:$Z62,MATCH(G$1051,'ES19a Learn App Achieve Subject'!$B$2:$Z$2,0)),\"n/a\")","v":3810}]
[null,null,"Arts, Media and Publishing",{"$f":"IFERROR(INDEX('ES19a Learn App Achieve Subject'!$B63:$Z63,MATCH(D$3,'ES19a Learn App Achieve Subject'!$B$2:$Z$2,0)),\"n/a\")","v":0},{"$f":"IFERROR(INDEX('ES19a Learn App Achieve Subject'!$B63:$Z63,MATCH(E$1051,'ES19a Learn App Achieve Subject'!$B$2:$Z$2,0)),\"n/a\")","v":0},{"$f":"IFERROR(INDEX('ES19a Learn App Achieve Subject'!$B63:$Z63,MATCH(F$1051,'ES19a Learn App Achieve Subject'!$B$2:$Z$2,0)),\"n/a\")","v":0},{"$f":"IFERROR(INDEX('ES19a Learn App Achieve Subject'!$B63:$Z63,MATCH(G$1051,'ES19a Learn App Achieve Subject'!$B$2:$Z$2,0)),\"n/a\")","v":460}]
[null,null,"Business, Administration and Law",{"$f":"IFERROR(INDEX('ES19a Learn App Achieve Subject'!$B64:$Z64,MATCH(D$3,'ES19a Learn App Achieve Subject'!$B$2:$Z$2,0)),\"n/a\")","v":130},{"$f":"IFERROR(INDEX('ES19a Learn App Achieve Subject'!$B64:$Z64,MATCH(E$1051,'ES19a Learn App Achieve Subject'!$B$2:$Z$2,0)),\"n/a\")","v":430},{"$f":"IFERROR(INDEX('ES19a Learn App Achieve Subject'!$B64:$Z64,MATCH(F$1051,'ES19a Learn App Achieve Subject'!$B$2:$Z$2,0)),\"n/a\")","v":1640},{"$f":"IFERROR(INDEX('ES19a Learn App Achieve Subject'!$B64:$Z64,MATCH(G$1051,'ES19a Learn App Achieve Subject'!$B$2:$Z$2,0)),\"n/a\")","v":42160}]
[null,null,"Construction, Planning and the Built Environment",{"$f":"IFERROR(INDEX('ES19a Learn App Achieve Subject'!$B65:$Z65,MATCH(D$3,'ES19a Learn App Achieve Subject'!$B$2:$Z$2,0)),\"n/a\")","v":30},{"$f":"IFERROR(INDEX('ES19a Learn App Achieve Subject'!$B65:$Z65,MATCH(E$1051,'ES19a Learn App Achieve Subject'!$B$2:$Z$2,0)),\"n/a\")","v":90},{"$f":"IFERROR(INDEX('ES19a Learn App Achieve Subject'!$B65:$Z65,MATCH(F$1051,'ES19a Learn App Achieve Subject'!$B$2:$Z$2,0)),\"n/a\")","v":450},{"$f":"IFERROR(INDEX('ES19a Learn App Achieve Subject'!$B65:$Z65,MATCH(G$1051,'ES19a Learn App Achieve Subject'!$B$2:$Z$2,0)),\"n/a\")","v":10410}]
[null,null,"Education and Training",{"$f":"IFERROR(INDEX('ES19a Learn App Achieve Subject'!$B66:$Z66,MATCH(D$3,'ES19a Learn App Achieve Subject'!$B$2:$Z$2,0)),\"n/a\")","v":10},{"$f":"IFERROR(INDEX('ES19a Learn App Achieve Subject'!$B66:$Z66,MATCH(E$1051,'ES19a Learn App Achieve Subject'!$B$2:$Z$2,0)),\"n/a\")","v":30},{"$f":"IFERROR(INDEX('ES19a Learn App Achieve Subject'!$B66:$Z66,MATCH(F$1051,'ES19a Learn App Achieve Subject'!$B$2:$Z$2,0)),\"n/a\")","v":150},{"$f":"IFERROR(INDEX('ES19a Learn App Achieve Subject'!$B66:$Z66,MATCH(G$1051,'ES19a Learn App Achieve Subject'!$B$2:$Z$2,0)),\"n/a\")","v":3650}]
[null,null,"Engineering and Manufacturing Technologies",{"$f":"IFERROR(INDEX('ES19a Learn App Achieve Subject'!$B67:$Z67,MATCH(D$3,'ES19a Learn App Achieve Subject'!$B$2:$Z$2,0)),\"n/a\")","v":80},{"$f":"IFERROR(INDEX('ES19a Learn App Achieve Subject'!$B67:$Z67,MATCH(E$1051,'ES19a Learn App Achieve Subject'!$B$2:$Z$2,0)),\"n/a\")","v":280},{"$f":"IFERROR(INDEX('ES19a Learn App Achieve Subject'!$B67:$Z67,MATCH(F$1051,'ES19a Learn App Achieve Subject'!$B$2:$Z$2,0)),\"n/a\")","v":1210},{"$f":"IFERROR(INDEX('ES19a Learn App Achieve Subject'!$B67:$Z67,MATCH(G$1051,'ES19a Learn App Achieve Subject'!$B$2:$Z$2,0)),\"n/a\")","v":33900}]
[null,null,"Health, Public Services and Care",{"$f":"IFERROR(INDEX('ES19a Learn App Achieve Subject'!$B68:$Z68,MATCH(D$3,'ES19a Learn App Achieve Subject'!$B$2:$Z$2,0)),\"n/a\")","v":120},{"$f":"IFERROR(INDEX('ES19a Learn App Achieve Subject'!$B68:$Z68,MATCH(E$1051,'ES19a Learn App Achieve Subject'!$B$2:$Z$2,0)),\"n/a\")","v":390},{"$f":"IFERROR(INDEX('ES19a Learn App Achieve Subject'!$B68:$Z68,MATCH(F$1051,'ES19a Learn App Achieve Subject'!$B$2:$Z$2,0)),\"n/a\")","v":1710},{"$f":"IFERROR(INDEX('ES19a Learn App Achieve Subject'!$B68:$Z68,MATCH(G$1051,'ES19a Learn App Achieve Subject'!$B$2:$Z$2,0)),\"n/a\")","v":42110}]
[null,null,"Information and Communication Technology",{"$f":"IFERROR(INDEX('ES19a Learn App Achieve Subject'!$B69:$Z69,MATCH(D$3,'ES19a Learn App Achieve Subject'!$B$2:$Z$2,0)),\"n/a\")","v":20},{"$f":"IFERROR(INDEX('ES19a Learn App Achieve Subject'!$B69:$Z69,MATCH(E$1051,'ES19a Learn App Achieve Subject'!$B$2:$Z$2,0)),\"n/a\")","v":50},{"$f":"IFERROR(INDEX('ES19a Learn App Achieve Subject'!$B69:$Z69,MATCH(F$1051,'ES19a Learn App Achieve Subject'!$B$2:$Z$2,0)),\"n/a\")","v":200},{"$f":"IFERROR(INDEX('ES19a Learn App Achieve Subject'!$B69:$Z69,MATCH(G$1051,'ES19a Learn App Achieve Subject'!$B$2:$Z$2,0)),\"n/a\")","v":7300}]
[null,null,"Leisure, Travel and Tourism",{"$f":"IFERROR(INDEX('ES19a Learn App Achieve Subject'!$B70:$Z70,MATCH(D$3,'ES19a Learn App Achieve Subject'!$B$2:$Z$2,0)),\"n/a\")","v":10},{"$f":"IFERROR(INDEX('ES19a Learn App Achieve Subject'!$B70:$Z70,MATCH(E$1051,'ES19a Learn App Achieve Subject'!$B$2:$Z$2,0)),\"n/a\")","v":30},{"$f":"IFERROR(INDEX('ES19a Learn App Achieve Subject'!$B70:$Z70,MATCH(F$1051,'ES19a Learn App Achieve Subject'!$B$2:$Z$2,0)),\"n/a\")","v":360},{"$f":"IFERROR(INDEX('ES19a Learn App Achieve Subject'!$B70:$Z70,MATCH(G$1051,'ES19a Learn App Achieve Subject'!$B$2:$Z$2,0)),\"n/a\")","v":5840}]
[null,null,"Retail and Commercial Enterprise",{"$f":"IFERROR(INDEX('ES19a Learn App Achieve Subject'!$B71:$Z71,MATCH(D$3,'ES19a Learn App Achieve Subject'!$B$2:$Z$2,0)),\"n/a\")","v":50},{"$f":"IFERROR(INDEX('ES19a Learn App Achieve Subject'!$B71:$Z71,MATCH(E$1051,'ES19a Learn App Achieve Subject'!$B$2:$Z$2,0)),\"n/a\")","v":150},{"$f":"IFERROR(INDEX('ES19a Learn App Achieve Subject'!$B71:$Z71,MATCH(F$1051,'ES19a Learn App Achieve Subject'!$B$2:$Z$2,0)),\"n/a\")","v":720},{"$f":"IFERROR(INDEX('ES19a Learn App Achieve Subject'!$B71:$Z71,MATCH(G$1051,'ES19a Learn App Achieve Subject'!$B$2:$Z$2,0)),\"n/a\")","v":19730}]
[null,null,"Science and Mathematics",{"$f":"IFERROR(INDEX('ES19a Learn App Achieve Subject'!$B72:$Z72,MATCH(D$3,'ES19a Learn App Achieve Subject'!$B$2:$Z$2,0)),\"n/a\")","v":0},{"$f":"IFERROR(INDEX('ES19a Learn App Achieve Subject'!$B72:$Z72,MATCH(E$1051,'ES19a Learn App Achieve Subject'!$B$2:$Z$2,0)),\"n/a\")","v":0},{"$f":"IFERROR(INDEX('ES19a Learn App Achieve Subject'!$B72:$Z72,MATCH(F$1051,'ES19a Learn App Achieve Subject'!$B$2:$Z$2,0)),\"n/a\")","v":0},{"$f":"IFERROR(INDEX('ES19a Learn App Achieve Subject'!$B72:$Z72,MATCH(G$1051,'ES19a Learn App Achieve Subject'!$B$2:$Z$2,0)),\"n/a\")","v":170}]
[null,null,"Total",{"$f":"IFERROR(INDEX('ES19a Learn App Achieve Subject'!$B73:$Z73,MATCH(D$3,'ES19a Learn App Achieve Subject'!$B$2:$Z$2,0)),\"n/a\")","v":470},{"$f":"IFERROR(INDEX('ES19a Learn App Achieve Subject'!$B73:$Z73,MATCH(E$1051,'ES19a Learn App Achieve Subject'!$B$2:$Z$2,0)),\"n/a\")","v":1490},{"$f":"IFERROR(INDEX('ES19a Learn App Achieve Subject'!$B73:$Z73,MATCH(F$1051,'ES19a Learn App Achieve Subject'!$B$2:$Z$2,0)),\"n/a\")","v":6580},{"$f":"IFERROR(INDEX('ES19a Learn App Achieve Subject'!$B73:$Z73,MATCH(G$1051,'ES19a Learn App Achieve Subject'!$B$2:$Z$2,0)),\"n/a\")","v":169540}]
[]
[null,null,null,{"$f":"D$3","v":"Chorley "},{"$f":"D$4","v":"Preston, Chorley and South Ribble "},"Lancashire ","England Minus London"]
[null,null,"Agriculture, Horticulture and Animal Care",{"$f":"IFERROR(INDEX('ES19a Learn App Achieve Subject'!$B76:$Z76,MATCH(D$3,'ES19a Learn App Achieve Subject'!$B$2:$Z$2,0)),\"n/a\")","v":4.2553191489361701E-2},{"$f":"IFERROR(INDEX('ES19a Learn App Achieve Subject'!$B76:$Z76,MATCH(E$1051,'ES19a Learn App Achieve Subject'!$B$2:$Z$2,0)),\"n/a\")","v":2.6845637583892617E-2},{"$f":"IFERROR(INDEX('ES19a Learn App Achieve Subject'!$B76:$Z76,MATCH(F$1051,'ES19a Learn App Achieve Subject'!$B$2:$Z$2,0)),\"n/a\")","v":2.1276595744680851E-2},{"$f":"IFERROR(INDEX('ES19a Learn App Achieve Subject'!$B76:$Z76,MATCH(G$1051,'ES19a Learn App Achieve Subject'!$B$2:$Z$2,0)),\"n/a\")","v":2.247257284416657E-2}]
[null,null,"Arts, Media and Publishing",{"$f":"IFERROR(INDEX('ES19a Learn App Achieve Subject'!$B77:$Z77,MATCH(D$3,'ES19a Learn App Achieve Subject'!$B$2:$Z$2,0)),\"n/a\")","v":0},{"$f":"IFERROR(INDEX('ES19a Learn App Achieve Subject'!$B77:$Z77,MATCH(E$1051,'ES19a Learn App Achieve Subject'!$B$2:$Z$2,0)),\"n/a\")","v":0},{"$f":"IFERROR(INDEX('ES19a Learn App Achieve Subject'!$B77:$Z77,MATCH(F$1051,'ES19a Learn App Achieve Subject'!$B$2:$Z$2,0)),\"n/a\")","v":0},{"$f":"IFERROR(INDEX('ES19a Learn App Achieve Subject'!$B77:$Z77,MATCH(G$1051,'ES19a Learn App Achieve Subject'!$B$2:$Z$2,0)),\"n/a\")","v":2.7132240179308718E-3}]
[null,null,"Business, Administration and Law",{"$f":"IFERROR(INDEX('ES19a Learn App Achieve Subject'!$B78:$Z78,MATCH(D$3,'ES19a Learn App Achieve Subject'!$B$2:$Z$2,0)),\"n/a\")","v":0.27659574468085107},{"$f":"IFERROR(INDEX('ES19a Learn App Achieve Subject'!$B78:$Z78,MATCH(E$1051,'ES19a Learn App Achieve Subject'!$B$2:$Z$2,0)),\"n/a\")","v":0.28859060402684567},{"$f":"IFERROR(INDEX('ES19a Learn App Achieve Subject'!$B78:$Z78,MATCH(F$1051,'ES19a Learn App Achieve Subject'!$B$2:$Z$2,0)),\"n/a\")","v":0.24924012158054712},{"$f":"IFERROR(INDEX('ES19a Learn App Achieve Subject'!$B78:$Z78,MATCH(G$1051,'ES19a Learn App Achieve Subject'!$B$2:$Z$2,0)),\"n/a\")","v":0.24867287955644685}]
[null,null,"Construction, Planning and the Built Environment",{"$f":"IFERROR(INDEX('ES19a Learn App Achieve Subject'!$B79:$Z79,MATCH(D$3,'ES19a Learn App Achieve Subject'!$B$2:$Z$2,0)),\"n/a\")","v":6.3829787234042548E-2},{"$f":"IFERROR(INDEX('ES19a Learn App Achieve Subject'!$B79:$Z79,MATCH(E$1051,'ES19a Learn App Achieve Subject'!$B$2:$Z$2,0)),\"n/a\")","v":6.0402684563758392E-2},{"$f":"IFERROR(INDEX('ES19a Learn App Achieve Subject'!$B79:$Z79,MATCH(F$1051,'ES19a Learn App Achieve Subject'!$B$2:$Z$2,0)),\"n/a\")","v":6.8389057750759874E-2},{"$f":"IFERROR(INDEX('ES19a Learn App Achieve Subject'!$B79:$Z79,MATCH(G$1051,'ES19a Learn App Achieve Subject'!$B$2:$Z$2,0)),\"n/a\")","v":6.1401439188392117E-2}]
[null,null,"Education and Training",{"$f":"IFERROR(INDEX('ES19a Learn App Achieve Subject'!$B80:$Z80,MATCH(D$3,'ES19a Learn App Achieve Subject'!$B$2:$Z$2,0)),\"n/a\")","v":2.1276595744680851E-2},{"$f":"IFERROR(INDEX('ES19a Learn App Achieve Subject'!$B80:$Z80,MATCH(E$1051,'ES19a Learn App Achieve Subject'!$B$2:$Z$2,0)),\"n/a\")","v":2.0134228187919462E-2},{"$f":"IFERROR(INDEX('ES19a Learn App Achieve Subject'!$B80:$Z80,MATCH(F$1051,'ES19a Learn App Achieve Subject'!$B$2:$Z$2,0)),\"n/a\")","v":2.2796352583586626E-2},{"$f":"IFERROR(INDEX('ES19a Learn App Achieve Subject'!$B80:$Z80,MATCH(G$1051,'ES19a Learn App Achieve Subject'!$B$2:$Z$2,0)),\"n/a\")","v":2.1528842750973221E-2}]
[null,null,"Engineering and Manufacturing Technologies",{"$f":"IFERROR(INDEX('ES19a Learn App Achieve Subject'!$B81:$Z81,MATCH(D$3,'ES19a Learn App Achieve Subject'!$B$2:$Z$2,0)),\"n/a\")","v":0.1702127659574468},{"$f":"IFERROR(INDEX('ES19a Learn App Achieve Subject'!$B81:$Z81,MATCH(E$1051,'ES19a Learn App Achieve Subject'!$B$2:$Z$2,0)),\"n/a\")","v":0.18791946308724833},{"$f":"IFERROR(INDEX('ES19a Learn App Achieve Subject'!$B81:$Z81,MATCH(F$1051,'ES19a Learn App Achieve Subject'!$B$2:$Z$2,0)),\"n/a\")","v":0.1838905775075988},{"$f":"IFERROR(INDEX('ES19a Learn App Achieve Subject'!$B81:$Z81,MATCH(G$1051,'ES19a Learn App Achieve Subject'!$B$2:$Z$2,0)),\"n/a\")","v":0.19995281349534033}]
[null,null,"Health, Public Services and Care",{"$f":"IFERROR(INDEX('ES19a Learn App Achieve Subject'!$B82:$Z82,MATCH(D$3,'ES19a Learn App Achieve Subject'!$B$2:$Z$2,0)),\"n/a\")","v":0.25531914893617019},{"$f":"IFERROR(INDEX('ES19a Learn App Achieve Subject'!$B82:$Z82,MATCH(E$1051,'ES19a Learn App Achieve Subject'!$B$2:$Z$2,0)),\"n/a\")","v":0.26174496644295303},{"$f":"IFERROR(INDEX('ES19a Learn App Achieve Subject'!$B82:$Z82,MATCH(F$1051,'ES19a Learn App Achieve Subject'!$B$2:$Z$2,0)),\"n/a\")","v":0.25987841945288753},{"$f":"IFERROR(INDEX('ES19a Learn App Achieve Subject'!$B82:$Z82,MATCH(G$1051,'ES19a Learn App Achieve Subject'!$B$2:$Z$2,0)),\"n/a\")","v":0.24837796390232394}]
[null,null,"Information and Communication Technology",{"$f":"IFERROR(INDEX('ES19a Learn App Achieve Subject'!$B83:$Z83,MATCH(D$3,'ES19a Learn App Achieve Subject'!$B$2:$Z$2,0)),\"n/a\")","v":4.2553191489361701E-2},{"$f":"IFERROR(INDEX('ES19a Learn App Achieve Subject'!$B83:$Z83,MATCH(E$1051,'ES19a Learn App Achieve Subject'!$B$2:$Z$2,0)),\"n/a\")","v":3.3557046979865772E-2},{"$f":"IFERROR(INDEX('ES19a Learn App Achieve Subject'!$B83:$Z83,MATCH(F$1051,'ES19a Learn App Achieve Subject'!$B$2:$Z$2,0)),\"n/a\")","v":3.0395136778115502E-2},{"$f":"IFERROR(INDEX('ES19a Learn App Achieve Subject'!$B83:$Z83,MATCH(G$1051,'ES19a Learn App Achieve Subject'!$B$2:$Z$2,0)),\"n/a\")","v":4.3057685501946441E-2}]
[null,null,"Leisure, Travel and Tourism",{"$f":"IFERROR(INDEX('ES19a Learn App Achieve Subject'!$B84:$Z84,MATCH(D$3,'ES19a Learn App Achieve Subject'!$B$2:$Z$2,0)),\"n/a\")","v":2.1276595744680851E-2},{"$f":"IFERROR(INDEX('ES19a Learn App Achieve Subject'!$B84:$Z84,MATCH(E$1051,'ES19a Learn App Achieve Subject'!$B$2:$Z$2,0)),\"n/a\")","v":2.0134228187919462E-2},{"$f":"IFERROR(INDEX('ES19a Learn App Achieve Subject'!$B84:$Z84,MATCH(F$1051,'ES19a Learn App Achieve Subject'!$B$2:$Z$2,0)),\"n/a\")","v":5.4711246200607903E-2},{"$f":"IFERROR(INDEX('ES19a Learn App Achieve Subject'!$B84:$Z84,MATCH(G$1051,'ES19a Learn App Achieve Subject'!$B$2:$Z$2,0)),\"n/a\")","v":3.4446148401557151E-2}]
[null,null,"Retail and Commercial Enterprise",{"$f":"IFERROR(INDEX('ES19a Learn App Achieve Subject'!$B85:$Z85,MATCH(D$3,'ES19a Learn App Achieve Subject'!$B$2:$Z$2,0)),\"n/a\")","v":0.10638297872340426},{"$f":"IFERROR(INDEX('ES19a Learn App Achieve Subject'!$B85:$Z85,MATCH(E$1051,'ES19a Learn App Achieve Subject'!$B$2:$Z$2,0)),\"n/a\")","v":0.10067114093959731},{"$f":"IFERROR(INDEX('ES19a Learn App Achieve Subject'!$B85:$Z85,MATCH(F$1051,'ES19a Learn App Achieve Subject'!$B$2:$Z$2,0)),\"n/a\")","v":0.10942249240121581},{"$f":"IFERROR(INDEX('ES19a Learn App Achieve Subject'!$B85:$Z85,MATCH(G$1051,'ES19a Learn App Achieve Subject'!$B$2:$Z$2,0)),\"n/a\")","v":0.11637371711690457}]
[null,null,"Science and Mathematics",{"$f":"IFERROR(INDEX('ES19a Learn App Achieve Subject'!$B86:$Z86,MATCH(D$3,'ES19a Learn App Achieve Subject'!$B$2:$Z$2,0)),\"n/a\")","v":0},{"$f":"IFERROR(INDEX('ES19a Learn App Achieve Subject'!$B86:$Z86,MATCH(E$1051,'ES19a Learn App Achieve Subject'!$B$2:$Z$2,0)),\"n/a\")","v":0},{"$f":"IFERROR(INDEX('ES19a Learn App Achieve Subject'!$B86:$Z86,MATCH(F$1051,'ES19a Learn App Achieve Subject'!$B$2:$Z$2,0)),\"n/a\")","v":0},{"$f":"IFERROR(INDEX('ES19a Learn App Achieve Subject'!$B86:$Z86,MATCH(G$1051,'ES19a Learn App Achieve Subject'!$B$2:$Z$2,0)),\"n/a\")","v":1.0027132240179309E-3}]
[]
[]
[]
[]
[]
[]
[]
[]
[]
[]
[]
[]
[]
[]
[]
[]
[]
[]
[]
[]
[]
[]
[]
[null,null,"ES19b: Provider Perspective: Apprenticeship Achievements by Subject 2018/19"]
[null,null,null,{"$f":"D$3","v":"Chorley "},{"$f":"D$4","v":"Preston, Chorley and South Ribble "},"Lancashire ","England Minus London"]
[null,null,"Agriculture, Horticulture and Animal Care",{"$f":"IFERROR(INDEX('ES19b Prov. App Achieve Subject'!$B4:$Z4,MATCH(D$3,'ES19b Prov. App Achieve Subject'!$B$2:$Z$2,0)),\"n/a\")","v":20},{"$f":"IFERROR(INDEX('ES19b Prov. App Achieve Subject'!$B4:$Z4,MATCH(E$1101,'ES19b Prov. App Achieve Subject'!$B$2:$Z$2,0)),\"n/a\")","v":36},{"$f":"IFERROR(INDEX('ES19b Prov. App Achieve Subject'!$B4:$Z4,MATCH(F$1101,'ES19b Prov. App Achieve Subject'!$B$2:$Z$2,0)),\"n/a\")","v":139},{"$f":"IFERROR(INDEX('ES19b Prov. App Achieve Subject'!$B4:$Z4,MATCH(G$1101,'ES19b Prov. App Achieve Subject'!$B$2:$Z$2,0)),\"n/a\")","v":3826}]
[null,null,"Arts, Media and Publishing",{"$f":"IFERROR(INDEX('ES19b Prov. App Achieve Subject'!$B5:$Z5,MATCH(D$3,'ES19b Prov. App Achieve Subject'!$B$2:$Z$2,0)),\"n/a\")","v":0},{"$f":"IFERROR(INDEX('ES19b Prov. App Achieve Subject'!$B5:$Z5,MATCH(E$1101,'ES19b Prov. App Achieve Subject'!$B$2:$Z$2,0)),\"n/a\")","v":9},{"$f":"IFERROR(INDEX('ES19b Prov. App Achieve Subject'!$B5:$Z5,MATCH(F$1101,'ES19b Prov. App Achieve Subject'!$B$2:$Z$2,0)),\"n/a\")","v":11},{"$f":"IFERROR(INDEX('ES19b Prov. App Achieve Subject'!$B5:$Z5,MATCH(G$1101,'ES19b Prov. App Achieve Subject'!$B$2:$Z$2,0)),\"n/a\")","v":397}]
[null,null,"Business, Administration and Law",{"$f":"IFERROR(INDEX('ES19b Prov. App Achieve Subject'!$B6:$Z6,MATCH(D$3,'ES19b Prov. App Achieve Subject'!$B$2:$Z$2,0)),\"n/a\")","v":67},{"$f":"IFERROR(INDEX('ES19b Prov. App Achieve Subject'!$B6:$Z6,MATCH(E$1101,'ES19b Prov. App Achieve Subject'!$B$2:$Z$2,0)),\"n/a\")","v":426},{"$f":"IFERROR(INDEX('ES19b Prov. App Achieve Subject'!$B6:$Z6,MATCH(F$1101,'ES19b Prov. App Achieve Subject'!$B$2:$Z$2,0)),\"n/a\")","v":1544},{"$f":"IFERROR(INDEX('ES19b Prov. App Achieve Subject'!$B6:$Z6,MATCH(G$1101,'ES19b Prov. App Achieve Subject'!$B$2:$Z$2,0)),\"n/a\")","v":41539}]
[null,null,"Construction, Planning and the Built Environment",{"$f":"IFERROR(INDEX('ES19b Prov. App Achieve Subject'!$B7:$Z7,MATCH(D$3,'ES19b Prov. App Achieve Subject'!$B$2:$Z$2,0)),\"n/a\")","v":15},{"$f":"IFERROR(INDEX('ES19b Prov. App Achieve Subject'!$B7:$Z7,MATCH(E$1101,'ES19b Prov. App Achieve Subject'!$B$2:$Z$2,0)),\"n/a\")","v":93},{"$f":"IFERROR(INDEX('ES19b Prov. App Achieve Subject'!$B7:$Z7,MATCH(F$1101,'ES19b Prov. App Achieve Subject'!$B$2:$Z$2,0)),\"n/a\")","v":428},{"$f":"IFERROR(INDEX('ES19b Prov. App Achieve Subject'!$B7:$Z7,MATCH(G$1101,'ES19b Prov. App Achieve Subject'!$B$2:$Z$2,0)),\"n/a\")","v":10549}]
[null,null,"Education and Training",{"$f":"IFERROR(INDEX('ES19b Prov. App Achieve Subject'!$B8:$Z8,MATCH(D$3,'ES19b Prov. App Achieve Subject'!$B$2:$Z$2,0)),\"n/a\")","v":7},{"$f":"IFERROR(INDEX('ES19b Prov. App Achieve Subject'!$B8:$Z8,MATCH(E$1101,'ES19b Prov. App Achieve Subject'!$B$2:$Z$2,0)),\"n/a\")","v":20},{"$f":"IFERROR(INDEX('ES19b Prov. App Achieve Subject'!$B8:$Z8,MATCH(F$1101,'ES19b Prov. App Achieve Subject'!$B$2:$Z$2,0)),\"n/a\")","v":151},{"$f":"IFERROR(INDEX('ES19b Prov. App Achieve Subject'!$B8:$Z8,MATCH(G$1101,'ES19b Prov. App Achieve Subject'!$B$2:$Z$2,0)),\"n/a\")","v":3728}]
[null,null,"Engineering and Manufacturing Technologies",{"$f":"IFERROR(INDEX('ES19b Prov. App Achieve Subject'!$B9:$Z9,MATCH(D$3,'ES19b Prov. App Achieve Subject'!$B$2:$Z$2,0)),\"n/a\")","v":62},{"$f":"IFERROR(INDEX('ES19b Prov. App Achieve Subject'!$B9:$Z9,MATCH(E$1101,'ES19b Prov. App Achieve Subject'!$B$2:$Z$2,0)),\"n/a\")","v":314},{"$f":"IFERROR(INDEX('ES19b Prov. App Achieve Subject'!$B9:$Z9,MATCH(F$1101,'ES19b Prov. App Achieve Subject'!$B$2:$Z$2,0)),\"n/a\")","v":1211},{"$f":"IFERROR(INDEX('ES19b Prov. App Achieve Subject'!$B9:$Z9,MATCH(G$1101,'ES19b Prov. App Achieve Subject'!$B$2:$Z$2,0)),\"n/a\")","v":34212}]
[null,null,"Health, Public Services and Care",{"$f":"IFERROR(INDEX('ES19b Prov. App Achieve Subject'!$B10:$Z10,MATCH(D$3,'ES19b Prov. App Achieve Subject'!$B$2:$Z$2,0)),\"n/a\")","v":133},{"$f":"IFERROR(INDEX('ES19b Prov. App Achieve Subject'!$B10:$Z10,MATCH(E$1101,'ES19b Prov. App Achieve Subject'!$B$2:$Z$2,0)),\"n/a\")","v":522},{"$f":"IFERROR(INDEX('ES19b Prov. App Achieve Subject'!$B10:$Z10,MATCH(F$1101,'ES19b Prov. App Achieve Subject'!$B$2:$Z$2,0)),\"n/a\")","v":1640},{"$f":"IFERROR(INDEX('ES19b Prov. App Achieve Subject'!$B10:$Z10,MATCH(G$1101,'ES19b Prov. App Achieve Subject'!$B$2:$Z$2,0)),\"n/a\")","v":42653}]
[null,null,"Information and Communication Technology",{"$f":"IFERROR(INDEX('ES19b Prov. App Achieve Subject'!$B11:$Z11,MATCH(D$3,'ES19b Prov. App Achieve Subject'!$B$2:$Z$2,0)),\"n/a\")","v":27},{"$f":"IFERROR(INDEX('ES19b Prov. App Achieve Subject'!$B11:$Z11,MATCH(E$1101,'ES19b Prov. App Achieve Subject'!$B$2:$Z$2,0)),\"n/a\")","v":83},{"$f":"IFERROR(INDEX('ES19b Prov. App Achieve Subject'!$B11:$Z11,MATCH(F$1101,'ES19b Prov. App Achieve Subject'!$B$2:$Z$2,0)),\"n/a\")","v":205},{"$f":"IFERROR(INDEX('ES19b Prov. App Achieve Subject'!$B11:$Z11,MATCH(G$1101,'ES19b Prov. App Achieve Subject'!$B$2:$Z$2,0)),\"n/a\")","v":7248}]
[null,null,"Leisure, Travel and Tourism",{"$f":"IFERROR(INDEX('ES19b Prov. App Achieve Subject'!$B12:$Z12,MATCH(D$3,'ES19b Prov. App Achieve Subject'!$B$2:$Z$2,0)),\"n/a\")","v":7},{"$f":"IFERROR(INDEX('ES19b Prov. App Achieve Subject'!$B12:$Z12,MATCH(E$1101,'ES19b Prov. App Achieve Subject'!$B$2:$Z$2,0)),\"n/a\")","v":37},{"$f":"IFERROR(INDEX('ES19b Prov. App Achieve Subject'!$B12:$Z12,MATCH(F$1101,'ES19b Prov. App Achieve Subject'!$B$2:$Z$2,0)),\"n/a\")","v":282},{"$f":"IFERROR(INDEX('ES19b Prov. App Achieve Subject'!$B12:$Z12,MATCH(G$1101,'ES19b Prov. App Achieve Subject'!$B$2:$Z$2,0)),\"n/a\")","v":5978}]
[null,null,"Retail and Commercial Enterprise",{"$f":"IFERROR(INDEX('ES19b Prov. App Achieve Subject'!$B13:$Z13,MATCH(D$3,'ES19b Prov. App Achieve Subject'!$B$2:$Z$2,0)),\"n/a\")","v":33},{"$f":"IFERROR(INDEX('ES19b Prov. App Achieve Subject'!$B13:$Z13,MATCH(E$1101,'ES19b Prov. App Achieve Subject'!$B$2:$Z$2,0)),\"n/a\")","v":162},{"$f":"IFERROR(INDEX('ES19b Prov. App Achieve Subject'!$B13:$Z13,MATCH(F$1101,'ES19b Prov. App Achieve Subject'!$B$2:$Z$2,0)),\"n/a\")","v":686},{"$f":"IFERROR(INDEX('ES19b Prov. App Achieve Subject'!$B13:$Z13,MATCH(G$1101,'ES19b Prov. App Achieve Subject'!$B$2:$Z$2,0)),\"n/a\")","v":19702}]
[null,null,"Science and Mathematics",{"$f":"IFERROR(INDEX('ES19b Prov. App Achieve Subject'!$B14:$Z14,MATCH(D$3,'ES19b Prov. App Achieve Subject'!$B$2:$Z$2,0)),\"n/a\")","v":0},{"$f":"IFERROR(INDEX('ES19b Prov. App Achieve Subject'!$B14:$Z14,MATCH(E$1101,'ES19b Prov. App Achieve Subject'!$B$2:$Z$2,0)),\"n/a\")","v":1},{"$f":"IFERROR(INDEX('ES19b Prov. App Achieve Subject'!$B14:$Z14,MATCH(F$1101,'ES19b Prov. App Achieve Subject'!$B$2:$Z$2,0)),\"n/a\")","v":2},{"$f":"IFERROR(INDEX('ES19b Prov. App Achieve Subject'!$B14:$Z14,MATCH(G$1101,'ES19b Prov. App Achieve Subject'!$B$2:$Z$2,0)),\"n/a\")","v":167}]
[null,null,"Total",{"$f":"IFERROR(INDEX('ES19b Prov. App Achieve Subject'!$B15:$Z15,MATCH(D$3,'ES19b Prov. App Achieve Subject'!$B$2:$Z$2,0)),\"n/a\")","v":371},{"$f":"IFERROR(INDEX('ES19b Prov. App Achieve Subject'!$B15:$Z15,MATCH(E$1101,'ES19b Prov. App Achieve Subject'!$B$2:$Z$2,0)),\"n/a\")","v":1703},{"$f":"IFERROR(INDEX('ES19b Prov. App Achieve Subject'!$B15:$Z15,MATCH(F$1101,'ES19b Prov. App Achieve Subject'!$B$2:$Z$2,0)),\"n/a\")","v":6299},{"$f":"IFERROR(INDEX('ES19b Prov. App Achieve Subject'!$B15:$Z15,MATCH(G$1101,'ES19b Prov. App Achieve Subject'!$B$2:$Z$2,0)),\"n/a\")","v":169999}]
[]
[null,null,null,{"$f":"D$3","v":"Chorley "},{"$f":"D$4","v":"Preston, Chorley and South Ribble "},"Lancashire ","England Minus London"]
[null,null,"Agriculture, Horticulture and Animal Care",{"$f":"IFERROR(INDEX('ES19b Prov. App Achieve Subject'!$B18:$Z18,MATCH(D$3,'ES19b Prov. App Achieve Subject'!$B$2:$Z$2,0)),\"n/a\")","v":5.3908355795148251E-2},{"$f":"IFERROR(INDEX('ES19b Prov. App Achieve Subject'!$B18:$Z18,MATCH(E$1101,'ES19b Prov. App Achieve Subject'!$B$2:$Z$2,0)),\"n/a\")","v":2.1139166177334117E-2},{"$f":"IFERROR(INDEX('ES19b Prov. App Achieve Subject'!$B18:$Z18,MATCH(F$1101,'ES19b Prov. App Achieve Subject'!$B$2:$Z$2,0)),\"n/a\")","v":2.2066994761073187E-2},{"$f":"IFERROR(INDEX('ES19b Prov. App Achieve Subject'!$B18:$Z18,MATCH(G$1101,'ES19b Prov. App Achieve Subject'!$B$2:$Z$2,0)),\"n/a\")","v":2.2506014741263184E-2}]
[null,null,"Arts, Media and Publishing",{"$f":"IFERROR(INDEX('ES19b Prov. App Achieve Subject'!$B19:$Z19,MATCH(D$3,'ES19b Prov. App Achieve Subject'!$B$2:$Z$2,0)),\"n/a\")","v":0},{"$f":"IFERROR(INDEX('ES19b Prov. App Achieve Subject'!$B19:$Z19,MATCH(E$1101,'ES19b Prov. App Achieve Subject'!$B$2:$Z$2,0)),\"n/a\")","v":5.2847915443335293E-3},{"$f":"IFERROR(INDEX('ES19b Prov. App Achieve Subject'!$B19:$Z19,MATCH(F$1101,'ES19b Prov. App Achieve Subject'!$B$2:$Z$2,0)),\"n/a\")","v":1.746308937926655E-3},{"$f":"IFERROR(INDEX('ES19b Prov. App Achieve Subject'!$B19:$Z19,MATCH(G$1101,'ES19b Prov. App Achieve Subject'!$B$2:$Z$2,0)),\"n/a\")","v":2.3353078547520868E-3}]
[null,null,"Business, Administration and Law",{"$f":"IFERROR(INDEX('ES19b Prov. App Achieve Subject'!$B20:$Z20,MATCH(D$3,'ES19b Prov. App Achieve Subject'!$B$2:$Z$2,0)),\"n/a\")","v":0.18059299191374664},{"$f":"IFERROR(INDEX('ES19b Prov. App Achieve Subject'!$B20:$Z20,MATCH(E$1101,'ES19b Prov. App Achieve Subject'!$B$2:$Z$2,0)),\"n/a\")","v":0.25014679976512039},{"$f":"IFERROR(INDEX('ES19b Prov. App Achieve Subject'!$B20:$Z20,MATCH(F$1101,'ES19b Prov. App Achieve Subject'!$B$2:$Z$2,0)),\"n/a\")","v":0.24511827274170503},{"$f":"IFERROR(INDEX('ES19b Prov. App Achieve Subject'!$B20:$Z20,MATCH(G$1101,'ES19b Prov. App Achieve Subject'!$B$2:$Z$2,0)),\"n/a\")","v":0.24434849616762452}]
[null,null,"Construction, Planning and the Built Environment",{"$f":"IFERROR(INDEX('ES19b Prov. App Achieve Subject'!$B21:$Z21,MATCH(D$3,'ES19b Prov. App Achieve Subject'!$B$2:$Z$2,0)),\"n/a\")","v":4.0431266846361183E-2},{"$f":"IFERROR(INDEX('ES19b Prov. App Achieve Subject'!$B21:$Z21,MATCH(E$1101,'ES19b Prov. App Achieve Subject'!$B$2:$Z$2,0)),\"n/a\")","v":5.4609512624779803E-2},{"$f":"IFERROR(INDEX('ES19b Prov. App Achieve Subject'!$B21:$Z21,MATCH(F$1101,'ES19b Prov. App Achieve Subject'!$B$2:$Z$2,0)),\"n/a\")","v":6.7947293221146218E-2},{"$f":"IFERROR(INDEX('ES19b Prov. App Achieve Subject'!$B21:$Z21,MATCH(G$1101,'ES19b Prov. App Achieve Subject'!$B$2:$Z$2,0)),\"n/a\")","v":6.2053306195918798E-2}]
[null,null,"Education and Training",{"$f":"IFERROR(INDEX('ES19b Prov. App Achieve Subject'!$B22:$Z22,MATCH(D$3,'ES19b Prov. App Achieve Subject'!$B$2:$Z$2,0)),\"n/a\")","v":1.8867924528301886E-2},{"$f":"IFERROR(INDEX('ES19b Prov. App Achieve Subject'!$B22:$Z22,MATCH(E$1101,'ES19b Prov. App Achieve Subject'!$B$2:$Z$2,0)),\"n/a\")","v":1.1743981209630064E-2},{"$f":"IFERROR(INDEX('ES19b Prov. App Achieve Subject'!$B22:$Z22,MATCH(F$1101,'ES19b Prov. App Achieve Subject'!$B$2:$Z$2,0)),\"n/a\")","v":2.3972059056993174E-2},{"$f":"IFERROR(INDEX('ES19b Prov. App Achieve Subject'!$B22:$Z22,MATCH(G$1101,'ES19b Prov. App Achieve Subject'!$B$2:$Z$2,0)),\"n/a\")","v":2.1929540762004481E-2}]
[null,null,"Engineering and Manufacturing Technologies",{"$f":"IFERROR(INDEX('ES19b Prov. App Achieve Subject'!$B23:$Z23,MATCH(D$3,'ES19b Prov. App Achieve Subject'!$B$2:$Z$2,0)),\"n/a\")","v":0.16711590296495957},{"$f":"IFERROR(INDEX('ES19b Prov. App Achieve Subject'!$B23:$Z23,MATCH(E$1101,'ES19b Prov. App Achieve Subject'!$B$2:$Z$2,0)),\"n/a\")","v":0.18438050499119202},{"$f":"IFERROR(INDEX('ES19b Prov. App Achieve Subject'!$B23:$Z23,MATCH(F$1101,'ES19b Prov. App Achieve Subject'!$B$2:$Z$2,0)),\"n/a\")","v":0.19225273852992539},{"$f":"IFERROR(INDEX('ES19b Prov. App Achieve Subject'!$B23:$Z23,MATCH(G$1101,'ES19b Prov. App Achieve Subject'!$B$2:$Z$2,0)),\"n/a\")","v":0.20124824263672139}]
[null,null,"Health, Public Services and Care",{"$f":"IFERROR(INDEX('ES19b Prov. App Achieve Subject'!$B24:$Z24,MATCH(D$3,'ES19b Prov. App Achieve Subject'!$B$2:$Z$2,0)),\"n/a\")","v":0.35849056603773582},{"$f":"IFERROR(INDEX('ES19b Prov. App Achieve Subject'!$B24:$Z24,MATCH(E$1101,'ES19b Prov. App Achieve Subject'!$B$2:$Z$2,0)),\"n/a\")","v":0.30651790957134467},{"$f":"IFERROR(INDEX('ES19b Prov. App Achieve Subject'!$B24:$Z24,MATCH(F$1101,'ES19b Prov. App Achieve Subject'!$B$2:$Z$2,0)),\"n/a\")","v":0.2603587871090649},{"$f":"IFERROR(INDEX('ES19b Prov. App Achieve Subject'!$B24:$Z24,MATCH(G$1101,'ES19b Prov. App Achieve Subject'!$B$2:$Z$2,0)),\"n/a\")","v":0.25090147589103468}]
[null,null,"Information and Communication Technology",{"$f":"IFERROR(INDEX('ES19b Prov. App Achieve Subject'!$B25:$Z25,MATCH(D$3,'ES19b Prov. App Achieve Subject'!$B$2:$Z$2,0)),\"n/a\")","v":7.277628032345014E-2},{"$f":"IFERROR(INDEX('ES19b Prov. App Achieve Subject'!$B25:$Z25,MATCH(E$1101,'ES19b Prov. App Achieve Subject'!$B$2:$Z$2,0)),\"n/a\")","v":4.8737522019964771E-2},{"$f":"IFERROR(INDEX('ES19b Prov. App Achieve Subject'!$B25:$Z25,MATCH(F$1101,'ES19b Prov. App Achieve Subject'!$B$2:$Z$2,0)),\"n/a\")","v":3.2544848388633113E-2},{"$f":"IFERROR(INDEX('ES19b Prov. App Achieve Subject'!$B25:$Z25,MATCH(G$1101,'ES19b Prov. App Achieve Subject'!$B$2:$Z$2,0)),\"n/a\")","v":4.263554491497009E-2}]
[null,null,"Leisure, Travel and Tourism",{"$f":"IFERROR(INDEX('ES19b Prov. App Achieve Subject'!$B26:$Z26,MATCH(D$3,'ES19b Prov. App Achieve Subject'!$B$2:$Z$2,0)),\"n/a\")","v":1.8867924528301886E-2},{"$f":"IFERROR(INDEX('ES19b Prov. App Achieve Subject'!$B26:$Z26,MATCH(E$1101,'ES19b Prov. App Achieve Subject'!$B$2:$Z$2,0)),\"n/a\")","v":2.1726365237815619E-2},{"$f":"IFERROR(INDEX('ES19b Prov. App Achieve Subject'!$B26:$Z26,MATCH(F$1101,'ES19b Prov. App Achieve Subject'!$B$2:$Z$2,0)),\"n/a\")","v":4.4769010954119705E-2},{"$f":"IFERROR(INDEX('ES19b Prov. App Achieve Subject'!$B26:$Z26,MATCH(G$1101,'ES19b Prov. App Achieve Subject'!$B$2:$Z$2,0)),\"n/a\")","v":3.5164912734780791E-2}]
[null,null,"Retail and Commercial Enterprise",{"$f":"IFERROR(INDEX('ES19b Prov. App Achieve Subject'!$B27:$Z27,MATCH(D$3,'ES19b Prov. App Achieve Subject'!$B$2:$Z$2,0)),\"n/a\")","v":8.8948787061994605E-2},{"$f":"IFERROR(INDEX('ES19b Prov. App Achieve Subject'!$B27:$Z27,MATCH(E$1101,'ES19b Prov. App Achieve Subject'!$B$2:$Z$2,0)),\"n/a\")","v":9.5126247798003521E-2},{"$f":"IFERROR(INDEX('ES19b Prov. App Achieve Subject'!$B27:$Z27,MATCH(F$1101,'ES19b Prov. App Achieve Subject'!$B$2:$Z$2,0)),\"n/a\")","v":0.10890617558342594},{"$f":"IFERROR(INDEX('ES19b Prov. App Achieve Subject'!$B27:$Z27,MATCH(G$1101,'ES19b Prov. App Achieve Subject'!$B$2:$Z$2,0)),\"n/a\")","v":0.11589479938117284}]
[null,null,"Science and Mathematics",{"$f":"IFERROR(INDEX('ES19b Prov. App Achieve Subject'!$B28:$Z28,MATCH(D$3,'ES19b Prov. App Achieve Subject'!$B$2:$Z$2,0)),\"n/a\")","v":0},{"$f":"IFERROR(INDEX('ES19b Prov. App Achieve Subject'!$B28:$Z28,MATCH(E$1101,'ES19b Prov. App Achieve Subject'!$B$2:$Z$2,0)),\"n/a\")","v":5.8719906048150322E-4},{"$f":"IFERROR(INDEX('ES19b Prov. App Achieve Subject'!$B28:$Z28,MATCH(F$1101,'ES19b Prov. App Achieve Subject'!$B$2:$Z$2,0)),\"n/a\")","v":3.1751071598666456E-4},{"$f":"IFERROR(INDEX('ES19b Prov. App Achieve Subject'!$B28:$Z28,MATCH(G$1101,'ES19b Prov. App Achieve Subject'!$B$2:$Z$2,0)),\"n/a\")","v":9.823587197571751E-4}]
[]
[]
[]
[]
[]
[]
[]
[]
[]
[]
[]
[]
[]
[]
[]
[]
[]
[]
[]
[]
[]
[]
[]
[null,null,"ES20a. Learner Perspective Apprenticeship Achievements by Level, 2018/19"]
[null,null,null,{"$f":"D$3","v":"Chorley "},{"$f":"D$4","v":"Preston, Chorley and South Ribble "},"Lancashire ","England Minus London"]
[null,null,"Intermediate Apprenticeship",{"$f":"IFERROR(INDEX('ES20a. Learn. App Achieve Level'!$B28:$Z28,MATCH(D$3,'ES20a. Learn. App Achieve Level'!$B$2:$Z$2,0)),\"n/a\")","v":200},{"$f":"IFERROR(INDEX('ES20a. Learn. App Achieve Level'!$B28:$Z28,MATCH(E$1151,'ES20a. Learn. App Achieve Level'!$B$2:$Z$2,0)),\"n/a\")","v":620},{"$f":"IFERROR(INDEX('ES20a. Learn. App Achieve Level'!$B28:$Z28,MATCH(F$1151,'ES20a. Learn. App Achieve Level'!$B$2:$Z$2,0)),\"n/a\")","v":2970},{"$f":"IFERROR(INDEX('ES20a. Learn. App Achieve Level'!$B28:$Z28,MATCH(G$1151,'ES20a. Learn. App Achieve Level'!$B$2:$Z$2,0)),\"n/a\")","v":79990}]
[null,null,"Advanced Apprenticeship",{"$f":"IFERROR(INDEX('ES20a. Learn. App Achieve Level'!$B29:$Z29,MATCH(D$3,'ES20a. Learn. App Achieve Level'!$B$2:$Z$2,0)),\"n/a\")","v":210},{"$f":"IFERROR(INDEX('ES20a. Learn. App Achieve Level'!$B29:$Z29,MATCH(E$1151,'ES20a. Learn. App Achieve Level'!$B$2:$Z$2,0)),\"n/a\")","v":710},{"$f":"IFERROR(INDEX('ES20a. Learn. App Achieve Level'!$B29:$Z29,MATCH(F$1151,'ES20a. Learn. App Achieve Level'!$B$2:$Z$2,0)),\"n/a\")","v":2970},{"$f":"IFERROR(INDEX('ES20a. Learn. App Achieve Level'!$B29:$Z29,MATCH(G$1151,'ES20a. Learn. App Achieve Level'!$B$2:$Z$2,0)),\"n/a\")","v":77110}]
[null,null,"Higher Apprenticeship",{"$f":"IFERROR(INDEX('ES20a. Learn. App Achieve Level'!$B30:$Z30,MATCH(D$3,'ES20a. Learn. App Achieve Level'!$B$2:$Z$2,0)),\"n/a\")","v":50},{"$f":"IFERROR(INDEX('ES20a. Learn. App Achieve Level'!$B30:$Z30,MATCH(E$1151,'ES20a. Learn. App Achieve Level'!$B$2:$Z$2,0)),\"n/a\")","v":170},{"$f":"IFERROR(INDEX('ES20a. Learn. App Achieve Level'!$B30:$Z30,MATCH(F$1151,'ES20a. Learn. App Achieve Level'!$B$2:$Z$2,0)),\"n/a\")","v":610},{"$f":"IFERROR(INDEX('ES20a. Learn. App Achieve Level'!$B30:$Z30,MATCH(G$1151,'ES20a. Learn. App Achieve Level'!$B$2:$Z$2,0)),\"n/a\")","v":12470}]
[null,null,"Total",{"$f":"IFERROR(INDEX('ES20a. Learn. App Achieve Level'!$B31:$Z31,MATCH(D$3,'ES20a. Learn. App Achieve Level'!$B$2:$Z$2,0)),\"n/a\")","v":460},{"$f":"IFERROR(INDEX('ES20a. Learn. App Achieve Level'!$B31:$Z31,MATCH(E$1151,'ES20a. Learn. App Achieve Level'!$B$2:$Z$2,0)),\"n/a\")","v":1500},{"$f":"IFERROR(INDEX('ES20a. Learn. App Achieve Level'!$B31:$Z31,MATCH(F$1151,'ES20a. Learn. App Achieve Level'!$B$2:$Z$2,0)),\"n/a\")","v":6550},{"$f":"IFERROR(INDEX('ES20a. Learn. App Achieve Level'!$B31:$Z31,MATCH(G$1151,'ES20a. Learn. App Achieve Level'!$B$2:$Z$2,0)),\"n/a\")","v":169570}]
[]
[null,null,null,{"$f":"D$3","v":"Chorley "},{"$f":"D$4","v":"Preston, Chorley and South Ribble "},"Lancashire ","England Minus London"]
[null,null,"Intermediate Apprenticeship",{"$f":"IFERROR(INDEX('ES20a. Learn. App Achieve Level'!$B34:$Z34,MATCH(D$3,'ES20a. Learn. App Achieve Level'!$B$2:$Z$2,0)),\"n/a\")","v":0.43478260869565216},{"$f":"IFERROR(INDEX('ES20a. Learn. App Achieve Level'!$B34:$Z34,MATCH(E$1151,'ES20a. Learn. App Achieve Level'!$B$2:$Z$2,0)),\"n/a\")","v":0.41333333333333333},{"$f":"IFERROR(INDEX('ES20a. Learn. App Achieve Level'!$B34:$Z34,MATCH(F$1151,'ES20a. Learn. App Achieve Level'!$B$2:$Z$2,0)),\"n/a\")","v":0.45343511450381679},{"$f":"IFERROR(INDEX('ES20a. Learn. App Achieve Level'!$B34:$Z34,MATCH(G$1151,'ES20a. Learn. App Achieve Level'!$B$2:$Z$2,0)),\"n/a\")","v":0.47172259243970044}]
[null,null,"Advanced Apprenticeship",{"$f":"IFERROR(INDEX('ES20a. Learn. App Achieve Level'!$B35:$Z35,MATCH(D$3,'ES20a. Learn. App Achieve Level'!$B$2:$Z$2,0)),\"n/a\")","v":0.45652173913043476},{"$f":"IFERROR(INDEX('ES20a. Learn. App Achieve Level'!$B35:$Z35,MATCH(E$1151,'ES20a. Learn. App Achieve Level'!$B$2:$Z$2,0)),\"n/a\")","v":0.47333333333333333},{"$f":"IFERROR(INDEX('ES20a. Learn. App Achieve Level'!$B35:$Z35,MATCH(F$1151,'ES20a. Learn. App Achieve Level'!$B$2:$Z$2,0)),\"n/a\")","v":0.45343511450381679},{"$f":"IFERROR(INDEX('ES20a. Learn. App Achieve Level'!$B35:$Z35,MATCH(G$1151,'ES20a. Learn. App Achieve Level'!$B$2:$Z$2,0)),\"n/a\")","v":0.4547384560948281}]
[null,null,"Higher Apprenticeship",{"$f":"IFERROR(INDEX('ES20a. Learn. App Achieve Level'!$B36:$Z36,MATCH(D$3,'ES20a. Learn. App Achieve Level'!$B$2:$Z$2,0)),\"n/a\")","v":0.10869565217391304},{"$f":"IFERROR(INDEX('ES20a. Learn. App Achieve Level'!$B36:$Z36,MATCH(E$1151,'ES20a. Learn. App Achieve Level'!$B$2:$Z$2,0)),\"n/a\")","v":0.11333333333333333},{"$f":"IFERROR(INDEX('ES20a. Learn. App Achieve Level'!$B36:$Z36,MATCH(F$1151,'ES20a. Learn. App Achieve Level'!$B$2:$Z$2,0)),\"n/a\")","v":9.3129770992366412E-2},{"$f":"IFERROR(INDEX('ES20a. Learn. App Achieve Level'!$B36:$Z36,MATCH(G$1151,'ES20a. Learn. App Achieve Level'!$B$2:$Z$2,0)),\"n/a\")","v":7.3538951465471486E-2}]
[]
[]
[]
[]
[]
[]
[]
[]
[]
[]
[]
[]
[]
[]
[]
[]
[]
[]
[]
[]
[]
[]
[]
[]
[]
[]
[]
[]
[]
[]
[]
[]
[]
[]
[]
[]
[]
[null,null,"ES20b. Provider Perspective Apprenticeship Achievements by Level, 2018/19"]
[null,null,null,{"$f":"D$3","v":"Chorley "},{"$f":"D$4","v":"Preston, Chorley and South Ribble "},"Lancashire ","England Minus London"]
[null,null,"Intermediate Apprenticeship",{"$f":"IFERROR(INDEX('ES20b. Prov. App Achieve Level'!$B4:$Z4,MATCH(D$3,'ES20b. Prov. App Achieve Level'!$B$2:$Z$2,0)),\"n/a\")","v":163},{"$f":"IFERROR(INDEX('ES20b. Prov. App Achieve Level'!$B4:$Z4,MATCH(E$1199,'ES20b. Prov. App Achieve Level'!$B$2:$Z$2,0)),\"n/a\")","v":680},{"$f":"IFERROR(INDEX('ES20b. Prov. App Achieve Level'!$B4:$Z4,MATCH(F$1199,'ES20b. Prov. App Achieve Level'!$B$2:$Z$2,0)),\"n/a\")","v":2833},{"$f":"IFERROR(INDEX('ES20b. Prov. App Achieve Level'!$B4:$Z4,MATCH(G$1199,'ES20b. Prov. App Achieve Level'!$B$2:$Z$2,0)),\"n/a\")","v":80601}]
[null,null,"Advanced Apprenticeship",{"$f":"IFERROR(INDEX('ES20b. Prov. App Achieve Level'!$B5:$Z5,MATCH(D$3,'ES20b. Prov. App Achieve Level'!$B$2:$Z$2,0)),\"n/a\")","v":172},{"$f":"IFERROR(INDEX('ES20b. Prov. App Achieve Level'!$B5:$Z5,MATCH(E$1199,'ES20b. Prov. App Achieve Level'!$B$2:$Z$2,0)),\"n/a\")","v":834},{"$f":"IFERROR(INDEX('ES20b. Prov. App Achieve Level'!$B5:$Z5,MATCH(F$1199,'ES20b. Prov. App Achieve Level'!$B$2:$Z$2,0)),\"n/a\")","v":2878},{"$f":"IFERROR(INDEX('ES20b. Prov. App Achieve Level'!$B5:$Z5,MATCH(G$1199,'ES20b. Prov. App Achieve Level'!$B$2:$Z$2,0)),\"n/a\")","v":77224}]
[null,null,"Higher Apprenticeship",{"$f":"IFERROR(INDEX('ES20b. Prov. App Achieve Level'!$B6:$Z6,MATCH(D$3,'ES20b. Prov. App Achieve Level'!$B$2:$Z$2,0)),\"n/a\")","v":36},{"$f":"IFERROR(INDEX('ES20b. Prov. App Achieve Level'!$B6:$Z6,MATCH(E$1199,'ES20b. Prov. App Achieve Level'!$B$2:$Z$2,0)),\"n/a\")","v":189},{"$f":"IFERROR(INDEX('ES20b. Prov. App Achieve Level'!$B6:$Z6,MATCH(F$1199,'ES20b. Prov. App Achieve Level'!$B$2:$Z$2,0)),\"n/a\")","v":588},{"$f":"IFERROR(INDEX('ES20b. Prov. App Achieve Level'!$B6:$Z6,MATCH(G$1199,'ES20b. Prov. App Achieve Level'!$B$2:$Z$2,0)),\"n/a\")","v":12174}]
[null,null,"Total",{"$f":"IFERROR(INDEX('ES20b. Prov. App Achieve Level'!$B7:$Z7,MATCH(D$3,'ES20b. Prov. App Achieve Level'!$B$2:$Z$2,0)),\"n/a\")","v":371},{"$f":"IFERROR(INDEX('ES20b. Prov. App Achieve Level'!$B7:$Z7,MATCH(E$1199,'ES20b. Prov. App Achieve Level'!$B$2:$Z$2,0)),\"n/a\")","v":1703},{"$f":"IFERROR(INDEX('ES20b. Prov. App Achieve Level'!$B7:$Z7,MATCH(F$1199,'ES20b. Prov. App Achieve Level'!$B$2:$Z$2,0)),\"n/a\")","v":6299},{"$f":"IFERROR(INDEX('ES20b. Prov. App Achieve Level'!$B7:$Z7,MATCH(G$1199,'ES20b. Prov. App Achieve Level'!$B$2:$Z$2,0)),\"n/a\")","v":169999}]
[]
[null,null,null,{"$f":"D$3","v":"Chorley "},{"$f":"D$4","v":"Preston, Chorley and South Ribble "},"Lancashire ","England Minus London"]
[null,null,"Intermediate Apprenticeship",{"$f":"IFERROR(INDEX('ES20b. Prov. App Achieve Level'!$B10:$Z10,MATCH(D$3,'ES20b. Prov. App Achieve Level'!$B$2:$Z$2,0)),\"n/a\")","v":0.43935309973045822},{"$f":"IFERROR(INDEX('ES20b. Prov. App Achieve Level'!$B10:$Z10,MATCH(E$1199,'ES20b. Prov. App Achieve Level'!$B$2:$Z$2,0)),\"n/a\")","v":0.3992953611274222},{"$f":"IFERROR(INDEX('ES20b. Prov. App Achieve Level'!$B10:$Z10,MATCH(F$1199,'ES20b. Prov. App Achieve Level'!$B$2:$Z$2,0)),\"n/a\")","v":0.44975392919511031},{"$f":"IFERROR(INDEX('ES20b. Prov. App Achieve Level'!$B10:$Z10,MATCH(G$1199,'ES20b. Prov. App Achieve Level'!$B$2:$Z$2,0)),\"n/a\")","v":0.47412631839010816}]
[null,null,"Advanced Apprenticeship",{"$f":"IFERROR(INDEX('ES20b. Prov. App Achieve Level'!$B11:$Z11,MATCH(D$3,'ES20b. Prov. App Achieve Level'!$B$2:$Z$2,0)),\"n/a\")","v":0.46361185983827491},{"$f":"IFERROR(INDEX('ES20b. Prov. App Achieve Level'!$B11:$Z11,MATCH(E$1199,'ES20b. Prov. App Achieve Level'!$B$2:$Z$2,0)),\"n/a\")","v":0.48972401644157371},{"$f":"IFERROR(INDEX('ES20b. Prov. App Achieve Level'!$B11:$Z11,MATCH(F$1199,'ES20b. Prov. App Achieve Level'!$B$2:$Z$2,0)),\"n/a\")","v":0.4568979203048103},{"$f":"IFERROR(INDEX('ES20b. Prov. App Achieve Level'!$B11:$Z11,MATCH(G$1199,'ES20b. Prov. App Achieve Level'!$B$2:$Z$2,0)),\"n/a\")","v":0.45426149565585677}]
[null,null,"Higher Apprenticeship",{"$f":"IFERROR(INDEX('ES20b. Prov. App Achieve Level'!$B12:$Z12,MATCH(D$3,'ES20b. Prov. App Achieve Level'!$B$2:$Z$2,0)),\"n/a\")","v":9.7035040431266845E-2},{"$f":"IFERROR(INDEX('ES20b. Prov. App Achieve Level'!$B12:$Z12,MATCH(E$1199,'ES20b. Prov. App Achieve Level'!$B$2:$Z$2,0)),\"n/a\")","v":0.11098062243100411},{"$f":"IFERROR(INDEX('ES20b. Prov. App Achieve Level'!$B12:$Z12,MATCH(F$1199,'ES20b. Prov. App Achieve Level'!$B$2:$Z$2,0)),\"n/a\")","v":9.3348150500079372E-2},{"$f":"IFERROR(INDEX('ES20b. Prov. App Achieve Level'!$B12:$Z12,MATCH(G$1199,'ES20b. Prov. App Achieve Level'!$B$2:$Z$2,0)),\"n/a\")","v":7.1612185954035026E-2}]
[]
[]
[]
[]
[]
[]
[]
[]
[]
[]
[]
[]
[]
[]
[]
[]
[]
[]
[]
[]
[]
[]
[]
[]
[]
[]
[]
[]
[]
[]
[]
[]
[]
[]
[]
[]
[]
[]
[]
[]
[]
[null,null,"ES21: Travel Time for FE"]
[null,null,"For Travel Time for FE by Local Authority please click link above"]
[]
[]
[]
[]
[]
[]
[]
[]
[]
[]
[]
[]
[]
[]
[]
[]
[]
[]
[]
[]
[]
[]
[]
[]
[]
[]
[]
[]
[]
[]
[]
[]
[]
[]
[]
[]
[]
[]
[]
[]
[]
[]
[]
[]
[]
[]
[]
[]
[null,null,"ES22: Provider Perspective: FE and Skills Funded Learners by Provider Type"]
[null,null,null,{"$f":"D$3","v":"Chorley "},{"$f":"D$4","v":"Preston, Chorley and South Ribble "},"Lancashire ","England Minus London"]
[null,null,"Education and Training",{"$f":"INDEX('ES22. Learners by Prov Type'!$B4:$Z4,MATCH(D$3,'ES22. Learners by Prov Type'!$B$2:$Z$2,0))","v":160},{"$f":"INDEX('ES22. Learners by Prov Type'!$B4:$Z4,MATCH(E$1301,'ES22. Learners by Prov Type'!$B$2:$Z$2,0))","v":15480},{"$f":"INDEX('ES22. Learners by Prov Type'!$B4:$Z4,MATCH(F$1301,'ES22. Learners by Prov Type'!$B$2:$Z$2,0))","v":47340},{"$f":"INDEX('ES22. Learners by Prov Type'!$B4:$Z4,MATCH(G$1301,'ES22. Learners by Prov Type'!$B$2:$Z$2,0))","v":1510310}]
[null,null,"Apprenticeships",{"$f":"INDEX('ES22. Learners by Prov Type'!$B5:$Z5,MATCH(D$3,'ES22. Learners by Prov Type'!$B$2:$Z$2,0))","v":430},{"$f":"INDEX('ES22. Learners by Prov Type'!$B5:$Z5,MATCH(E$1301,'ES22. Learners by Prov Type'!$B$2:$Z$2,0))","v":7300},{"$f":"INDEX('ES22. Learners by Prov Type'!$B5:$Z5,MATCH(F$1301,'ES22. Learners by Prov Type'!$B$2:$Z$2,0))","v":19690},{"$f":"INDEX('ES22. Learners by Prov Type'!$B5:$Z5,MATCH(G$1301,'ES22. Learners by Prov Type'!$B$2:$Z$2,0))","v":627750}]
[null,null,"Community Learning",{"$f":"INDEX('ES22. Learners by Prov Type'!$B6:$Z6,MATCH(D$3,'ES22. Learners by Prov Type'!$B$2:$Z$2,0))","v":0},{"$f":"INDEX('ES22. Learners by Prov Type'!$B6:$Z6,MATCH(E$1301,'ES22. Learners by Prov Type'!$B$2:$Z$2,0))","v":470},{"$f":"INDEX('ES22. Learners by Prov Type'!$B6:$Z6,MATCH(F$1301,'ES22. Learners by Prov Type'!$B$2:$Z$2,0))","v":18670},{"$f":"INDEX('ES22. Learners by Prov Type'!$B6:$Z6,MATCH(G$1301,'ES22. Learners by Prov Type'!$B$2:$Z$2,0))","v":344520}]
[null,null,"FE and Skills",{"$f":"INDEX('ES22. Learners by Prov Type'!$B7:$Z7,MATCH(D$3,'ES22. Learners by Prov Type'!$B$2:$Z$2,0))","v":560},{"$f":"INDEX('ES22. Learners by Prov Type'!$B7:$Z7,MATCH(E$1301,'ES22. Learners by Prov Type'!$B$2:$Z$2,0))","v":22630},{"$f":"INDEX('ES22. Learners by Prov Type'!$B7:$Z7,MATCH(F$1301,'ES22. Learners by Prov Type'!$B$2:$Z$2,0))","v":82240},{"$f":"INDEX('ES22. Learners by Prov Type'!$B7:$Z7,MATCH(G$1301,'ES22. Learners by Prov Type'!$B$2:$Z$2,0))","v":2404560}]
[]
[]
[]
[]
[]
[]
[]
[]
[]
[]
[]
[]
[]
[]
[]
[]
[]
[]
[]
[]
[]
[]
[]
[]
[]
[]
[]
[]
[]
[]
[]
[]
[]
[]
[]
[]
[]
[]
[]
[]
[]
[]
[]
[]
[null,null,"ES23: Provider Perspective: FE and Skills Funded Provision by Learner Characteristic"]
[null,null,"By Age",{"$f":"D$3","v":"Chorley "},{"$f":"D$4","v":"Preston, Chorley and South Ribble "},"Lancashire ","England Minus London"]
[null,null,"Under 19",{"$f":"IFERROR(INDEX('ES23 FE Learner Characteristic '!$B4:$Z4,MATCH(D$3,'ES23 FE Learner Characteristic '!$B$2:$Z$2,0)),\"n/a\")","v":65},{"$f":"IFERROR(INDEX('ES23 FE Learner Characteristic '!$B4:$Z4,MATCH(E$1351,'ES23 FE Learner Characteristic '!$B$2:$Z$2,0)),\"n/a\")","v":12938.5},{"$f":"IFERROR(INDEX('ES23 FE Learner Characteristic '!$B4:$Z4,MATCH(F$1351,'ES23 FE Learner Characteristic '!$B$2:$Z$2,0)),\"n/a\")","v":31753.810000000005},{"$f":"IFERROR(INDEX('ES23 FE Learner Characteristic '!$B4:$Z4,MATCH(G$1351,'ES23 FE Learner Characteristic '!$B$2:$Z$2,0)),\"n/a\")","v":756107.79999999993}]
[null,null,"19-24",{"$f":"IFERROR(INDEX('ES23 FE Learner Characteristic '!$B5:$Z5,MATCH(D$3,'ES23 FE Learner Characteristic '!$B$2:$Z$2,0)),\"n/a\")","v":183.48},{"$f":"IFERROR(INDEX('ES23 FE Learner Characteristic '!$B5:$Z5,MATCH(E$1351,'ES23 FE Learner Characteristic '!$B$2:$Z$2,0)),\"n/a\")","v":3296.73},{"$f":"IFERROR(INDEX('ES23 FE Learner Characteristic '!$B5:$Z5,MATCH(F$1351,'ES23 FE Learner Characteristic '!$B$2:$Z$2,0)),\"n/a\")","v":11830.549999999997},{"$f":"IFERROR(INDEX('ES23 FE Learner Characteristic '!$B5:$Z5,MATCH(G$1351,'ES23 FE Learner Characteristic '!$B$2:$Z$2,0)),\"n/a\")","v":412348.89}]
[null,null,"25+",{"$f":"IFERROR(INDEX('ES23 FE Learner Characteristic '!$B6:$Z6,MATCH(D$3,'ES23 FE Learner Characteristic '!$B$2:$Z$2,0)),\"n/a\")","v":311},{"$f":"IFERROR(INDEX('ES23 FE Learner Characteristic '!$B6:$Z6,MATCH(E$1351,'ES23 FE Learner Characteristic '!$B$2:$Z$2,0)),\"n/a\")","v":6378.7300000000005},{"$f":"IFERROR(INDEX('ES23 FE Learner Characteristic '!$B6:$Z6,MATCH(F$1351,'ES23 FE Learner Characteristic '!$B$2:$Z$2,0)),\"n/a\")","v":38640.720000000001},{"$f":"IFERROR(INDEX('ES23 FE Learner Characteristic '!$B6:$Z6,MATCH(G$1351,'ES23 FE Learner Characteristic '!$B$2:$Z$2,0)),\"n/a\")","v":1236241.2300000002}]
[]
[null,null,"By Age",{"$f":"D$3","v":"Chorley "},{"$f":"D$4","v":"Preston, Chorley and South Ribble "},"Lancashire ","England Minus London"]
[null,null,"Under 19",{"$f":"IFERROR(INDEX('ES23 FE Learner Characteristic '!$B9:$Z9,MATCH(D$3,'ES23 FE Learner Characteristic '!$B$2:$Z$2,0)),\"n/a\")","v":0.11617930935869021},{"$f":"IFERROR(INDEX('ES23 FE Learner Characteristic '!$B9:$Z9,MATCH(E$1351,'ES23 FE Learner Characteristic '!$B$2:$Z$2,0)),\"n/a\")","v":0.57214658556042375},{"$f":"IFERROR(INDEX('ES23 FE Learner Characteristic '!$B9:$Z9,MATCH(F$1351,'ES23 FE Learner Characteristic '!$B$2:$Z$2,0)),\"n/a\")","v":0.3861815640678003},{"$f":"IFERROR(INDEX('ES23 FE Learner Characteristic '!$B9:$Z9,MATCH(G$1351,'ES23 FE Learner Characteristic '!$B$2:$Z$2,0)),\"n/a\")","v":0.31442943153541714}]
[null,null,"19-24",{"$f":"IFERROR(INDEX('ES23 FE Learner Characteristic '!$B10:$Z10,MATCH(D$3,'ES23 FE Learner Characteristic '!$B$2:$Z$2,0)),\"n/a\")","v":0.32794737970973042},{"$f":"IFERROR(INDEX('ES23 FE Learner Characteristic '!$B10:$Z10,MATCH(E$1351,'ES23 FE Learner Characteristic '!$B$2:$Z$2,0)),\"n/a\")","v":0.14578295884489051},{"$f":"IFERROR(INDEX('ES23 FE Learner Characteristic '!$B10:$Z10,MATCH(F$1351,'ES23 FE Learner Characteristic '!$B$2:$Z$2,0)),\"n/a\")","v":0.1438800667630849},{"$f":"IFERROR(INDEX('ES23 FE Learner Characteristic '!$B10:$Z10,MATCH(G$1351,'ES23 FE Learner Characteristic '!$B$2:$Z$2,0)),\"n/a\")","v":0.17147637820554193}]
[null,null,"25+",{"$f":"IFERROR(INDEX('ES23 FE Learner Characteristic '!$B11:$Z11,MATCH(D$3,'ES23 FE Learner Characteristic '!$B$2:$Z$2,0)),\"n/a\")","v":0.55587331093157932},{"$f":"IFERROR(INDEX('ES23 FE Learner Characteristic '!$B11:$Z11,MATCH(E$1351,'ES23 FE Learner Characteristic '!$B$2:$Z$2,0)),\"n/a\")","v":0.2820704555946858},{"$f":"IFERROR(INDEX('ES23 FE Learner Characteristic '!$B11:$Z11,MATCH(F$1351,'ES23 FE Learner Characteristic '!$B$2:$Z$2,0)),\"n/a\")","v":0.46993836916911486},{"$f":"IFERROR(INDEX('ES23 FE Learner Characteristic '!$B11:$Z11,MATCH(G$1351,'ES23 FE Learner Characteristic '!$B$2:$Z$2,0)),\"n/a\")","v":0.51409419025904102}]
[]
[]
[]
[]
[null,null,"By Gender",{"$f":"D$3","v":"Chorley "},{"$f":"D$4","v":"Preston, Chorley and South Ribble "},"Lancashire ","England Minus London"]
[null,null,"Female ",{"$f":"IFERROR(INDEX('ES23 FE Learner Characteristic '!$B15:$Z15,MATCH(D$3,'ES23 FE Learner Characteristic '!$B$2:$Z$2,0)),\"n/a\")","v":400.24},{"$f":"IFERROR(INDEX('ES23 FE Learner Characteristic '!$B15:$Z15,MATCH(E$1364,'ES23 FE Learner Characteristic '!$B$2:$Z$2,0)),\"n/a\")","v":10665.25},{"$f":"IFERROR(INDEX('ES23 FE Learner Characteristic '!$B15:$Z15,MATCH(F$1364,'ES23 FE Learner Characteristic '!$B$2:$Z$2,0)),\"n/a\")","v":44064.639999999999},{"$f":"IFERROR(INDEX('ES23 FE Learner Characteristic '!$B15:$Z15,MATCH(G$1364,'ES23 FE Learner Characteristic '!$B$2:$Z$2,0)),\"n/a\")","v":1314031.1100000003}]
[null,null,"Male",{"$f":"IFERROR(INDEX('ES23 FE Learner Characteristic '!$B16:$Z16,MATCH(D$3,'ES23 FE Learner Characteristic '!$B$2:$Z$2,0)),\"n/a\")","v":159.76},{"$f":"IFERROR(INDEX('ES23 FE Learner Characteristic '!$B16:$Z16,MATCH(E$1364,'ES23 FE Learner Characteristic '!$B$2:$Z$2,0)),\"n/a\")","v":11964.750000000002},{"$f":"IFERROR(INDEX('ES23 FE Learner Characteristic '!$B16:$Z16,MATCH(F$1364,'ES23 FE Learner Characteristic '!$B$2:$Z$2,0)),\"n/a\")","v":38175.360000000008},{"$f":"IFERROR(INDEX('ES23 FE Learner Characteristic '!$B16:$Z16,MATCH(G$1364,'ES23 FE Learner Characteristic '!$B$2:$Z$2,0)),\"n/a\")","v":1090528.8499999999}]
[]
[null,null,"By Gender ",{"$f":"D$3","v":"Chorley "},{"$f":"D$4","v":"Preston, Chorley and South Ribble "},"Lancashire ","England Minus London"]
[null,null,"Female ",{"$f":"IFERROR(INDEX('ES23 FE Learner Characteristic '!$B19:$Z19,MATCH(D$3,'ES23 FE Learner Characteristic '!$B$2:$Z$2,0)),\"n/a\")","v":0.71537856581111026},{"$f":"IFERROR(INDEX('ES23 FE Learner Characteristic '!$B19:$Z19,MATCH(E$1364,'ES23 FE Learner Characteristic '!$B$2:$Z$2,0)),\"n/a\")","v":0.4716223960774672},{"$f":"IFERROR(INDEX('ES23 FE Learner Characteristic '!$B19:$Z19,MATCH(F$1364,'ES23 FE Learner Characteristic '!$B$2:$Z$2,0)),\"n/a\")","v":0.53590267105851397},{"$f":"IFERROR(INDEX('ES23 FE Learner Characteristic '!$B19:$Z19,MATCH(G$1364,'ES23 FE Learner Characteristic '!$B$2:$Z$2,0)),\"n/a\")","v":0.54644331791994916}]
[null,null,"Male",{"$f":"IFERROR(INDEX('ES23 FE Learner Characteristic '!$B20:$Z20,MATCH(D$3,'ES23 FE Learner Characteristic '!$B$2:$Z$2,0)),\"n/a\")","v":0.28555086866375917},{"$f":"IFERROR(INDEX('ES23 FE Learner Characteristic '!$B20:$Z20,MATCH(E$1364,'ES23 FE Learner Characteristic '!$B$2:$Z$2,0)),\"n/a\")","v":0.52908690030406003},{"$f":"IFERROR(INDEX('ES23 FE Learner Characteristic '!$B20:$Z20,MATCH(F$1364,'ES23 FE Learner Characteristic '!$B$2:$Z$2,0)),\"n/a\")","v":0.46427878209422241},{"$f":"IFERROR(INDEX('ES23 FE Learner Characteristic '!$B20:$Z20,MATCH(G$1364,'ES23 FE Learner Characteristic '!$B$2:$Z$2,0)),\"n/a\")","v":0.45349931104859936}]
[]
[]
[]
[]
[]
[null,null,"By Ethnicity",{"$f":"D$3","v":"Chorley "},{"$f":"D$4","v":"Preston, Chorley and South Ribble "},"Lancashire ","England Minus London"]
[null,null,"Black, Asian or Minority ",{"$f":"IFERROR(INDEX('ES23 FE Learner Characteristic '!$B24:$Z24,MATCH(D$3,'ES23 FE Learner Characteristic '!$B$2:$Z$2,0)),\"n/a\")","v":40.159999999999997},{"$f":"IFERROR(INDEX('ES23 FE Learner Characteristic '!$B24:$Z24,MATCH(E$1376,'ES23 FE Learner Characteristic '!$B$2:$Z$2,0)),\"n/a\")","v":4013.2100000000005},{"$f":"IFERROR(INDEX('ES23 FE Learner Characteristic '!$B24:$Z24,MATCH(F$1376,'ES23 FE Learner Characteristic '!$B$2:$Z$2,0)),\"n/a\")","v":14474.04},{"$f":"IFERROR(INDEX('ES23 FE Learner Characteristic '!$B24:$Z24,MATCH(G$1376,'ES23 FE Learner Characteristic '!$B$2:$Z$2,0)),\"n/a\")","v":441459.63999999996}]
[null,null,"White",{"$f":"IFERROR(INDEX('ES23 FE Learner Characteristic '!$B25:$Z25,MATCH(D$3,'ES23 FE Learner Characteristic '!$B$2:$Z$2,0)),\"n/a\")","v":519.84},{"$f":"IFERROR(INDEX('ES23 FE Learner Characteristic '!$B25:$Z25,MATCH(E$1376,'ES23 FE Learner Characteristic '!$B$2:$Z$2,0)),\"n/a\")","v":18616.79},{"$f":"IFERROR(INDEX('ES23 FE Learner Characteristic '!$B25:$Z25,MATCH(F$1376,'ES23 FE Learner Characteristic '!$B$2:$Z$2,0)),\"n/a\")","v":67765.959999999992},{"$f":"IFERROR(INDEX('ES23 FE Learner Characteristic '!$B25:$Z25,MATCH(G$1376,'ES23 FE Learner Characteristic '!$B$2:$Z$2,0)),\"n/a\")","v":1963300.3399999999}]
[]
[null,null,"By Ethnicity",{"$f":"D$3","v":"Chorley "},{"$f":"D$4","v":"Preston, Chorley and South Ribble "},"Lancashire ","England Minus London"]
[null,null,"Black, Asian or Minority ",{"$f":"IFERROR(INDEX('ES23 FE Learner Characteristic '!$B28:$Z28,MATCH(D$3,'ES23 FE Learner Characteristic '!$B$2:$Z$2,0)),\"n/a\")","v":7.1780939443769204E-2},{"$f":"IFERROR(INDEX('ES23 FE Learner Characteristic '!$B28:$Z28,MATCH(E$1376,'ES23 FE Learner Characteristic '!$B$2:$Z$2,0)),\"n/a\")","v":0.17746604309904151},{"$f":"IFERROR(INDEX('ES23 FE Learner Characteristic '!$B28:$Z28,MATCH(F$1376,'ES23 FE Learner Characteristic '!$B$2:$Z$2,0)),\"n/a\")","v":0.1760295034069897},{"$f":"IFERROR(INDEX('ES23 FE Learner Characteristic '!$B28:$Z28,MATCH(G$1376,'ES23 FE Learner Characteristic '!$B$2:$Z$2,0)),\"n/a\")","v":0.18358216070648906}]
[null,null,"White",{"$f":"IFERROR(INDEX('ES23 FE Learner Characteristic '!$B29:$Z29,MATCH(D$3,'ES23 FE Learner Characteristic '!$B$2:$Z$2,0)),\"n/a\")","v":0.92914849503110031},{"$f":"IFERROR(INDEX('ES23 FE Learner Characteristic '!$B29:$Z29,MATCH(E$1376,'ES23 FE Learner Characteristic '!$B$2:$Z$2,0)),\"n/a\")","v":0.82324325328248571},{"$f":"IFERROR(INDEX('ES23 FE Learner Characteristic '!$B29:$Z29,MATCH(F$1376,'ES23 FE Learner Characteristic '!$B$2:$Z$2,0)),\"n/a\")","v":0.82415194974574657},{"$f":"IFERROR(INDEX('ES23 FE Learner Characteristic '!$B29:$Z29,MATCH(G$1376,'ES23 FE Learner Characteristic '!$B$2:$Z$2,0)),\"n/a\")","v":0.81644364710890582}]
[]
[]
[]
[]
[]
[null,null,"By Level",{"$f":"D$3","v":"Chorley "},{"$f":"D$4","v":"Preston, Chorley and South Ribble "},"Lancashire ","England Minus London"]
[null,null,"Below Level 2 (excluding English and Maths)",{"$f":"IFERROR(INDEX('ES23 FE Learner Characteristic '!$B33:$Z33,MATCH(D$3,'ES23 FE Learner Characteristic '!$B$2:$Z$2,0)),\"n/a\")","v":0},{"$f":"IFERROR(INDEX('ES23 FE Learner Characteristic '!$B33:$Z33,MATCH(E$1388,'ES23 FE Learner Characteristic '!$B$2:$Z$2,0)),\"n/a\")","v":3690},{"$f":"IFERROR(INDEX('ES23 FE Learner Characteristic '!$B33:$Z33,MATCH(F$1388,'ES23 FE Learner Characteristic '!$B$2:$Z$2,0)),\"n/a\")","v":16470},{"$f":"IFERROR(INDEX('ES23 FE Learner Characteristic '!$B33:$Z33,MATCH(G$1388,'ES23 FE Learner Characteristic '!$B$2:$Z$2,0)),\"n/a\")","v":487820}]
[null,null,"English and Maths",{"$f":"IFERROR(INDEX('ES23 FE Learner Characteristic '!$B34:$Z34,MATCH(D$3,'ES23 FE Learner Characteristic '!$B$2:$Z$2,0)),\"n/a\")","v":180},{"$f":"IFERROR(INDEX('ES23 FE Learner Characteristic '!$B34:$Z34,MATCH(E$1388,'ES23 FE Learner Characteristic '!$B$2:$Z$2,0)),\"n/a\")","v":5840},{"$f":"IFERROR(INDEX('ES23 FE Learner Characteristic '!$B34:$Z34,MATCH(F$1388,'ES23 FE Learner Characteristic '!$B$2:$Z$2,0)),\"n/a\")","v":22790},{"$f":"IFERROR(INDEX('ES23 FE Learner Characteristic '!$B34:$Z34,MATCH(G$1388,'ES23 FE Learner Characteristic '!$B$2:$Z$2,0)),\"n/a\")","v":776450}]
[null,null,"Level 2",{"$f":"IFERROR(INDEX('ES23 FE Learner Characteristic '!$B35:$Z35,MATCH(D$3,'ES23 FE Learner Characteristic '!$B$2:$Z$2,0)),\"n/a\")","v":130},{"$f":"IFERROR(INDEX('ES23 FE Learner Characteristic '!$B35:$Z35,MATCH(E$1388,'ES23 FE Learner Characteristic '!$B$2:$Z$2,0)),\"n/a\")","v":6200},{"$f":"IFERROR(INDEX('ES23 FE Learner Characteristic '!$B35:$Z35,MATCH(F$1388,'ES23 FE Learner Characteristic '!$B$2:$Z$2,0)),\"n/a\")","v":26110},{"$f":"IFERROR(INDEX('ES23 FE Learner Characteristic '!$B35:$Z35,MATCH(G$1388,'ES23 FE Learner Characteristic '!$B$2:$Z$2,0)),\"n/a\")","v":960360}]
[null,null,"Full level 2",{"$f":"IFERROR(INDEX('ES23 FE Learner Characteristic '!$B36:$Z36,MATCH(D$3,'ES23 FE Learner Characteristic '!$B$2:$Z$2,0)),\"n/a\")","v":120},{"$f":"IFERROR(INDEX('ES23 FE Learner Characteristic '!$B36:$Z36,MATCH(E$1388,'ES23 FE Learner Characteristic '!$B$2:$Z$2,0)),\"n/a\")","v":2060},{"$f":"IFERROR(INDEX('ES23 FE Learner Characteristic '!$B36:$Z36,MATCH(F$1388,'ES23 FE Learner Characteristic '!$B$2:$Z$2,0)),\"n/a\")","v":8910},{"$f":"IFERROR(INDEX('ES23 FE Learner Characteristic '!$B36:$Z36,MATCH(G$1388,'ES23 FE Learner Characteristic '!$B$2:$Z$2,0)),\"n/a\")","v":316840}]
[null,null,"Level 3",{"$f":"IFERROR(INDEX('ES23 FE Learner Characteristic '!$B37:$Z37,MATCH(D$3,'ES23 FE Learner Characteristic '!$B$2:$Z$2,0)),\"n/a\")","v":340},{"$f":"IFERROR(INDEX('ES23 FE Learner Characteristic '!$B37:$Z37,MATCH(E$1388,'ES23 FE Learner Characteristic '!$B$2:$Z$2,0)),\"n/a\")","v":13330},{"$f":"IFERROR(INDEX('ES23 FE Learner Characteristic '!$B37:$Z37,MATCH(F$1388,'ES23 FE Learner Characteristic '!$B$2:$Z$2,0)),\"n/a\")","v":30980},{"$f":"IFERROR(INDEX('ES23 FE Learner Characteristic '!$B37:$Z37,MATCH(G$1388,'ES23 FE Learner Characteristic '!$B$2:$Z$2,0)),\"n/a\")","v":779770}]
[null,null,"Full level 3",{"$f":"IFERROR(INDEX('ES23 FE Learner Characteristic '!$B38:$Z38,MATCH(D$3,'ES23 FE Learner Characteristic '!$B$2:$Z$2,0)),\"n/a\")","v":250},{"$f":"IFERROR(INDEX('ES23 FE Learner Characteristic '!$B38:$Z38,MATCH(E$1388,'ES23 FE Learner Characteristic '!$B$2:$Z$2,0)),\"n/a\")","v":11800},{"$f":"IFERROR(INDEX('ES23 FE Learner Characteristic '!$B38:$Z38,MATCH(F$1388,'ES23 FE Learner Characteristic '!$B$2:$Z$2,0)),\"n/a\")","v":26490},{"$f":"IFERROR(INDEX('ES23 FE Learner Characteristic '!$B38:$Z38,MATCH(G$1388,'ES23 FE Learner Characteristic '!$B$2:$Z$2,0)),\"n/a\")","v":666110}]
[null,null,"Level 4 and above",{"$f":"IFERROR(INDEX('ES23 FE Learner Characteristic '!$B39:$Z39,MATCH(D$3,'ES23 FE Learner Characteristic '!$B$2:$Z$2,0)),\"n/a\")","v":100},{"$f":"IFERROR(INDEX('ES23 FE Learner Characteristic '!$B39:$Z39,MATCH(E$1388,'ES23 FE Learner Characteristic '!$B$2:$Z$2,0)),\"n/a\")","v":1960},{"$f":"IFERROR(INDEX('ES23 FE Learner Characteristic '!$B39:$Z39,MATCH(F$1388,'ES23 FE Learner Characteristic '!$B$2:$Z$2,0)),\"n/a\")","v":3590},{"$f":"IFERROR(INDEX('ES23 FE Learner Characteristic '!$B39:$Z39,MATCH(G$1388,'ES23 FE Learner Characteristic '!$B$2:$Z$2,0)),\"n/a\")","v":116350}]
[]
[null,null,"By Level",{"$f":"D$3","v":"Chorley "},{"$f":"D$4","v":"Preston, Chorley and South Ribble "},"Lancashire ","England Minus London"]
[null,null,"Below Level 2 (excluding English and Maths)",{"$f":"IFERROR(INDEX('ES23 FE Learner Characteristic '!$B42:$Z42,MATCH(D$3,'ES23 FE Learner Characteristic '!$B$2:$Z$2,0)),\"n/a\")","v":0},{"$f":"IFERROR(INDEX('ES23 FE Learner Characteristic '!$B42:$Z42,MATCH(E$1388,'ES23 FE Learner Characteristic '!$B$2:$Z$2,0)),\"n/a\")","v":8.2219251336898391E-2},{"$f":"IFERROR(INDEX('ES23 FE Learner Characteristic '!$B42:$Z42,MATCH(F$1388,'ES23 FE Learner Characteristic '!$B$2:$Z$2,0)),\"n/a\")","v":0.12169351263484557},{"$f":"IFERROR(INDEX('ES23 FE Learner Characteristic '!$B42:$Z42,MATCH(G$1388,'ES23 FE Learner Characteristic '!$B$2:$Z$2,0)),\"n/a\")","v":0.11887321197943319}]
[null,null,"English and Maths",{"$f":"IFERROR(INDEX('ES23 FE Learner Characteristic '!$B43:$Z43,MATCH(D$3,'ES23 FE Learner Characteristic '!$B$2:$Z$2,0)),\"n/a\")","v":0.16071428571428573},{"$f":"IFERROR(INDEX('ES23 FE Learner Characteristic '!$B43:$Z43,MATCH(E$1388,'ES23 FE Learner Characteristic '!$B$2:$Z$2,0)),\"n/a\")","v":0.13012477718360071},{"$f":"IFERROR(INDEX('ES23 FE Learner Characteristic '!$B43:$Z43,MATCH(F$1388,'ES23 FE Learner Characteristic '!$B$2:$Z$2,0)),\"n/a\")","v":0.16839071966898184},{"$f":"IFERROR(INDEX('ES23 FE Learner Characteristic '!$B43:$Z43,MATCH(G$1388,'ES23 FE Learner Characteristic '!$B$2:$Z$2,0)),\"n/a\")","v":0.18920730072861078}]
[null,null,"Level 2",{"$f":"IFERROR(INDEX('ES23 FE Learner Characteristic '!$B44:$Z44,MATCH(D$3,'ES23 FE Learner Characteristic '!$B$2:$Z$2,0)),\"n/a\")","v":0.11607142857142858},{"$f":"IFERROR(INDEX('ES23 FE Learner Characteristic '!$B44:$Z44,MATCH(E$1388,'ES23 FE Learner Characteristic '!$B$2:$Z$2,0)),\"n/a\")","v":0.13814616755793227},{"$f":"IFERROR(INDEX('ES23 FE Learner Characteristic '!$B44:$Z44,MATCH(F$1388,'ES23 FE Learner Characteristic '!$B$2:$Z$2,0)),\"n/a\")","v":0.19292153095906606},{"$f":"IFERROR(INDEX('ES23 FE Learner Characteristic '!$B44:$Z44,MATCH(G$1388,'ES23 FE Learner Characteristic '!$B$2:$Z$2,0)),\"n/a\")","v":0.23402295489436362}]
[null,null,"Full level 2",{"$f":"IFERROR(INDEX('ES23 FE Learner Characteristic '!$B45:$Z45,MATCH(D$3,'ES23 FE Learner Characteristic '!$B$2:$Z$2,0)),\"n/a\")","v":0.10714285714285714},{"$f":"IFERROR(INDEX('ES23 FE Learner Characteristic '!$B45:$Z45,MATCH(E$1388,'ES23 FE Learner Characteristic '!$B$2:$Z$2,0)),\"n/a\")","v":4.5900178253119428E-2},{"$f":"IFERROR(INDEX('ES23 FE Learner Characteristic '!$B45:$Z45,MATCH(F$1388,'ES23 FE Learner Characteristic '!$B$2:$Z$2,0)),\"n/a\")","v":6.5834195359834494E-2},{"$f":"IFERROR(INDEX('ES23 FE Learner Characteristic '!$B45:$Z45,MATCH(G$1388,'ES23 FE Learner Characteristic '!$B$2:$Z$2,0)),\"n/a\")","v":7.7208372931744526E-2}]
[null,null,"Level 3",{"$f":"IFERROR(INDEX('ES23 FE Learner Characteristic '!$B46:$Z46,MATCH(D$3,'ES23 FE Learner Characteristic '!$B$2:$Z$2,0)),\"n/a\")","v":0.30357142857142855},{"$f":"IFERROR(INDEX('ES23 FE Learner Characteristic '!$B46:$Z46,MATCH(E$1388,'ES23 FE Learner Characteristic '!$B$2:$Z$2,0)),\"n/a\")","v":0.29701426024955435},{"$f":"IFERROR(INDEX('ES23 FE Learner Characteristic '!$B46:$Z46,MATCH(F$1388,'ES23 FE Learner Characteristic '!$B$2:$Z$2,0)),\"n/a\")","v":0.22890498005024382},{"$f":"IFERROR(INDEX('ES23 FE Learner Characteristic '!$B46:$Z46,MATCH(G$1388,'ES23 FE Learner Characteristic '!$B$2:$Z$2,0)),\"n/a\")","v":0.19001632672953675}]
[null,null,"Full level 3",{"$f":"IFERROR(INDEX('ES23 FE Learner Characteristic '!$B47:$Z47,MATCH(D$3,'ES23 FE Learner Characteristic '!$B$2:$Z$2,0)),\"n/a\")","v":0.22321428571428573},{"$f":"IFERROR(INDEX('ES23 FE Learner Characteristic '!$B47:$Z47,MATCH(E$1388,'ES23 FE Learner Characteristic '!$B$2:$Z$2,0)),\"n/a\")","v":0.26292335115864529},{"$f":"IFERROR(INDEX('ES23 FE Learner Characteristic '!$B47:$Z47,MATCH(F$1388,'ES23 FE Learner Characteristic '!$B$2:$Z$2,0)),\"n/a\")","v":0.19572927441997931},{"$f":"IFERROR(INDEX('ES23 FE Learner Characteristic '!$B47:$Z47,MATCH(G$1388,'ES23 FE Learner Characteristic '!$B$2:$Z$2,0)),\"n/a\")","v":0.16231937032434146}]
[null,null,"Level 4 and above",{"$f":"IFERROR(INDEX('ES23 FE Learner Characteristic '!$B48:$Z48,MATCH(D$3,'ES23 FE Learner Characteristic '!$B$2:$Z$2,0)),\"n/a\")","v":8.9285714285714288E-2},{"$f":"IFERROR(INDEX('ES23 FE Learner Characteristic '!$B48:$Z48,MATCH(E$1388,'ES23 FE Learner Characteristic '!$B$2:$Z$2,0)),\"n/a\")","v":4.3672014260249553E-2},{"$f":"IFERROR(INDEX('ES23 FE Learner Characteristic '!$B48:$Z48,MATCH(F$1388,'ES23 FE Learner Characteristic '!$B$2:$Z$2,0)),\"n/a\")","v":2.6525786907048914E-2},{"$f":"IFERROR(INDEX('ES23 FE Learner Characteristic '!$B48:$Z48,MATCH(G$1388,'ES23 FE Learner Characteristic '!$B$2:$Z$2,0)),\"n/a\")","v":2.8352462411969686E-2}]
[]
[]
[]
[]
[]
[]
[]
[]
[]
[]
[]
[]
[]
[]
[]
[]
[]
[]
[]
[]
[]
[]
[]
[]
[]
[]
[]
[]
[]
[]
[]
[]
[]
[]
[]
[]
[]
[]
[]
[]
[]
[]
[]
[]
[]
[null,null,"ES24: Ofsted Provider Rating"]
[null,null,"For Ofsted Ratings please click link above"]
[]
[]
[]
[]
[]
[]
[]
[]
[]
[]
[]
[]
[]
[]
[]
[]
[]
[]
[]
[]
[]
[]
[]
[]
[]
[]
[]
[]
[]
[]
[]
[]
[]
[]
[]
[]
[]
[]
[]
[]
[]
[]
[]
[]
[]
[]
[]
[]
[null,null,"ES25a: Learner Perspective: Number of FE Learners (Participation and Achievements)"]
[null,null,"Particpation ",{"$f":"D3","v":"Chorley "},{"$f":"D$4","v":"Preston, Chorley and South Ribble "},"Lancashire ","England Minus London"]
[null,null,"2014/15",{"$f":"INDEX('ES25a FE Part. & Achieve'!$B4:$Z4,MATCH(D$1501,'ES25a FE Part. & Achieve'!$B$2:$Z$2,0))","v":9450},{"$f":"INDEX('ES25a FE Part. & Achieve'!$B4:$Z4,MATCH(E$1501,'ES25a FE Part. & Achieve'!$B$2:$Z$2,0))","v":30940},{"$f":"INDEX('ES25a FE Part. & Achieve'!$B4:$Z4,MATCH(F$1501,'ES25a FE Part. & Achieve'!$B$2:$Z$2,0))","v":121950},{"$f":"INDEX('ES25a FE Part. & Achieve'!$B4:$Z4,MATCH(G$1501,'ES25a FE Part. & Achieve'!$B$2:$Z$2,0))","v":3050310}]
[null,null,"2015/16",{"$f":"INDEX('ES25a FE Part. & Achieve'!$B5:$Z5,MATCH(D$1501,'ES25a FE Part. & Achieve'!$B$2:$Z$2,0))","v":8490},{"$f":"INDEX('ES25a FE Part. & Achieve'!$B5:$Z5,MATCH(E$1501,'ES25a FE Part. & Achieve'!$B$2:$Z$2,0))","v":28100},{"$f":"INDEX('ES25a FE Part. & Achieve'!$B5:$Z5,MATCH(F$1501,'ES25a FE Part. & Achieve'!$B$2:$Z$2,0))","v":108890},{"$f":"INDEX('ES25a FE Part. & Achieve'!$B5:$Z5,MATCH(G$1501,'ES25a FE Part. & Achieve'!$B$2:$Z$2,0))","v":2803170}]
[null,null,"2016/17",{"$f":"INDEX('ES25a FE Part. & Achieve'!$B6:$Z6,MATCH(D$1501,'ES25a FE Part. & Achieve'!$B$2:$Z$2,0))","v":8280},{"$f":"INDEX('ES25a FE Part. & Achieve'!$B6:$Z6,MATCH(E$1501,'ES25a FE Part. & Achieve'!$B$2:$Z$2,0))","v":27070},{"$f":"INDEX('ES25a FE Part. & Achieve'!$B6:$Z6,MATCH(F$1501,'ES25a FE Part. & Achieve'!$B$2:$Z$2,0))","v":107130},{"$f":"INDEX('ES25a FE Part. & Achieve'!$B6:$Z6,MATCH(G$1501,'ES25a FE Part. & Achieve'!$B$2:$Z$2,0))","v":2694890}]
[null,null,"2017/18",{"$f":"INDEX('ES25a FE Part. & Achieve'!$B7:$Z7,MATCH(D$1501,'ES25a FE Part. & Achieve'!$B$2:$Z$2,0))","v":8120},{"$f":"INDEX('ES25a FE Part. & Achieve'!$B7:$Z7,MATCH(E$1501,'ES25a FE Part. & Achieve'!$B$2:$Z$2,0))","v":26580},{"$f":"INDEX('ES25a FE Part. & Achieve'!$B7:$Z7,MATCH(F$1501,'ES25a FE Part. & Achieve'!$B$2:$Z$2,0))","v":106680},{"$f":"INDEX('ES25a FE Part. & Achieve'!$B7:$Z7,MATCH(G$1501,'ES25a FE Part. & Achieve'!$B$2:$Z$2,0))","v":2605170}]
[null,null,"2018/19",{"$f":"INDEX('ES25a FE Part. & Achieve'!$B8:$Z8,MATCH(D$1501,'ES25a FE Part. & Achieve'!$B$2:$Z$2,0))","v":7560},{"$f":"INDEX('ES25a FE Part. & Achieve'!$B8:$Z8,MATCH(E$1501,'ES25a FE Part. & Achieve'!$B$2:$Z$2,0))","v":25370},{"$f":"INDEX('ES25a FE Part. & Achieve'!$B8:$Z8,MATCH(F$1501,'ES25a FE Part. & Achieve'!$B$2:$Z$2,0))","v":100060},{"$f":"INDEX('ES25a FE Part. & Achieve'!$B8:$Z8,MATCH(G$1501,'ES25a FE Part. & Achieve'!$B$2:$Z$2,0))","v":2485890}]
[]
[]
[null,null,"Achievements",{"$f":"D3","v":"Chorley "},{"$f":"D$4","v":"Preston, Chorley and South Ribble "},"Lancashire ","England Minus London"]
[null,null,"2014/15",{"$f":"INDEX('ES25a FE Part. & Achieve'!$B12:$Z12,MATCH(D$1501,'ES25a FE Part. & Achieve'!$B$2:$Z$2,0))","v":7540},{"$f":"INDEX('ES25a FE Part. & Achieve'!$B12:$Z12,MATCH(E$1501,'ES25a FE Part. & Achieve'!$B$2:$Z$2,0))","v":24910},{"$f":"INDEX('ES25a FE Part. & Achieve'!$B12:$Z12,MATCH(F$1501,'ES25a FE Part. & Achieve'!$B$2:$Z$2,0))","v":96590},{"$f":"INDEX('ES25a FE Part. & Achieve'!$B12:$Z12,MATCH(G$1501,'ES25a FE Part. & Achieve'!$B$2:$Z$2,0))","v":2321870}]
[null,null,"2015/16",{"$f":"INDEX('ES25a FE Part. & Achieve'!$B13:$Z13,MATCH(D$1501,'ES25a FE Part. & Achieve'!$B$2:$Z$2,0))","v":6340},{"$f":"INDEX('ES25a FE Part. & Achieve'!$B13:$Z13,MATCH(E$1501,'ES25a FE Part. & Achieve'!$B$2:$Z$2,0))","v":21390},{"$f":"INDEX('ES25a FE Part. & Achieve'!$B13:$Z13,MATCH(F$1501,'ES25a FE Part. & Achieve'!$B$2:$Z$2,0))","v":82690},{"$f":"INDEX('ES25a FE Part. & Achieve'!$B13:$Z13,MATCH(G$1501,'ES25a FE Part. & Achieve'!$B$2:$Z$2,0))","v":2063310}]
[null,null,"2016/17",{"$f":"INDEX('ES25a FE Part. & Achieve'!$B14:$Z14,MATCH(D$1501,'ES25a FE Part. & Achieve'!$B$2:$Z$2,0))","v":6080},{"$f":"INDEX('ES25a FE Part. & Achieve'!$B14:$Z14,MATCH(E$1501,'ES25a FE Part. & Achieve'!$B$2:$Z$2,0))","v":20260},{"$f":"INDEX('ES25a FE Part. & Achieve'!$B14:$Z14,MATCH(F$1501,'ES25a FE Part. & Achieve'!$B$2:$Z$2,0))","v":79420},{"$f":"INDEX('ES25a FE Part. & Achieve'!$B14:$Z14,MATCH(G$1501,'ES25a FE Part. & Achieve'!$B$2:$Z$2,0))","v":1932280}]
[null,null,"2017/18",{"$f":"INDEX('ES25a FE Part. & Achieve'!$B15:$Z15,MATCH(D$1501,'ES25a FE Part. & Achieve'!$B$2:$Z$2,0))","v":5770},{"$f":"INDEX('ES25a FE Part. & Achieve'!$B15:$Z15,MATCH(E$1501,'ES25a FE Part. & Achieve'!$B$2:$Z$2,0))","v":19310},{"$f":"INDEX('ES25a FE Part. & Achieve'!$B15:$Z15,MATCH(F$1501,'ES25a FE Part. & Achieve'!$B$2:$Z$2,0))","v":79860},{"$f":"INDEX('ES25a FE Part. & Achieve'!$B15:$Z15,MATCH(G$1501,'ES25a FE Part. & Achieve'!$B$2:$Z$2,0))","v":1877960}]
[null,null,"2018/19",{"$f":"INDEX('ES25a FE Part. & Achieve'!$B16:$Z16,MATCH(D$1501,'ES25a FE Part. & Achieve'!$B$2:$Z$2,0))","v":5310},{"$f":"INDEX('ES25a FE Part. & Achieve'!$B16:$Z16,MATCH(E$1501,'ES25a FE Part. & Achieve'!$B$2:$Z$2,0))","v":18020},{"$f":"INDEX('ES25a FE Part. & Achieve'!$B16:$Z16,MATCH(F$1501,'ES25a FE Part. & Achieve'!$B$2:$Z$2,0))","v":74030},{"$f":"INDEX('ES25a FE Part. & Achieve'!$B16:$Z16,MATCH(G$1501,'ES25a FE Part. & Achieve'!$B$2:$Z$2,0))","v":1771790}]
[]
[]
[]
[]
[]
[]
[]
[]
[]
[]
[]
[]
[]
[]
[]
[]
[]
[]
[]
[]
[]
[]
[]
[]
[]
[]
[]
[]
[]
[]
[]
[]
[]
[]
[]
[null,null,"ES25b: Learner Perspective: FE and Skills Particpation by Characteristics 2018/19"]
[null,null,"By Age",{"$f":"D$3","v":"Chorley "},{"$f":"D$4","v":"Preston, Chorley and South Ribble "},"Lancashire ","England Minus London"]
[null,null,"16-18",{"$f":"IFERROR(INDEX('ES25b FE Part by Characteristic'!$B4:$Z4,MATCH(D$3,'ES25b FE Part by Characteristic'!$B$2:$Z$2,0)),\"n/a\")","v":2540},{"$f":"IFERROR(INDEX('ES25b FE Part by Characteristic'!$B4:$Z4,MATCH(E$1551,'ES25b FE Part by Characteristic'!$B$2:$Z$2,0)),\"n/a\")","v":8200},{"$f":"IFERROR(INDEX('ES25b FE Part by Characteristic'!$B4:$Z4,MATCH(F$1551,'ES25b FE Part by Characteristic'!$B$2:$Z$2,0)),\"n/a\")","v":31640},{"$f":"IFERROR(INDEX('ES25b FE Part by Characteristic'!$B4:$Z4,MATCH(G$1551,'ES25b FE Part by Characteristic'!$B$2:$Z$2,0)),\"n/a\")","v":758330}]
[null,null,"Adult (19+)",{"$f":"IFERROR(INDEX('ES25b FE Part by Characteristic'!$B5:$Z5,MATCH(D$3,'ES25b FE Part by Characteristic'!$B$2:$Z$2,0)),\"n/a\")","v":5030},{"$f":"IFERROR(INDEX('ES25b FE Part by Characteristic'!$B5:$Z5,MATCH(E$1551,'ES25b FE Part by Characteristic'!$B$2:$Z$2,0)),\"n/a\")","v":17180},{"$f":"IFERROR(INDEX('ES25b FE Part by Characteristic'!$B5:$Z5,MATCH(F$1551,'ES25b FE Part by Characteristic'!$B$2:$Z$2,0)),\"n/a\")","v":68420},{"$f":"IFERROR(INDEX('ES25b FE Part by Characteristic'!$B5:$Z5,MATCH(G$1551,'ES25b FE Part by Characteristic'!$B$2:$Z$2,0)),\"n/a\")","v":1713250}]
[]
[null,null,"By Age",{"$f":"D$3","v":"Chorley "},{"$f":"D$4","v":"Preston, Chorley and South Ribble "},"Lancashire ","England Minus London"]
[null,null,"16-18",{"$f":"IFERROR(INDEX('ES25b FE Part by Characteristic'!$B8:$Z8,MATCH(D$3,'ES25b FE Part by Characteristic'!$B$2:$Z$2,0)),\"n/a\")","v":0.33597883597883599},{"$f":"IFERROR(INDEX('ES25b FE Part by Characteristic'!$B8:$Z8,MATCH(E$1551,'ES25b FE Part by Characteristic'!$B$2:$Z$2,0)),\"n/a\")","v":0.32321639731966889},{"$f":"IFERROR(INDEX('ES25b FE Part by Characteristic'!$B8:$Z8,MATCH(F$1551,'ES25b FE Part by Characteristic'!$B$2:$Z$2,0)),\"n/a\")","v":0.32},{"$f":"IFERROR(INDEX('ES25b FE Part by Characteristic'!$B8:$Z8,MATCH(G$1551,'ES25b FE Part by Characteristic'!$B$2:$Z$2,0)),\"n/a\")","v":0.30682117034921125}]
[null,null,"Adult (19+)",{"$f":"IFERROR(INDEX('ES25b FE Part by Characteristic'!$B9:$Z9,MATCH(D$3,'ES25b FE Part by Characteristic'!$B$2:$Z$2,0)),\"n/a\")","v":0.66534391534391535},{"$f":"IFERROR(INDEX('ES25b FE Part by Characteristic'!$B9:$Z9,MATCH(E$1551,'ES25b FE Part by Characteristic'!$B$2:$Z$2,0)),\"n/a\")","v":0.67717776901852578},{"$f":"IFERROR(INDEX('ES25b FE Part by Characteristic'!$B9:$Z9,MATCH(F$1551,'ES25b FE Part by Characteristic'!$B$2:$Z$2,0)),\"n/a\")","v":0.68},{"$f":"IFERROR(INDEX('ES25b FE Part by Characteristic'!$B9:$Z9,MATCH(G$1551,'ES25b FE Part by Characteristic'!$B$2:$Z$2,0)),\"n/a\")","v":0.69318287566202863}]
[]
[]
[]
[]
[]
[null,null,"By Level",{"$f":"D$3","v":"Chorley "},{"$f":"D$4","v":"Preston, Chorley and South Ribble "},"Lancashire ","England Minus London"]
[null,null,"Below Level 2 (excluding English and Maths)",{"$f":"IFERROR(INDEX('ES25b FE Part by Characteristic'!$B12:$Z12,MATCH(D$3,'ES25b FE Part by Characteristic'!$B$2:$Z$2,0)),\"n/a\")","v":1230},{"$f":"IFERROR(INDEX('ES25b FE Part by Characteristic'!$B12:$Z12,MATCH(E$1563,'ES25b FE Part by Characteristic'!$B$2:$Z$2,0)),\"n/a\")","v":5580},{"$f":"IFERROR(INDEX('ES25b FE Part by Characteristic'!$B12:$Z12,MATCH(F$1563,'ES25b FE Part by Characteristic'!$B$2:$Z$2,0)),\"n/a\")","v":21700},{"$f":"IFERROR(INDEX('ES25b FE Part by Characteristic'!$B12:$Z12,MATCH(G$1563,'ES25b FE Part by Characteristic'!$B$2:$Z$2,0)),\"n/a\")","v":318180}]
[null,null,"English and Maths",{"$f":"IFERROR(INDEX('ES25b FE Part by Characteristic'!$B13:$Z13,MATCH(D$3,'ES25b FE Part by Characteristic'!$B$2:$Z$2,0)),\"n/a\")","v":1920},{"$f":"IFERROR(INDEX('ES25b FE Part by Characteristic'!$B13:$Z13,MATCH(E$1563,'ES25b FE Part by Characteristic'!$B$2:$Z$2,0)),\"n/a\")","v":7330},{"$f":"IFERROR(INDEX('ES25b FE Part by Characteristic'!$B13:$Z13,MATCH(F$1563,'ES25b FE Part by Characteristic'!$B$2:$Z$2,0)),\"n/a\")","v":29040},{"$f":"IFERROR(INDEX('ES25b FE Part by Characteristic'!$B13:$Z13,MATCH(G$1563,'ES25b FE Part by Characteristic'!$B$2:$Z$2,0)),\"n/a\")","v":451000}]
[null,null,"Level 2",{"$f":"IFERROR(INDEX('ES25b FE Part by Characteristic'!$B14:$Z14,MATCH(D$3,'ES25b FE Part by Characteristic'!$B$2:$Z$2,0)),\"n/a\")","v":2550},{"$f":"IFERROR(INDEX('ES25b FE Part by Characteristic'!$B14:$Z14,MATCH(E$1563,'ES25b FE Part by Characteristic'!$B$2:$Z$2,0)),\"n/a\")","v":8210},{"$f":"IFERROR(INDEX('ES25b FE Part by Characteristic'!$B14:$Z14,MATCH(F$1563,'ES25b FE Part by Characteristic'!$B$2:$Z$2,0)),\"n/a\")","v":35580},{"$f":"IFERROR(INDEX('ES25b FE Part by Characteristic'!$B14:$Z14,MATCH(G$1563,'ES25b FE Part by Characteristic'!$B$2:$Z$2,0)),\"n/a\")","v":607750}]
[null,null,"Full level 2",{"$f":"IFERROR(INDEX('ES25b FE Part by Characteristic'!$B15:$Z15,MATCH(D$3,'ES25b FE Part by Characteristic'!$B$2:$Z$2,0)),\"n/a\")","v":870},{"$f":"IFERROR(INDEX('ES25b FE Part by Characteristic'!$B15:$Z15,MATCH(E$1563,'ES25b FE Part by Characteristic'!$B$2:$Z$2,0)),\"n/a\")","v":2650},{"$f":"IFERROR(INDEX('ES25b FE Part by Characteristic'!$B15:$Z15,MATCH(F$1563,'ES25b FE Part by Characteristic'!$B$2:$Z$2,0)),\"n/a\")","v":11300},{"$f":"IFERROR(INDEX('ES25b FE Part by Characteristic'!$B15:$Z15,MATCH(G$1563,'ES25b FE Part by Characteristic'!$B$2:$Z$2,0)),\"n/a\")","v":194180}]
[null,null,"Level 3",{"$f":"IFERROR(INDEX('ES25b FE Part by Characteristic'!$B16:$Z16,MATCH(D$3,'ES25b FE Part by Characteristic'!$B$2:$Z$2,0)),\"n/a\")","v":2720},{"$f":"IFERROR(INDEX('ES25b FE Part by Characteristic'!$B16:$Z16,MATCH(E$1563,'ES25b FE Part by Characteristic'!$B$2:$Z$2,0)),\"n/a\")","v":8990},{"$f":"IFERROR(INDEX('ES25b FE Part by Characteristic'!$B16:$Z16,MATCH(F$1563,'ES25b FE Part by Characteristic'!$B$2:$Z$2,0)),\"n/a\")","v":34020},{"$f":"IFERROR(INDEX('ES25b FE Part by Characteristic'!$B16:$Z16,MATCH(G$1563,'ES25b FE Part by Characteristic'!$B$2:$Z$2,0)),\"n/a\")","v":365840}]
[null,null,"Full level 3",{"$f":"IFERROR(INDEX('ES25b FE Part by Characteristic'!$B17:$Z17,MATCH(D$3,'ES25b FE Part by Characteristic'!$B$2:$Z$2,0)),\"n/a\")","v":2400},{"$f":"IFERROR(INDEX('ES25b FE Part by Characteristic'!$B17:$Z17,MATCH(E$1563,'ES25b FE Part by Characteristic'!$B$2:$Z$2,0)),\"n/a\")","v":7870},{"$f":"IFERROR(INDEX('ES25b FE Part by Characteristic'!$B17:$Z17,MATCH(F$1563,'ES25b FE Part by Characteristic'!$B$2:$Z$2,0)),\"n/a\")","v":28580},{"$f":"IFERROR(INDEX('ES25b FE Part by Characteristic'!$B17:$Z17,MATCH(G$1563,'ES25b FE Part by Characteristic'!$B$2:$Z$2,0)),\"n/a\")","v":313980}]
[null,null,"Level 4 and above",{"$f":"IFERROR(INDEX('ES25b FE Part by Characteristic'!$B18:$Z18,MATCH(D$3,'ES25b FE Part by Characteristic'!$B$2:$Z$2,0)),\"n/a\")","v":380},{"$f":"IFERROR(INDEX('ES25b FE Part by Characteristic'!$B18:$Z18,MATCH(E$1563,'ES25b FE Part by Characteristic'!$B$2:$Z$2,0)),\"n/a\")","v":1280},{"$f":"IFERROR(INDEX('ES25b FE Part by Characteristic'!$B18:$Z18,MATCH(F$1563,'ES25b FE Part by Characteristic'!$B$2:$Z$2,0)),\"n/a\")","v":4740},{"$f":"IFERROR(INDEX('ES25b FE Part by Characteristic'!$B18:$Z18,MATCH(G$1563,'ES25b FE Part by Characteristic'!$B$2:$Z$2,0)),\"n/a\")","v":115150}]
[]
[null,null,"By Level",{"$f":"D$3","v":"Chorley "},{"$f":"D$4","v":"Preston, Chorley and South Ribble "},"Lancashire ","England Minus London"]
[null,null,"Below Level 2 (excluding English and Maths)",{"$f":"IFERROR(INDEX('ES25b FE Part by Characteristic'!$B21:$Z21,MATCH(D$3,'ES25b FE Part by Characteristic'!$B$2:$Z$2,0)),\"n/a\")","v":0.10190555095277548},{"$f":"IFERROR(INDEX('ES25b FE Part by Characteristic'!$B21:$Z21,MATCH(E$1563,'ES25b FE Part by Characteristic'!$B$2:$Z$2,0)),\"n/a\")","v":0.13314244810307801},{"$f":"IFERROR(INDEX('ES25b FE Part by Characteristic'!$B21:$Z21,MATCH(F$1563,'ES25b FE Part by Characteristic'!$B$2:$Z$2,0)),\"n/a\")","v":0.13154704170708051},{"$f":"IFERROR(INDEX('ES25b FE Part by Characteristic'!$B21:$Z21,MATCH(G$1563,'ES25b FE Part by Characteristic'!$B$2:$Z$2,0)),\"n/a\")","v":0.13447558831484988}]
[null,null,"English and Maths",{"$f":"IFERROR(INDEX('ES25b FE Part by Characteristic'!$B22:$Z22,MATCH(D$3,'ES25b FE Part by Characteristic'!$B$2:$Z$2,0)),\"n/a\")","v":0.15907207953603977},{"$f":"IFERROR(INDEX('ES25b FE Part by Characteristic'!$B22:$Z22,MATCH(E$1563,'ES25b FE Part by Characteristic'!$B$2:$Z$2,0)),\"n/a\")","v":0.17489859222142687},{"$f":"IFERROR(INDEX('ES25b FE Part by Characteristic'!$B22:$Z22,MATCH(F$1563,'ES25b FE Part by Characteristic'!$B$2:$Z$2,0)),\"n/a\")","v":0.17604267701260912},{"$f":"IFERROR(INDEX('ES25b FE Part by Characteristic'!$B22:$Z22,MATCH(G$1563,'ES25b FE Part by Characteristic'!$B$2:$Z$2,0)),\"n/a\")","v":0.19061063024073574}]
[null,null,"Level 2",{"$f":"IFERROR(INDEX('ES25b FE Part by Characteristic'!$B23:$Z23,MATCH(D$3,'ES25b FE Part by Characteristic'!$B$2:$Z$2,0)),\"n/a\")","v":0.21126760563380281},{"$f":"IFERROR(INDEX('ES25b FE Part by Characteristic'!$B23:$Z23,MATCH(E$1563,'ES25b FE Part by Characteristic'!$B$2:$Z$2,0)),\"n/a\")","v":0.19589596754951086},{"$f":"IFERROR(INDEX('ES25b FE Part by Characteristic'!$B23:$Z23,MATCH(F$1563,'ES25b FE Part by Characteristic'!$B$2:$Z$2,0)),\"n/a\")","v":0.21568865179437438},{"$f":"IFERROR(INDEX('ES25b FE Part by Characteristic'!$B23:$Z23,MATCH(G$1563,'ES25b FE Part by Characteristic'!$B$2:$Z$2,0)),\"n/a\")","v":0.2568594468487963}]
[null,null,"Full level 2",{"$f":"IFERROR(INDEX('ES25b FE Part by Characteristic'!$B24:$Z24,MATCH(D$3,'ES25b FE Part by Characteristic'!$B$2:$Z$2,0)),\"n/a\")","v":7.2079536039768022E-2},{"$f":"IFERROR(INDEX('ES25b FE Part by Characteristic'!$B24:$Z24,MATCH(E$1563,'ES25b FE Part by Characteristic'!$B$2:$Z$2,0)),\"n/a\")","v":6.3230732522071106E-2},{"$f":"IFERROR(INDEX('ES25b FE Part by Characteristic'!$B24:$Z24,MATCH(F$1563,'ES25b FE Part by Characteristic'!$B$2:$Z$2,0)),\"n/a\")","v":6.8501454898157135E-2},{"$f":"IFERROR(INDEX('ES25b FE Part by Characteristic'!$B24:$Z24,MATCH(G$1563,'ES25b FE Part by Characteristic'!$B$2:$Z$2,0)),\"n/a\")","v":8.2068230998106576E-2}]
[null,null,"Level 3",{"$f":"IFERROR(INDEX('ES25b FE Part by Characteristic'!$B25:$Z25,MATCH(D$3,'ES25b FE Part by Characteristic'!$B$2:$Z$2,0)),\"n/a\")","v":0.22535211267605634},{"$f":"IFERROR(INDEX('ES25b FE Part by Characteristic'!$B25:$Z25,MATCH(E$1563,'ES25b FE Part by Characteristic'!$B$2:$Z$2,0)),\"n/a\")","v":0.21450727749940349},{"$f":"IFERROR(INDEX('ES25b FE Part by Characteristic'!$B25:$Z25,MATCH(F$1563,'ES25b FE Part by Characteristic'!$B$2:$Z$2,0)),\"n/a\")","v":0.2062318137730359},{"$f":"IFERROR(INDEX('ES25b FE Part by Characteristic'!$B25:$Z25,MATCH(G$1563,'ES25b FE Part by Characteristic'!$B$2:$Z$2,0)),\"n/a\")","v":0.1546186096835272}]
[null,null,"Full level 3",{"$f":"IFERROR(INDEX('ES25b FE Part by Characteristic'!$B26:$Z26,MATCH(D$3,'ES25b FE Part by Characteristic'!$B$2:$Z$2,0)),\"n/a\")","v":0.19884009942004971},{"$f":"IFERROR(INDEX('ES25b FE Part by Characteristic'!$B26:$Z26,MATCH(E$1563,'ES25b FE Part by Characteristic'!$B$2:$Z$2,0)),\"n/a\")","v":0.18778334526366022},{"$f":"IFERROR(INDEX('ES25b FE Part by Characteristic'!$B26:$Z26,MATCH(F$1563,'ES25b FE Part by Characteristic'!$B$2:$Z$2,0)),\"n/a\")","v":0.17325412221144521},{"$f":"IFERROR(INDEX('ES25b FE Part by Characteristic'!$B26:$Z26,MATCH(G$1563,'ES25b FE Part by Characteristic'!$B$2:$Z$2,0)),\"n/a\")","v":0.13270050040573439}]
[null,null,"Level 4 and above",{"$f":"IFERROR(INDEX('ES25b FE Part by Characteristic'!$B27:$Z27,MATCH(D$3,'ES25b FE Part by Characteristic'!$B$2:$Z$2,0)),\"n/a\")","v":3.1483015741507872E-2},{"$f":"IFERROR(INDEX('ES25b FE Part by Characteristic'!$B27:$Z27,MATCH(E$1563,'ES25b FE Part by Characteristic'!$B$2:$Z$2,0)),\"n/a\")","v":3.0541636840849439E-2},{"$f":"IFERROR(INDEX('ES25b FE Part by Characteristic'!$B27:$Z27,MATCH(F$1563,'ES25b FE Part by Characteristic'!$B$2:$Z$2,0)),\"n/a\")","v":2.8734238603297768E-2},{"$f":"IFERROR(INDEX('ES25b FE Part by Characteristic'!$B27:$Z27,MATCH(G$1563,'ES25b FE Part by Characteristic'!$B$2:$Z$2,0)),\"n/a\")","v":4.8666993508249934E-2}]
[]
[]
[]
[]
[]
[]
[]
[]
[]
[]
[]
[]
[]
[]
[]
[]
[]
[]
[]
[]
[]
[]
[]
[]
[]
[]
[]
[]
[]
[]
[]
[]
[]
[]
[]
[]
[]
[]
[]
[]
[]
[]
[]
[]
[]
[]
[]
[null,null,"ES25c: Learner Perspective: FE and Skills Achievements by Characteristics 2018/19"]
[null,null,"By Age",{"$f":"D$3","v":"Chorley "},{"$f":"D$4","v":"Preston, Chorley and South Ribble "},"Lancashire ","England Minus London"]
[null,null,"16-18",{"$f":"IFERROR(INDEX('ES25c FE Achieve by Character'!$B4:$Z4,MATCH(D$3,'ES25c FE Achieve by Character'!$B$2:$Z$2,0)),\"n/a\")","v":1690},{"$f":"IFERROR(INDEX('ES25c FE Achieve by Character'!$B4:$Z4,MATCH(E$1628,'ES25c FE Achieve by Character'!$B$2:$Z$2,0)),\"n/a\")","v":5370},{"$f":"IFERROR(INDEX('ES25c FE Achieve by Character'!$B4:$Z4,MATCH(F$1628,'ES25c FE Achieve by Character'!$B$2:$Z$2,0)),\"n/a\")","v":22930},{"$f":"IFERROR(INDEX('ES25c FE Achieve by Character'!$B4:$Z4,MATCH(G$1628,'ES25c FE Achieve by Character'!$B$2:$Z$2,0)),\"n/a\")","v":563670}]
[null,null,"Adult (19+)",{"$f":"IFERROR(INDEX('ES25c FE Achieve by Character'!$B5:$Z5,MATCH(D$3,'ES25c FE Achieve by Character'!$B$2:$Z$2,0)),\"n/a\")","v":3620},{"$f":"IFERROR(INDEX('ES25c FE Achieve by Character'!$B5:$Z5,MATCH(E$1628,'ES25c FE Achieve by Character'!$B$2:$Z$2,0)),\"n/a\")","v":12660},{"$f":"IFERROR(INDEX('ES25c FE Achieve by Character'!$B5:$Z5,MATCH(F$1628,'ES25c FE Achieve by Character'!$B$2:$Z$2,0)),\"n/a\")","v":51100},{"$f":"IFERROR(INDEX('ES25c FE Achieve by Character'!$B5:$Z5,MATCH(G$1628,'ES25c FE Achieve by Character'!$B$2:$Z$2,0)),\"n/a\")","v":1196680}]
[]
[null,null,"By Age",{"$f":"D$3","v":"Chorley "},{"$f":"D$4","v":"Preston, Chorley and South Ribble "},"Lancashire ","England Minus London"]
[null,null,"16-18",{"$f":"IFERROR(INDEX('ES25c FE Achieve by Character'!$B8:$Z8,MATCH(D$3,'ES25c FE Achieve by Character'!$B$2:$Z$2,0)),\"n/a\")","v":0.31826741996233521},{"$f":"IFERROR(INDEX('ES25c FE Achieve by Character'!$B8:$Z8,MATCH(E$1628,'ES25c FE Achieve by Character'!$B$2:$Z$2,0)),\"n/a\")","v":0.29800221975582686},{"$f":"IFERROR(INDEX('ES25c FE Achieve by Character'!$B8:$Z8,MATCH(F$1628,'ES25c FE Achieve by Character'!$B$2:$Z$2,0)),\"n/a\")","v":0.31},{"$f":"IFERROR(INDEX('ES25c FE Achieve by Character'!$B8:$Z8,MATCH(G$1628,'ES25c FE Achieve by Character'!$B$2:$Z$2,0)),\"n/a\")","v":0.32}]
[null,null,"Adult (19+)",{"$f":"IFERROR(INDEX('ES25c FE Achieve by Character'!$B9:$Z9,MATCH(D$3,'ES25c FE Achieve by Character'!$B$2:$Z$2,0)),\"n/a\")","v":0.68173258003766479},{"$f":"IFERROR(INDEX('ES25c FE Achieve by Character'!$B9:$Z9,MATCH(E$1628,'ES25c FE Achieve by Character'!$B$2:$Z$2,0)),\"n/a\")","v":0.70255271920088791},{"$f":"IFERROR(INDEX('ES25c FE Achieve by Character'!$B9:$Z9,MATCH(F$1628,'ES25c FE Achieve by Character'!$B$2:$Z$2,0)),\"n/a\")","v":0.69},{"$f":"IFERROR(INDEX('ES25c FE Achieve by Character'!$B9:$Z9,MATCH(G$1628,'ES25c FE Achieve by Character'!$B$2:$Z$2,0)),\"n/a\")","v":0.68}]
[]
[]
[]
[]
[]
[null,null,"By Level",{"$f":"D$3","v":"Chorley "},{"$f":"D$4","v":"Preston, Chorley and South Ribble "},"Lancashire ","England Minus London"]
[null,null,"Below Level 2 (excluding English and Maths)",{"$f":"IFERROR(INDEX('ES25c FE Achieve by Character'!$B12:$Z12,MATCH(D$3,'ES25c FE Achieve by Character'!$B$2:$Z$2,0)),\"n/a\")","v":1080},{"$f":"IFERROR(INDEX('ES25c FE Achieve by Character'!$B12:$Z12,MATCH(E$1640,'ES25c FE Achieve by Character'!$B$2:$Z$2,0)),\"n/a\")","v":5040},{"$f":"IFERROR(INDEX('ES25c FE Achieve by Character'!$B12:$Z12,MATCH(F$1640,'ES25c FE Achieve by Character'!$B$2:$Z$2,0)),\"n/a\")","v":20020},{"$f":"IFERROR(INDEX('ES25c FE Achieve by Character'!$B12:$Z12,MATCH(G$1640,'ES25c FE Achieve by Character'!$B$2:$Z$2,0)),\"n/a\")","v":290300}]
[null,null,"English and Maths",{"$f":"IFERROR(INDEX('ES25c FE Achieve by Character'!$B13:$Z13,MATCH(D$3,'ES25c FE Achieve by Character'!$B$2:$Z$2,0)),\"n/a\")","v":1210},{"$f":"IFERROR(INDEX('ES25c FE Achieve by Character'!$B13:$Z13,MATCH(E$1640,'ES25c FE Achieve by Character'!$B$2:$Z$2,0)),\"n/a\")","v":4850},{"$f":"IFERROR(INDEX('ES25c FE Achieve by Character'!$B13:$Z13,MATCH(F$1640,'ES25c FE Achieve by Character'!$B$2:$Z$2,0)),\"n/a\")","v":19480},{"$f":"IFERROR(INDEX('ES25c FE Achieve by Character'!$B13:$Z13,MATCH(G$1640,'ES25c FE Achieve by Character'!$B$2:$Z$2,0)),\"n/a\")","v":275320}]
[null,null,"Level 2",{"$f":"IFERROR(INDEX('ES25c FE Achieve by Character'!$B14:$Z14,MATCH(D$3,'ES25c FE Achieve by Character'!$B$2:$Z$2,0)),\"n/a\")","v":1690},{"$f":"IFERROR(INDEX('ES25c FE Achieve by Character'!$B14:$Z14,MATCH(E$1640,'ES25c FE Achieve by Character'!$B$2:$Z$2,0)),\"n/a\")","v":5500},{"$f":"IFERROR(INDEX('ES25c FE Achieve by Character'!$B14:$Z14,MATCH(F$1640,'ES25c FE Achieve by Character'!$B$2:$Z$2,0)),\"n/a\")","v":24730},{"$f":"IFERROR(INDEX('ES25c FE Achieve by Character'!$B14:$Z14,MATCH(G$1640,'ES25c FE Achieve by Character'!$B$2:$Z$2,0)),\"n/a\")","v":412390}]
[null,null,"Full level 2",{"$f":"IFERROR(INDEX('ES25c FE Achieve by Character'!$B15:$Z15,MATCH(D$3,'ES25c FE Achieve by Character'!$B$2:$Z$2,0)),\"n/a\")","v":340},{"$f":"IFERROR(INDEX('ES25c FE Achieve by Character'!$B15:$Z15,MATCH(E$1640,'ES25c FE Achieve by Character'!$B$2:$Z$2,0)),\"n/a\")","v":990},{"$f":"IFERROR(INDEX('ES25c FE Achieve by Character'!$B15:$Z15,MATCH(F$1640,'ES25c FE Achieve by Character'!$B$2:$Z$2,0)),\"n/a\")","v":4550},{"$f":"IFERROR(INDEX('ES25c FE Achieve by Character'!$B15:$Z15,MATCH(G$1640,'ES25c FE Achieve by Character'!$B$2:$Z$2,0)),\"n/a\")","v":79870}]
[null,null,"Level 3",{"$f":"IFERROR(INDEX('ES25c FE Achieve by Character'!$B16:$Z16,MATCH(D$3,'ES25c FE Achieve by Character'!$B$2:$Z$2,0)),\"n/a\")","v":1440},{"$f":"IFERROR(INDEX('ES25c FE Achieve by Character'!$B16:$Z16,MATCH(E$1640,'ES25c FE Achieve by Character'!$B$2:$Z$2,0)),\"n/a\")","v":4360},{"$f":"IFERROR(INDEX('ES25c FE Achieve by Character'!$B16:$Z16,MATCH(F$1640,'ES25c FE Achieve by Character'!$B$2:$Z$2,0)),\"n/a\")","v":17430},{"$f":"IFERROR(INDEX('ES25c FE Achieve by Character'!$B16:$Z16,MATCH(G$1640,'ES25c FE Achieve by Character'!$B$2:$Z$2,0)),\"n/a\")","v":134560}]
[null,null,"Full level 3",{"$f":"IFERROR(INDEX('ES25c FE Achieve by Character'!$B17:$Z17,MATCH(D$3,'ES25c FE Achieve by Character'!$B$2:$Z$2,0)),\"n/a\")","v":1150},{"$f":"IFERROR(INDEX('ES25c FE Achieve by Character'!$B17:$Z17,MATCH(E$1640,'ES25c FE Achieve by Character'!$B$2:$Z$2,0)),\"n/a\")","v":3390},{"$f":"IFERROR(INDEX('ES25c FE Achieve by Character'!$B17:$Z17,MATCH(F$1640,'ES25c FE Achieve by Character'!$B$2:$Z$2,0)),\"n/a\")","v":13170},{"$f":"IFERROR(INDEX('ES25c FE Achieve by Character'!$B17:$Z17,MATCH(G$1640,'ES25c FE Achieve by Character'!$B$2:$Z$2,0)),\"n/a\")","v":106730}]
[null,null,"Level 4 and above",{"$f":"IFERROR(INDEX('ES25c FE Achieve by Character'!$B18:$Z18,MATCH(D$3,'ES25c FE Achieve by Character'!$B$2:$Z$2,0)),\"n/a\")","v":70},{"$f":"IFERROR(INDEX('ES25c FE Achieve by Character'!$B18:$Z18,MATCH(E$1640,'ES25c FE Achieve by Character'!$B$2:$Z$2,0)),\"n/a\")","v":240},{"$f":"IFERROR(INDEX('ES25c FE Achieve by Character'!$B18:$Z18,MATCH(F$1640,'ES25c FE Achieve by Character'!$B$2:$Z$2,0)),\"n/a\")","v":860},{"$f":"IFERROR(INDEX('ES25c FE Achieve by Character'!$B18:$Z18,MATCH(G$1640,'ES25c FE Achieve by Character'!$B$2:$Z$2,0)),\"n/a\")","v":17470}]
[]
[null,null,"By Level",{"$f":"D$3","v":"Chorley "},{"$f":"D$4","v":"Preston, Chorley and South Ribble "},"Lancashire ","England Minus London"]
[null,null,"Below Level 2 (excluding English and Maths)",{"$f":"IFERROR(INDEX('ES25c FE Achieve by Character'!$B21:$Z21,MATCH(D$3,'ES25c FE Achieve by Character'!$B$2:$Z$2,0)),\"n/a\")","v":0.15472779369627507},{"$f":"IFERROR(INDEX('ES25c FE Achieve by Character'!$B21:$Z21,MATCH(E$1640,'ES25c FE Achieve by Character'!$B$2:$Z$2,0)),\"n/a\")","v":0.20681165367254822},{"$f":"IFERROR(INDEX('ES25c FE Achieve by Character'!$B21:$Z21,MATCH(F$1640,'ES25c FE Achieve by Character'!$B$2:$Z$2,0)),\"n/a\")","v":0.19972067039106145},{"$f":"IFERROR(INDEX('ES25c FE Achieve by Character'!$B21:$Z21,MATCH(G$1640,'ES25c FE Achieve by Character'!$B$2:$Z$2,0)),\"n/a\")","v":0.22048547818689998}]
[null,null,"English and Maths",{"$f":"IFERROR(INDEX('ES25c FE Achieve by Character'!$B22:$Z22,MATCH(D$3,'ES25c FE Achieve by Character'!$B$2:$Z$2,0)),\"n/a\")","v":0.17335243553008595},{"$f":"IFERROR(INDEX('ES25c FE Achieve by Character'!$B22:$Z22,MATCH(E$1640,'ES25c FE Achieve by Character'!$B$2:$Z$2,0)),\"n/a\")","v":0.19901518260155929},{"$f":"IFERROR(INDEX('ES25c FE Achieve by Character'!$B22:$Z22,MATCH(F$1640,'ES25c FE Achieve by Character'!$B$2:$Z$2,0)),\"n/a\")","v":0.19433359936153233},{"$f":"IFERROR(INDEX('ES25c FE Achieve by Character'!$B22:$Z22,MATCH(G$1640,'ES25c FE Achieve by Character'!$B$2:$Z$2,0)),\"n/a\")","v":0.20910803256774821}]
[null,null,"Level 2",{"$f":"IFERROR(INDEX('ES25c FE Achieve by Character'!$B23:$Z23,MATCH(D$3,'ES25c FE Achieve by Character'!$B$2:$Z$2,0)),\"n/a\")","v":0.24212034383954154},{"$f":"IFERROR(INDEX('ES25c FE Achieve by Character'!$B23:$Z23,MATCH(E$1640,'ES25c FE Achieve by Character'!$B$2:$Z$2,0)),\"n/a\")","v":0.22568732047599507},{"$f":"IFERROR(INDEX('ES25c FE Achieve by Character'!$B23:$Z23,MATCH(F$1640,'ES25c FE Achieve by Character'!$B$2:$Z$2,0)),\"n/a\")","v":0.24670790103750997},{"$f":"IFERROR(INDEX('ES25c FE Achieve by Character'!$B23:$Z23,MATCH(G$1640,'ES25c FE Achieve by Character'!$B$2:$Z$2,0)),\"n/a\")","v":0.31321393851014706}]
[null,null,"Full level 2",{"$f":"IFERROR(INDEX('ES25c FE Achieve by Character'!$B24:$Z24,MATCH(D$3,'ES25c FE Achieve by Character'!$B$2:$Z$2,0)),\"n/a\")","v":4.8710601719197708E-2},{"$f":"IFERROR(INDEX('ES25c FE Achieve by Character'!$B24:$Z24,MATCH(E$1640,'ES25c FE Achieve by Character'!$B$2:$Z$2,0)),\"n/a\")","v":4.0623717685679114E-2},{"$f":"IFERROR(INDEX('ES25c FE Achieve by Character'!$B24:$Z24,MATCH(F$1640,'ES25c FE Achieve by Character'!$B$2:$Z$2,0)),\"n/a\")","v":4.5391061452513967E-2},{"$f":"IFERROR(INDEX('ES25c FE Achieve by Character'!$B24:$Z24,MATCH(G$1640,'ES25c FE Achieve by Character'!$B$2:$Z$2,0)),\"n/a\")","v":6.0661988090898046E-2}]
[null,null,"Level 3",{"$f":"IFERROR(INDEX('ES25c FE Achieve by Character'!$B25:$Z25,MATCH(D$3,'ES25c FE Achieve by Character'!$B$2:$Z$2,0)),\"n/a\")","v":0.20630372492836677},{"$f":"IFERROR(INDEX('ES25c FE Achieve by Character'!$B25:$Z25,MATCH(E$1640,'ES25c FE Achieve by Character'!$B$2:$Z$2,0)),\"n/a\")","v":0.17890849405006154},{"$f":"IFERROR(INDEX('ES25c FE Achieve by Character'!$B25:$Z25,MATCH(F$1640,'ES25c FE Achieve by Character'!$B$2:$Z$2,0)),\"n/a\")","v":0.1738826815642458},{"$f":"IFERROR(INDEX('ES25c FE Achieve by Character'!$B25:$Z25,MATCH(G$1640,'ES25c FE Achieve by Character'!$B$2:$Z$2,0)),\"n/a\")","v":0.10219953821849556}]
[null,null,"Full level 3",{"$f":"IFERROR(INDEX('ES25c FE Achieve by Character'!$B26:$Z26,MATCH(D$3,'ES25c FE Achieve by Character'!$B$2:$Z$2,0)),\"n/a\")","v":0.16475644699140402},{"$f":"IFERROR(INDEX('ES25c FE Achieve by Character'!$B26:$Z26,MATCH(E$1640,'ES25c FE Achieve by Character'!$B$2:$Z$2,0)),\"n/a\")","v":0.1391054575297497},{"$f":"IFERROR(INDEX('ES25c FE Achieve by Character'!$B26:$Z26,MATCH(F$1640,'ES25c FE Achieve by Character'!$B$2:$Z$2,0)),\"n/a\")","v":0.13138467677573823},{"$f":"IFERROR(INDEX('ES25c FE Achieve by Character'!$B26:$Z26,MATCH(G$1640,'ES25c FE Achieve by Character'!$B$2:$Z$2,0)),\"n/a\")","v":8.1062401263823067E-2}]
[null,null,"Level 4 and above",{"$f":"IFERROR(INDEX('ES25c FE Achieve by Character'!$B27:$Z27,MATCH(D$3,'ES25c FE Achieve by Character'!$B$2:$Z$2,0)),\"n/a\")","v":1.0028653295128941E-2},{"$f":"IFERROR(INDEX('ES25c FE Achieve by Character'!$B27:$Z27,MATCH(E$1640,'ES25c FE Achieve by Character'!$B$2:$Z$2,0)),\"n/a\")","v":9.8481739844070576E-3},{"$f":"IFERROR(INDEX('ES25c FE Achieve by Character'!$B27:$Z27,MATCH(F$1640,'ES25c FE Achieve by Character'!$B$2:$Z$2,0)),\"n/a\")","v":8.5794094173982441E-3},{"$f":"IFERROR(INDEX('ES25c FE Achieve by Character'!$B27:$Z27,MATCH(G$1640,'ES25c FE Achieve by Character'!$B$2:$Z$2,0)),\"n/a\")","v":1.3268623161988092E-2}]
[]
[]
[]
[]
[]
[]
[]
[]
[]
[]
[]
[]
[]
[]
[]
[]
[]
[]
[]
[]
[]
[]
[]
[]
[]
[]
[]
[]
[]
[]
[]
[]
[]
[]
[]
[]
[]
[]
[]
[]
[]
[]
[]
[null,null,"ES26. Total HE Students, 2017/18"]
[null,null,null,"Lancashire ","North West ","England"]
[null,null,"Full Time Equivalent",{"$f":"IFERROR(INDEX('ES26. Total HE Students'!$B4:$Z4,MATCH(D$1701,'ES26. Total HE Students'!$B$2:$Z$2,0)),\"n/a\")","v":56460},{"$f":"IFERROR(INDEX('ES26. Total HE Students'!$B4:$Z4,MATCH(E$1701,'ES26. Total HE Students'!$B$2:$Z$2,0)),\"n/a\")","v":203611},{"$f":"IFERROR(INDEX('ES26. Total HE Students'!$B4:$Z4,MATCH(F$1701,'ES26. Total HE Students'!$B$2:$Z$2,0)),\"n/a\")","v":1773252}]
[]
[]
[]
[]
[]
[]
[]
[]
[]
[]
[]
[]
[]
[]
[]
[]
[]
[]
[]
[]
[]
[]
[]
[]
[]
[]
[]
[]
[]
[]
[]
[]
[]
[]
[]
[]
[]
[]
[]
[]
[]
[]
[]
[]
[]
[]
[]
[null,null,"ES27. HE Students by Institution, 2017/18"]
[null,null,null,"Lancashire ","North West"]
[null,null,"FEC Taught",7215,13562]
[null,null,"HEI Taught",49245,189512]
[null,null,"AP Taught","~",537]
[null,null,"Total",56460,203611]
[]
[]
[null,null,null,"Lancashire ","North West"]
[null,null,"FEC Taught",0.12778958554729011,6.6607403332825832E-2]
[null,null,"HEI Taught",0.87221041445270986,0.93075521460039001]
[null,null,"AP Taught","--",2.6373820667842112E-3]
[]
[]
[]
[]
[]
[]
[]
[]
[]
[]
[]
[]
[]
[]
[]
[]
[]
[]
[]
[]
[]
[]
[]
[]
[]
[]
[]
[]
[]
[]
[]
[]
[]
[]
[]
[]
[]
[]
[null,null,"ES28. HE Students by Domicile, 2017/18"]
[]
[null,null,null,"Lancashire ","North West ","England"]
[null,null,"UK",{"$f":"IFERROR(INDEX('ES28. HE Students by Domicile'!$B4:$E4,MATCH(D$1802,'ES28. HE Students by Domicile'!$B$2:$E$2,0)),\"n/a\")","v":0.873486323990177},{"$f":"IFERROR(INDEX('ES28. HE Students by Domicile'!$B4:$E4,MATCH(E$1802,'ES28. HE Students by Domicile'!$B$2:$E$2,0)),\"n/a\")","v":0.83244467836792602},{"$f":"IFERROR(INDEX('ES28. HE Students by Domicile'!$B4:$E4,MATCH(F$1802,'ES28. HE Students by Domicile'!$B$2:$E$2,0)),\"n/a\")","v":0.80273439543081893}]
[null,null,"Other European Union",{"$f":"IFERROR(INDEX('ES28. HE Students by Domicile'!$B5:$E5,MATCH(D$1802,'ES28. HE Students by Domicile'!$B$2:$E$2,0)),\"n/a\")","v":3.7598441866373108E-2},{"$f":"IFERROR(INDEX('ES28. HE Students by Domicile'!$B5:$E5,MATCH(E$1802,'ES28. HE Students by Domicile'!$B$2:$E$2,0)),\"n/a\")","v":3.8444815670839148E-2},{"$f":"IFERROR(INDEX('ES28. HE Students by Domicile'!$B5:$E5,MATCH(F$1802,'ES28. HE Students by Domicile'!$B$2:$E$2,0)),\"n/a\")","v":5.6662342960553155E-2}]
[null,null,"Non European Union",{"$f":"IFERROR(INDEX('ES28. HE Students by Domicile'!$B6:$E6,MATCH(D$1802,'ES28. HE Students by Domicile'!$B$2:$E$2,0)),\"n/a\")","v":8.8999915318824618E-2},{"$f":"IFERROR(INDEX('ES28. HE Students by Domicile'!$B6:$E6,MATCH(E$1802,'ES28. HE Students by Domicile'!$B$2:$E$2,0)),\"n/a\")","v":0.12913338978008651},{"$f":"IFERROR(INDEX('ES28. HE Students by Domicile'!$B6:$E6,MATCH(F$1802,'ES28. HE Students by Domicile'!$B$2:$E$2,0)),\"n/a\")","v":0.14059280102932101}]
[]
[]
[]
[]
[]
[]
[]
[]
[]
[]
[]
[]
[]
[]
[]
[]
[]
[]
[]
[]
[]
[]
[]
[]
[]
[]
[]
[]
[]
[]
[]
[]
[]
[]
[]
[]
[]
[]
[]
[]
[]
[]
[]
[]
[null,null,"ES29. HE Students by Ethnicity, 2017/18"]
[null,null,"HEIs","Lancashire ","North West","England"]
[null,null,"Asian or Asian British",{"$f":"IFERROR(INDEX('ES29. HE Students by Ethnicity'!$B4:$Z4,MATCH(D$1701,'ES29. HE Students by Ethnicity'!$B$2:$Z$2,0)),\"n/a\")","v":0.09},{"$f":"IFERROR(INDEX('ES29. HE Students by Ethnicity'!$B4:$Z4,MATCH(E$1701,'ES29. HE Students by Ethnicity'!$B$2:$Z$2,0)),\"n/a\")","v":0.1},{"$f":"IFERROR(INDEX('ES29. HE Students by Ethnicity'!$B4:$Z4,MATCH(F$1851,'ES29. HE Students by Ethnicity'!$B$2:$Z$2,0)),\"n/a\")","v":0.11}]
[null,null,"Black or Black British",{"$f":"IFERROR(INDEX('ES29. HE Students by Ethnicity'!$B5:$Z5,MATCH(D$1701,'ES29. HE Students by Ethnicity'!$B$2:$Z$2,0)),\"n/a\")","v":2.9916410300000001E-2},{"$f":"IFERROR(INDEX('ES29. HE Students by Ethnicity'!$B5:$Z5,MATCH(E$1701,'ES29. HE Students by Ethnicity'!$B$2:$Z$2,0)),\"n/a\")","v":3.7111589899999999E-2},{"$f":"IFERROR(INDEX('ES29. HE Students by Ethnicity'!$B5:$Z5,MATCH(F$1851,'ES29. HE Students by Ethnicity'!$B$2:$Z$2,0)),\"n/a\")","v":7.4431479100000003E-2}]
[null,null,"Other (including mixed)",{"$f":"IFERROR(INDEX('ES29. HE Students by Ethnicity'!$B6:$Z6,MATCH(D$1701,'ES29. HE Students by Ethnicity'!$B$2:$Z$2,0)),\"n/a\")","v":0.01},{"$f":"IFERROR(INDEX('ES29. HE Students by Ethnicity'!$B6:$Z6,MATCH(E$1701,'ES29. HE Students by Ethnicity'!$B$2:$Z$2,0)),\"n/a\")","v":0.01},{"$f":"IFERROR(INDEX('ES29. HE Students by Ethnicity'!$B6:$Z6,MATCH(F$1851,'ES29. HE Students by Ethnicity'!$B$2:$Z$2,0)),\"n/a\")","v":0.02}]
[null,null,"Unknown",{"$f":"IFERROR(INDEX('ES29. HE Students by Ethnicity'!$B7:$Z7,MATCH(D$1701,'ES29. HE Students by Ethnicity'!$B$2:$Z$2,0)),\"n/a\")","v":0.01},{"$f":"IFERROR(INDEX('ES29. HE Students by Ethnicity'!$B7:$Z7,MATCH(E$1701,'ES29. HE Students by Ethnicity'!$B$2:$Z$2,0)),\"n/a\")","v":0.02},{"$f":"IFERROR(INDEX('ES29. HE Students by Ethnicity'!$B7:$Z7,MATCH(F$1851,'ES29. HE Students by Ethnicity'!$B$2:$Z$2,0)),\"n/a\")","v":0.02}]
[null,null,"White",{"$f":"IFERROR(INDEX('ES29. HE Students by Ethnicity'!$B8:$Z8,MATCH(D$1701,'ES29. HE Students by Ethnicity'!$B$2:$Z$2,0)),\"n/a\")","v":0.83},{"$f":"IFERROR(INDEX('ES29. HE Students by Ethnicity'!$B8:$Z8,MATCH(E$1701,'ES29. HE Students by Ethnicity'!$B$2:$Z$2,0)),\"n/a\")","v":0.79},{"$f":"IFERROR(INDEX('ES29. HE Students by Ethnicity'!$B8:$Z8,MATCH(F$1851,'ES29. HE Students by Ethnicity'!$B$2:$Z$2,0)),\"n/a\")","v":0.75}]
[]
[]
[]
[]
[]
[]
[]
[]
[]
[]
[]
[]
[]
[]
[]
[]
[]
[]
[]
[]
[]
[]
[]
[]
[]
[]
[]
[]
[]
[]
[]
[]
[]
[]
[]
[]
[]
[]
[]
[]
[]
[]
[]
[null,null,"ES30. HE Students by Age, 2017/18"]
[null,null,"HEIs","Lancashire ","North West ","England"]
[null,null,"Under 21",{"$f":"IFERROR(INDEX('ES30. HE Students by Age'!$B4:$Z4,MATCH(D$1901,'ES30. HE Students by Age'!$B$2:$Z$2,0)),\"n/a\")","v":0.42653908036243543},{"$f":"IFERROR(INDEX('ES30. HE Students by Age'!$B4:$Z4,MATCH(E$1901,'ES30. HE Students by Age'!$B$2:$Z$2,0)),\"n/a\")","v":0.45960967059276203},{"$f":"IFERROR(INDEX('ES30. HE Students by Age'!$B4:$Z4,MATCH(F$1901,'ES30. HE Students by Age'!$B$2:$Z$2,0)),\"n/a\")","v":0.42126060441227237}]
[null,null,"21-24",{"$f":"IFERROR(INDEX('ES30. HE Students by Age'!$B5:$Z5,MATCH(D$1901,'ES30. HE Students by Age'!$B$2:$Z$2,0)),\"n/a\")","v":0.23880091455669405},{"$f":"IFERROR(INDEX('ES30. HE Students by Age'!$B5:$Z5,MATCH(E$1901,'ES30. HE Students by Age'!$B$2:$Z$2,0)),\"n/a\")","v":0.27271755627284583},{"$f":"IFERROR(INDEX('ES30. HE Students by Age'!$B5:$Z5,MATCH(F$1901,'ES30. HE Students by Age'!$B$2:$Z$2,0)),\"n/a\")","v":0.27971066037637166}]
[null,null,"Over 24",{"$f":"IFERROR(INDEX('ES30. HE Students by Age'!$B6:$Z6,MATCH(D$1901,'ES30. HE Students by Age'!$B$2:$Z$2,0)),\"n/a\")","v":0.33449064273012108},{"$f":"IFERROR(INDEX('ES30. HE Students by Age'!$B6:$Z6,MATCH(E$1901,'ES30. HE Students by Age'!$B$2:$Z$2,0)),\"n/a\")","v":0.26760864453517452},{"$f":"IFERROR(INDEX('ES30. HE Students by Age'!$B6:$Z6,MATCH(F$1901,'ES30. HE Students by Age'!$B$2:$Z$2,0)),\"n/a\")","v":0.29893458999759409}]
[]
[]
[]
[]
[]
[]
[]
[]
[]
[]
[]
[]
[]
[]
[]
[]
[]
[]
[]
[]
[]
[]
[]
[]
[]
[]
[]
[]
[]
[]
[]
[]
[]
[]
[]
[]
[]
[]
[]
[]
[]
[]
[]
[]
[]
[null,null,"ES31. HE Students by Gender, 2017/18"]
[null,null,"HEIs","Lancashire ","North West ","England"]
[null,null,"Female",{"$f":"IFERROR(INDEX('ES31. HE Students by Gender'!$B4:$Z4,MATCH(D$1901,'ES31. HE Students by Gender'!$B$2:$Z$2,0)),\"n/a\")","v":0.60451042710000003},{"$f":"IFERROR(INDEX('ES31. HE Students by Gender'!$B4:$Z4,MATCH(E$1901,'ES31. HE Students by Gender'!$B$2:$Z$2,0)),\"n/a\")","v":0.57999999999999996},{"$f":"IFERROR(INDEX('ES31. HE Students by Gender'!$B4:$Z4,MATCH(F$1901,'ES31. HE Students by Gender'!$B$2:$Z$2,0)),\"n/a\")","v":0.56999999999999995}]
[null,null,"Male",{"$f":"IFERROR(INDEX('ES31. HE Students by Gender'!$B5:$Z5,MATCH(D$1901,'ES31. HE Students by Gender'!$B$2:$Z$2,0)),\"n/a\")","v":0.39548957289999997},{"$f":"IFERROR(INDEX('ES31. HE Students by Gender'!$B5:$Z5,MATCH(E$1901,'ES31. HE Students by Gender'!$B$2:$Z$2,0)),\"n/a\")","v":0.42},{"$f":"IFERROR(INDEX('ES31. HE Students by Gender'!$B5:$Z5,MATCH(F$1901,'ES31. HE Students by Gender'!$B$2:$Z$2,0)),\"n/a\")","v":0.43}]
[]
[]
[]
[]
[]
[]
[]
[]
[]
[]
[]
[]
[]
[]
[]
[]
[]
[]
[]
[]
[]
[]
[]
[]
[]
[]
[]
[]
[]
[]
[]
[]
[]
[]
[]
[]
[]
[]
[]
[]
[]
[]
[]
[]
[]
[]
[null,null,"ES32. HE Students by Level, 2017/18"]
[null,null,null,"Lancashire ","North West","England Minus London"]
[null,null,"Postgraduate research",{"$f":"IFERROR(INDEX('ES32. HE Students by Level'!$B11:$Z11,MATCH(D$1701,'ES32. HE Students by Level'!$B$2:$Z$2,0)),\"n/a\")","v":1965},{"$f":"IFERROR(INDEX('ES32. HE Students by Level'!$B11:$Z11,MATCH(E$1701,'ES32. HE Students by Level'!$B$2:$Z$2,0)),\"n/a\")","v":9750},{"$f":"IFERROR(INDEX('ES32. HE Students by Level'!$B11:$Z11,MATCH(F$1701,'ES32. HE Students by Level'!$B$2:$Z$2,0)),\"n/a\")","v":82435}]
[null,null,"Postgraduate taught",{"$f":"IFERROR(INDEX('ES32. HE Students by Level'!$B12:$Z12,MATCH(D$1701,'ES32. HE Students by Level'!$B$2:$Z$2,0)),\"n/a\")","v":5910},{"$f":"IFERROR(INDEX('ES32. HE Students by Level'!$B12:$Z12,MATCH(E$1701,'ES32. HE Students by Level'!$B$2:$Z$2,0)),\"n/a\")","v":26110},{"$f":"IFERROR(INDEX('ES32. HE Students by Level'!$B12:$Z12,MATCH(F$1701,'ES32. HE Students by Level'!$B$2:$Z$2,0)),\"n/a\")","v":241250}]
[null,null,"First degree",{"$f":"IFERROR(INDEX('ES32. HE Students by Level'!$B13:$Z13,MATCH(D$1701,'ES32. HE Students by Level'!$B$2:$Z$2,0)),\"n/a\")","v":39275},{"$f":"IFERROR(INDEX('ES32. HE Students by Level'!$B13:$Z13,MATCH(E$1701,'ES32. HE Students by Level'!$B$2:$Z$2,0)),\"n/a\")","v":161460},{"$f":"IFERROR(INDEX('ES32. HE Students by Level'!$B13:$Z13,MATCH(F$1701,'ES32. HE Students by Level'!$B$2:$Z$2,0)),\"n/a\")","v":1244625}]
[null,null,"Other undergraduate",{"$f":"IFERROR(INDEX('ES32. HE Students by Level'!$B14:$Z14,MATCH(D$1701,'ES32. HE Students by Level'!$B$2:$Z$2,0)),\"n/a\")","v":2095},{"$f":"IFERROR(INDEX('ES32. HE Students by Level'!$B14:$Z14,MATCH(E$1701,'ES32. HE Students by Level'!$B$2:$Z$2,0)),\"n/a\")","v":4680},{"$f":"IFERROR(INDEX('ES32. HE Students by Level'!$B14:$Z14,MATCH(F$1701,'ES32. HE Students by Level'!$B$2:$Z$2,0)),\"n/a\")","v":55680}]
[null,null,"Total",{"$f":"IFERROR(INDEX('ES32. HE Students by Level'!$B15:$Z15,MATCH(D$1701,'ES32. HE Students by Level'!$B$2:$Z$2,0)),\"n/a\")","v":49245},{"$f":"IFERROR(INDEX('ES32. HE Students by Level'!$B15:$Z15,MATCH(E$1701,'ES32. HE Students by Level'!$B$2:$Z$2,0)),\"n/a\")","v":202005},{"$f":"IFERROR(INDEX('ES32. HE Students by Level'!$B15:$Z15,MATCH(F$1701,'ES32. HE Students by Level'!$B$2:$Z$2,0)),\"n/a\")","v":1623995}]
[]
[null,null,null,"Lancashire ","North West","England Minus London"]
[null,null,"Postgraduate research",{"$f":"IFERROR(INDEX('ES32. HE Students by Level'!$B24:$Z24,MATCH(D$1701,'ES32. HE Students by Level'!$B$2:$Z$2,0)),\"n/a\")","v":3.9902528175449287E-2},{"$f":"IFERROR(INDEX('ES32. HE Students by Level'!$B24:$Z24,MATCH(E$1701,'ES32. HE Students by Level'!$B$2:$Z$2,0)),\"n/a\")","v":4.8266132026434989E-2},{"$f":"IFERROR(INDEX('ES32. HE Students by Level'!$B24:$Z24,MATCH(F$1701,'ES32. HE Students by Level'!$B$2:$Z$2,0)),\"n/a\")","v":5.0760624263005732E-2}]
[null,null,"Postgraduate taught",{"$f":"IFERROR(INDEX('ES32. HE Students by Level'!$B25:$Z25,MATCH(D$1701,'ES32. HE Students by Level'!$B$2:$Z$2,0)),\"n/a\")","v":0.12001218397806884},{"$f":"IFERROR(INDEX('ES32. HE Students by Level'!$B25:$Z25,MATCH(E$1701,'ES32. HE Students by Level'!$B$2:$Z$2,0)),\"n/a\")","v":0.12925422638053513},{"$f":"IFERROR(INDEX('ES32. HE Students by Level'!$B25:$Z25,MATCH(F$1701,'ES32. HE Students by Level'!$B$2:$Z$2,0)),\"n/a\")","v":0.14855341303390712}]
[null,null,"First degree",{"$f":"IFERROR(INDEX('ES32. HE Students by Level'!$B26:$Z26,MATCH(D$1701,'ES32. HE Students by Level'!$B$2:$Z$2,0)),\"n/a\")","v":0.79754289775611742},{"$f":"IFERROR(INDEX('ES32. HE Students by Level'!$B26:$Z26,MATCH(E$1701,'ES32. HE Students by Level'!$B$2:$Z$2,0)),\"n/a\")","v":0.79928714635776343},{"$f":"IFERROR(INDEX('ES32. HE Students by Level'!$B26:$Z26,MATCH(F$1701,'ES32. HE Students by Level'!$B$2:$Z$2,0)),\"n/a\")","v":0.76639706403036956}]
[null,null,"Other undergraduate",{"$f":"IFERROR(INDEX('ES32. HE Students by Level'!$B27:$Z27,MATCH(D$1701,'ES32. HE Students by Level'!$B$2:$Z$2,0)),\"n/a\")","v":4.2542390090364507E-2},{"$f":"IFERROR(INDEX('ES32. HE Students by Level'!$B27:$Z27,MATCH(E$1701,'ES32. HE Students by Level'!$B$2:$Z$2,0)),\"n/a\")","v":2.3167743372688794E-2},{"$f":"IFERROR(INDEX('ES32. HE Students by Level'!$B27:$Z27,MATCH(F$1701,'ES32. HE Students by Level'!$B$2:$Z$2,0)),\"n/a\")","v":3.4285819845504453E-2}]
[]
[]
[]
[]
[]
[]
[]
[]
[]
[]
[]
[]
[]
[]
[]
[]
[]
[]
[]
[]
[]
[]
[]
[]
[]
[]
[]
[]
[]
[]
[]
[]
[]
[]
[]
[]
[]
[null,null,"ES33. Full Time Undergraduate Students by Domicile, 2017/18"]
[null,null,"HEIs","Lancashire ","North West ","England"]
[null,null,"Total UK  ",{"$f":"IFERROR(INDEX('ES33. FT UG Students Domicile'!$B4:$E4,MATCH(D$2051,'ES33. FT UG Students Domicile'!$B$2:$E$2,0)),\"n/a\")","v":36255},{"$f":"IFERROR(INDEX('ES33. FT UG Students Domicile'!$B4:$E4,MATCH(E$2051,'ES33. FT UG Students Domicile'!$B$2:$E$2,0)),\"n/a\")","v":142720},{"$f":"IFERROR(INDEX('ES33. FT UG Students Domicile'!$B4:$E4,MATCH(F$2051,'ES33. FT UG Students Domicile'!$B$2:$E$2,0)),\"n/a\")","v":1023700}]
[null,null,"Other European Union",{"$f":"IFERROR(INDEX('ES33. FT UG Students Domicile'!$B5:$E5,MATCH(D$2051,'ES33. FT UG Students Domicile'!$B$2:$E$2,0)),\"n/a\")","v":3170},{"$f":"IFERROR(INDEX('ES33. FT UG Students Domicile'!$B5:$E5,MATCH(E$2051,'ES33. FT UG Students Domicile'!$B$2:$E$2,0)),\"n/a\")","v":16320},{"$f":"IFERROR(INDEX('ES33. FT UG Students Domicile'!$B5:$E5,MATCH(F$2051,'ES33. FT UG Students Domicile'!$B$2:$E$2,0)),\"n/a\")","v":127480}]
[null,null,"Non-European Union",{"$f":"IFERROR(INDEX('ES33. FT UG Students Domicile'!$B6:$E6,MATCH(D$2051,'ES33. FT UG Students Domicile'!$B$2:$E$2,0)),\"n/a\")","v":1430},{"$f":"IFERROR(INDEX('ES33. FT UG Students Domicile'!$B6:$E6,MATCH(E$2051,'ES33. FT UG Students Domicile'!$B$2:$E$2,0)),\"n/a\")","v":5540},{"$f":"IFERROR(INDEX('ES33. FT UG Students Domicile'!$B6:$E6,MATCH(F$2051,'ES33. FT UG Students Domicile'!$B$2:$E$2,0)),\"n/a\")","v":65190}]
[]
[]
[]
[]
[]
[]
[]
[]
[]
[]
[]
[]
[]
[]
[]
[]
[]
[]
[]
[]
[]
[]
[]
[]
[]
[]
[]
[]
[]
[]
[]
[]
[]
[]
[]
[]
[]
[]
[]
[]
[]
[]
[]
[]
[]
[null,null,"ES34. HE Students by Subject, 2017/18"]
[null,null,"HEIs","Lancashire ","North West ","England"]
[null,null,"Medicine and Dentistry",{"$f":"IFERROR(INDEX('ES34. HE Students by Subject'!$B4:$Z4,MATCH(D$1901,'ES34. HE Students by Subject'!$B$2:$Z$2,0)),\"n/a\")","v":2.2525192649673977E-2},{"$f":"IFERROR(INDEX('ES34. HE Students by Subject'!$B4:$Z4,MATCH(E$1901,'ES34. HE Students by Subject'!$B$2:$Z$2,0)),\"n/a\")","v":3.2085675808554752E-2},{"$f":"IFERROR(INDEX('ES34. HE Students by Subject'!$B4:$Z4,MATCH(F$1901,'ES34. HE Students by Subject'!$B$2:$Z$2,0)),\"n/a\")","v":2.8114523738900898E-2}]
[null,null,"Subjects allied to Medicine",{"$f":"IFERROR(INDEX('ES34. HE Students by Subject'!$B5:$Z5,MATCH(D$1901,'ES34. HE Students by Subject'!$B$2:$Z$2,0)),\"n/a\")","v":0.20374290795156236},{"$f":"IFERROR(INDEX('ES34. HE Students by Subject'!$B5:$Z5,MATCH(E$1901,'ES34. HE Students by Subject'!$B$2:$Z$2,0)),\"n/a\")","v":0.15290395673457172},{"$f":"IFERROR(INDEX('ES34. HE Students by Subject'!$B5:$Z5,MATCH(F$1901,'ES34. HE Students by Subject'!$B$2:$Z$2,0)),\"n/a\")","v":0.12294209154985179}]
[null,null,"Biological Sciences",{"$f":"IFERROR(INDEX('ES34. HE Students by Subject'!$B6:$Z6,MATCH(D$1901,'ES34. HE Students by Subject'!$B$2:$Z$2,0)),\"n/a\")","v":9.8484206960792617E-2},{"$f":"IFERROR(INDEX('ES34. HE Students by Subject'!$B6:$Z6,MATCH(E$1901,'ES34. HE Students by Subject'!$B$2:$Z$2,0)),\"n/a\")","v":0.10361044013595264},{"$f":"IFERROR(INDEX('ES34. HE Students by Subject'!$B6:$Z6,MATCH(F$1901,'ES34. HE Students by Subject'!$B$2:$Z$2,0)),\"n/a\")","v":9.9855106173672006E-2}]
[null,null,"Veterinary Sciences",{"$f":"IFERROR(INDEX('ES34. HE Students by Subject'!$B7:$Z7,MATCH(D$1901,'ES34. HE Students by Subject'!$B$2:$Z$2,0)),\"n/a\")","v":0},{"$f":"IFERROR(INDEX('ES34. HE Students by Subject'!$B7:$Z7,MATCH(E$1901,'ES34. HE Students by Subject'!$B$2:$Z$2,0)),\"n/a\")","v":8.5077274962057237E-3},{"$f":"IFERROR(INDEX('ES34. HE Students by Subject'!$B7:$Z7,MATCH(F$1901,'ES34. HE Students by Subject'!$B$2:$Z$2,0)),\"n/a\")","v":3.3545374814081376E-3}]
[null,null,"Agriculture and related subjects",{"$f":"IFERROR(INDEX('ES34. HE Students by Subject'!$B8:$Z8,MATCH(D$1901,'ES34. HE Students by Subject'!$B$2:$Z$2,0)),\"n/a\")","v":3.2178846642391397E-3},{"$f":"IFERROR(INDEX('ES34. HE Students by Subject'!$B8:$Z8,MATCH(E$1901,'ES34. HE Students by Subject'!$B$2:$Z$2,0)),\"n/a\")","v":4.9165259400183832E-3},{"$f":"IFERROR(INDEX('ES34. HE Students by Subject'!$B8:$Z8,MATCH(F$1901,'ES34. HE Students by Subject'!$B$2:$Z$2,0)),\"n/a\")","v":7.9723613425832073E-3}]
[null,null,"Physical Sciences",{"$f":"IFERROR(INDEX('ES34. HE Students by Subject'!$B9:$Z9,MATCH(D$1901,'ES34. HE Students by Subject'!$B$2:$Z$2,0)),\"n/a\")","v":5.2248285206198661E-2},{"$f":"IFERROR(INDEX('ES34. HE Students by Subject'!$B9:$Z9,MATCH(E$1901,'ES34. HE Students by Subject'!$B$2:$Z$2,0)),\"n/a\")","v":4.982792159209936E-2},{"$f":"IFERROR(INDEX('ES34. HE Students by Subject'!$B9:$Z9,MATCH(F$1901,'ES34. HE Students by Subject'!$B$2:$Z$2,0)),\"n/a\")","v":4.0851950091652281E-2}]
[null,null,"Mathematical Sciences",{"$f":"IFERROR(INDEX('ES34. HE Students by Subject'!$B10:$Z10,MATCH(D$1901,'ES34. HE Students by Subject'!$B$2:$Z$2,0)),\"n/a\")","v":2.2440511474299263E-2},{"$f":"IFERROR(INDEX('ES34. HE Students by Subject'!$B10:$Z10,MATCH(E$1901,'ES34. HE Students by Subject'!$B$2:$Z$2,0)),\"n/a\")","v":2.0392894551206686E-2},{"$f":"IFERROR(INDEX('ES34. HE Students by Subject'!$B10:$Z10,MATCH(F$1901,'ES34. HE Students by Subject'!$B$2:$Z$2,0)),\"n/a\")","v":1.9023983235848311E-2}]
[null,null,"Computer Science",{"$f":"IFERROR(INDEX('ES34. HE Students by Subject'!$B11:$Z11,MATCH(D$1901,'ES34. HE Students by Subject'!$B$2:$Z$2,0)),\"n/a\")","v":3.8106528918621388E-2},{"$f":"IFERROR(INDEX('ES34. HE Students by Subject'!$B11:$Z11,MATCH(E$1901,'ES34. HE Students by Subject'!$B$2:$Z$2,0)),\"n/a\")","v":3.8370278531882601E-2},{"$f":"IFERROR(INDEX('ES34. HE Students by Subject'!$B11:$Z11,MATCH(F$1901,'ES34. HE Students by Subject'!$B$2:$Z$2,0)),\"n/a\")","v":4.5772791969595772E-2}]
[null,null,"Engineering and Technology",{"$f":"IFERROR(INDEX('ES34. HE Students by Subject'!$B12:$Z12,MATCH(D$1901,'ES34. HE Students by Subject'!$B$2:$Z$2,0)),\"n/a\")","v":3.1162672537894825E-2},{"$f":"IFERROR(INDEX('ES34. HE Students by Subject'!$B12:$Z12,MATCH(E$1901,'ES34. HE Students by Subject'!$B$2:$Z$2,0)),\"n/a\")","v":6.6009704794681601E-2},{"$f":"IFERROR(INDEX('ES34. HE Students by Subject'!$B12:$Z12,MATCH(F$1901,'ES34. HE Students by Subject'!$B$2:$Z$2,0)),\"n/a\")","v":7.04090103047465E-2}]
[null,null,"Architecture, Building and Planning",{"$f":"IFERROR(INDEX('ES34. HE Students by Subject'!$B13:$Z13,MATCH(D$1901,'ES34. HE Students by Subject'!$B$2:$Z$2,0)),\"n/a\")","v":9.3149292912185627E-3},{"$f":"IFERROR(INDEX('ES34. HE Students by Subject'!$B13:$Z13,MATCH(E$1901,'ES34. HE Students by Subject'!$B$2:$Z$2,0)),\"n/a\")","v":2.4368867702699814E-2},{"$f":"IFERROR(INDEX('ES34. HE Students by Subject'!$B13:$Z13,MATCH(F$1901,'ES34. HE Students by Subject'!$B$2:$Z$2,0)),\"n/a\")","v":2.2884262055102331E-2}]
[null,null,"Social studies",{"$f":"IFERROR(INDEX('ES34. HE Students by Subject'!$B14:$Z14,MATCH(D$1901,'ES34. HE Students by Subject'!$B$2:$Z$2,0)),\"n/a\")","v":0.10449657041239732},{"$f":"IFERROR(INDEX('ES34. HE Students by Subject'!$B14:$Z14,MATCH(E$1901,'ES34. HE Students by Subject'!$B$2:$Z$2,0)),\"n/a\")","v":9.1041234689296938E-2},{"$f":"IFERROR(INDEX('ES34. HE Students by Subject'!$B14:$Z14,MATCH(F$1901,'ES34. HE Students by Subject'!$B$2:$Z$2,0)),\"n/a\")","v":9.7887622994372828E-2}]
[null,null,"Law",{"$f":"IFERROR(INDEX('ES34. HE Students by Subject'!$B15:$Z15,MATCH(D$1901,'ES34. HE Students by Subject'!$B$2:$Z$2,0)),\"n/a\")","v":3.5481412482005252E-2},{"$f":"IFERROR(INDEX('ES34. HE Students by Subject'!$B15:$Z15,MATCH(E$1901,'ES34. HE Students by Subject'!$B$2:$Z$2,0)),\"n/a\")","v":3.751523054231419E-2},{"$f":"IFERROR(INDEX('ES34. HE Students by Subject'!$B15:$Z15,MATCH(F$1901,'ES34. HE Students by Subject'!$B$2:$Z$2,0)),\"n/a\")","v":3.9334726078114633E-2}]
[null,null,"Business and Administrative studies",{"$f":"IFERROR(INDEX('ES34. HE Students by Subject'!$B16:$Z16,MATCH(D$1901,'ES34. HE Students by Subject'!$B$2:$Z$2,0)),\"n/a\")","v":0.12448132780082988},{"$f":"IFERROR(INDEX('ES34. HE Students by Subject'!$B16:$Z16,MATCH(E$1901,'ES34. HE Students by Subject'!$B$2:$Z$2,0)),\"n/a\")","v":0.14486650563262862},{"$f":"IFERROR(INDEX('ES34. HE Students by Subject'!$B16:$Z16,MATCH(F$1901,'ES34. HE Students by Subject'!$B$2:$Z$2,0)),\"n/a\")","v":0.14637477353671105}]
[null,null,"Mass Communications and Documentation",{"$f":"IFERROR(INDEX('ES34. HE Students by Subject'!$B17:$Z17,MATCH(D$1901,'ES34. HE Students by Subject'!$B$2:$Z$2,0)),\"n/a\")","v":1.7698365653315267E-2},{"$f":"IFERROR(INDEX('ES34. HE Students by Subject'!$B17:$Z17,MATCH(E$1901,'ES34. HE Students by Subject'!$B$2:$Z$2,0)),\"n/a\")","v":2.1803723733994571E-2},{"$f":"IFERROR(INDEX('ES34. HE Students by Subject'!$B17:$Z17,MATCH(F$1901,'ES34. HE Students by Subject'!$B$2:$Z$2,0)),\"n/a\")","v":2.1919725832712716E-2}]
[null,null,"Languages",{"$f":"IFERROR(INDEX('ES34. HE Students by Subject'!$B18:$Z18,MATCH(D$1901,'ES34. HE Students by Subject'!$B$2:$Z$2,0)),\"n/a\")","v":4.4203573545600811E-2},{"$f":"IFERROR(INDEX('ES34. HE Students by Subject'!$B18:$Z18,MATCH(E$1901,'ES34. HE Students by Subject'!$B$2:$Z$2,0)),\"n/a\")","v":3.7429725743357345E-2},{"$f":"IFERROR(INDEX('ES34. HE Students by Subject'!$B18:$Z18,MATCH(F$1901,'ES34. HE Students by Subject'!$B$2:$Z$2,0)),\"n/a\")","v":4.419155006519155E-2}]
[null,null,"Historical and Philosophical studies",{"$f":"IFERROR(INDEX('ES34. HE Students by Subject'!$B19:$Z19,MATCH(D$1901,'ES34. HE Students by Subject'!$B$2:$Z$2,0)),\"n/a\")","v":2.0408163265306121E-2},{"$f":"IFERROR(INDEX('ES34. HE Students by Subject'!$B19:$Z19,MATCH(E$1901,'ES34. HE Students by Subject'!$B$2:$Z$2,0)),\"n/a\")","v":2.8665483850281098E-2},{"$f":"IFERROR(INDEX('ES34. HE Students by Subject'!$B19:$Z19,MATCH(F$1901,'ES34. HE Students by Subject'!$B$2:$Z$2,0)),\"n/a\")","v":3.589909926827551E-2}]
[null,null,"Creative Arts and Design",{"$f":"IFERROR(INDEX('ES34. HE Students by Subject'!$B20:$Z20,MATCH(D$1901,'ES34. HE Students by Subject'!$B$2:$Z$2,0)),\"n/a\")","v":7.5450927258870357E-2},{"$f":"IFERROR(INDEX('ES34. HE Students by Subject'!$B20:$Z20,MATCH(E$1901,'ES34. HE Students by Subject'!$B$2:$Z$2,0)),\"n/a\")","v":6.6330347790769753E-2},{"$f":"IFERROR(INDEX('ES34. HE Students by Subject'!$B20:$Z20,MATCH(F$1901,'ES34. HE Students by Subject'!$B$2:$Z$2,0)),\"n/a\")","v":7.6145013326390953E-2}]
[null,null,"Education",{"$f":"IFERROR(INDEX('ES34. HE Students by Subject'!$B21:$Z21,MATCH(D$1901,'ES34. HE Students by Subject'!$B$2:$Z$2,0)),\"n/a\")","v":9.6875264628673047E-2},{"$f":"IFERROR(INDEX('ES34. HE Students by Subject'!$B21:$Z21,MATCH(E$1901,'ES34. HE Students by Subject'!$B$2:$Z$2,0)),\"n/a\")","v":6.8788610760778954E-2},{"$f":"IFERROR(INDEX('ES34. HE Students by Subject'!$B21:$Z21,MATCH(F$1901,'ES34. HE Students by Subject'!$B$2:$Z$2,0)),\"n/a\")","v":6.207388091391941E-2}]
[null,null,"Combined",{"$f":"IFERROR(INDEX('ES34. HE Students by Subject'!$B22:$Z22,MATCH(D$1901,'ES34. HE Students by Subject'!$B$2:$Z$2,0)),\"n/a\")","v":0},{"$f":"IFERROR(INDEX('ES34. HE Students by Subject'!$B22:$Z22,MATCH(E$1901,'ES34. HE Students by Subject'!$B$2:$Z$2,0)),\"n/a\")","v":2.6506487676620852E-3},{"$f":"IFERROR(INDEX('ES34. HE Students by Subject'!$B22:$Z22,MATCH(F$1901,'ES34. HE Students by Subject'!$B$2:$Z$2,0)),\"n/a\")","v":1.4988722181559007E-2}]
[null,null,"Initial Teacher Training",{"$f":"IFERROR(INDEX('ES34. HE Students by Subject'!$B23:$Z23,MATCH(D$1901,'ES34. HE Students by Subject'!$B$2:$Z$2,0)),\"n/a\")","v":".."},{"$f":"IFERROR(INDEX('ES34. HE Students by Subject'!$B23:$Z23,MATCH(E$1901,'ES34. HE Students by Subject'!$B$2:$Z$2,0)),\"n/a\")","v":".."},{"$f":"IFERROR(INDEX('ES34. HE Students by Subject'!$B23:$Z23,MATCH(F$1901,'ES34. HE Students by Subject'!$B$2:$Z$2,0)),\"n/a\")","v":".."}]
[null,null,"Geographical Studies",{"$f":"IFERROR(INDEX('ES34. HE Students by Subject'!$B24:$Z24,MATCH(D$1901,'ES34. HE Students by Subject'!$B$2:$Z$2,0)),\"n/a\")","v":".."},{"$f":"IFERROR(INDEX('ES34. HE Students by Subject'!$B24:$Z24,MATCH(E$1901,'ES34. HE Students by Subject'!$B$2:$Z$2,0)),\"n/a\")","v":".."},{"$f":"IFERROR(INDEX('ES34. HE Students by Subject'!$B24:$Z24,MATCH(F$1901,'ES34. HE Students by Subject'!$B$2:$Z$2,0)),\"n/a\")","v":".."}]
[]
[]
[]
[]
[]
[]
[]
[]
[]
[]
[]
[]
[]
[]
[]
[]
[]
[]
[]
[]
[]
[]
[]
[]
[]
[]
[]
[null,null,"ES35. Underrepresented in HE, 2017/18"]
[null,null,null,"Lancashire ","England"]
[null,null,"Number of entrants from state schools or colleges",{"$f":"'ES35. Underrepresented in HE'!B12","v":8205},{"$f":"'ES35. Underrepresented in HE'!E12","v":241330}]
[null,null,"Number of entrants from low participation neighbourhoods",{"$f":"'ES35. Underrepresented in HE'!B13","v":1480},{"$f":"'ES35. Underrepresented in HE'!E13","v":31645}]
[]
[null,null,null,"Lancashire ","England"]
[null,null,"Number of entrants from state schools or colleges",{"$f":"'ES35. Underrepresented in HE'!B16","v":0.96},{"$f":"'ES35. Underrepresented in HE'!E16","v":0.9}]
[null,null,"Number of entrants from low participation neighbourhoods",{"$f":"'ES35. Underrepresented in HE'!B17","v":0.17},{"$f":"'ES35. Underrepresented in HE'!E17","v":0.12}]
[]
[]
[]
[]
[]
[]
[]
[]
[]
[]
[]
[]
[]
[]
[]
[]
[]
[]
[]
[]
[]
[]
[]
[]
[]
[]
[]
[]
[]
[]
[]
[]
[]
[]
[]
[]
[]
[]
[]
[]
[]
[]
[null,null,"ES36. HE Students by Home, Study and Employment Geography, 2010/11-2014/15"]
[null,null,null,"Lancashire ","North West","England (LEP)","England (Region)"]
[null,null,"Stay for study and employment",{"$f":"IFERROR(INDEX('ES36. Home, Study, Emp Geog'!$B4:$Z4,MATCH(D$1701,'ES36. Home, Study, Emp Geog'!$B$2:$Z$2,0)),\"n/a\")","v":0.39300000000000002},{"$f":"IFERROR(INDEX('ES36. Home, Study, Emp Geog'!$B4:$Z4,MATCH(E$1701,'ES36. Home, Study, Emp Geog'!$B$2:$Z$2,0)),\"n/a\")","v":0.628},{"$f":"IFERROR(INDEX('ES36. Home, Study, Emp Geog'!$B4:$Z4,MATCH(F$2201,'ES36. Home, Study, Emp Geog'!$B$2:$Z$2,0)),\"n/a\")","v":0.29299999999999998},{"$f":"IFERROR(INDEX('ES36. Home, Study, Emp Geog'!$B4:$Z4,MATCH(G$2201,'ES36. Home, Study, Emp Geog'!$B$2:$Z$2,0)),\"n/a\")","v":0.44900000000000001}]
[null,null,"Leave for study, return for employment",{"$f":"IFERROR(INDEX('ES36. Home, Study, Emp Geog'!$B5:$Z5,MATCH(D$1701,'ES36. Home, Study, Emp Geog'!$B$2:$Z$2,0)),\"n/a\")","v":0.21299999999999999},{"$f":"IFERROR(INDEX('ES36. Home, Study, Emp Geog'!$B5:$Z5,MATCH(E$1701,'ES36. Home, Study, Emp Geog'!$B$2:$Z$2,0)),\"n/a\")","v":0.16800000000000001},{"$f":"IFERROR(INDEX('ES36. Home, Study, Emp Geog'!$B5:$Z5,MATCH(F$2201,'ES36. Home, Study, Emp Geog'!$B$2:$Z$2,0)),\"n/a\")","v":0.30399999999999999},{"$f":"IFERROR(INDEX('ES36. Home, Study, Emp Geog'!$B5:$Z5,MATCH(G$2201,'ES36. Home, Study, Emp Geog'!$B$2:$Z$2,0)),\"n/a\")","v":0.249}]
[null,null,"Leave for study, do not return",{"$f":"IFERROR(INDEX('ES36. Home, Study, Emp Geog'!$B6:$Z6,MATCH(D$1701,'ES36. Home, Study, Emp Geog'!$B$2:$Z$2,0)),\"n/a\")","v":0.29899999999999999},{"$f":"IFERROR(INDEX('ES36. Home, Study, Emp Geog'!$B6:$Z6,MATCH(E$1701,'ES36. Home, Study, Emp Geog'!$B$2:$Z$2,0)),\"n/a\")","v":0.14899999999999999},{"$f":"IFERROR(INDEX('ES36. Home, Study, Emp Geog'!$B6:$Z6,MATCH(F$2201,'ES36. Home, Study, Emp Geog'!$B$2:$Z$2,0)),\"n/a\")","v":0.34300000000000003},{"$f":"IFERROR(INDEX('ES36. Home, Study, Emp Geog'!$B6:$Z6,MATCH(G$2201,'ES36. Home, Study, Emp Geog'!$B$2:$Z$2,0)),\"n/a\")","v":0.23200000000000001}]
[null,null,"Stay for study, leave for employment",{"$f":"IFERROR(INDEX('ES36. Home, Study, Emp Geog'!$B7:$Z7,MATCH(D$1701,'ES36. Home, Study, Emp Geog'!$B$2:$Z$2,0)),\"n/a\")","v":9.5000000000000001E-2},{"$f":"IFERROR(INDEX('ES36. Home, Study, Emp Geog'!$B7:$Z7,MATCH(E$1701,'ES36. Home, Study, Emp Geog'!$B$2:$Z$2,0)),\"n/a\")","v":5.5E-2},{"$f":"IFERROR(INDEX('ES36. Home, Study, Emp Geog'!$B7:$Z7,MATCH(F$2201,'ES36. Home, Study, Emp Geog'!$B$2:$Z$2,0)),\"n/a\")","v":0.06},{"$f":"IFERROR(INDEX('ES36. Home, Study, Emp Geog'!$B7:$Z7,MATCH(G$2201,'ES36. Home, Study, Emp Geog'!$B$2:$Z$2,0)),\"n/a\")","v":7.0999999999999994E-2}]
[]
[]
[]
[]
[]
[]
[]
[]
[]
[]
[]
[]
[]
[]
[]
[]
[]
[]
[]
[]
[]
[]
[]
[]
[]
[]
[]
[]
[]
[]
[]
[]
[]
[]
[]
[]
[]
[]
[]
[]
[]
[]
[]
[]
[null,null,"ES38. Graduates by Employment LEP, 2016/17"]
[null,null,"For details on graduates by employment LEP, please click here"]
[]
[]
[]
[]
[]
[]
[]
[]
[]
[]
[]
[]
[]
[]
[]
[]
[]
[]
[]
[]
[]
[]
[]
[]
[]
[]
[]
[]
[]
[]
[]
[]
[]
[]
[]
[]
[]
[]
[]
[]
[]
[]
[]
[]
[]
[]
[]
[]
[null,null,"ES39. Graduates by Level, 2017/18"]
[null,null,null,"Lancashire ","North West ","England Minus London"]
[null,null,"First degree",{"$f":"IFERROR(INDEX('ES39. Graduates by Level'!$B16:$Z16,MATCH(D$2301,'ES39. Graduates by Level'!$B$2:$Z$2,0)),\"n/a\")","v":11850},{"$f":"IFERROR(INDEX('ES39. Graduates by Level'!$B16:$Z16,MATCH(E$2301,'ES39. Graduates by Level'!$B$2:$Z$2,0)),\"n/a\")","v":46730},{"$f":"IFERROR(INDEX('ES39. Graduates by Level'!$B16:$Z16,MATCH(F$2301,'ES39. Graduates by Level'!$B$2:$Z$2,0)),\"n/a\")","v":288440}]
[null,null,"Other undergraduate",{"$f":"IFERROR(INDEX('ES39. Graduates by Level'!$B17:$Z17,MATCH(D$2301,'ES39. Graduates by Level'!$B$2:$Z$2,0)),\"n/a\")","v":2410},{"$f":"IFERROR(INDEX('ES39. Graduates by Level'!$B17:$Z17,MATCH(E$2301,'ES39. Graduates by Level'!$B$2:$Z$2,0)),\"n/a\")","v":6560},{"$f":"IFERROR(INDEX('ES39. Graduates by Level'!$B17:$Z17,MATCH(F$2301,'ES39. Graduates by Level'!$B$2:$Z$2,0)),\"n/a\")","v":34460}]
[null,null,"Masters taught",{"$f":"IFERROR(INDEX('ES39. Graduates by Level'!$B18:$Z18,MATCH(D$2301,'ES39. Graduates by Level'!$B$2:$Z$2,0)),\"n/a\")","v":3270},{"$f":"IFERROR(INDEX('ES39. Graduates by Level'!$B18:$Z18,MATCH(E$2301,'ES39. Graduates by Level'!$B$2:$Z$2,0)),\"n/a\")","v":16320},{"$f":"IFERROR(INDEX('ES39. Graduates by Level'!$B18:$Z18,MATCH(F$2301,'ES39. Graduates by Level'!$B$2:$Z$2,0)),\"n/a\")","v":106610}]
[null,null,"Other postgraduate",{"$f":"IFERROR(INDEX('ES39. Graduates by Level'!$B19:$Z19,MATCH(D$2301,'ES39. Graduates by Level'!$B$2:$Z$2,0)),\"n/a\")","v":2825},{"$f":"IFERROR(INDEX('ES39. Graduates by Level'!$B19:$Z19,MATCH(E$2301,'ES39. Graduates by Level'!$B$2:$Z$2,0)),\"n/a\")","v":9840},{"$f":"IFERROR(INDEX('ES39. Graduates by Level'!$B19:$Z19,MATCH(F$2301,'ES39. Graduates by Level'!$B$2:$Z$2,0)),\"n/a\")","v":48985}]
[]
[null,null,null,"Lancashire ","North West ","England Minus London"]
[null,null,"First degree",{"$f":"IFERROR(INDEX('ES39. Graduates by Level'!$B22:$Z22,MATCH(D$2301,'ES39. Graduates by Level'!$B$2:$Z$2,0)),\"n/a\")","v":0.58216654384672073},{"$f":"IFERROR(INDEX('ES39. Graduates by Level'!$B22:$Z22,MATCH(E$2301,'ES39. Graduates by Level'!$B$2:$Z$2,0)),\"n/a\")","v":0.58816865953429831},{"$f":"IFERROR(INDEX('ES39. Graduates by Level'!$B22:$Z22,MATCH(F$2301,'ES39. Graduates by Level'!$B$2:$Z$2,0)),\"n/a\")","v":0.60280671689359344}]
[null,null,"Other undergraduate",{"$f":"IFERROR(INDEX('ES39. Graduates by Level'!$B23:$Z23,MATCH(D$2301,'ES39. Graduates by Level'!$B$2:$Z$2,0)),\"n/a\")","v":0.11839842790469172},{"$f":"IFERROR(INDEX('ES39. Graduates by Level'!$B23:$Z23,MATCH(E$2301,'ES39. Graduates by Level'!$B$2:$Z$2,0)),\"n/a\")","v":8.2567652611705469E-2},{"$f":"IFERROR(INDEX('ES39. Graduates by Level'!$B23:$Z23,MATCH(F$2301,'ES39. Graduates by Level'!$B$2:$Z$2,0)),\"n/a\")","v":7.2017471446932574E-2}]
[null,null,"Masters taught",{"$f":"IFERROR(INDEX('ES39. Graduates by Level'!$B24:$Z24,MATCH(D$2301,'ES39. Graduates by Level'!$B$2:$Z$2,0)),\"n/a\")","v":0.16064848931466469},{"$f":"IFERROR(INDEX('ES39. Graduates by Level'!$B24:$Z24,MATCH(E$2301,'ES39. Graduates by Level'!$B$2:$Z$2,0)),\"n/a\")","v":0.20541220893643802},{"$f":"IFERROR(INDEX('ES39. Graduates by Level'!$B24:$Z24,MATCH(F$2301,'ES39. Graduates by Level'!$B$2:$Z$2,0)),\"n/a\")","v":0.22280274611019968}]
[null,null,"Other postgraduate",{"$f":"IFERROR(INDEX('ES39. Graduates by Level'!$B25:$Z25,MATCH(D$2301,'ES39. Graduates by Level'!$B$2:$Z$2,0)),\"n/a\")","v":0.13878653893392287},{"$f":"IFERROR(INDEX('ES39. Graduates by Level'!$B25:$Z25,MATCH(E$2301,'ES39. Graduates by Level'!$B$2:$Z$2,0)),\"n/a\")","v":0.12385147891755821},{"$f":"IFERROR(INDEX('ES39. Graduates by Level'!$B25:$Z25,MATCH(F$2301,'ES39. Graduates by Level'!$B$2:$Z$2,0)),\"n/a\")","v":0.10237306554927429}]
[]
[]
[]
[]
[]
[]
[]
[]
[]
[]
[]
[]
[]
[]
[]
[]
[]
[]
[]
[]
[]
[]
[]
[]
[]
[]
[]
[]
[]
[]
[]
[]
[]
[]
[]
[]
[]
[]
[null,null,"ES40. Graduates by Employment 1 Year After Graduation, 2014/15"]
[null,null,null,"Lancashire ","North West "]
[null,null,"Activity not captured",{"$f":"IFERROR(INDEX('ES40. Graduates After 1 Year'!$B81:$Z81,MATCH(D$1901,'ES40. Graduates After 1 Year'!$B$2:$Z$2,0)),\"n/a\")","v":4.2148720424915499E-2},{"$f":"IFERROR(INDEX('ES40. Graduates After 1 Year'!$B81:$Z81,MATCH(E$1901,'ES40. Graduates After 1 Year'!$B$2:$Z$2,0)),\"n/a\")","v":4.4999999999999998E-2}]
[null,null,"No sustained destination",{"$f":"IFERROR(INDEX('ES40. Graduates After 1 Year'!$B82:$Z82,MATCH(D$1901,'ES40. Graduates After 1 Year'!$B$2:$Z$2,0)),\"n/a\")","v":7.1291163689039122E-2},{"$f":"IFERROR(INDEX('ES40. Graduates After 1 Year'!$B82:$Z82,MATCH(E$1901,'ES40. Graduates After 1 Year'!$B$2:$Z$2,0)),\"n/a\")","v":0.08}]
[null,null,"Sustained employment only",{"$f":"IFERROR(INDEX('ES40. Graduates After 1 Year'!$B83:$Z83,MATCH(D$1901,'ES40. Graduates After 1 Year'!$B$2:$Z$2,0)),\"n/a\")","v":0.69028005794302261},{"$f":"IFERROR(INDEX('ES40. Graduates After 1 Year'!$B83:$Z83,MATCH(E$1901,'ES40. Graduates After 1 Year'!$B$2:$Z$2,0)),\"n/a\")","v":0.66}]
[null,null,"Sustained employment with or without further study",{"$f":"IFERROR(INDEX('ES40. Graduates After 1 Year'!$B84:$Z84,MATCH(D$1901,'ES40. Graduates After 1 Year'!$B$2:$Z$2,0)),\"n/a\")","v":0.84119748913568326},{"$f":"IFERROR(INDEX('ES40. Graduates After 1 Year'!$B84:$Z84,MATCH(E$1901,'ES40. Graduates After 1 Year'!$B$2:$Z$2,0)),\"n/a\")","v":0.81}]
[null,null,"Further study, sustained employment or both",{"$f":"IFERROR(INDEX('ES40. Graduates After 1 Year'!$B85:$Z85,MATCH(D$1901,'ES40. Graduates After 1 Year'!$B$2:$Z$2,0)),\"n/a\")","v":0.88650507001448575},{"$f":"IFERROR(INDEX('ES40. Graduates After 1 Year'!$B85:$Z85,MATCH(E$1901,'ES40. Graduates After 1 Year'!$B$2:$Z$2,0)),\"n/a\")","v":0.88}]
[]
[]
[]
[]
[]
[]
[]
[]
[]
[]
[]
[]
[]
[]
[]
[]
[]
[]
[]
[]
[]
[]
[]
[]
[]
[]
[]
[]
[]
[]
[]
[]
[]
[]
[]
[]
[]
[]
[]
[]
[]
[]
[]
[null,null,"ES41. Graduates by Employment 1, 3 and 5 Years After Graduation, 2016/17"]
[null,null,"One Year","Lancashire ","North West "]
[null,null,"Activity not captured",{"$f":"IFERROR(INDEX('ES41. Graduates After 1 3 5 Yrs'!$B4:$Z4,MATCH(D$1901,'ES41. Graduates After 1 3 5 Yrs'!$B$2:$Z$2,0)),\"n/a\")","v":4.2148720424915499E-2},{"$f":"IFERROR(INDEX('ES41. Graduates After 1 3 5 Yrs'!$B4:$Z4,MATCH(E$1901,'ES41. Graduates After 1 3 5 Yrs'!$B$2:$Z$2,0)),\"n/a\")","v":4.4999999999999998E-2}]
[null,null,"No sustained destination",{"$f":"IFERROR(INDEX('ES41. Graduates After 1 3 5 Yrs'!$B5:$Z5,MATCH(D$1901,'ES41. Graduates After 1 3 5 Yrs'!$B$2:$Z$2,0)),\"n/a\")","v":7.1291163689039122E-2},{"$f":"IFERROR(INDEX('ES41. Graduates After 1 3 5 Yrs'!$B5:$Z5,MATCH(E$1901,'ES41. Graduates After 1 3 5 Yrs'!$B$2:$Z$2,0)),\"n/a\")","v":0.08}]
[null,null,"Sustained employment only",{"$f":"IFERROR(INDEX('ES41. Graduates After 1 3 5 Yrs'!$B6:$Z6,MATCH(D$1901,'ES41. Graduates After 1 3 5 Yrs'!$B$2:$Z$2,0)),\"n/a\")","v":0.69028005794302261},{"$f":"IFERROR(INDEX('ES41. Graduates After 1 3 5 Yrs'!$B6:$Z6,MATCH(E$1901,'ES41. Graduates After 1 3 5 Yrs'!$B$2:$Z$2,0)),\"n/a\")","v":0.66}]
[null,null,"Sustained employment with or without further study",{"$f":"IFERROR(INDEX('ES41. Graduates After 1 3 5 Yrs'!$B7:$Z7,MATCH(D$1901,'ES41. Graduates After 1 3 5 Yrs'!$B$2:$Z$2,0)),\"n/a\")","v":0.84119748913568326},{"$f":"IFERROR(INDEX('ES41. Graduates After 1 3 5 Yrs'!$B7:$Z7,MATCH(E$1901,'ES41. Graduates After 1 3 5 Yrs'!$B$2:$Z$2,0)),\"n/a\")","v":0.81}]
[null,null,"Further study, sustained employment or both",{"$f":"IFERROR(INDEX('ES41. Graduates After 1 3 5 Yrs'!$B8:$Z8,MATCH(D$1901,'ES41. Graduates After 1 3 5 Yrs'!$B$2:$Z$2,0)),\"n/a\")","v":0.88650507001448575},{"$f":"IFERROR(INDEX('ES41. Graduates After 1 3 5 Yrs'!$B8:$Z8,MATCH(E$1901,'ES41. Graduates After 1 3 5 Yrs'!$B$2:$Z$2,0)),\"n/a\")","v":0.88}]
[]
[null,null,"Three Years","Lancashire ","North West "]
[null,null,"Activity not captured",{"$f":"IFERROR(INDEX('ES41. Graduates After 1 3 5 Yrs'!$B11:$Z11,MATCH(D$1901,'ES41. Graduates After 1 3 5 Yrs'!$B$2:$Z$2,0)),\"n/a\")","v":0.10922460286710887},{"$f":"IFERROR(INDEX('ES41. Graduates After 1 3 5 Yrs'!$B11:$Z11,MATCH(E$1901,'ES41. Graduates After 1 3 5 Yrs'!$B$2:$Z$2,0)),\"n/a\")","v":6.8000000000000005E-2}]
[null,null,"No sustained destination",{"$f":"IFERROR(INDEX('ES41. Graduates After 1 3 5 Yrs'!$B12:$Z12,MATCH(D$1901,'ES41. Graduates After 1 3 5 Yrs'!$B$2:$Z$2,0)),\"n/a\")","v":0.10963212942125029},{"$f":"IFERROR(INDEX('ES41. Graduates After 1 3 5 Yrs'!$B12:$Z12,MATCH(E$1901,'ES41. Graduates After 1 3 5 Yrs'!$B$2:$Z$2,0)),\"n/a\")","v":6.3E-2}]
[null,null,"Sustained employment only",{"$f":"IFERROR(INDEX('ES41. Graduates After 1 3 5 Yrs'!$B13:$Z13,MATCH(D$1901,'ES41. Graduates After 1 3 5 Yrs'!$B$2:$Z$2,0)),\"n/a\")","v":0.71693008244386591},{"$f":"IFERROR(INDEX('ES41. Graduates After 1 3 5 Yrs'!$B13:$Z13,MATCH(E$1901,'ES41. Graduates After 1 3 5 Yrs'!$B$2:$Z$2,0)),\"n/a\")","v":0.72799999999999998}]
[null,null,"Sustained employment with or without further study",{"$f":"IFERROR(INDEX('ES41. Graduates After 1 3 5 Yrs'!$B14:$Z14,MATCH(D$1901,'ES41. Graduates After 1 3 5 Yrs'!$B$2:$Z$2,0)),\"n/a\")","v":0.82557034832462151},{"$f":"IFERROR(INDEX('ES41. Graduates After 1 3 5 Yrs'!$B14:$Z14,MATCH(E$1901,'ES41. Graduates After 1 3 5 Yrs'!$B$2:$Z$2,0)),\"n/a\")","v":0.83799999999999997}]
[null,null,"Further study, sustained employment or both",{"$f":"IFERROR(INDEX('ES41. Graduates After 1 3 5 Yrs'!$B15:$Z15,MATCH(D$1901,'ES41. Graduates After 1 3 5 Yrs'!$B$2:$Z$2,0)),\"n/a\")","v":0.88836817197406981},{"$f":"IFERROR(INDEX('ES41. Graduates After 1 3 5 Yrs'!$B15:$Z15,MATCH(E$1901,'ES41. Graduates After 1 3 5 Yrs'!$B$2:$Z$2,0)),\"n/a\")","v":0.86899999999999999}]
[]
[null,null,"Five Years","Lancashire ","North West "]
[null,null,"Activity not captured",{"$f":"IFERROR(INDEX('ES41. Graduates After 1 3 5 Yrs'!$B18:$Z18,MATCH(D$1901,'ES41. Graduates After 1 3 5 Yrs'!$B$2:$Z$2,0)),\"n/a\")","v":7.529678735339114E-2},{"$f":"IFERROR(INDEX('ES41. Graduates After 1 3 5 Yrs'!$B18:$Z18,MATCH(E$1901,'ES41. Graduates After 1 3 5 Yrs'!$B$2:$Z$2,0)),\"n/a\")","v":8.1000000000000003E-2}]
[null,null,"No sustained destination",{"$f":"IFERROR(INDEX('ES41. Graduates After 1 3 5 Yrs'!$B19:$Z19,MATCH(D$1901,'ES41. Graduates After 1 3 5 Yrs'!$B$2:$Z$2,0)),\"n/a\")","v":5.5932687404385513E-2},{"$f":"IFERROR(INDEX('ES41. Graduates After 1 3 5 Yrs'!$B19:$Z19,MATCH(E$1901,'ES41. Graduates After 1 3 5 Yrs'!$B$2:$Z$2,0)),\"n/a\")","v":5.6000000000000001E-2}]
[null,null,"Sustained employment only",{"$f":"IFERROR(INDEX('ES41. Graduates After 1 3 5 Yrs'!$B20:$Z20,MATCH(D$1901,'ES41. Graduates After 1 3 5 Yrs'!$B$2:$Z$2,0)),\"n/a\")","v":0.77329984701682819},{"$f":"IFERROR(INDEX('ES41. Graduates After 1 3 5 Yrs'!$B20:$Z20,MATCH(E$1901,'ES41. Graduates After 1 3 5 Yrs'!$B$2:$Z$2,0)),\"n/a\")","v":0.76200000000000001}]
[null,null,"Sustained employment with or without further study",{"$f":"IFERROR(INDEX('ES41. Graduates After 1 3 5 Yrs'!$B21:$Z21,MATCH(D$1901,'ES41. Graduates After 1 3 5 Yrs'!$B$2:$Z$2,0)),\"n/a\")","v":0.85473125956144813},{"$f":"IFERROR(INDEX('ES41. Graduates After 1 3 5 Yrs'!$B21:$Z21,MATCH(E$1901,'ES41. Graduates After 1 3 5 Yrs'!$B$2:$Z$2,0)),\"n/a\")","v":0.84399999999999997}]
[null,null,"Further study, sustained employment or both",{"$f":"IFERROR(INDEX('ES41. Graduates After 1 3 5 Yrs'!$B22:$Z22,MATCH(D$1901,'ES41. Graduates After 1 3 5 Yrs'!$B$2:$Z$2,0)),\"n/a\")","v":0.86869556348801624},{"$f":"IFERROR(INDEX('ES41. Graduates After 1 3 5 Yrs'!$B22:$Z22,MATCH(E$1901,'ES41. Graduates After 1 3 5 Yrs'!$B$2:$Z$2,0)),\"n/a\")","v":0.86299999999999999}]

{"sheet":"ONS LA Codes","index":4,"n_rows":58,"n_cols":6,"rows_kept":58,"cut":false,"hidden":true,"merged":[]}
[null,"ONS CODING"]
[]
["Local Authority ","Nomis Code"]
["Aberdeen City","S12000033",null,null,"Blackburn with Darwen ","Blackburn with Darwen, Hyndburn, Rossendale and Ribble Valley"]
["Aberdeenshire","S12000034",null,null,"Blackpool","Blackpool, Fylde and Wyre"]
["Angus","S12000041",null,null,"Burnley","Burnley and Pendle"]
["Argyll and Bute","S12000035",null,null,"Chorley ","Preston, Chorley and South Ribble "]
["Clackmannanshire","S12000005",null,null,"Fylde","Blackpool, Fylde and Wyre"]
["Dumfries and Galloway","S12000006",null,null,"Hyndburn","Blackburn with Darwen, Hyndburn, Rossendale and Ribble Valley"]
["Dundee City","S12000042",null,null,"Lancaster ","Lancaster and Morecambe "]
["East Ayrshire","S12000008",null,null,"Pendle ","Burnley and Pendle"]
["East Dunbartonshire","S12000045",null,null,"Preston","Preston, Chorley and South Ribble "]
["East Lothian","S12000010",null,null,"Ribble Valley","Blackburn with Darwen, Hyndburn, Rossendale and Ribble Valley"]
["East Renfrewshire","S12000011",null,null,"Rossendale ","Blackburn with Darwen, Hyndburn, Rossendale and Ribble Valley"]
["Edinburgh, City of","S12000036",null,null,"South Ribble ","Preston, Chorley and South Ribble "]
["Eilean Siar","S12000013",null,null,"West Lancashire ","West Lancashire "]
["Falkirk","S12000014",null,null,"Wyre ","Blackpool, Fylde and Wyre"]
["Fife","S12000015"]
["Glasgow City","S12000046"]
["Highland","S12000017"]
["Inverclyde","S12000018"]
["Midlothian","S12000019"]
["Moray","S12000020"]
["North Ayrshire","S12000021"]
["North Lanarkshire","S12000044"]
["Orkney Islands","S12000023"]
["Perth and Kinross","S12000024"]
["Renfrewshire","S12000038"]
["Scottish Borders","S12000026"]
["Shetland Islands","S12000027"]
["South Ayrshire","S12000028"]
["South Lanarkshire","S12000029"]
["Stirling","S12000030"]
["West Dunbartonshire","S12000039"]
["West Lothian","S12000040"]
["SDS Region / Other","ekosgen code"]
["New - South of Scotland (RSA)","SS"]
["Aberdeen and Aberdeenshire (RSA)","AA"]
["Ayrshire (RSA)","AY"]
["Borders (RSA)","BO"]
["Dumfries & Galloway (RSA)","DG"]
["Edinburgh and Lothians (RSA)","EL"]
["Fife (RSA)","FI"]
["Forth Valley (RSA)","FV"]
["Glasgow (RSA)","GL"]
["Highlands and Islands (RSA)","HI"]
["Lanarkshire (RSA)","LR"]
["Tayside (RSA)","TY"]
["West (RSA)","WE"]
["West Lothian (RSA)","WL"]
["Aberdeen and Aberdeenshire City Deal","AACD"]
["Glasgow City Deal","GCD"]
["Edinburgh and South East Scotland City Deal","ESECD"]
["Tayside City Deal","TCD"]
["Inverness and Highlands City Deal","IHCD"]
["Scotland","SC"]
["Great Britain","GB"]
["United Kingdom","UK"]

{"sheet":"ES1. KS1 Phonics Assessment","index":5,"n_rows":18,"n_cols":7,"rows_kept":18,"cut":false,"hidden":false,"merged":[]}
["ES1. KS1 Phonics Assessment",null,"Return to Contents",null,"Return to TTWA Summary",null,"Return to LA Summary"]
[null,"Blackburn with Darwen ","Blackpool","Lancashire ","North West ","England"]
[2012]
["Year 1 - percentage meeting standard",0.56000000000000005,0.56000000000000005,0.62,0.57999999999999996,0.57999999999999996]
["Year 2 - percentage meeting standard","na","na","na","na","na"]
[]
[2017]
["Year 1 - percentage meeting standard",0.81,0.8,0.81,0.8,0.81]
["Year 2 - percentage meeting standard",0.9,0.9,0.92,0.91,0.92]
[]
[2019]
["Year 1 - percentage meeting standard",0.82,0.82,0.81,0.81,0.82]
["Year 2 - percentage meeting standard",0.91,0.91,0.91,0.91,0.91]
[]
["Source: Department for Education: Phonics screen check and Key Stage 1 assessments, 2012, 2017 and 2019"]
["Description: Percentage of year 1 pupils meeting the required standard of phonic decoding"]
["Years: 2012; 2017 & 2019"]
["https://www.gov.uk/government/collections/statistics-key-stage-1 "]

{"sheet":"ES2. KS2 Achievement","index":6,"n_rows":12,"n_cols":26,"rows_kept":12,"cut":false,"hidden":false,"merged":[]}
["ES2. KS2 Achievement - % Achieving Required Level",null,null,"Return to Contents",null,"Return to TTWA Summary",null,null,"Return to LA Summary"]
[null,"Blackburn with Darwen, Hyndburn, Rossendale and Ribble Valley","Blackpool, Fylde and Wyre","Burnley and Pendle","Lancaster and Morecambe ","Preston, Chorley and South Ribble ","West Lancashire ","Preston and South Ribble City Deal","Blackburn with Darwen ","Blackpool","Burnley","Chorley ","Fylde","Hyndburn","Lancaster ","Pendle ","Preston","Ribble Valley","Rossendale ","South Ribble ","West Lancashire ","Wyre ","Lancashire ","North West ","England Minus London","England"]
[2016]
["Percentage reaching expected standard",0.53438030560271643,0.52861271676300581,0.45401525347689548,0.49928057553956834,0.57689384342538641,0.59047619047619049,0.5693673695893452,0.51413760603204528,0.48472139005392451,0.45140781108083561,0.59324758842443726,0.57661290322580649,0.48108632395732298,0.49928057553956834,0.45656028368794327,0.56898734177215193,0.63864306784660763,0.56526674233825203,0.56990204808548528,0.59047619047619049,0.5644699140401146,0.5338275091187199,0.53262764632627646,0.52825936903650172,0.53805114790210995]
[]
[2019]
["Percentage reaching expected standard",0.63898726500909642,0.67450171821305838,0.55519789983844914,0.64,0.65101442531409959,0.65,0.63839011356045428,0.65,0.67,0.55000000000000004,0.68,0.72,0.59,0.64,0.56000000000000005,0.63,0.66,0.65,0.65,0.65,0.65,0.63,0.64,0.64268949229121741,0.65]
[]
["Source: Department for Education: National curriculum assessment, Key Stage 2 "]
["Description: Attainment of pupils at key stage 2 in Reading, Writing and Mathematics"]
["Year: 2016; 2019"]
["https://www.gov.uk/government/collections/statistics-key-stage-2"]

{"sheet":"ES3. GCSE Results - Attainment","index":7,"n_rows":11,"n_cols":26,"rows_kept":11,"cut":false,"hidden":false,"merged":[]}
["ES3. GCSE Results - Average Attainment 8 Score",null,null,"Return to Contents",null,"Return to TTWA Summary",null,null,"Return to LA Summary"]
[null,"Blackburn with Darwen, Hyndburn, Rossendale and Ribble Valley","Blackpool, Fylde and Wyre","Burnley and Pendle","Lancaster and Morecambe ","Preston, Chorley and South Ribble ","West Lancashire ","Preston and South Ribble City Deal","Blackburn with Darwen ","Blackpool","Burnley","Chorley ","Fylde","Hyndburn","Lancaster ","Pendle ","Preston","Ribble Valley","Rossendale ","South Ribble ","West Lancashire ","Wyre ","Lancashire ","North West ","England Minus London","England"]
["2015/16"]
["Average attainment 8 score per pupil",50.026290868094705,47.029919224555741,44.746995192307693,51.1,51.007434176561695,50.9,50.589751675206941,50.3,43.8,45,51.800000000000004,49.6,45.6,51.1,44.5,49.6,53.7,50.5,51.4,50.9,49.4,49.260209086215802,49.4,49.802001222319028,50.1]
["2017/18"]
["Average attainment 8 score per pupil",46.082609762079954,43.191474245115451,41.907547169811323,47,49.314012380416429,46.4,49.233467741935485,45.5,39.799999999999997,40,49.5,45.3,43.2,47,43.7,49.9,53.6,45.2,48.4,46.4,46.8,45.849216407740528,45.7,43.715365016761986,44.5]
[]
["Source: Department for Education: Attainment data by age 19 and by disadvantaged pupils"]
["Description: Average Attainment 8 scores of pupils at the end of Key Stage 4"]
["Year: 2015/16 & 2017/18"]
["https://www.gov.uk/education/secondary-curriculum-key-stage-3-and-key-stage-4-gcses "]

{"sheet":"ES4. GCSE Results - Progress","index":8,"n_rows":11,"n_cols":26,"rows_kept":11,"cut":false,"hidden":false,"merged":[]}
["ES4. GCSE Results - Average Progress 8 Score",null,null,"Return to Contents",null,"Return to TTWA Summary",null,null,"Return to LA Summary"]
[null,"Blackburn with Darwen, Hyndburn, Rossendale and Ribble Valley","Blackpool, Fylde and Wyre","Burnley and Pendle","Lancaster and Morecambe ","Preston, Chorley and South Ribble ","West Lancashire ","Preston and South Ribble City Deal","Blackburn with Darwen ","Blackpool","Burnley","Chorley ","Fylde","Hyndburn","Lancaster ","Pendle ","Preston","Ribble Valley","Rossendale ","South Ribble ","West Lancashire ","Wyre ","Lancashire ","North West ","England Minus London","England"]
["2015/16"]
["Overall progress 8 score",-6.5819616685456592E-2,-0.26803554119547657,-0.15903846153846152,-0.03,-3.1845637583892618E-2,-0.1,-1.7008277493102089E-2,0.11,-0.38,-0.24,-0.06,-0.27,-0.31,-0.03,-0.08,-0.05,0.03,-0.26,0.01,-0.1,-0.14000000000000001,-0.10709473412493545,-0.15,-6.1455426532991776E-2,-0.03]
["2017/18"]
["Overall progress 8 score",-3.8520971302428257E-2,-0.42316518650088814,-0.17657827638959714,-0.09,8.8773213280810351E-2,-0.19,0.10556451612903227,0.01,-0.6,-0.28999999999999998,0.05,-0.28999999999999998,-0.13,-0.09,-7.0000000000000007E-2,0.15,0.22,-0.25,0.05,-0.19,-0.25,-0.11543608612701009,-0.16,-5.7722835732597122E-2,-0.02]
[]
["Source: Department for Education: Attainment data by age 19 and by disadvantaged pupils"]
["Description: Average Progress 8 scores of pupils at the end of Key Stage 4"]
["Year: 2015/16; 2017/18"]
["https://www.gov.uk/education/secondary-curriculum-key-stage-3-and-key-stage-4-gcses "]

{"sheet":"ES5. GCSE Results - Ebacc","index":9,"n_rows":11,"n_cols":26,"rows_kept":11,"cut":false,"hidden":false,"merged":[]}
["ES5. GCSE Results - % Achieving English Baccalaureate",null,null,null,"Return to Contents",null,"Return to TTWA Summary",null,"Return to LA Summary"]
[null,"Blackburn with Darwen, Hyndburn, Rossendale and Ribble Valley","Blackpool, Fylde and Wyre","Burnley and Pendle","Lancaster and Morecambe ","Preston, Chorley and South Ribble ","West Lancashire ","Preston and South Ribble City Deal","Blackburn with Darwen ","Blackpool","Burnley","Chorley ","Fylde","Hyndburn","Lancaster ","Pendle ","Preston","Ribble Valley","Rossendale ","South Ribble ","West Lancashire ","Wyre ","Lancashire ","North West ","England Minus London","England"]
["2015/16"]
["% achieving English Bacc inc 9-5",0.21504780157835401,0.16098901453957998,0.1510733173076923,0.24299999999999999,0.2309150748580279,0.28699999999999998,0.2187493102089082,0.245,9.3000000000000013E-2,0.187,0.254,0.19500000000000001,9.9000000000000005E-2,0.24299999999999999,0.11599999999999999,0.21600000000000003,0.23399999999999999,0.26200000000000001,0.221,0.28699999999999998,0.221,0.20885938306659785,0.23400000000000001,0.23641115864573983,0.248]
["2017/18"]
["% achieving English Bacc inc 9-5",0.1293384841795438,8.8473534635879217E-2,0.10706221315655279,0.13699999999999998,0.17854361283061337,0.14599999999999999,0.17444838709677421,0.154,5.5999999999999994E-2,0.105,0.188,0.11800000000000001,5.0999999999999997E-2,0.13699999999999998,0.109,0.19399999999999998,0.184,0.12,0.15,0.14599999999999999,0.11699999999999999,0.1323039656582175,0.14699999999999999,0.14132512719384738,0.154]
[]
["Source: Department for Education: Attainment data by age 19 and by disadvantaged pupils"]
["Description: Number and percentage of pupils at the end of Key Stage 4 achieving the English Baccalaureate"]
["Year: 2015/16; 2017/18"]
["https://www.gov.uk/education/secondary-curriculum-key-stage-3-and-key-stage-4-gcses "]

{"sheet":"ES6. Participation of 16s & 17s","index":10,"n_rows":15,"n_cols":7,"rows_kept":15,"cut":false,"hidden":false,"merged":[]}
["ES6. Participation of 16 and 17 Year Olds",null,"Return to Contents",null,"Return to TTWA Summary",null,"Return to LA Summary"]
[null,"Blackburn with Darwen ","Blackpool","Lancashire ","North West ","England Minus London","England"]
["% in Education and Training"]
[2013,0.86399999999999999,0.81699999999999995,0.87723507569265924,0.88800000000000001,0.87915322119005779,0.88400000000000001]
[2014,0.89559460147695447,0.84211979022909189,0.89142484731389149,0.89874086626942906,0.89230686087969247,0.89692104527935834]
[2015,0.87435897435897436,0.83361250697934119,0.88453665090229883,0.89812105250323115,0.88855066678214589,0.89463997654234506]
[2016,0.88977389516957861,0.84883040935672516,0.88453665090229883,0.90328863306496632,0.90675043089141572,0.91035484947862455]
[2017,0.92150943396226415,0.86481751824817521,0.88884685485293691,0.90595338106403522,0.90878129268553087,0.91371811256916968]
[2018,0.93,0.81,0.89,0.91,0.92,0.92]
[2019,0.94141619969434542,0.90180798004987528,0.90028355387523629,0.92,0.92,0.93]
[]
["Source: Department for Education: 16 to 17 year olds recorded in education and training and NEET by local authority 2013 to 2019"]
["Description: Proportion of 16 and 17 year olds recorded in education and training"]
["Years: 2013-2019"]
["https://www.gov.uk/government/publications/participation-in-education-and-training-by-local-authority"]

{"sheet":"ES7. L2 Attainment by Age 19","index":11,"n_rows":13,"n_cols":26,"rows_kept":13,"cut":false,"hidden":false,"merged":[]}
["ES7. Level 2 Attainment by Age 19",null,"Return to Contents",null,"Return to TTWA Summary",null,null,null,"Return to LA Summary"]
[null,"Blackburn with Darwen, Hyndburn, Rossendale and Ribble Valley","Blackpool, Fylde and Wyre","Burnley and Pendle","Lancaster and Morecambe ","Preston, Chorley and South Ribble ","West Lancashire ","Preston and South Ribble City Deal","Blackburn with Darwen ","Blackpool","Burnley","Chorley ","Fylde","Hyndburn","Lancaster ","Pendle ","Preston","Ribble Valley","Rossendale ","South Ribble ","West Lancashire ","Wyre ","Lancashire ","North West ","England Minus London","England"]
["2015/16"]
["% Qualified to L2",0.857449088960343,0.87784090909090906,0.83289124668435011,0.88888888888888884,0.88066825775656321,0.8539325842696629,0.86690647482014394,0.83,0.83200000000000007,0.80800000000000016,0.90700000000000003,0.94499999999999995,0.84699999999999998,0.89,0.86199999999999999,0.84799999999999998,0.92100000000000004,0.85599999999999998,0.88,0.85699999999999998,0.89900000000000002,0.86703845024948634,0.85004952947003465,0.84887236229518104,0.85255409518659675]
[]
["2017/18"]
["% Qualified to L2",0.84157303370786518,0.80219780219780223,0.71662125340599458,0.82437275985663083,0.83950617283950613,0.85365853658536583,0.83116883116883122,0.83806818181818177,0.74733096085409256,0.70967741935483875,0.85608856088560881,0.8571428571428571,0.80107526881720426,0.82437275985663083,0.72375690607734811,0.81355932203389836,0.90109890109890112,0.8294117647058824,0.84488448844884489,0.85365853658536583,0.83913043478260874,0.81851966553112421,0.82,0.79,0.82]
[]
["Source: Department for Education: Attainment Data by age 19 and by disadvantaged pupils"]
["Description: Percentage of attainment of Level 2 by age 19"]
["Year: 2015/16; 2017/18"]
["https://www.gov.uk/government/publications/education-statistics-by-la-district-and-pupil-disadvantage "]
["https://www.gov.uk/government/statistics/level-2-and-3-attainment-by-young-people-aged-19-in-2017"]

{"sheet":"ES8. L2 Attainment MathsEnglish","index":12,"n_rows":13,"n_cols":26,"rows_kept":13,"cut":false,"hidden":false,"merged":[]}
["ES8. Level 2 English and Maths Attainment by Age 19",null,null,"Return to Contents",null,"Return to TTWA Summary",null,null,"Source: Department for Education: Attainment Data by age 19 and by disadvantaged pupils"]
[null,"Blackburn with Darwen, Hyndburn, Rossendale and Ribble Valley","Blackpool, Fylde and Wyre","Burnley and Pendle","Lancaster and Morecambe ","Preston, Chorley and South Ribble ","West Lancashire ","Preston and South Ribble City Deal","Blackburn with Darwen ","Blackpool","Burnley","Chorley ","Fylde","Hyndburn","Lancaster ","Pendle ","Preston","Ribble Valley","Rossendale ","South Ribble ","West Lancashire ","Wyre ","Lancashire ","North West ","England Minus London","England"]
["2015/16"]
["% Qualified to L2 with English and Maths",0.729903536977492,0.71022727272727271,0.64190981432360739,0.73958333333333337,0.75536992840095463,0.77902621722846443,0.74100719424460426,0.70200000000000007,0.63500000000000001,0.58899999999999997,0.78500000000000003,0.78,0.74099999999999999,0.74,0.70200000000000007,0.7,0.78200000000000003,0.71299999999999997,0.77700000000000002,0.78,0.77200000000000002,0.72703257998238924,0.71229569093610701,0.70902110163855125,0.71271335002049552]
[]
["2017/18"]
["% Qualified to L2 with English and Maths",0.70449438202247194,0.73155416012558871,0.63760217983651224,0.74551971326164879,0.74814814814814812,0.71951219512195119,0.74211502782931349,0.69318181818181823,0.66903914590747326,0.60752688172043012,0.76014760147601479,0.79365079365079361,0.61827956989247312,0.74551971326164879,0.66850828729281764,0.72881355932203384,0.79670329670329665,0.72352941176470587,0.75247524752475248,0.71951219512195119,0.77391304347826084,0.71786930938371007,0.68,0.7,0.68]
[]
["Source: Department for Education: Attainment Data by age 19 and by disadvantaged pupils"]
["Description: Percentage of attainment of Level 2 in English and maths by age 19"]
["Year: 2015/16; 2017/18"]
["https://www.gov.uk/government/publications/education-statistics-by-la-district-and-pupil-disadvantage "]
["https://www.gov.uk/government/statistics/level-2-and-3-attainment-by-young-people-aged-19-in-2017"]

{"sheet":"ES9. L3 Attainment by Age 19","index":13,"n_rows":13,"n_cols":26,"rows_kept":13,"cut":false,"hidden":false,"merged":[]}
["ES9. Level 3 Attainment by Age 19",null,"Return to Contents",null,"Return to TTWA Summary",null,null,null,"Return to LA Summary"]
[null,"Blackburn with Darwen, Hyndburn, Rossendale and Ribble Valley","Blackpool, Fylde and Wyre","Burnley and Pendle","Lancaster and Morecambe ","Preston, Chorley and South Ribble ","West Lancashire ","Preston and South Ribble City Deal","Blackburn with Darwen ","Blackpool","Burnley","Chorley ","Fylde","Hyndburn","Lancaster ","Pendle ","Preston","Ribble Valley","Rossendale ","South Ribble ","West Lancashire ","Wyre ","Lancashire ","North West ","England Minus London","England"]
["2015/16"]
["% Qualified to L3",0.61521972132904612,0.578125,0.49602122015915118,0.53125,0.63245823389021483,0.58052434456928836,0.62230215827338131,0.61199999999999999,0.52300000000000002,0.42599999999999999,0.65400000000000003,0.64300000000000002,0.57100000000000006,0.52900000000000003,0.57300000000000006,0.59399999999999997,0.69800000000000006,0.58699999999999997,0.64700000000000002,0.57999999999999996,0.61499999999999999,0.58878778984443791,0.57000000000000006,0.5578934639337324,0.57076199862200094]
[]
["2017/18"]
["% Qualified to L3",0.60337078651685394,0.57770800627943486,0.49591280653950953,0.55555555555555558,0.6308641975308642,0.58536585365853655,0.62523191094619668,0.61363636363636365,0.50177935943060503,0.45698924731182794,0.64206642066420661,0.66666666666666663,0.543010752688172,0.55555555555555558,0.53591160220994472,0.61440677966101698,0.69230769230769229,0.55294117647058827,0.63366336633663367,0.58536585365853655,0.62173913043478257,0.58748838649736757,0.56999999999999995,0.56000000000000005,0.56999999999999995]
[]
["Source: Department for Education: Attainment Data by age 19 and by disadvantaged pupils"]
["Description: Percentage of attainment of Level 3 by age 19"]
["Year: 2015/16; 2017/18"]
["https://www.gov.uk/government/publications/education-statistics-by-la-district-and-pupil-disadvantage "]
["https://www.gov.uk/government/statistics/level-2-and-3-attainment-by-young-people-aged-19-in-2017"]

{"sheet":"ES10. Attainment by FSM","index":14,"n_rows":19,"n_cols":26,"rows_kept":19,"cut":false,"hidden":false,"merged":[]}
["ES10. Attainment by Free School Meal (FSM) Eligibility by Age 19",null,null,"Return to Contents",null,"Return to TTWA Summary",null,null,"Return to LA Summary"]
[null,"Blackburn with Darwen, Hyndburn, Rossendale and Ribble Valley","Blackpool, Fylde and Wyre","Burnley and Pendle","Lancaster and Morecambe ","Preston, Chorley and South Ribble ","West Lancashire ","Preston and South Ribble City Deal","Blackburn with Darwen ","Blackpool","Burnley","Chorley ","Fylde","Hyndburn","Lancaster ","Pendle ","Preston","Ribble Valley","Rossendale ","South Ribble ","West Lancashire ","Wyre ","Lancashire ","North West ","England Minus London","England"]
["2015/16"]
["FSM Eligible Percentage who attained Level 3 at 19",0.38636363636363635,0.33333333333333331,0.28767123287671231,0.19444444444444445,0.33,0.28947368421052633,0.33333333333333331,0.41600000000000004,0.33200000000000002,0.21899999999999997,0.32500000000000001,0.375,0.35299999999999998,0.20800000000000002,0.435,0.30399999999999999,0.47800000000000004,0.35299999999999998,0.376,0.29599999999999999,0.35299999999999998,0.32653061224489793,0.33900000000000008,0.31448265638897122,0.36199999999999993]
["All others Percentage who attained Level 3 at 19",0.65249999999999997,0.62016806722689077,0.54966887417218546,0.5731225296442688,0.67344173441734423,0.62445414847161573,0.66735966735966734,0.65799999999999992,0.57699999999999996,0.49299999999999999,0.68700000000000006,0.66799999999999993,0.61099999999999999,0.57500000000000007,0.59599999999999997,0.65700000000000003,0.70899999999999996,0.622,0.67700000000000005,0.627,0.64700000000000002,0.63147068906410697,0.61799999999999999,0.59621417991392678,0.60699999999999998]
["FSM Eligible Percentage who attained Level 2 at 19",0.69696969696969702,0.71171171171171166,0.71232876712328763,0.69444444444444442,0.69,0.65789473684210531,0.68,0.72699999999999998,0.69800000000000006,0.67100000000000004,0.71399999999999997,0.85699999999999998,0.6409999999999999,0.70799999999999996,0.75599999999999989,0.65600000000000014,0.78299999999999992,0.63900000000000001,0.69800000000000006,0.66700000000000004,0.68400000000000005,0.69795918367346943,0.69100000000000006,0.67677142010080049,0.70399999999999996]
["All others Percentage who attained Level 2 at 19",0.88500000000000001,0.90420168067226891,0.87086092715231789,0.91304347826086951,0.9065040650406504,0.88646288209606983,0.89604989604989604,0.85399999999999987,0.87,0.85199999999999998,0.92600000000000005,0.95300000000000007,0.88400000000000001,0.91500000000000004,0.88,0.89,0.92800000000000016,0.88800000000000001,0.9,0.88800000000000001,0.92500000000000004,0.89544052108330474,0.88400000000000001,0.87596365799325882,0.879]
[]
["2017/18"]
["FSM Eligible Percentage who attained Level 3 at 19",0.37391304347826088,0.33,0.30263157894736842,0.2,0.3707865168539326,0.29032258064516131,0.375,0.41379310344827586,0.28333333333333333,0.25,0.36,0.45454545454545453,0.37931034482758619,0.2,0.375,0.3888888888888889,0.33333333333333331,0.26315789473684209,0.35714285714285715,0.29032258064516131,0.37931034482758619,0.33333333333333331,0.33,0.31,0.35]
["All others Percentage who attained Level 3 at 19",0.63659793814432986,0.62383612662942267,0.54639175257731953,0.59839357429718876,0.66527777777777775,0.62790697674418605,0.66244725738396626,0.64965986394557829,0.56108597285067874,0.52112676056338025,0.67073170731707321,0.68695652173913047,0.57324840764331209,0.59839357429718876,0.57046979865771807,0.66331658291457285,0.7068965517241379,0.59602649006622521,0.66181818181818186,0.62790697674418605,0.65671641791044777,0.62804878048780488,0.56999999999999995,0.6,0.56999999999999995]
["FSM Eligible Percentage who attained Level 2 at 19",0.62608695652173918,0.56999999999999995,0.53947368421052633,0.5,0.651685393258427,0.64516129032258063,0.640625,0.68965517241379315,0.55000000000000004,0.47727272727272729,0.68,0.63636363636363635,0.58620689655172409,0.5,0.625,0.61111111111111116,0.55555555555555558,0.52631578947368418,0.6785714285714286,0.64516129032258063,0.58620689655172409,0.59637188208616776,0.62,0.6,0.63]
["All others Percentage who attained Level 2 at 19",0.86855670103092786,0.84543761638733705,0.76632302405498287,0.86345381526104414,0.86388888888888893,0.88837209302325582,0.85864978902953581,0.86394557823129248,0.80090497737556565,0.78169014084507038,0.87398373983739841,0.87826086956521743,0.84076433121019112,0.86345381526104414,0.75167785234899331,0.85427135678391963,0.90804597701149425,0.86092715231788075,0.86181818181818182,0.88837209302325582,0.87562189054726369,0.85329985652797702,0.82,0.85,0.82]
[]
["Source: Department for Education: Attainment Data by age 19 and by disadvantaged pupils"]
["Description: Percentage - Attainment of Level 3 by age 19 by FSM eligibility"]
["Year: 2015/16; 2017/18"]
["https://www.gov.uk/government/publications/education-statistics-by-la-district-and-pupil-disadvantage "]
["https://www.gov.uk/government/statistics/level-2-and-3-attainment-by-young-people-aged-19-in-2017"]

{"sheet":"ES11. Destinations by KS4","index":15,"n_rows":17,"n_cols":26,"rows_kept":17,"cut":false,"hidden":false,"merged":[]}
["ES11. Destinations by KS4 + with FSM Comparison","Return to Contents",null,"Return to TTWA Summary",null,null,null,null,"Return to LA Summary"]
[null,"Blackburn with Darwen, Hyndburn, Rossendale and Ribble Valley","Blackpool, Fylde and Wyre","Burnley and Pendle","Lancaster and Morecambe ","Preston, Chorley and South Ribble ","West Lancashire ","Preston and South Ribble City Deal","Blackburn with Darwen ","Blackpool","Burnley","Chorley ","Fylde","Hyndburn","Lancaster ","Pendle ","Preston","Ribble Valley","Rossendale ","South Ribble ","West Lancashire ","Wyre ","Lancashire ","North West ","England Minus London","England"]
["% pupils in overall sustained education and/or employment / training destination"]
["2014/15",0.94298745724059296,0.92320000000000002,0.90056818181818177,0.94776119402985071,0.94708276797829039,0.94514767932489452,0.94307400379506645,0.94189602446483178,0.900709219858156,0.87931034482758619,0.95714285714285718,0.95081967213114749,0.93717277486910999,0.94776119402985071,0.9213483146067416,0.93220338983050843,0.95287958115183247,0.94047619047619047,0.95189003436426112,0.94514767932489452,0.93665158371040724,0.93572351421188626,0.9334833542921438,0.93751911980336933,0.93799700882760628]
["2015/16",0.9446124031007751,0.94604477611940296,0.94034364261168391,0.96,0.94701357466063341,0.95,0.94580508474576264,0.93,0.93,0.92,0.95,0.97,0.94,0.96,0.96,0.94,0.96,0.96,0.95,0.95,0.95,0.95,0.95,0.95,0.95]
["2016/17",0.95392630241423115,0.94597328244274803,0.91543478260869582,0.95,0.95414141414141407,0.95,0.94563192904656324,0.96,0.93,0.9,0.97,0.95,0.94,0.95,0.93,0.94,0.96,0.95,0.95,0.95,0.96,0.95,0.95,0.95,0.95]
[]
["% Free School Meal (FSM) pupils in overall sustained education and/or employment / training destination"]
["2014/15","x","x","x","x","x","x",0.76,0.86,0.75,0.73,0.82,0.73,0.82,0.8,"x",0.77,"x","x",0.76,0.79,0.83,0.79,0.81,null,0.83]
["2015/16",0.87309734513274317,0.81789999999999996,0.8426315789473684,0.84,0.83012345679012345,0.82,0.82750000000000001,0.9,0.8,0.83,0.84,0.91,0.82,0.84,0.86,0.81,0.86,0.88,0.85,0.82,0.82,0.84,0.84,0.85,0.86]
["2016/17",0.88319999999999999,0.88021052631579,0.85,0.9,0.8348148148148149,0.84,0.81464285714285722,0.92,0.86,0.85,0.88,0.94,0.89,0.9,0.85,0.77,0.84,0.79,0.87,0.84,0.9,0.87,0.85,0.86,0.87]
[]
["Source: Department for Education: Percentages of overall pupil destinations after completing Key Stage 4 / Key Stage 5, 2014/16 - 2016/17"]
["Description: Percentage of overall pupil destinations after completing key stage 4 including pupils eligible for Free School Meals (FSM)"]
["Years: 2014/15 - 2016/17 destinations for the 2013/14 cohort"]
["https://www.gov.uk/government/publications/education-statistics-by-la-district-and-pupil-disadvantage "]
["x = data has been supressed at local authority level and therefore cannot provide TTWA figures"]

{"sheet":"ES12. Destinations by KS5","index":16,"n_rows":82,"n_cols":26,"rows_kept":82,"cut":false,"hidden":false,"merged":[]}
["ES12. Destinations by KS5 + with Disadvantaged Comparison",null,null,"Return to Contents",null,"Return to TTWA Summary",null,null,"Return to LA Summary"]
[null,"Blackburn with Darwen, Hyndburn, Rossendale and Ribble Valley","Blackpool, Fylde and Wyre","Burnley and Pendle","Lancaster and Morecambe ","Preston, Chorley and South Ribble ","West Lancashire ","Preston and South Ribble City Deal","Blackburn with Darwen ","Blackpool","Burnley","Chorley ","Fylde","Hyndburn","Lancaster ","Pendle ","Preston","Ribble Valley","Rossendale ","South Ribble ","West Lancashire ","Wyre ","Lancashire ","North West ","England Minus London","England"]
["2014/15 - All Pupils"]
["Apprenticeships",7.874015748031496E-2,5.8685446009389672E-2,7.0707070707070704E-2,7.18232044198895E-2,8.8888888888888892E-2,7.2727272727272724E-2,9.4285714285714292E-2,7.2796934865900387E-2,6.3218390804597707E-2,6.8181818181818177E-2,7.8947368421052627E-2,6.5217391304347824E-2,9.6774193548387094E-2,7.18232044198895E-2,7.2727272727272724E-2,9.2105263157894732E-2,7.9710144927536225E-2,7.1428571428571425E-2,9.5959595959595953E-2,7.2727272727272724E-2,0.05,7.5524475524475526E-2,7.8836548819900112E-2,7.5648213610430615E-2,7.0422140676209416E-2]
["Further education college or other FE provider",0.11181102362204724,9.6244131455399062E-2,0.12626262626262627,0.11049723756906077,0.12037037037037036,0.13333333333333333,0.12571428571428572,0.11494252873563218,0.10344827586206896,0.13636363636363635,0.11052631578947368,8.6956521739130432E-2,0.13709677419354838,0.11049723756906077,0.11818181818181818,0.13815789473684212,0.10144927536231885,8.9285714285714288E-2,0.11616161616161616,0.13333333333333333,9.375E-2,0.11375291375291376,0.13994711585545,0.14692293780108845,0.14223087481442057]
["UK higher education institution",0.54488188976377949,0.54694835680751175,0.51515151515151514,0.55801104972375692,0.55740740740740746,0.50909090909090904,0.55142857142857138,0.55938697318007657,0.54022988505747127,0.5,0.56842105263157894,0.57608695652173914,0.5,0.55801104972375692,0.52727272727272723,0.54605263157894735,0.55072463768115942,0.5535714285714286,0.55555555555555558,0.50909090909090904,0.53749999999999998,0.54405594405594404,0.51473900695328567,0.47238618240410385,0.486806353119135]
["Top third of HEIs",0.15433070866141732,0.15023474178403756,9.5959595959595953E-2,0.24861878453038674,0.20185185185185187,0.16363636363636364,0.20285714285714285,0.11494252873563218,9.1954022988505746E-2,9.0909090909090912E-2,0.2,0.2391304347826087,0.10483870967741936,0.24861878453038674,0.1,0.20394736842105263,0.24637681159420291,0.1875,0.20202020202020202,0.16363636363636364,0.16250000000000001,0.16876456876456877,0.16080697287239251,0.16290426004176189,0.17178352334799293]
["Other higher education institutions or providers",0.3905511811023622,0.39436619718309857,0.41919191919191917,0.30939226519337015,0.3574074074074074,0.34545454545454546,0.34857142857142859,0.44444444444444442,0.44827586206896552,0.40909090909090912,0.37368421052631579,0.33695652173913043,0.39516129032258063,0.30939226519337015,0.42727272727272725,0.34210526315789475,0.30434782608695654,0.36607142857142855,0.35353535353535354,0.34545454545454546,0.36875000000000002,0.3752913752913753,0.35393203408089313,0.30948192236234195,0.31502282977114204]
["Other education destinations",3.1496062992125984E-2,1.4084507042253521E-2,4.0404040404040407E-2,1.6574585635359115E-2,1.2962962962962963E-2,1.8181818181818181E-2,1.1428571428571429E-2,4.2145593869731802E-2,5.7471264367816091E-3,7.9545454545454544E-2,1.5789473684210527E-2,2.1739130434782608E-2,2.4193548387096774E-2,1.6574585635359115E-2,9.0909090909090905E-3,1.3157894736842105E-2,2.8985507246376812E-2,1.7857142857142856E-2,1.0101010101010102E-2,1.8181818181818181E-2,1.8749999999999999E-2,2.1911421911421911E-2,2.4777201057682892E-2,2.6092961312704492E-2,2.641530575086137E-2]
["Destination not sustained",9.4488188976377951E-2,9.154929577464789E-2,9.5959595959595953E-2,7.18232044198895E-2,7.7777777777777779E-2,9.0909090909090912E-2,7.4285714285714288E-2,9.5785440613026823E-2,0.11494252873563218,9.0909090909090912E-2,8.4210526315789472E-2,7.6086956521739135E-2,0.12903225806451613,7.18232044198895E-2,0.1,7.8947368421052627E-2,7.2463768115942032E-2,8.0357142857142863E-2,7.0707070707070704E-2,9.0909090909090912E-2,7.4999999999999997E-2,8.7645687645687642E-2,8.7356772108510436E-2,8.722316305223525E-2,8.7873609905039354E-2]
["Activity not captured in data",3.3070866141732283E-2,2.3474178403755867E-2,4.0404040404040407E-2,2.7624309392265192E-2,2.5925925925925925E-2,2.4242424242424242E-2,2.5714285714285714E-2,3.0651340996168581E-2,1.7241379310344827E-2,2.2727272727272728E-2,2.6315789473684209E-2,2.1739130434782608E-2,3.2258064516129031E-2,2.7624309392265192E-2,5.4545454545454543E-2,2.6315789473684209E-2,2.8985507246376812E-2,4.4642857142857144E-2,2.5252525252525252E-2,2.4242424242424242E-2,3.125E-2,2.8904428904428906E-2,2.8400744295367739E-2,2.6799953963269264E-2,2.8950390767248382E-2]
["Any sustained education destination",0.6866141732283465,0.65727699530516437,0.68181818181818177,0.6795580110497238,0.69259259259259254,0.66060606060606064,0.69142857142857139,0.71264367816091956,0.64942528735632188,0.71590909090909094,0.69473684210526321,0.68478260869565222,0.66129032258064513,0.6795580110497238,0.65454545454545454,0.70394736842105265,0.6811594202898551,0.6607142857142857,0.68181818181818177,0.66060606060606064,0.65,0.67925407925407921,0.67946332386641861,0.64535275644925272,0.65538250371158857]
["Sustained employment destination",0.18425196850393702,0.22769953051643194,0.18686868686868688,0.21546961325966851,0.20370370370370369,0.22424242424242424,0.20857142857142857,0.15708812260536398,0.21264367816091953,0.18181818181818182,0.19473684210526315,0.22826086956521738,0.17741935483870969,0.21546961325966851,0.19090909090909092,0.19078947368421054,0.21739130434782608,0.21428571428571427,0.22222222222222221,0.22424242424242424,0.24374999999999999,0.20372960372960372,0.20477915972970326,0.24062412653524276,0.22779349561612369]
["Sustained employment and education",0.87086614173228349,0.88497652582159625,0.86868686868686862,0.89502762430939231,0.89629629629629626,0.88484848484848488,0.89999999999999991,0.86973180076628354,0.86206896551724144,0.89772727272727271,0.88947368421052642,0.91304347826086962,0.83870967741935476,0.89502762430939231,0.84545454545454546,0.89473684210526316,0.89855072463768115,0.875,0.90404040404040398,0.88484848484848488,0.89375000000000004,0.8829836829836829,0.8842424835961219,0.88597688298449551,0.88317599932771229]
["2015/16 - All Pupils"]
["Apprenticeships",7.2820512820512814E-2,"x",0.1417877094972067,0.08,"x","x",8.5626911314984705E-2,0.09,0.08,0.18,"x","x",7.0000000000000007E-2,0.08,0.06,0.08,0.04,0.05,0.09,"x",0.06,0.09,0.09,7.4138990573374058E-2,"7%"]
["Further education college or other FE provider","x","x","x","x","x","x",0.10749235474006116,0.12,0.1,"x","x","x",7.0000000000000007E-2,"x",0.08,0.13,"x","x",0.09,"x",0.19,0.11,0.12,0.13413899057337406,"13%"]
["UK higher education institution",0.6033846153846153,0.52443526170798904,0.51139664804469276,0.51,"x",0.51,0.59501529051987778,0.54,0.56000000000000005,0.47,"x",0.55000000000000004,0.56000000000000005,0.51,0.6,0.55000000000000004,0.76,0.7,0.63,0.51,0.39,0.56999999999999995,0.55000000000000004,0.50896269180433595,"52%"]
["Top third of HEIs",0.20800000000000002,"x","x",0.25,"x","x",0.2225076452599388,0.1,0.13,0.09,"x","x",0.22,0.25,"x",0.2,0.48,0.3,0.24,"x","x",0.21,0.18,0.18896269180433586,"20%"]
["Other higher education institutions or providers",0.39538461538461539,"x","x",0.26,"x","x",0.36688073394495413,0.44,0.42,0.38,"x","x",0.34,0.26,"x",0.35,0.28000000000000003,0.4,0.38,"x","x",0.35,0.37,0.32,"32%"]
["Other education destinations","x","x","x","x","x","x","x",0.03,"x","x","x","x",0.01,"x",0,0.03,"x","x","x","x",0,0.01,0.02,1.8620336475541985E-2,"2%"]
["Destination not sustained","x","x","x",7.0000000000000007E-2,"x","x",5.4373088685015294E-2,0.08,0.09,"x","x","x",7.0000000000000007E-2,7.0000000000000007E-2,0.08,0.06,"x","x",0.05,"x",0.1,0.06,7.0000000000000007E-2,6.9999999999999993E-2,"7%"]
["Activity not captured in data","x","x","x",0.04,"x","x",2.4373088685015292E-2,0.05,0.03,"x","x","x",0.04,0.04,0.04,0.03,"x","x",0.02,"x",0.05,0.03,0.03,2.7240672951083966E-2,"3%"]
["Any sustained education destination","x","x",0.65955307262569829,0.66,"x","x",0.71562691131498468,0.7,0.66,0.65,"x","x",0.64,0.66,0.68,0.71,"x",0.77,0.72,"x",0.57999999999999996,0.69,0.69,0.66172201885325188,"67%"]
["Sustained employment destination","x","x",0.2340782122905028,0.22,"x","x",0.21000000000000002,0.18,0.22,0.25,"x","x",0.25,0.22,0.2,0.21,"x",0.14000000000000001,0.21,"x",0.27,0.21,0.21,0.24103730819566413,"23%"]
["Sustained employment and education","x","x",{"$f":"SUM(D24+D25)","v":0.89363128491620114},0.88,"x","x",0.92562691131498465,0.87999999999999989,0.88,0.9,"x","x",0.89,0.88,0.88000000000000012,0.91999999999999993,"x",0.91,0.92999999999999994,"x",0.85,0.89999999999999991,0.89999999999999991,0.90275932704891604,0.9]
["2016/17 - All Pupils"]
["Apprenticeships",8.8576850094876661E-2,5.8487394957983198E-2,7.871794871794871E-2,7.0000000000000007E-2,0.09,5.9999999999999991E-2,0.09,0.08,0.04,0.1,0.09,0.08,0.1,7.0000000000000007E-2,0.06,0.09,0.1,0.08,0.09,0.06,0.06,0.09,0.08,7.0000000000000007E-2,7.0000000000000007E-2]
["Further education college or other FE provider",5.880455407969639E-2,4.733893557422969E-2,7.0641025641025645E-2,0.06,6.0043010752688183E-2,0.05,5.4305084745762705E-2,0.08,0.05,0.06,7.0000000000000007E-2,0.04,7.0000000000000007E-2,0.06,0.08,0.06,0.04,0.03,0.05,0.05,0.05,0.15,0.06,7.0000000000000007E-2,7.0000000000000007E-2]
["UK higher education institution",0.56280834914611011,0.56355742296918765,0.53467948717948721,0.52,0.55819354838709678,0.55000000000000004,0.55138983050847468,0.55000000000000004,0.56999999999999995,0.54,0.56999999999999995,0.59,0.52,0.52,0.53,0.54,0.56999999999999995,0.62,0.56000000000000005,0.55000000000000004,0.54,0.44,0.54,0.5,0.51]
["Top third of HEIs",0.18493358633776094,0.16647058823529409,0.15467948717948718,0.25,0.19911827956989248,0.18,0.18708474576271186,0.12,0.14000000000000001,0.16,0.22,0.21,0.14000000000000001,0.25,0.15,0.17,0.26,0.26,0.2,0.18,0.16,0.09,0.19,0.18,0.19]
["Other higher education institutions or providers",0.37787476280834914,0.39708683473389356,0.38532051282051277,0.27,0.35995698924731184,0.36999999999999994,0.36569491525423725,0.43,0.43,0.38,0.35,0.38,0.38,0.27,0.39,0.36,0.31,0.36,0.37,0.37,0.38,0.35,0.36,0.33,0.33]
["Other education destinations",3.01707779886148E-2,2.733893557422969E-2,"x",0.04,1.8193548387096775E-2,2.9999999999999995E-2,2.291525423728814E-2,0.04,0.03,0.01,0.01,0.02,0.02,0.04,"x",0.04,0.03,0.02,0.01,0.03,0.03,0.01,0.03,0.03,0.03]
["Destination not sustained",6.6129032258064518E-2,7.075630252100841E-2,7.5320512820512817E-2,7.0000000000000007E-2,6.273118279569892E-2,0.08,6.4305084745762714E-2,0.08,0.08,7.0000000000000007E-2,0.06,0.06,0.09,7.0000000000000007E-2,0.08,7.0000000000000007E-2,0.04,0.05,0.06,0.08,7.0000000000000007E-2,0.13,7.0000000000000007E-2,7.0000000000000007E-2,7.0000000000000007E-2]
["Activity not captured in data",3.7666034155597716E-2,2.3417366946778709E-2,3.5320512820512823E-2,0.03,2.3612903225806454E-2,0.02,2.5694915254237286E-2,0.05,0.03,0.03,0.02,0.02,0.03,0.03,0.04,0.02,0.03,0.03,0.03,0.02,0.02,0.05,0.03,0.04,0.04]
["Any sustained education destination",0.65178368121442132,0.63557422969187671,0.61532051282051292,0.61,0.64004301075268821,0.63,0.63430508474576286,0.67,0.65,0.61,0.65,0.64,0.61,0.61,0.62,0.64,0.64,0.67,0.63,0.63,0.62,0.61,0.63,0.6,0.61]
["Sustained employment destination",0.1621821631878558,0.21252100840336136,0.20064102564102565,0.22,0.18361290322580645,0.21,0.18569491525423729,0.13,0.21,0.19,0.18,0.19,0.17,0.22,0.21,0.18,0.2,0.17,0.19,0.21,0.23,0.22,0.19,0.23,0.22]
["Sustained employment and education",{"$f":"SUM(B36+B37)","v":0.81396584440227715},{"$f":"SUM(C36+C37)","v":0.84809523809523801},{"$f":"SUM(D36+D37)","v":0.81596153846153863},{"$f":"SUM(E36+E37)","v":0.83},{"$f":"SUM(F36+F37)","v":0.82365591397849469},{"$f":"SUM(G36+G37)","v":0.84},{"$f":"SUM(H36+H37)","v":0.82000000000000017},{"$f":"SUM(I36+I37)","v":0.8},{"$f":"SUM(J36+J37)","v":0.86},{"$f":"SUM(K36+K37)","v":0.8},{"$f":"SUM(L36+L37)","v":0.83000000000000007},{"$f":"SUM(M36+M37)","v":0.83000000000000007},{"$f":"SUM(N36+N37)","v":0.78},{"$f":"SUM(O36+O37)","v":0.83},{"$f":"SUM(P36+P37)","v":0.83},{"$f":"SUM(Q36+Q37)","v":0.82000000000000006},{"$f":"SUM(R36+R37)","v":0.84000000000000008},{"$f":"SUM(S36+S37)","v":0.84000000000000008},{"$f":"SUM(T36+T37)","v":0.82000000000000006},{"$f":"SUM(U36+U37)","v":0.84},{"$f":"SUM(V36+V37)","v":0.85},0.83,{"$f":"SUM(X36+X37)","v":0.82000000000000006},{"$f":"SUM(Y36+Y37)","v":0.83},{"$f":"SUM(Z36+Z37)","v":0.83}]
[]
[]
["2014/15 - Disadvantaged Pupils "]
["Apprenticeships","x","x",4.878048780487805E-2,6.6666666666666666E-2,9.0909090909090912E-2,4.1666666666666664E-2,0.10256410256410256,"x",5.4054054054054057E-2,5.5555555555555552E-2,6.25E-2,0.125,9.5238095238095233E-2,6.6666666666666666E-2,4.3478260869565216E-2,0.13043478260869565,0.14285714285714285,0.1,6.25E-2,4.1666666666666664E-2,"x",7.179487179487179E-2,6.9515669515669509E-2,6.9107723069232685E-2,6.0897145446307206E-2]
["Further education college or other FE provider","x","x","x",0.13333333333333333,"x","x","x","x",0.10810810810810811,0.22222222222222221,"x",0.125,9.5238095238095233E-2,0.13333333333333333,"x",0.30434782608695654,0.14285714285714285,"x","x","x","x",0.18461538461538463,0.18974358974358974,0.19657585603599101,0.17897598550067967]
["UK higher education institution","x",0.5,0.48780487804878048,0.4,0.41818181818181815,0.41666666666666669,0.41025641025641024,"x",0.48648648648648651,0.44444444444444442,0.4375,0.5,0.47619047619047616,0.4,0.52173913043478259,0.43478260869565216,0.42857142857142855,0.3,0.375,0.41666666666666669,0.53333333333333333,0.44615384615384618,0.42564102564102563,0.39240189952511872,0.44068871771635704]
["Top third of HEIs","x",8.3333333333333329E-2,4.878048780487805E-2,6.6666666666666666E-2,0.10909090909090909,4.1666666666666664E-2,0.12820512820512819,"x",5.4054054054054057E-2,5.5555555555555552E-2,6.25E-2,0.125,4.7619047619047616E-2,6.6666666666666666E-2,4.3478260869565216E-2,8.6956521739130432E-2,0.14285714285714285,0.1,0.1875,4.1666666666666664E-2,0.13333333333333333,8.7179487179487175E-2,7.8062678062678068E-2,8.1229692576855791E-2,0.10376076121431808]
["Other higher education institutions or providers","x",0.4,0.41463414634146339,0.33333333333333331,0.32727272727272727,0.375,0.30769230769230771,"x",0.43243243243243246,0.3888888888888889,0.375,0.375,0.42857142857142855,0.33333333333333331,0.43478260869565216,0.34782608695652173,0.2857142857142857,0.2,0.25,0.375,0.33333333333333331,0.35897435897435898,0.3475783475783476,0.31117220694826292,0.33692795650203899]
["Other education destinations","x","x","x",0,"x","x","x","x",0,0.1111111111111111,"x",0,4.7619047619047616E-2,0,"x",0,0,"x","x","x","x",2.0512820512820513E-2,2.9629629629629631E-2,3.1242189452636841E-2,3.23516085183507E-2]
["Destination not sustained","x",0.15,"x","x","x",0.16666666666666666,"x","x",0.1891891891891892,"x","x",0.125,0.19047619047619047,"x",0.13043478260869565,8.6956521739130432E-2,0.14285714285714285,0.1,"x",0.16666666666666666,6.6666666666666666E-2,0.13846153846153847,0.13447293447293449,0.13771557110722318,0.12958767557770728]
["Activity not captured in data","x",3.3333333333333333E-2,"x","x","x",4.1666666666666664E-2,"x","x",2.7027027027027029E-2,"x","x",0,4.7619047619047616E-2,"x",8.6956521739130432E-2,4.3478260869565216E-2,0,0.2,"x",4.1666666666666664E-2,6.6666666666666666E-2,4.1025641025641026E-2,3.3048433048433051E-2,2.8117970507373156E-2,2.9632985953783417E-2]
["Any sustained education destination","x",0.6166666666666667,0.68292682926829273,0.53333333333333333,0.69090909090909092,0.66666666666666663,0.71794871794871795,"x",0.59459459459459463,0.72222222222222221,0.625,0.625,0.61904761904761907,0.53333333333333333,0.65217391304347827,0.73913043478260865,0.5714285714285714,0.5,0.6875,0.66666666666666663,0.66666666666666663,0.6512820512820513,0.64501424501424498,0.61997000749812547,0.65183507023108289]
["Sustained employment destination","x",0.2,0.14634146341463414,0.26666666666666666,0.18181818181818182,0.16666666666666666,0.17948717948717949,"x",0.21621621621621623,0.16666666666666666,0.1875,0.125,0.14285714285714285,0.26666666666666666,0.13043478260869565,0.17391304347826086,0.14285714285714285,0.3,0.1875,0.16666666666666666,0.2,0.17435897435897435,0.18689458689458691,0.21432141964508872,0.18903488898957863]
["Sustained employment and education","x",{"$f":"SUM(C50+C51)","v":0.81666666666666665},0.8292682926829269,0.8,0.8727272727272728,0.83333333333333326,0.89743589743589747,"x",0.81081081081081086,0.88888888888888884,0.8125,0.75,0.76190476190476186,0.8,0.78260869565217395,0.91304347826086951,0.71428571428571419,0.8,0.875,0.83333333333333326,0.8666666666666667,0.82564102564102559,0.83190883190883191,0.83429142714321425,0.84086995922066154]
["2015/16 - Disadvantaged Pupils "]
["Apprenticeships",5.4099999999999995E-2,3.5714285714285712E-2,1.4716981132075471E-2,0.08,4.8805970149253738E-2,0.05,5.8000000000000003E-2,0.06,0.03,0,0.03,0.08,0.05,0.08,0.03,7.0000000000000007E-2,0,0.06,0.04,0.05,0.03,0.09,0.05,5.3914230808131888E-2,0.05]
["Further education college or other FE provider","x","x",8.5094339622641513E-2,0.09,0.10940298507462685,0.12,0.11399999999999999,0.1,0.08,0.09,0.1,"x",0.11,0.09,0.08,0.13,"x",0.03,0.09,0.12,0.05,0.15,0.1,0.10782846161626378,0.1]
["UK higher education institution",0.51860000000000006,0.43785714285714283,0.54433962264150948,0.32,0.41880597014925375,0.4,0.42799999999999999,0.52,0.46,0.51,0.4,0.45,0.55000000000000004,0.32,0.57999999999999996,0.44,0.53,0.48,0.41,0.4,0.39,0.44,0.46,0.41694346111054931,0.46]
["Top third of HEIs",7.5900000000000009E-2,7.6999999999999999E-2,0.12433962264150944,0.1,9.5970149253731332E-2,0.1,9.4E-2,0.06,0.06,0.09,0.1,0.13,0.08,0.1,0.16,0.09,0.11,0.11,0.1,0.1,0.09,0.09,0.09,8.4343076767472436E-2,0.1]
["Other higher education institutions or providers",0.44669999999999993,0.35499999999999998,0.42,0.22,0.31880597014925377,0.3,0.32800000000000007,0.47,0.39,0.42,0.3,0.32,0.47,0.22,0.42,0.34,0.42,0.36,0.31,0.3,0.3,0.35,0.37,0.34651461515120868,0.37]
["Other education destinations","x","x",1.0188679245283019E-2,0.05,"x",0.02,5.1999999999999998E-2,0.03,0.02,0.02,"x",0,"x",0.05,0,0.06,"x",0,0.04,0.02,"x",0.01,0.03,0.04,0.04]
["Destination not sustained",0.1176,0.16799999999999998,0.10547169811320756,0.16,0.11014925373134328,0.13,0.12,0.11,0.18,0.13,0.09,0.18,0.1,0.16,0.08,0.12,0.14000000000000001,0.15,0.12,0.13,0.14000000000000001,0.13,0.12,0.11782846161626379,0.11]
["Activity not captured in data","x","x","x",0.06,"x","x","x",0.03,0.03,"x",0.06,"x","x",0.06,0.02,0.02,"x",0.05,"x","x",0.03,0.05,0.04,0.04,0.04]
["Any sustained education destination",0.63249999999999995,0.51671428571428579,0.64962264150943394,0.46,0.56970149253731339,0.54,0.59399999999999997,0.66,0.56000000000000005,0.63,0.52,0.47,0.69,0.46,0.67,0.63,0.57999999999999996,0.51,0.54,0.54,0.45,0.61,0.57999999999999996,0.56085769191868107,0.6]
["Sustained employment destination",0.1525,0.24900000000000003,0.19018867924528302,0.24,0.23298507462686571,0.27,0.21,0.13,0.21,0.2,0.28000000000000003,0.21,0.14000000000000001,0.24,0.18,0.17,0.17,0.23,0.27,0.27,0.34,0.22,0.2,0.22348538484879135,0.2]
["Sustained employment and education",{"$f":"SUM(B62:B63)","v":0.78499999999999992},{"$f":"SUM(C62:C63)","v":0.76571428571428579},0.83981132075471698,0.7,0.80268656716417908,0.81,0.80399999999999994,0.79,0.77,0.83000000000000007,0.8,0.67999999999999994,0.83,0.7,0.85000000000000009,0.8,0.75,0.74,0.81,0.81,0.79,0.83,0.78,0.78434307676747239,0.8]
["2016/17- Disadvantaged Pupils "]
["Apprenticeships",5.4099999999999995E-2,3.5714285714285712E-2,1.4716981132075471E-2,0.08,4.8805970149253738E-2,0.05,5.8000000000000003E-2,0.06,0.03,0,0.03,0.08,0.05,0.08,0.03,7.0000000000000007E-2,0,0.06,0.04,0.05,0.03,0.05,0.05,5.3914230808131888E-2,0.05]
["Further education college or other FE provider","x","x",8.5094339622641513E-2,0.09,0.10940298507462685,0.12,0.11399999999999999,0.1,0.08,0.09,0.1,"x",0.11,0.09,0.08,0.13,"x",0.03,0.09,0.12,0.05,0.1,0.1,0.10782846161626378,0.1]
["UK higher education institution",0.51860000000000006,0.43785714285714283,0.54433962264150948,0.32,0.41880597014925375,0.4,0.42799999999999999,0.52,0.46,0.51,0.4,0.45,0.55000000000000004,0.32,0.57999999999999996,0.44,0.53,0.48,0.41,0.4,0.39,0.46,0.46,0.41694346111054931,0.46]
["Top third of HEIs",7.5900000000000009E-2,7.6999999999999999E-2,0.12433962264150944,0.1,9.5970149253731332E-2,0.1,9.4E-2,0.06,0.06,0.09,0.1,0.13,0.08,0.1,0.16,0.09,0.11,0.11,0.1,0.1,0.09,0.09,0.09,8.4343076767472436E-2,0.1]
["Other higher education institutions or providers",0.44669999999999993,0.35499999999999998,0.42,0.22,0.31880597014925377,0.3,0.32800000000000007,0.47,0.39,0.42,0.3,0.32,0.47,0.22,0.42,0.34,0.42,0.36,0.31,0.3,0.3,0.37,0.37,0.34651461515120868,0.37]
["Other education destinations","x","x",1.0188679245283019E-2,0.05,"x",0.02,5.1999999999999998E-2,0.03,0.02,0.02,"x",0,"x",0.05,0,0.06,"x",0,0.04,0.02,"x",3.0000000000000002E-2,0.03,0.04,0.04]
["Destination not sustained",0.1176,0.16799999999999998,0.10547169811320756,0.16,0.11014925373134328,0.13,0.12,0.11,0.18,0.13,0.09,0.18,0.1,0.16,0.08,0.12,0.14000000000000001,0.15,0.12,0.13,0.14000000000000001,0.12000000000000001,0.12,0.11782846161626379,0.11]
["Activity not captured in data","x","x","x",0.06,"x","x","x",0.03,0.03,"x",0.06,"x","x",0.06,0.02,0.02,"x",0.05,"x","x",0.03,0.04,0.04,0.04,0.04]
["Any sustained education destination",0.63249999999999995,0.51671428571428579,0.64962264150943394,0.46,0.56970149253731339,0.54,0.59399999999999997,0.66,0.56000000000000005,0.63,0.52,0.47,0.69,0.46,0.67,0.63,0.57999999999999996,0.51,0.54,0.54,0.45,0.57999999999999996,0.57999999999999996,0.56085769191868107,0.6]
["Sustained employment destination",0.1525,0.24900000000000003,0.19018867924528302,0.24,0.23298507462686571,0.27,0.21,0.13,0.21,0.2,0.28000000000000003,0.21,0.14000000000000001,0.24,0.18,0.17,0.17,0.23,0.27,0.27,0.34,0.2,0.2,0.22348538484879135,0.2]
["Sustained employment and education",{"$f":"SUM(B74+B75)","v":0.78499999999999992},{"$f":"SUM(C74+C75)","v":0.76571428571428579},{"$f":"SUM(D74+D75)","v":0.83981132075471698},{"$f":"SUM(E74+E75)","v":0.7},{"$f":"SUM(F74+F75)","v":0.80268656716417908},{"$f":"SUM(G74+G75)","v":0.81},{"$f":"SUM(H74+H75)","v":0.80399999999999994},{"$f":"SUM(I74+I75)","v":0.79},{"$f":"SUM(J74+J75)","v":0.77},{"$f":"SUM(K74+K75)","v":0.83000000000000007},{"$f":"SUM(L74+L75)","v":0.8},{"$f":"SUM(M74+M75)","v":0.67999999999999994},{"$f":"SUM(N74+N75)","v":0.83},{"$f":"SUM(O74+O75)","v":0.7},{"$f":"SUM(P74+P75)","v":0.85000000000000009},{"$f":"SUM(Q74+Q75)","v":0.8},{"$f":"SUM(R74+R75)","v":0.75},{"$f":"SUM(S74+S75)","v":0.74},{"$f":"SUM(T74+T75)","v":0.81},{"$f":"SUM(U74+U75)","v":0.81},{"$f":"SUM(V74+V75)","v":0.79},{"$f":"SUM(W74:W75)","v":0.78},{"$f":"SUM(X74+X75)","v":0.78},{"$f":"SUM(Y74+Y75)","v":0.78434307676747239},{"$f":"SUM(Z74+Z75)","v":0.8}]
[]
["Source: Department for Education: Percentages of overall pupil destinations after completing Key Stage 4 / Key Stage 5, 2014/16 - 2016/17"]
["Description: Percentage of students in education or employment/training destination after completing Key Stage 5 by destination type"]
["Years: 2014/15 - 2016/17 destinations for the 2013/14 cohort"]
["https://www.gov.uk/government/publications/education-statistics-by-la-district-and-pupil-disadvantage "]
["x = data has been supressed at local authority level and therefore cannot provide TTWA figures"]

{"sheet":"ES12a. FE Outcomes","index":17,"n_rows":41,"n_cols":26,"rows_kept":41,"cut":false,"hidden":false,"merged":[]}
["ES12a. Further Education (FE) Outcomes by Learner Type and Characteristics",null,null,null,"Return to Contents",null,"Return to TTWA Summary",null,null,"Return to LA Summary"]
[null,"Blackburn with Darwen, Hyndburn, Rossendale and Ribble Valley","Blackpool, Fylde and Wyre","Burnley and Pendle","Lancaster and Morecambe ","Preston, Chorley and South Ribble ","West Lancashire ","Preston and South Ribble City Deal","Blackburn with Darwen ","Blackpool","Burnley","Chorley ","Fylde","Hyndburn","Lancaster ","Pendle ","Preston","Ribble Valley","Rossendale ","South Ribble ","West Lancashire ","Wyre ","Lancashire ","North West ","England Minus London","England"]
["2015/16 - Sustained Learning Rate"]
["Under 19",0.49904761904761913,0.34863636363636363,0.36499999999999999,0.4,0.32750000000000001,0.44,0.33390243902439026,0.56999999999999995,0.34,0.36,0.31,0.38,0.37,0.4,0.37,0.31,0.42,0.44,0.45,0.44,0.35,0.36,"--","--",0.35]
["19 - 24",0.29248962655601662,0.27977272727272728,0.30270072992700731,0.33,0.29977578475336325,0.28999999999999998,0.29973262032085563,0.32,0.27,0.28999999999999998,0.3,0.25,0.27,0.33,0.32,0.31,0.25,0.22,0.23,0.28999999999999998,0.33,0.3,"--","--",0.28000000000000003]
["25 - 49",0.22200863930885531,0.21412307692307692,0.22602678571428572,0.27,0.22727493917274944,0.25,0.21835294117647061,0.25,0.23,0.23,0.27,0.17,0.2,0.27,0.22,0.23,0.17,0.15,0.12,0.25,0.14000000000000001,0.22,"--","--",0.22]
["50+",0.1150943396226415,0.10931506849315067,0.11311111111111112,0.14000000000000001,"x",0.12,"x",0.12,0.12,0.13,0.11,0.06,0.12,0.14000000000000001,0.09,0.13,0.14000000000000001,0.06,"x",0.12,7.0000000000000007E-2,0.11,"--","--",0.15]
["Apprenticeship",0.23004273504273504,0.21446153846153845,0.23458715596330273,0.2,0.22308695652173913,0.15,0.22653846153846152,0.24,0.22,0.22,0.21,0.21,0.22,0.2,0.25,0.24,0.26,0.19,0.19,0.15,0.21,0.21,"--","--",0.18]
["Level 4+","x","x","x","x","x","x","x",0.22,0.06,0.14000000000000001,"x","x","x","x","x",0.38,"x","x","x","x","x",0.14000000000000001,"--","--",0.09]
["Full Level 3",0.25513812154696131,0.29512820512820509,0.30052631578947364,0.28999999999999998,0.25541666666666668,0.21,0.25108108108108113,0.32,0.36,0.31,0.27,0.16,0.22,0.28999999999999998,0.28999999999999998,0.27,0.21,0.11,0.17,0.21,0.18,0.24,"--","--",0.26]
["Full Level 2",0.27589285714285711,0.25184466019417473,0.2796078431372549,0.23999999999999996,0.26841085271317827,0.24,0.26172588832487309,0.28999999999999998,0.25,0.26,0.28999999999999998,0.25,0.27,0.24,0.32,0.28000000000000003,0.28999999999999998,0.22,0.19,0.24,0.26,0.26,"--","--",0.22]
["Learning Difficulties/Disability",0.22267045454545453,0.27126126126126127,0.24056338028169016,0.39,0.25214876033057848,0.41,0.24942857142857142,0.22,0.25,0.28000000000000003,0.27,0.24,0.23,0.39,0.2,0.25,0.28000000000000003,0.17,0.24,0.41,0.4,0.28999999999999998,"--","--",0.27]
["All ",0.2492528735632184,0.22908064516129031,0.25,0.28000000000000003,0.24334210526315789,0.25,0.24204049844236761,0.28000000000000003,0.23,0.25,0.27,0.21,0.22,0.28000000000000003,0.25,0.25,0.23,0.17,0.18,0.25,0.24,0.24,"--","--",0.23]
["2015/16 - Sustained Employment Rate"]
["Under 19",0.66492063492063491,0.6404545454545455,0.71500000000000008,0.82,0.72607142857142848,0.64,0.76853658536585356,0.6,0.57999999999999996,0.66,0.61,0.76,0.72,0.82,0.77,0.76,0.81,0.88,0.81,0.64,0.72,0.74,"--","--",0.77]
["19 - 24",0.64170124481327806,0.63363636363636366,0.62189781021897805,0.56999999999999995,0.68928251121076234,0.61,0.67181818181818176,0.63,0.56999999999999995,0.66,0.78,0.87,0.59,0.56999999999999995,0.56999999999999995,0.65,0.84,0.77,0.82,0.61,0.67,0.66,"--","--",0.66]
["25 - 49",0.57963282937365013,0.70172307692307689,0.62602678571428572,0.68,0.67043795620437951,0.64,0.64964705882352947,0.55000000000000004,0.66,0.63,0.77,0.87,0.6,0.68,0.62,0.62,0.74,0.62,0.9,0.64,0.85,0.66,"--","--",0.64]
["50+",0.52254716981132088,0.59575342465753423,0.56888888888888889,0.61,0.60843373493975905,0.55000000000000004,0.58756756756756756,0.47,0.53,0.59,0.78,0.86,0.54,0.61,0.54,0.56000000000000005,0.68,0.67,0.9,0.55000000000000004,0.89,0.6,"--","--",0.6]
["Apprenticeship",0.85461538461538467,0.87384615384615383,0.86486238532110093,0.87,0.89782608695652177,0.86,0.89461538461538459,0.85,0.88,0.86,0.91,0.86,0.86,0.87,0.87,0.9,0.88,0.84,0.88,0.86,0.88,0.88,"--","--",0.88]
["Level 4+","x","x","x","x","x","x","x",0.82,0.93,"x","x",0.89,0.91,"x","x",0.9,"x","x","x","x","x",0.9,"--","--",0.88]
["Full Level 3",0.74784530386740344,0.77448717948717949,0.74526315789473685,0.8,0.80687500000000001,0.78,0.7970270270270271,0.73,0.73,0.75,0.84,0.89,0.75,0.8,0.74,0.78,0.92,0.73,0.87,0.78,0.84,0.79,"--","--",0.76]
["Full Level 2",0.69514285714285717,0.78063106796116499,0.73633986928104567,0.78,0.7690697674418604,0.72,0.75639593908629432,0.72,0.74,0.72,0.81,0.85,0.63,0.78,0.77,0.73,0.81,0.78,0.86,0.72,0.83,0.75,"--","--",0.78]
["Learning Difficulties/Disability",0.38840909090909093,0.4245045045045045,0.35492957746478876,0.39,0.46487603305785125,0.32,0.44428571428571428,0.36,0.4,0.35,0.6,0.88,0.41,0.39,0.36,0.43,0.42,0.46,0.68,0.32,0.45,0.41,"--","--",0.44]
["All ",0.6,0.66835483870967727,0.62344186046511629,0.64,0.70426315789473681,0.62,0.65615264797507789,0.56999999999999995,0.62,0.64,0.76,0.86,0.6,0.64,0.6,0.63,0.78,0.68,0.86,0.62,0.76,0.66,"--","--",0.65]
["2015/16 - Sustained Positive Destination Rate"]
["Under 19",0.85682539682539693,0.77022727272727265,0.78500000000000003,0.87,0.79553571428571423,0.84,0.82682926829268288,0.87,0.72,0.77,0.71,0.85,0.8,0.87,0.8,0.82,0.88,0.93,0.86,0.84,0.85,0.82,"--","--",0.84]
["19 - 24",0.75759336099585062,0.75642045454545448,0.75729927007299269,0.76,0.79475336322869961,0.76,0.78411764705882359,0.77,0.7,0.77,0.85,0.89,0.7,0.76,0.74,0.77,0.85,0.82,0.88,0.76,0.84,0.78,"--","--",0.78]
["25 - 49",0.68861771058315335,0.7623692307692308,0.72205357142857152,0.78,0.7690997566909975,0.76,0.75011764705882344,0.68,0.73,0.73,0.86,0.89,0.69,0.78,0.71,0.73,0.8,0.69,0.92,0.76,0.88,0.75,"--","--",0.74]
["50+",0.58698113207547176,0.63616438356164384,0.61777777777777776,0.67,0.66795180722891567,0.65,0.65189189189189189,0.53,0.57999999999999996,0.66,0.8,0.86,0.61,0.67,0.56000000000000005,0.63,0.81,0.71,0.9,0.65,0.89,0.66,"--","--",0.68]
["Apprenticeship",0.88700854700854714,0.90523076923076928,0.89486238532110096,0.89,0.92000000000000015,0.88,0.92,0.89,0.92,0.89,0.92,0.88,0.88,0.89,0.9,0.92,0.9,0.88,0.92,0.88,0.91,0.9,"--","--",0.9]
["Level 4+","x",0.91214285714285726,0.90666666666666662,0.90999999999999992,0.93466666666666665,0.88000000000000012,0.91818181818181821,0.93,0.96,0.86,0.98,0.89,0.91,0.91,1,0.91,"x","x",1,0.88,0.83,0.91,"--","--",0.89]
["Full Level 3",0.84337016574585622,0.88166666666666671,0.85473684210526324,0.89,0.88270833333333332,0.86,0.8775675675675676,0.86,0.87,0.85,0.9,0.91,0.83,0.89,0.86,0.87,0.93,0.77,0.91,0.86,0.9,0.87,"--","--",0.86]
["Full Level 2",0.79746428571428563,0.83004854368932046,0.8130718954248366,0.85,0.83813953488372095,0.8,0.82827411167512688,0.82,0.8,0.8,0.87,0.87,0.75,0.85,0.84,0.81,0.86,0.85,0.9,0.8,0.88,0.82,"--","--",0.83]
["Learning Difficulties/Disability",0.54136363636363638,0.58639639639639651,0.54056338028169004,0.66,0.61826446280991743,0.66,0.59971428571428576,0.51,0.55000000000000004,0.57999999999999996,0.74,0.88,0.56999999999999995,0.66,0.5,0.59,0.64,0.56000000000000005,0.76,0.66,0.72,0.61,"--","--",0.62]
["All ",0.71,0.75154838709677407,0.72758139534883715,0.77,0.78723684210526312,0.75,0.74933021806853584,0.7,0.71,0.74,0.83,0.88,0.69,0.77,0.71,0.73,0.83,0.74,0.9,0.75,0.86,0.75,"--","--",0.75]
[]
["Source: Department for Education: Further education outcome-based success measures"]
["Description: Percentage of students in education or employment/training destination after completing Key Stage 5 by destination type"]
["Years: 2015/16 destinations for the 2013/14 cohort"]
["https://www.gov.uk/government/statistics/further-education-outcome-based-success-measures-2015-to-2016"]
["x = data has been supressed at local authority level and therefore cannot provide TTWA figures"]

{"sheet":"ES12b. Prepardness of Education","index":18,"n_rows":46,"n_cols":9,"rows_kept":46,"cut":false,"hidden":false,"merged":[]}
["ES12b. Preparedness of Education Leavers for Work","Return to Contents",null,"Return to TTWA Summary",null,null,null,null,"Return to LA Summary"]
[null,"North West ","England Minus London","England"]
["Preparedness for work of 16 year old school leavers"]
["Very well prepared",0.11,"..",0.08]
["Well prepared",0.41,"..",0.44]
["Poorly prepared",0.28999999999999998,"..",0.32]
["Very poorly prepared",0.13,"..",0.12]
["Don't know",0.02,"..",0.01]
["Varies too much to say",0.04,"..",0.03]
["Very Well / Well Prepared",0.52,"..",0.52]
["Poorly / Very Poorly Prepared",0.42,"..",0.44]
[]
["Preparedness for work of 17-18 year olds recruited to first job from school"]
["Very well prepared",0.05,"..",7.0000000000000007E-2]
["Well prepared",0.54,"..",0.51]
["Poorly prepared",0.28000000000000003,"..",0.28999999999999998]
["Very poorly prepared",0.09,"..",0.08]
["Don't know",0.01,"..",0.02]
["Varies too much to say",0.03,"..",0.03]
["Very Well / Well Prepared",0.59,"..",0.57999999999999996]
["Poorly / Very Poorly Prepared",0.36,"..",0.37]
[]
["Preparedness for work of 17-18 year olds recruited to first job from FE college"]
["Very well prepared",0.12,"..",0.1]
["Well prepared",0.6,"..",0.57999999999999996]
["Poorly prepared",0.2,"..",0.23]
["Very poorly prepared",0.04,"..",0.05]
["Don't know",0.03,"..",0.02]
["Varies too much to say",0.02,"..",0.03]
["Very well / Well prepared",0.71,"..",0.68]
["Poorly / Very poorly prepared",0.24,"..",0.27]
[]
["Preparedness for work of university or higher education leavers recruited to first job from University"]
["Very well prepared",0.22,"..",0.19]
["Well prepared",0.56000000000000005,"..",0.6]
["Poorly prepared",0.16,"..",0.13]
["Very poorly prepared",0.02,"..",0.02]
["Don't know",0.01,"..",0.02]
["Varies too much to say",0.03,"..",0.03]
["Very well / Well prepared",0.78,"..",0.8]
["Poorly / Very poorly prepared",0.18,"..",0.16]
[]
["Source: Employer Perspectives Survey 2016"]
["Description: Percentage of employers prepared for work; first job from school; first job from Further Education college; or from University"]
["Years: 2016"]
["https://www.gov.uk/government/publications/employer-perspectives-survey-2016"]

{"sheet":"ES13. Schools by Ofsted Rating","index":19,"n_rows":18,"n_cols":26,"rows_kept":18,"cut":false,"hidden":false,"merged":[]}
["ES13. % of Pupils by School Effectiveness Rating",null,null,"Return to Contents",null,"Return to TTWA Summary",null,null,"Return to LA Summary"]
[null,"Blackburn with Darwen, Hyndburn, Rossendale and Ribble Valley","Blackpool, Fylde and Wyre","Burnley and Pendle","Lancaster and Morecambe ","Preston, Chorley and South Ribble ","West Lancashire ","Preston and South Ribble City Deal","Blackburn with Darwen ","Blackpool","Burnley","Chorley ","Fylde","Hyndburn","Lancaster ","Pendle ","Preston","Ribble Valley","Rossendale ","South Ribble ","West Lancashire ","Wyre ","Lancashire ","North West ","England Minus London","England"]
["Primary Schools (2017)"]
["% pupils in primary schools rated as outstanding",0.21528385597440619,0.17687312034171643,8.003213645633768E-2,0.19543195718654435,0.21040701356711891,0.30878347707671355,0.1972423234891453,0.13185696871190572,3.7517764092846989E-2,8.5322121924075678E-2,0.23860898711637163,0.35950994175537254,0.19072235070058496,0.19543195718654435,7.4746725969854211E-2,0.23088594790525163,0.26002909997921431,0.40821917808219177,0.15077424612876936,0.30878347707671355,0.25266567687947089,0.19389132080439719,0.21851566974334385,0.18191135160246191,0.19625929675192216]
["% pupils in primary schools rated as good",0.69474541997404404,0.71908643159133501,0.90476484766083676,0.78621941896024461,0.75249174972499089,0.6411711302768951,0.74833757089771169,0.75084653934714884,0.80028422548555189,0.91467787807592438,0.76139101288362832,0.64049005824462746,0.71826962318051968,0.78621941896024461,0.89486039041265131,0.6945966450307679,0.72188734150904177,0.51232876712328768,0.82256374432413548,0.6411711302768951,0.65622891078418144,0.74554849751505781,0.71924155245668009,0.71827307431811827,0.70973516951888771]
["% pupils in primary schools rated as requires improvement",8.6047143331421841E-2,0.10404044806694852,1.1989370249057536E-2,1.834862385321101E-2,3.7101236707890263E-2,5.0045392646391282E-2,5.442010561314297E-2,0.11729649194094542,0.16219801042160115,0,0,0,9.1008026118895385E-2,1.834862385321101E-2,2.3968371633308623E-2,7.451740706398044E-2,1.8083558511743921E-2,5.8501208702659145E-2,2.6662009547095123E-2,5.0045392646391282E-2,9.1105412336347683E-2,5.906263370964026E-2,5.4511127981779678E-2,8.7651727031770058E-2,8.2849548831766984E-2]
["% pupils in primary schools rated as inadequate",3.9235807201279688E-3,0,3.2136456337679997E-3,0,0,0,0,0,0,0,0,0,0,0,6.424511984185817E-3,0,0,2.0950846091861403E-2,0,0,0,1.4975479709047822E-3,7.7316498181963476E-3,1.2163847047649784E-2,1.1155984897423126E-2]
[]
["Secondary Schools (2017)"]
["% pupils in secondary schools rated as outstanding",0.2054402996107032,7.5087671044488755E-2,0,0.41966955153422503,0.41831220645421946,0,0.47909795198281813,0.16004556457354407,0,0,0.30115316380839741,0,0,0.41966955153422503,0,0.51244207997254165,0.49340192350704543,0.19680975838611306,0.45214979195561722,0,0.18915641780703274,0.21465836864406779,0.23013735709807237,0.22940154121017797,0.2539478287504936]
["% pupils in secondary schools rated as good",0.64569063223771739,0.50801072681014925,0.85690423162583518,0.27411487018095987,0.4614918438462704,0.88680605623648157,0.33834471120656595,0.73601025202904746,0.190288478767246,0.77201006174251086,0.69884683619160259,1,0.73324514991181655,0.27411487018095987,0.93748643368786633,0.2548481208168869,0.33683739655558043,0.72765657987332866,0.40582524271844661,0.88680605623648157,0.54339165078815177,0.58244173728813564,0.50142660247646031,0.57007051871968339,0.56227824666403403]
["% pupils in secondary schools rated as requires improvement",0.11008722219484551,0.36677439317884891,0.14309576837416482,0.19181746656176238,0.12019594969951013,0.11319394376351838,0.18255733681061595,0.10394418339740852,0.67908976885862748,0.22798993825748914,0,0,0.16424162257495592,0.19181746656176238,6.2513566312133714E-2,0.23270979921057147,0.16976067993737418,0,0.1420249653259362,0.11319394376351838,0.26745193140481555,0.17319915254237289,0.2233592690492171,0.15518715263320276,0.14299683633158608]
["% pupils in secondary schools rated as inadequate",3.8781845956733847E-2,5.0127208966513098E-2,0,0.11439811172305271,0,0,0,0,0.13062175237412649,0,0,0,0.10251322751322751,0.11439811172305271,0,0,0,7.5533661740558297E-2,0,0,0,2.9700741525423728E-2,4.5076771376250178E-2,4.5340787436935828E-2,4.0777088253886269E-2]
[]
["Source: Ofsted"]
["Description: Percentage of pupils attending a primary school and secondary school by Ofsted overall effectiveness rating"]
["Year: 2017"]
["https://www.gov.uk/government/publications/education-statistics-by-la-district-and-pupil-disadvantage "]

{"sheet":"ES14. NEETs","index":20,"n_rows":15,"n_cols":9,"rows_kept":15,"cut":false,"hidden":false,"merged":[]}
["ES14. NEETs",null,"Return to Contents",null,"Return to TTWA Summary",null,null,null,"Return to LA Summary"]
[null,"Blackburn with Darwen ","Blackpool","Lancashire (county)","Lancashire (LEP)","North West ","England Minus London","England"]
["2015/16"]
["Number",240,300,2250,{"$f":"D4+C4+B4","v":2790},10580,"..",69540]
["Percentage",6.0565723793677195E-2,8.7681654150004881E-2,8.6328085062876994E-2,{"$f":"E4/(B4/B5+C4/C5+D4/D5)","v":8.3414390458855819E-2},6.6349601718503168E-2,"..",6.0192490176849876E-2]
[]
["2018/19"]
["Number",180,200,2540,2920,9670,53660,61830]
["Percentage",4.4999999999999998E-2,6.2E-2,0.1,9.0095649490897878E-2,6.3E-2,5.7000000000000002E-2,5.5E-2]
[]
["Source: Lancashire County Council, Young people not in education, employment or training report; Department for Education Transparency Numbers"]
["Description: Number and percentage of young people aged 16-18 who are Not in Education, Employment or Training (NEET)"]
["Year: 2015/16; 2018/19"]
["https://www.gov.uk/government/publications/neet-data-by-local-authority-2012-16-to-18-year-olds-not-in-education-employment-or-training"]
["https://www.gov.uk/government/publications/neet-and-participation-local-authority-figures"]

{"sheet":"ES15. Learn. App Starts by Age","index":21,"n_rows":44,"n_cols":26,"rows_kept":44,"cut":false,"hidden":false,"merged":[]}
["ES15. Learner Perspective Apprenticeship Starts by Age",null,null,null,"Return to Contents",null,"Return to TTWA Summary",null,"Return to LA Summary"]
[null,"Blackburn with Darwen, Hyndburn, Rossendale and Ribble Valley","Blackpool, Fylde and Wyre","Burnley and Pendle","Lancaster and Morecambe ","Preston, Chorley and South Ribble ","West Lancashire ","Preston and South Ribble City Deal","Blackburn with Darwen ","Blackpool","Burnley","Chorley ","Fylde","Hyndburn","Lancaster ","Pendle ","Preston","Ribble Valley","Rossendale ","South Ribble ","West Lancashire ","Wyre ","Lancashire ","North West ","England Minus London","England"]
["Number (2016/17)"]
["Under 19",1320,900,510,350,1150,300,800,510,400,260,350,190,380,350,250,360,220,210,440,300,310,4530,19500,113250,122800]
["19-24",1310,1020,640,400,1150,330,790,500,490,390,360,210,350,400,250,480,200,260,310,330,320,4850,22040,130040,142200]
["25+",2040,2030,1230,620,1960,590,1380,840,1070,690,580,410,530,620,540,800,250,420,580,590,550,8470,38180,207230,229900]
["Total",4680,3950,2380,1360,4260,1220,2970,1850,1960,1340,1290,800,1270,1360,1040,1640,670,890,1330,1220,1190,17850,79720,450520,494900]
[]
["Percentage (2016/17)"]
["Under 19",{"$f":"B4/B$7","v":0.28205128205128205},{"$f":"C4/C$7","v":0.22784810126582278},0.21428571428571427,0.25735294117647056,0.2699530516431925,0.24590163934426229,0.26936026936026936,0.27567567567567569,0.20408163265306123,0.19402985074626866,0.27131782945736432,0.23749999999999999,0.29921259842519687,0.25735294117647056,0.24038461538461539,0.21951219512195122,0.32835820895522388,0.23595505617977527,0.33082706766917291,0.24590163934426229,0.26050420168067229,0.253781512605042,0.24460612142498744,0.25137618751664742,0.24813093554253385]
["19-24",{"$f":"B5/B$7","v":0.27991452991452992},0.25822784810126581,0.26890756302521007,0.29411764705882354,0.2699530516431925,0.27049180327868855,0.265993265993266,0.27027027027027029,0.25,0.29104477611940299,0.27906976744186046,0.26250000000000001,0.27559055118110237,0.29411764705882354,0.24038461538461539,0.29268292682926828,0.29850746268656714,0.29213483146067415,0.23308270676691728,0.27049180327868855,0.26890756302521007,0.27170868347338933,0.2764676367285499,0.28864423333037381,0.28733077389371592]
["25+",{"$f":"B6/B$7","v":0.4358974358974359},0.51392405063291136,0.51680672268907568,0.45588235294117646,0.460093896713615,0.48360655737704916,0.46464646464646464,0.45405405405405408,0.54591836734693877,0.5149253731343284,0.44961240310077522,0.51249999999999996,0.41732283464566927,0.45588235294117646,0.51923076923076927,0.48780487804878048,0.37313432835820898,0.47191011235955055,0.43609022556390975,0.48360655737704916,0.46218487394957986,0.47450980392156861,0.4789262418464626,0.45997957915297877,0.46453829056375023]
[]
[]
["Number (2017/18)"]
["Under 19",1210,730,480,300,900,250,620,480,320,240,280,160,290,300,240,290,220,220,330,250,250,3870,16800,99170,106570]
["19-24",810,720,380,270,870,200,580,310,340,220,290,160,210,270,160,320,130,160,260,200,220,3250,16230,102080,113710]
["25+",1080,1210,570,430,1260,370,890,440,660,310,370,250,270,430,260,510,120,250,380,370,300,4920,25090,137670,155480]
["Total",3110,2660,1420,1000,3020,830,2080,1240,1320,770,940,570,770,1000,650,1110,470,630,970,830,770,12040,58120,338930,375760]
[]
["Percentage (2017/18)"]
["Under 19",{"$f":"B16/B$19","v":0.38906752411575563},{"$f":"C16/C$19","v":0.27443609022556392},0.3380281690140845,0.3,0.29801324503311261,0.30120481927710846,0.29807692307692307,0.38709677419354838,0.24242424242424243,0.31168831168831168,0.2978723404255319,0.2807017543859649,0.37662337662337664,0.3,0.36923076923076925,0.26126126126126126,0.46808510638297873,0.34920634920634919,0.34020618556701032,0.30120481927710846,0.32467532467532467,0.32142857142857145,0.289057123193393,0.29259729147611602,0.28361187992335535]
["19-24",{"$f":"B17/B$19","v":0.26045016077170419},0.27067669172932329,0.26760563380281688,0.27,0.28807947019867547,0.24096385542168675,0.27884615384615385,0.25,0.25757575757575757,0.2857142857142857,0.30851063829787234,0.2807017543859649,0.27272727272727271,0.27,0.24615384615384617,0.28828828828828829,0.27659574468085107,0.25396825396825395,0.26804123711340205,0.24096385542168675,0.2857142857142857,0.26993355481727577,0.27924982794218856,0.30118313516065265,0.30261337023632107]
["25+",0.34726688102893893,0.45488721804511278,0.40140845070422537,0.43,0.41721854304635764,0.44578313253012047,0.42788461538461536,0.35483870967741937,0.5,0.40259740259740262,0.39361702127659576,0.43859649122807015,0.35064935064935066,0.43,0.4,0.45945945945945948,0.25531914893617019,0.3968253968253968,0.39175257731958762,0.44578313253012047,0.38961038961038963,0.40863787375415284,0.43169304886441845,0.40619006874575869,0.41377474984032359]
[]
[]
["Number (2018/19)"]
["Under 19",1200,690,470,290,860,220,590,500,320,280,270,150,300,290,190,270,200,200,320,220,220,3730,14700,91220,97700]
["19-24",920,730,430,320,970,200,680,380,330,240,290,170,230,320,190,390,130,180,290,200,230,3570,15890,103680,116000]
["25+",1230,1310,660,510,1660,420,1200,490,640,360,460,290,300,510,300,660,170,270,540,420,380,5790,26860,158430,179670]
["Total",3350,2730,1560,1120,3490,840,2470,1370,1290,880,1020,610,830,1120,680,1320,500,650,1150,840,830,13090,57450,353330,393370]
[]
["Percentage (2018/19)"]
["Under 19",{"$f":"B28/B$31","v":0.35820895522388058},{"$f":"C28/C$31","v":0.25274725274725274},0.30128205128205127,0.25892857142857145,0.24641833810888253,0.26190476190476192,0.23886639676113361,0.36496350364963503,0.24806201550387597,0.31818181818181818,0.26470588235294118,0.24590163934426229,0.36144578313253012,0.25892857142857145,0.27941176470588236,0.20454545454545456,0.4,0.30769230769230771,0.27826086956521739,0.26190476190476192,0.26506024096385544,0.28495034377387318,0.25587467362924282,0.25817224690798968,0.24836667768258891]
["19-24",{"$f":"B29/B$31","v":0.2746268656716418},{"$f":"C29/C$31","v":0.26739926739926739},0.27564102564102566,0.2857142857142857,0.27793696275071633,0.23809523809523808,0.27530364372469635,0.27737226277372262,0.2558139534883721,0.27272727272727271,0.28431372549019607,0.27868852459016391,0.27710843373493976,0.2857142857142857,0.27941176470588236,0.29545454545454547,0.26,0.27692307692307694,0.25217391304347825,0.23809523809523808,0.27710843373493976,0.27272727272727271,0.27658833768494345,0.2934367305351937,0.29488776469990086]
["25+",{"$f":"B30/B$31","v":0.36716417910447763},{"$f":"C30/C$31","v":0.47985347985347987},0.42307692307692307,0.45535714285714285,0.47564469914040114,0.5,0.48582995951417002,0.35766423357664234,0.49612403100775193,0.40909090909090912,0.45098039215686275,0.47540983606557374,0.36144578313253012,0.45535714285714285,0.44117647058823528,0.5,0.34,0.41538461538461541,0.46956521739130436,0.5,0.45783132530120479,0.44232238349885411,0.46753698868581373,0.44839102255681657,0.45674555761751023]
[]
["Source: Department for Education: Apprenticeships geography and sector subject area PivotTable tool: starts and achievements 2018 to 2019;"]
["Department for Education: Apprenticeships geography, sector subject area, and level PivotTable tool: starts and achievements 2013/14 to Q3 2018/19"]
["Description: Number and percentage of apprenticeship starts by age group based on the postcode of the learner"]
["Year: 2016/17; 2017/18, 2018/19"]
["https://www.gov.uk/government/statistical-data-sets/fe-data-library-apprenticeships "]
["https://assets.publishing.service.gov.uk/government/uploads/system/uploads/attachment_data/file/814999/Apprenticeship-starts-ach-demographic-LAD_201718_Q3-201819_July2019.xlsx"]
["Totals across each measure of apprenticeships will differ due to figures being aggregated from local authority level and rounding."]

{"sheet":"ES16a. Learn App Starts Subject","index":22,"n_rows":92,"n_cols":26,"rows_kept":92,"cut":false,"hidden":false,"merged":[]}
["ES16a. Learner Perspective Apprenticeship Starts by Subject Area",null,null,null,"Return to Contents",null,"Return to TTWA Summary",null,null,"Return to LA Summary"]
[null,"Blackburn with Darwen, Hyndburn, Rossendale and Ribble Valley","Blackpool, Fylde and Wyre","Burnley and Pendle","Lancaster and Morecambe ","Preston, Chorley and South Ribble ","West Lancashire ","Preston and South Ribble City Deal","Blackburn with Darwen ","Blackpool","Burnley","Chorley ","Fylde","Hyndburn","Lancaster ","Pendle ","Preston","Ribble Valley","Rossendale ","South Ribble ","West Lancashire ","Wyre ","Lancashire ","North West ","England Minus London","England"]
["Number (2016/17)"]
["Agriculture, Horticulture and Animal Care",50,20,30,30,50,20,20,20,10,10,30,0,10,30,20,10,10,10,10,20,10,200,1000,6870,7390]
["Arts, Media and Publishing",0,0,0,0,0,0,0,0,0,0,0,0,0,0,0,0,0,0,0,0,0,0,100,700,870]
["Business, Administration and Law",1350,1190,580,320,1410,450,1000,570,560,320,410,250,380,320,260,540,170,230,460,450,380,5300,24970,124240,138480]
["Construction, Planning and the Built Environment",220,180,130,70,210,30,150,40,80,90,60,30,90,70,40,80,50,40,70,30,70,840,3420,19910,21210]
["Education and Training",140,40,40,20,90,30,50,60,20,20,40,10,30,20,20,30,20,30,20,30,10,360,1710,7810,8920]
["Engineering and Manufacturing Technologies",710,430,390,210,570,150,400,230,170,210,170,60,210,210,180,200,110,160,200,150,200,2460,10950,70280,74870]
["Health, Public Services and Care",1250,1440,760,430,1190,280,840,510,830,420,350,290,330,430,340,520,140,270,320,280,320,5350,21830,126000,138850]
["Information and Communication Technology",160,50,40,50,100,20,70,90,20,20,30,10,40,50,20,40,10,20,30,20,20,420,1900,13440,15470]
["Leisure, Travel and Tourism",230,110,50,30,120,50,80,130,50,30,40,30,40,30,20,40,30,30,40,50,30,590,2070,12250,13790]
["Retail and Commercial Enterprise",550,480,370,210,500,200,340,180,220,220,160,120,150,210,150,180,130,90,160,200,140,2310,11710,68730,74740]
["Science and Mathematics",0,0,0,0,0,0,0,0,0,0,0,0,0,0,0,0,0,0,0,0,0,0,70,270,290]
["Total",4680,3950,2380,1360,4260,1220,2970,1850,1960,1340,1290,800,1270,1360,1040,1640,670,890,1330,1220,1190,17850,79720,450520,494900]
[]
["Percentage (2016/17)"]
["Agriculture, Horticulture and Animal Care",{"$f":"B4/B$15","v":1.0683760683760684E-2},{"$f":"C4/C$15","v":5.0632911392405064E-3},1.2605042016806723E-2,2.2058823529411766E-2,1.1737089201877934E-2,1.6393442622950821E-2,6.7340067340067337E-3,1.0810810810810811E-2,5.1020408163265302E-3,7.462686567164179E-3,2.3255813953488372E-2,0,7.874015748031496E-3,2.2058823529411766E-2,1.9230769230769232E-2,6.0975609756097563E-3,1.4925373134328358E-2,1.1235955056179775E-2,7.5187969924812026E-3,1.6393442622950821E-2,8.4033613445378148E-3,1.1204481792717087E-2,1.2543903662819869E-2,1.5249045547367486E-2,1.493230955748636E-2]
["Arts, Media and Publishing",{"$f":"B5/B$15","v":0},0,0,0,0,0,0,0,0,0,0,0,0,0,0,0,0,0,0,0,0,0,1.2543903662819869E-3,1.5537600994406464E-3,1.7579308951303294E-3]
["Business, Administration and Law",0.28846153846153844,0.30126582278481012,0.24369747899159663,0.23529411764705882,0.33098591549295775,0.36885245901639346,0.33670033670033672,0.30810810810810813,0.2857142857142857,0.23880597014925373,0.31782945736434109,0.3125,0.29921259842519687,0.23529411764705882,0.25,0.32926829268292684,0.2537313432835821,0.25842696629213485,0.34586466165413532,0.36885245901639346,0.31932773109243695,0.2969187675070028,0.31322127446061215,0.27577022107786558,0.2798141038593655]
["Construction, Planning and the Built Environment",4.7008547008547008E-2,4.5569620253164557E-2,5.4621848739495799E-2,5.1470588235294115E-2,4.9295774647887321E-2,2.4590163934426229E-2,5.0505050505050504E-2,2.1621621621621623E-2,4.0816326530612242E-2,6.7164179104477612E-2,4.6511627906976744E-2,3.7499999999999999E-2,7.0866141732283464E-2,5.1470588235294115E-2,3.8461538461538464E-2,4.878048780487805E-2,7.4626865671641784E-2,4.49438202247191E-2,5.2631578947368418E-2,2.4590163934426229E-2,5.8823529411764705E-2,4.7058823529411764E-2,4.2900150526843955E-2,4.4193376542661811E-2,4.2857142857142858E-2]
["Education and Training",2.9914529914529916E-2,1.0126582278481013E-2,1.680672268907563E-2,1.4705882352941176E-2,2.1126760563380281E-2,2.4590163934426229E-2,1.6835016835016835E-2,3.2432432432432434E-2,1.020408163265306E-2,1.4925373134328358E-2,3.1007751937984496E-2,1.2500000000000001E-2,2.3622047244094488E-2,1.4705882352941176E-2,1.9230769230769232E-2,1.8292682926829267E-2,2.9850746268656716E-2,3.3707865168539325E-2,1.5037593984962405E-2,2.4590163934426229E-2,8.4033613445378148E-3,2.0168067226890758E-2,2.1450075263421978E-2,1.7335523395187784E-2,1.8023843200646594E-2]
["Engineering and Manufacturing Technologies",0.1517094017094017,0.10886075949367088,0.1638655462184874,0.15441176470588236,0.13380281690140844,0.12295081967213115,0.13468013468013468,0.12432432432432433,8.673469387755102E-2,0.15671641791044777,0.13178294573643412,7.4999999999999997E-2,0.16535433070866143,0.15441176470588236,0.17307692307692307,0.12195121951219512,0.16417910447761194,0.1797752808988764,0.15037593984962405,0.12295081967213115,0.16806722689075632,0.13781512605042018,0.13735574510787757,0.1559975139838409,0.15128308749242272]
["Health, Public Services and Care",0.26709401709401709,0.36455696202531646,0.31932773109243695,0.31617647058823528,0.27934272300469482,0.22950819672131148,0.28282828282828282,0.27567567567567569,0.42346938775510207,0.31343283582089554,0.27131782945736432,0.36249999999999999,0.25984251968503935,0.31617647058823528,0.32692307692307693,0.31707317073170732,0.20895522388059701,0.30337078651685395,0.24060150375939848,0.22950819672131148,0.26890756302521007,0.29971988795518206,0.27383341695935776,0.27967681789931637,0.28056172964235199]
["Information and Communication Technology",3.4188034188034191E-2,1.2658227848101266E-2,1.680672268907563E-2,3.6764705882352942E-2,2.3474178403755867E-2,1.6393442622950821E-2,2.3569023569023569E-2,4.8648648648648651E-2,1.020408163265306E-2,1.4925373134328358E-2,2.3255813953488372E-2,1.2500000000000001E-2,3.1496062992125984E-2,3.6764705882352942E-2,1.9230769230769232E-2,2.4390243902439025E-2,1.4925373134328358E-2,2.247191011235955E-2,2.2556390977443608E-2,1.6393442622950821E-2,1.680672268907563E-2,2.3529411764705882E-2,2.3833416959357753E-2,2.983219390926041E-2,3.125884016973126E-2]
["Leisure, Travel and Tourism",4.9145299145299144E-2,2.7848101265822784E-2,2.100840336134454E-2,2.2058823529411766E-2,2.8169014084507043E-2,4.0983606557377046E-2,2.6936026936026935E-2,7.0270270270270274E-2,2.5510204081632654E-2,2.2388059701492536E-2,3.1007751937984496E-2,3.7499999999999999E-2,3.1496062992125984E-2,2.2058823529411766E-2,1.9230769230769232E-2,2.4390243902439025E-2,4.4776119402985072E-2,3.3707865168539325E-2,3.007518796992481E-2,4.0983606557377046E-2,2.5210084033613446E-2,3.3053221288515407E-2,2.5965880582037131E-2,2.7190801740211313E-2,2.7864214992927863E-2]
["Retail and Commercial Enterprise",0.11752136752136752,0.12151898734177215,0.15546218487394958,0.15441176470588236,0.11737089201877934,0.16393442622950818,0.11447811447811448,9.7297297297297303E-2,0.11224489795918367,0.16417910447761194,0.12403100775193798,0.15,0.11811023622047244,0.15441176470588236,0.14423076923076922,0.10975609756097561,0.19402985074626866,0.10112359550561797,0.12030075187969924,0.16393442622950818,0.11764705882352941,0.12941176470588237,0.14688911189162068,0.15255704519222232,0.15102040816326531]
["Science and Mathematics",0,0,0,0,0,0,0,0,0,0,0,0,0,0,0,0,0,0,0,0,0,0,8.7807325639739089E-4,5.9930746692710645E-4,5.8597696504344315E-4]
[]
["Number (2017/18)"]
["Agriculture, Horticulture and Animal Care",50,40,30,10,50,20,30,10,20,10,20,10,10,10,20,0,20,10,30,20,10,200,790,6070,6640]
["Arts, Media and Publishing",10,0,0,0,10,0,10,10,0,0,0,0,0,0,0,10,0,0,0,0,0,20,120,700,950]
["Business, Administration and Law",860,760,420,240,940,280,640,360,350,210,300,180,220,240,210,310,130,150,330,280,230,3500,18340,98080,111100]
["Construction, Planning and the Built Environment",190,150,80,90,200,50,140,50,60,50,60,40,60,90,30,80,40,40,60,50,50,760,3680,21170,22660]
["Education and Training",60,30,30,20,40,20,30,20,10,20,10,10,10,20,10,20,10,20,10,20,10,200,1110,5010,5610]
["Engineering and Manufacturing Technologies",550,340,260,190,500,110,340,180,150,140,160,60,150,190,120,180,110,110,160,110,130,1950,8560,57880,61400]
["Health, Public Services and Care",730,890,340,260,780,180,560,320,520,210,220,170,180,260,130,340,70,160,220,180,200,3180,14600,79770,88320]
["Information and Communication Technology",120,80,40,40,90,30,60,50,30,20,30,20,30,40,20,40,20,20,20,30,30,400,2280,15870,18480]
["Leisure, Travel and Tourism",210,60,50,20,50,20,30,160,20,30,20,20,20,20,20,10,10,20,20,20,20,410,1330,7790,8750]
["Retail and Commercial Enterprise",320,350,180,130,370,120,250,90,170,80,120,90,80,130,100,130,50,100,120,120,90,1470,7280,46390,51650]
["Science and Mathematics",0,0,0,0,0,0,0,0,0,0,0,0,0,0,0,0,0,0,0,0,0,0,50,180,190]
["Total",3110,2660,1420,1000,3020,830,2080,1240,1320,770,940,570,770,1000,650,1110,470,630,970,830,770,12040,58120,338930,375760]
[]
["Percentage (2017/18)"]
["Agriculture, Horticulture and Animal Care",{"$f":"B31/B$42","v":1.607717041800643E-2},1.5037593984962405E-2,2.1126760563380281E-2,0.01,1.6556291390728478E-2,{"$f":"G31/G$42","v":2.4096385542168676E-2},{"$f":"H31/H$42","v":1.4423076923076924E-2},8.0645161290322578E-3,1.5151515151515152E-2,1.2987012987012988E-2,2.1276595744680851E-2,1.7543859649122806E-2,1.2987012987012988E-2,0.01,3.0769230769230771E-2,0,4.2553191489361701E-2,1.5873015873015872E-2,3.0927835051546393E-2,2.4096385542168676E-2,1.2987012987012988E-2,1.6611295681063124E-2,1.3592567102546456E-2,1.7909302805889121E-2,1.7670853736427506E-2]
["Arts, Media and Publishing",3.2154340836012861E-3,0,0,0,3.3112582781456954E-3,{"$f":"G32/G$42","v":0},4.807692307692308E-3,8.0645161290322578E-3,0,0,0,0,0,0,0,9.0090090090090089E-3,0,0,0,0,0,1.6611295681063123E-3,2.0646937370956643E-3,2.0653232230844129E-3,2.5282094954226101E-3]
["Business, Administration and Law",0.27652733118971062,0.2857142857142857,0.29577464788732394,0.24,0.31125827814569534,0.33734939759036142,0.30769230769230771,0.29032258064516131,0.26515151515151514,0.27272727272727271,0.31914893617021278,0.31578947368421051,0.2857142857142857,0.24,0.32307692307692309,0.27927927927927926,0.27659574468085107,0.23809523809523808,0.34020618556701032,0.33734939759036142,0.29870129870129869,0.29069767441860467,0.31555402615278733,0.28938128817159886,0.29566744730679156]
["Construction, Planning and the Built Environment",6.1093247588424437E-2,5.6390977443609019E-2,5.6338028169014086E-2,0.09,6.6225165562913912E-2,6.0240963855421686E-2,6.7307692307692304E-2,4.0322580645161289E-2,4.5454545454545456E-2,6.4935064935064929E-2,6.3829787234042548E-2,7.0175438596491224E-2,7.792207792207792E-2,0.09,4.6153846153846156E-2,7.2072072072072071E-2,8.5106382978723402E-2,6.3492063492063489E-2,6.1855670103092786E-2,6.0240963855421686E-2,6.4935064935064929E-2,6.3122923588039864E-2,6.3317274604267032E-2,6.2461275189567164E-2,6.0304449648711941E-2]
["Education and Training",1.9292604501607719E-2,1.1278195488721804E-2,2.1126760563380281E-2,0.02,1.3245033112582781E-2,2.4096385542168676E-2,1.4423076923076924E-2,1.6129032258064516E-2,7.575757575757576E-3,2.5974025974025976E-2,1.0638297872340425E-2,1.7543859649122806E-2,1.2987012987012988E-2,0.02,1.5384615384615385E-2,1.8018018018018018E-2,2.1276595744680851E-2,3.1746031746031744E-2,1.0309278350515464E-2,2.4096385542168676E-2,1.2987012987012988E-2,1.6611295681063124E-2,1.9098417068134893E-2,1.4781813353789868E-2,1.4929742388758781E-2]
["Engineering and Manufacturing Technologies",0.17684887459807075,0.12781954887218044,0.18309859154929578,0.19,0.16556291390728478,0.13253012048192772,0.16346153846153846,0.14516129032258066,0.11363636363636363,0.18181818181818182,0.1702127659574468,0.10526315789473684,0.19480519480519481,0.19,0.18461538461538463,0.16216216216216217,0.23404255319148937,0.17460317460317459,0.16494845360824742,0.13253012048192772,0.16883116883116883,0.16196013289036545,0.14728148657949072,0.1707727259316083,0.16340217159889292]
["Health, Public Services and Care",0.2347266881028939,0.33458646616541354,0.23943661971830985,0.26,0.25827814569536423,0.21686746987951808,0.26923076923076922,0.25806451612903225,0.39393939393939392,0.27272727272727271,0.23404255319148937,0.2982456140350877,0.23376623376623376,0.26,0.2,0.30630630630630629,0.14893617021276595,0.25396825396825395,0.22680412371134021,0.21686746987951808,0.25974025974025972,0.26411960132890366,0.25120440467997246,0.23535833357920516,0.23504364487971047]
["Information and Communication Technology",3.8585209003215437E-2,3.007518796992481E-2,2.8169014084507043E-2,0.04,2.9801324503311258E-2,3.614457831325301E-2,2.8846153846153848E-2,4.0322580645161289E-2,2.2727272727272728E-2,2.5974025974025976E-2,3.1914893617021274E-2,3.5087719298245612E-2,3.896103896103896E-2,0.04,3.0769230769230771E-2,3.6036036036036036E-2,4.2553191489361701E-2,3.1746031746031744E-2,2.0618556701030927E-2,3.614457831325301E-2,3.896103896103896E-2,3.3222591362126248E-2,3.922918100481762E-2,4.6823827929070902E-2,4.9180327868852458E-2]
["Leisure, Travel and Tourism",6.7524115755627015E-2,2.2556390977443608E-2,3.5211267605633804E-2,0.02,1.6556291390728478E-2,2.4096385542168676E-2,1.4423076923076924E-2,0.12903225806451613,1.5151515151515152E-2,3.896103896103896E-2,2.1276595744680851E-2,3.5087719298245612E-2,2.5974025974025976E-2,0.02,3.0769230769230771E-2,9.0090090090090089E-3,2.1276595744680851E-2,3.1746031746031744E-2,2.0618556701030927E-2,2.4096385542168676E-2,2.5974025974025976E-2,3.4053156146179403E-2,2.2883688919476945E-2,2.2984097011182252E-2,2.3286140089418778E-2]
["Retail and Commercial Enterprise",0.10289389067524116,0.13157894736842105,0.12676056338028169,0.13,0.12251655629139073,0.14457831325301204,0.1201923076923077,7.2580645161290328E-2,0.12878787878787878,0.1038961038961039,0.1276595744680851,0.15789473684210525,0.1038961038961039,0.13,0.15384615384615385,0.11711711711711711,0.10638297872340426,0.15873015873015872,0.12371134020618557,0.14457831325301204,0.11688311688311688,0.12209302325581395,0.12525808671713695,0.1368719204555513,0.1374547583563977]
["Science and Mathematics",0,0,0,0,0,0,0,0,0,0,0,0,0,0,0,0,0,0,0,0,0,0,8.6028905712319341E-4,5.3108311450742038E-4,5.0564189908452203E-4]
[]
[]
[]
["Number (2018/19)"]
["Agriculture, Horticulture and Animal Care",40,30,20,30,30,20,10,10,0,10,20,10,10,30,10,0,10,10,10,20,20,170,820,6150,6650]
["Arts, Media and Publishing",50,0,0,0,0,0,0,40,0,0,0,0,10,0,0,0,0,0,0,0,0,50,110,730,1000]
["Business, Administration and Law",920,800,420,310,1200,270,850,400,370,230,350,180,220,310,190,440,130,170,410,270,250,3920,17920,104200,118650]
["Construction, Planning and the Built Environment",210,200,100,90,200,40,140,70,80,60,60,50,60,90,40,70,40,40,70,40,70,840,3520,20980,22530]
["Education and Training",70,40,30,40,50,20,40,30,20,20,10,10,10,40,10,20,10,20,20,20,10,250,1050,6400,7110]
["Engineering and Manufacturing Technologies",580,330,290,210,500,120,340,200,140,170,160,80,160,210,120,150,110,110,190,120,110,2030,8460,56310,59970]
["Health, Public Services and Care",810,890,410,250,960,220,690,350,480,230,270,160,180,250,180,430,110,170,260,220,250,3540,15250,88410,97720]
["Information and Communication Technology",160,80,70,30,130,30,90,60,30,40,40,20,40,30,30,40,30,30,50,30,30,500,2400,17420,21110]
["Leisure, Travel and Tourism",150,40,40,10,40,10,30,90,10,30,10,20,20,10,10,10,10,30,20,10,10,290,970,6440,7220]
["Retail and Commercial Enterprise",390,320,190,160,370,130,280,140,160,100,90,80,120,160,90,150,60,70,130,130,80,1560,7070,46030,51300]
["Science and Mathematics",0,0,0,0,0,0,0,0,0,0,0,0,0,0,0,0,0,0,0,0,0,0,0,130,130]
["Total",3380,2730,1570,1130,3480,860,2470,1390,1290,890,1010,610,830,1130,680,1310,510,650,1160,860,830,13150,57570,353200,393390]
[]
["Percentage (2018/19)"]
["Agriculture, Horticulture and Animal Care",{"$f":"B60/B$71","v":1.1834319526627219E-2},{"$f":"C60/C$71","v":1.098901098901099E-2},1.2738853503184714E-2,2.6548672566371681E-2,8.6206896551724137E-3,2.3255813953488372E-2,4.048582995951417E-3,7.1942446043165471E-3,0,1.1235955056179775E-2,1.9801980198019802E-2,1.6393442622950821E-2,1.2048192771084338E-2,2.6548672566371681E-2,1.4705882352941176E-2,0,1.9607843137254902E-2,1.5384615384615385E-2,8.6206896551724137E-3,2.3255813953488372E-2,2.4096385542168676E-2,1.2927756653992395E-2,1.4243529616119507E-2,1.7412231030577575E-2,1.6904344289382037E-2]
["Arts, Media and Publishing",{"$f":"B61/B$71","v":1.4792899408284023E-2},0,0,0,0,0,0,2.8776978417266189E-2,0,0,0,0,1.2048192771084338E-2,0,0,0,0,0,0,0,0,3.8022813688212928E-3,1.9107173875282265E-3,2.0668176670441676E-3,2.5420066600574495E-3]
["Business, Administration and Law",0.27218934911242604,0.29304029304029305,0.26751592356687898,0.27433628318584069,0.34482758620689657,0.31395348837209303,0.34412955465587042,0.28776978417266186,0.2868217054263566,0.25842696629213485,0.34653465346534651,0.29508196721311475,0.26506024096385544,0.27433628318584069,0.27941176470588236,0.33587786259541985,0.25490196078431371,0.26153846153846155,0.35344827586206895,0.31395348837209303,0.30120481927710846,0.29809885931558933,0.31127323258641654,0.29501698754246886,0.30160909021581639]
["Construction, Planning and the Built Environment",6.2130177514792898E-2,7.3260073260073263E-2,6.3694267515923567E-2,7.9646017699115043E-2,5.7471264367816091E-2,4.6511627906976744E-2,5.6680161943319839E-2,5.0359712230215826E-2,6.2015503875968991E-2,6.741573033707865E-2,5.9405940594059403E-2,8.1967213114754092E-2,7.2289156626506021E-2,7.9646017699115043E-2,5.8823529411764705E-2,5.3435114503816793E-2,7.8431372549019607E-2,6.1538461538461542E-2,6.0344827586206899E-2,4.6511627906976744E-2,8.4337349397590355E-2,6.3878326996197721E-2,6.1142956400903246E-2,5.9399773499433747E-2,5.7271410051094332E-2]
["Education and Training",2.0710059171597635E-2,1.4652014652014652E-2,1.9108280254777069E-2,3.5398230088495575E-2,1.4367816091954023E-2,2.3255813953488372E-2,1.6194331983805668E-2,2.1582733812949641E-2,1.5503875968992248E-2,2.247191011235955E-2,9.9009900990099011E-3,1.6393442622950821E-2,1.2048192771084338E-2,3.5398230088495575E-2,1.4705882352941176E-2,1.5267175572519083E-2,1.9607843137254902E-2,3.0769230769230771E-2,1.7241379310344827E-2,2.3255813953488372E-2,1.2048192771084338E-2,1.9011406844106463E-2,1.8238665971860343E-2,1.8120045300113252E-2,1.8073667353008464E-2]
["Engineering and Manufacturing Technologies",0.17159763313609466,0.12087912087912088,0.18471337579617833,0.18584070796460178,0.14367816091954022,0.13953488372093023,0.13765182186234817,0.14388489208633093,0.10852713178294573,0.19101123595505617,0.15841584158415842,0.13114754098360656,0.19277108433734941,0.18584070796460178,0.17647058823529413,0.11450381679389313,0.21568627450980393,0.16923076923076924,0.16379310344827586,0.13953488372093023,0.13253012048192772,0.1543726235741445,0.14695153725898905,0.15942808607021516,0.15244413940364523]
["Health, Public Services and Care",0.23964497041420119,0.32600732600732601,0.26114649681528662,0.22123893805309736,0.27586206896551724,0.2558139534883721,0.2793522267206478,0.25179856115107913,0.37209302325581395,0.25842696629213485,0.26732673267326734,0.26229508196721313,0.21686746987951808,0.22123893805309736,0.26470588235294118,0.3282442748091603,0.21568627450980393,0.26153846153846155,0.22413793103448276,0.2558139534883721,0.30120481927710846,0.26920152091254751,0.26489491054368597,0.2503114382785957,0.24840489082081396]
["Information and Communication Technology",4.7337278106508875E-2,2.9304029304029304E-2,4.4585987261146494E-2,2.6548672566371681E-2,3.7356321839080463E-2,3.4883720930232558E-2,3.643724696356275E-2,4.3165467625899283E-2,2.3255813953488372E-2,4.49438202247191E-2,3.9603960396039604E-2,3.2786885245901641E-2,4.8192771084337352E-2,2.6548672566371681E-2,4.4117647058823532E-2,3.0534351145038167E-2,5.8823529411764705E-2,4.6153846153846156E-2,4.3103448275862072E-2,3.4883720930232558E-2,3.614457831325301E-2,3.8022813688212927E-2,4.1688379364252216E-2,4.9320498301245755E-2,5.3661760593812759E-2]
["Leisure, Travel and Tourism",4.4378698224852069E-2,1.4652014652014652E-2,2.5477707006369428E-2,8.8495575221238937E-3,1.1494252873563218E-2,1.1627906976744186E-2,1.2145748987854251E-2,6.4748201438848921E-2,7.7519379844961239E-3,3.3707865168539325E-2,9.9009900990099011E-3,3.2786885245901641E-2,2.4096385542168676E-2,8.8495575221238937E-3,1.4705882352941176E-2,7.6335877862595417E-3,1.9607843137254902E-2,4.6153846153846156E-2,1.7241379310344827E-2,1.1627906976744186E-2,1.2048192771084338E-2,2.2053231939163497E-2,1.6849053326385269E-2,1.8233295583238957E-2,1.8353288085614785E-2]
["Retail and Commercial Enterprise",0.11538461538461539,0.11721611721611722,0.12101910828025478,0.1415929203539823,0.10632183908045977,0.15116279069767441,0.11336032388663968,0.10071942446043165,0.12403100775193798,0.11235955056179775,8.9108910891089105E-2,0.13114754098360656,0.14457831325301204,0.1415929203539823,0.13235294117647059,0.11450381679389313,0.11764705882352941,0.1076923076923077,0.11206896551724138,0.15116279069767441,9.6385542168674704E-2,0.11863117870722434,0.12280701754385964,0.13032276330690826,0.13040494166094715]
["Science and Mathematics",0,0,0,0,0,0,0,0,0,0,0,0,0,0,0,0,0,0,0,0,0,0,0,3.6806342015855038E-4,3.3046086580746839E-4]
[]
["Source: Department for Education: Apprenticeships geography and sector subject area PivotTable tool: starts and achievements 2018 to 2019;"]
["Department for Education: Apprenticeships geography, sector subject area, and level PivotTable tool: starts and achievements 2013/14 to Q3 2018/19"]
["Description: Number and percentage of apprenticeship starts by subject area based on the postcode of the learner"]
["Year: 2016/17; 2017/18, 2018/19"]
["https://www.gov.uk/government/statistical-data-sets/fe-data-library-apprenticeships "]
["https://assets.publishing.service.gov.uk/government/uploads/system/uploads/attachment_data/file/814999/Apprenticeship-starts-ach-demographic-LAD_201718_Q3-201819_July2019.xlsx"]
["Totals across each measure of apprenticeships will differ due to figures being aggregated from local authority level and rounding."]

{"sheet":"ES16b. Prov. App Start Subject","index":23,"n_rows":35,"n_cols":26,"rows_kept":35,"cut":false,"hidden":false,"merged":[]}
["ES16b. Provider Perspective Apprenticeship Participation by Subject Area",null,null,null,null,"Return to Contents",null,"Return to TTWA Summary",null,"Return to LA Summary"]
[null,"Blackburn with Darwen, Hyndburn, Rossendale and Ribble Valley","Blackpool, Fylde and Wyre","Burnley and Pendle","Lancaster and Morecambe ","Preston, Chorley and South Ribble ","West Lancashire ","Preston and South Ribble City Deal","Blackburn with Darwen ","Blackpool","Burnley","Chorley ","Fylde","Hyndburn","Lancaster ","Pendle ","Preston","Ribble Valley","Rossendale ","South Ribble ","West Lancashire ","Wyre ","Lancashire ","North West ","England Minus London","England"]
["Number (2018/19)"]
["Agriculture, Horticulture and Animal Care",48,314,36,23,103,33,50,13,15,21,53,9,6,23,15,14,18,11,36,33,290,557,2294,14450,13404]
["Arts, Media and Publishing",54,4,12,1,13,1,13,54,2,11,0,0,0,1,1,13,null,0,null,1,2,85,241,1911,1329]
["Business, Administration and Law",1114,1322,1112,591,1934,355,1669,679,679,576,265,435,257,591,536,1204,93,85,465,355,208,6428,33648,213509,180829]
["Construction, Planning and the Built Environment",275,332,266,134,504,69,444,119,86,248,60,120,84,134,18,389,46,26,55,69,126,1580,7440,47284,43428]
["Education and Training",89,40,186,41,61,19,51,43,28,33,10,5,10,41,153,47,11,25,4,19,7,436,2015,12657,11301]
["Engineering and Manufacturing Technologies",906,789,1304,431,1308,216,1098,481,237,1026,210,322,195,431,278,625,125,105,473,216,230,4954,21328,146784,137977]
["Health, Public Services and Care",1191,1376,897,496,2185,244,1724,462,745,330,461,317,259,496,567,1265,203,267,459,244,314,6389,28286,180074,160661]
["Information and Communication Technology",183,109,120,47,287,50,191,89,51,105,96,34,53,47,15,155,25,16,36,50,24,796,4839,38347,31199]
["Leisure, Travel and Tourism",240,88,112,79,606,13,590,173,42,91,16,16,24,79,21,576,8,35,14,13,30,1138,2564,15978,13841]
["Retail and Commercial Enterprise",471,537,409,257,654,221,527,192,251,215,127,155,107,257,194,337,91,81,190,221,131,2549,12593,88064,78480]
["Science and Mathematics",2,0,1,0,1,0,1,null,null,1,null,null,2,null,null,1,null,null,null,null,null,4,78,444,438]
["Total",4573,4911,4455,2100,7656,1221,6358,2305,2136,2657,1298,1413,997,2100,1798,4626,620,651,1732,1221,1362,24916,115326,759502,672887]
[]
["Percentage (2018/19)"]
["Agriculture, Horticulture and Animal Care",{"$f":"B4/B$15","v":1.0496391865296304E-2},{"$f":"C4/C$15","v":6.3938098147016897E-2},8.0808080808080808E-3,1.0952380952380953E-2,1.3453500522466039E-2,2.7027027027027029E-2,7.8641082101289714E-3,5.6399132321041214E-3,7.0224719101123594E-3,7.9036507339104254E-3,4.0832049306625574E-2,6.369426751592357E-3,6.018054162487462E-3,1.0952380952380953E-2,8.3426028921023358E-3,3.0263726761781237E-3,2.903225806451613E-2,1.6897081413210446E-2,2.0785219399538105E-2,2.7027027027027029E-2,0.21292217327459617,2.2355113180285761E-2,1.9891438183930771E-2,1.9025624685649282E-2,1.9920135178715E-2]
["Arts, Media and Publishing",{"$f":"B5/B$15","v":1.1808440848458342E-2},8.1449806556709427E-4,2.6936026936026937E-3,4.7619047619047619E-4,1.6980146290491117E-3,8.1900081900081905E-4,2.0446681346335325E-3,2.3427331887201735E-2,9.3632958801498128E-4,4.1400075272864136E-3,0,0,0,4.7619047619047619E-4,5.5617352614015572E-4,2.8102031993082577E-3,0,0,0,8.1900081900081905E-4,1.4684287812041115E-3,3.4114625140471986E-3,2.0897282486169642E-3,2.5161224065242752E-3,1.9750715944876333E-3]
["Business, Administration and Law",0.24360376120708507,0.26919161066992464,0.24960718294051629,0.28142857142857142,0.25261233019853707,0.29074529074529076,0.26250393205410505,0.29457700650759217,0.31788389513108617,0.2167858487015431,0.20416024653312789,0.30785562632696389,0.25777331995987962,0.28142857142857142,0.29810901001112344,0.26026805015131865,0.15,0.13056835637480799,0.26847575057736722,0.29074529074529076,0.1527165932452276,0.2579868357681811,0.29176421622184068,0.28111710041579879,0.26873605820888202]
["Construction, Planning and the Built Environment",6.0135578394926746E-2,6.7603339442068824E-2,5.9708193041526372E-2,6.3809523809523816E-2,6.5830721003134793E-2,5.6511056511056514E-2,6.9833280905945261E-2,5.1626898047722344E-2,4.0262172284644196E-2,9.3338351524275498E-2,4.6224961479198766E-2,8.4925690021231418E-2,8.425275827482448E-2,6.3809523809523816E-2,1.0011123470522803E-2,8.4089926502377871E-2,7.4193548387096769E-2,3.9938556067588324E-2,3.1755196304849888E-2,5.6511056511056514E-2,9.2511013215859028E-2,6.3413067908171458E-2,6.4512772488424117E-2,6.2256583919463017E-2,6.4539811290751647E-2]
["Education and Training",1.9462059916903564E-2,8.1449806556709425E-3,4.1750841750841754E-2,1.9523809523809523E-2,7.9676071055381405E-3,1.5561015561015561E-2,8.0213903743315516E-3,1.8655097613882864E-2,1.3108614232209739E-2,1.2420022581859239E-2,7.7041602465331279E-3,3.5385704175513091E-3,1.0030090270812437E-2,1.9523809523809523E-2,8.5094549499443825E-2,1.0159965412883701E-2,1.7741935483870968E-2,3.840245775729647E-2,2.3094688221709007E-3,1.5561015561015561E-2,5.1395007342143906E-3,1.7498795954406808E-2,1.7472209215614865E-2,1.6664867241955914E-2,1.679479615448062E-2]
["Engineering and Manufacturing Technologies",0.19811939645746773,0.16065974343310935,0.29270482603815939,0.20523809523809525,0.17084639498432602,0.1769041769041769,0.1726958162944322,0.20867678958785249,0.11095505617977527,0.38614979299962365,0.16178736517719569,0.22788393489030431,0.19558676028084251,0.20523809523809525,0.1546162402669633,0.13510592304366623,0.20161290322580644,0.16129032258064516,0.27309468822170901,0.1769041769041769,0.16886930983847284,0.19882806228929203,0.18493661446681581,0.19326348054383002,0.20505225988910472]
["Health, Public Services and Care",0.26044172315766456,0.28018733455508044,0.20134680134680136,0.2361904761904762,0.28539707419017762,0.19983619983619982,0.27115445108524694,0.20043383947939261,0.34878277153558052,0.1242002258185924,0.35516178736517717,0.22434536447275299,0.25977933801404213,0.2361904761904762,0.31535038932146831,0.27345438824038049,0.32741935483870965,0.41013824884792627,0.26501154734411086,0.19983619983619982,0.23054331864904551,0.25642157649703001,0.24526993045800599,0.2370948331933293,0.23876371515573938]
["Information and Communication Technology",4.0017493986442158E-2,2.2195072286703321E-2,2.6936026936026935E-2,2.238095238095238E-2,3.7486938349007314E-2,4.0950040950040949E-2,3.004089336269267E-2,3.8611713665943598E-2,2.3876404494382022E-2,3.9518253669552125E-2,7.3959938366718034E-2,2.4062278839348902E-2,5.3159478435305919E-2,2.238095238095238E-2,8.3426028921023358E-3,3.3506268914829225E-2,4.0322580645161289E-2,2.4577572964669739E-2,2.0785219399538105E-2,4.0950040950040949E-2,1.7621145374449341E-2,3.194734307272435E-2,4.1959315332188753E-2,5.0489662963362839E-2,4.6365883127479059E-2]
["Leisure, Travel and Tourism",5.2481959326481524E-2,1.7918957442476072E-2,2.5140291806958474E-2,3.7619047619047621E-2,7.9153605015673978E-2,1.0647010647010647E-2,9.2796476879521861E-2,7.5054229934924083E-2,1.9662921348314606E-2,3.4249153180278512E-2,1.2326656394453005E-2,1.132342533616419E-2,2.4072216649949848E-2,3.7619047619047621E-2,1.1679644048943271E-2,0.1245136186770428,1.2903225806451613E-2,5.3763440860215055E-2,8.0831408775981529E-3,1.0647010647010647E-2,2.2026431718061675E-2,4.5673462835126022E-2,2.2232627508107453E-2,2.1037469289086796E-2,2.056957557509656E-2]
["Retail and Commercial Enterprise",0.10299584517821998,0.10934636530238241,9.1806958473625147E-2,0.12238095238095238,8.5423197492163011E-2,0.180999180999181,8.2887700534759357E-2,8.3297180043383948E-2,0.11750936329588015,8.0918328942416254E-2,9.7842835130970723E-2,0.10969568294409059,0.10732196589769308,0.12238095238095238,0.10789766407119021,7.2849113705144838E-2,0.14677419354838708,0.12442396313364056,0.10969976905311778,0.180999180999181,9.6182085168869308E-2,0.10230374056830951,0.10919480429391464,0.11594966175204278,0.11663176729525165]
["Science and Mathematics",4.3734966105401271E-4,0,2.244668911335578E-4,0,1.3061650992685477E-4,0,1.5728216420257942E-4,0,0,3.7636432066240122E-4,0,0,2.0060180541624875E-3,0,0,2.1616947686986597E-4,0,0,0,0,0,1.6053941242575052E-4,6.7634358253993029E-4,5.8459358895697445E-4,6.5092653001172561E-4]
[]
["Source: Department for Education Apprenticeship participation by sector subject area, provider, framework/standard, local authority district: 2014/15 to 2018/19"]
["Description: Number and percentage of apprenticeship starts by subject area based on the postcode of the provider"]
["Year: 2018/19"]
["https://assets.publishing.service.gov.uk/government/uploads/system/uploads/attachment_data/file/848363/Apprenticeship_Participation_1415_1819_final_v0.2.xlsx"]
["Totals across each measure of apprenticeships will differ due to figures being aggregated from local authority level and rounding."]
["Participation is classed as a count of the number of people starting, continuing and achieving in FE in that year"]

{"sheet":"ES17a. Learn. App Start Level","index":24,"n_rows":42,"n_cols":26,"rows_kept":42,"cut":false,"hidden":false,"merged":[]}
["ES17a. Learner Perspective Apprenticeship Starts by Level",null,null,null,"Return to Contents",null,"Return to TTWA Summary",null,null,null,"Return to LA Summary"]
[null,"Blackburn with Darwen, Hyndburn, Rossendale and Ribble Valley","Blackpool, Fylde and Wyre","Burnley and Pendle","Lancaster and Morecambe ","Preston, Chorley and South Ribble ","West Lancashire ","Preston and South Ribble City Deal","Blackburn with Darwen ","Blackpool","Burnley","Chorley ","Fylde","Hyndburn","Lancaster ","Pendle ","Preston","Ribble Valley","Rossendale ","South Ribble ","West Lancashire ","Wyre ","Lancashire ","North West ","England Minus London","England"]
["Number (2016/17)"]
["Intermediate Apprenticeship",2440,2060,1340,660,2100,640,1450,990,1060,760,650,400,670,660,580,800,350,430,650,640,600,9240,41080,239880,260700]
["Advanced Apprenticeship",1880,1530,900,630,1780,450,1250,740,740,490,530,310,500,630,410,700,260,380,550,450,480,7170,32390,178610,197700]
["Higher Apprenticeship",360,360,130,80,390,130,280,120,170,80,110,90,100,80,50,140,60,80,140,130,100,1450,6250,32130,36600]
["Total",4680,3950,2380,1360,4260,1220,2970,1850,1960,1340,1290,800,1270,1360,1040,1640,670,890,1330,1220,1190,17850,79720,450520,494900]
[]
["Percentage (2016/17)"]
["Intermediate Apprenticeship",{"$f":"B4/B$7","v":0.5213675213675214},{"$f":"C4/C$7","v":0.52151898734177216},0.56302521008403361,0.48529411764705882,0.49295774647887325,0.52459016393442626,0.48821548821548821,0.53513513513513511,0.54081632653061229,0.56716417910447758,0.50387596899224807,0.5,0.52755905511811019,0.48529411764705882,0.55769230769230771,0.48780487804878048,0.52238805970149249,0.48314606741573035,0.48872180451127817,0.52459016393442626,0.50420168067226889,0.51764705882352946,0.51530356246864029,0.53245138950546034,0.52677308547181245]
["Advanced Apprenticeship",{"$f":"B5/B$7","v":0.40170940170940173},0.38734177215189874,0.37815126050420167,0.46323529411764708,0.41784037558685444,0.36885245901639346,0.4208754208754209,0.4,0.37755102040816324,0.36567164179104478,0.41085271317829458,0.38750000000000001,0.39370078740157483,0.46323529411764708,0.39423076923076922,0.42682926829268292,0.38805970149253732,0.42696629213483145,0.41353383458646614,0.36885245901639346,0.40336134453781514,0.40168067226890758,0.40629703963873559,0.39645298765870551,0.3994746413416852]
["Higher Apprenticeship",{"$f":"B6/B$7","v":7.6923076923076927E-2},9.1139240506329114E-2,5.4621848739495799E-2,5.8823529411764705E-2,9.154929577464789E-2,0.10655737704918032,9.4276094276094277E-2,6.4864864864864868E-2,8.673469387755102E-2,5.9701492537313432E-2,8.5271317829457363E-2,0.1125,7.874015748031496E-2,5.8823529411764705E-2,4.807692307692308E-2,8.5365853658536592E-2,8.9552238805970144E-2,8.98876404494382E-2,0.10526315789473684,0.10655737704918032,8.4033613445378158E-2,8.1232492997198882E-2,7.8399397892624179E-2,7.1317588564325671E-2,7.3954334208931091E-2]
[]
["Number (2017/18)"]
["Intermediate Apprenticeship",1360,1140,580,400,1200,340,810,580,610,310,390,230,340,400,270,430,180,260,380,340,300,5020,25970,148630,166220]
["Advanced Apprenticeship",1350,1190,650,470,1390,360,970,510,580,350,420,250,340,470,300,530,200,300,440,360,360,5410,24230,148280,161390]
["Higher Apprenticeship",380,340,190,130,420,130,290,140,140,110,130,90,90,130,80,140,80,70,150,130,110,1590,7920,42010,48150]
["Total",3110,2660,1420,1000,3020,830,2080,1240,1320,770,940,570,770,1000,650,1110,470,630,970,830,770,12040,58120,338930,375760]
[]
["Percentage (2017/18)"]
["Intermediate Apprenticeship",{"$f":"B15/B$18","v":0.43729903536977494},{"$f":"C15/C$18","v":0.42857142857142855},{"$f":"D15/D$18","v":0.40845070422535212},0.4,0.39735099337748342,0.40963855421686746,0.38942307692307693,0.46774193548387094,0.4621212121212121,0.40259740259740262,0.41489361702127658,0.40350877192982454,0.44155844155844154,0.4,0.41538461538461541,0.38738738738738737,0.38297872340425532,0.41269841269841268,0.39175257731958762,0.40963855421686746,0.38961038961038963,0.4169435215946844,0.44683413626978663,0.43852712949576611,0.4423568235043645]
["Advanced Apprenticeship",{"$f":"B16/B$18","v":0.43408360128617363},0.44736842105263158,0.45774647887323944,0.47,0.46026490066225167,0.43373493975903615,0.46634615384615385,0.41129032258064518,0.43939393939393939,0.45454545454545453,0.44680851063829785,0.43859649122807015,0.44155844155844154,0.47,0.46153846153846156,0.47747747747747749,0.42553191489361702,0.47619047619047616,0.45360824742268041,0.43373493975903615,0.46753246753246752,0.44933554817275745,0.41689607708189952,0.43749446788422386,0.42950287417500532]
["Higher Apprenticeship",0.12218649517684887,0.12781954887218044,0.13380281690140844,0.13,0.13907284768211919,0.15662650602409639,0.13942307692307693,0.11290322580645161,0.10606060606060606,0.14285714285714285,0.13829787234042554,0.15789473684210525,0.11688311688311688,0.13,0.12307692307692308,0.12612612612612611,0.1702127659574468,0.1111111111111111,0.15463917525773196,0.15662650602409639,0.14285714285714285,0.13205980066445183,0.13626978664831382,0.1239488980025374,0.1281403023206302]
[]
["Number (2018/19)"]
["Intermediate Apprenticeship",1330,960,550,390,1180,320,820,570,470,310,360,200,320,390,240,440,160,280,380,320,290,4730,20840,131840,143590]
["Advanced Apprenticeship",1470,1280,760,540,1610,340,1160,590,620,430,450,270,370,540,330,640,230,280,520,340,390,6000,25980,156560,174730]
["Higher Apprenticeship",560,480,260,190,710,190,500,210,200,150,210,130,130,190,110,250,120,100,250,190,150,2390,10660,64880,75060]
["Total",3360,2720,1570,1120,3500,850,2480,1370,1290,890,1020,600,820,1120,680,1330,510,660,1150,850,830,13120,57480,353280,393380]
[]
["Percentage (2018/19)"]
["Intermediate Apprenticeship",{"$f":"B26/B$29","v":0.39583333333333331},{"$f":"C26/C$29","v":0.35294117647058826},0.3503184713375796,0.3482142857142857,0.33714285714285713,0.37647058823529411,0.33064516129032256,0.41605839416058393,0.36434108527131781,0.34831460674157305,0.35294117647058826,0.33333333333333331,0.3902439024390244,0.3482142857142857,0.35294117647058826,0.33082706766917291,0.31372549019607843,0.42424242424242425,0.33043478260869563,0.37647058823529411,0.3493975903614458,0.36051829268292684,0.36256089074460685,{"$f":"Y26/Y$29","v":0.37318840579710144},0.36501601504906195]
["Advanced Apprenticeship",{"$f":"B27/B$29","v":0.4375},0.47058823529411764,0.48407643312101911,0.48214285714285715,0.46,0.4,0.46774193548387094,0.43065693430656932,0.48062015503875971,0.48314606741573035,0.44117647058823528,0.45,0.45121951219512196,0.48214285714285715,0.48529411764705882,0.48120300751879697,0.45098039215686275,0.42424242424242425,0.45217391304347826,0.4,0.46987951807228917,0.45731707317073172,0.45198329853862212,0.44316123188405798,0.44417611469825613]
["Higher Apprenticeship",0.16666666666666666,0.17647058823529413,0.16560509554140126,0.16964285714285715,0.20285714285714285,0.22352941176470589,0.20161290322580644,0.15328467153284672,0.15503875968992248,0.16853932584269662,0.20588235294117646,0.21666666666666667,0.15853658536585366,0.16964285714285715,0.16176470588235295,0.18796992481203006,0.23529411764705882,0.15151515151515152,0.21739130434782608,0.22352941176470589,0.18072289156626506,0.18216463414634146,0.18545581071677106,0.18365036231884058,0.19080787025268189]
[]
["Source: Department for Education: Apprenticeships geography and sector subject area PivotTable tool: starts and achievements 2018 to 2019;"]
["Department for Education: Apprenticeships geography, sector subject area, and level PivotTable tool: starts and achievements 2013/14 to Q3 2018/19"]
["Description: Number and percentage of apprenticeship starts by level based on the postcode of the learner"]
["Year: 2016/17; 2017/18, 2018/19"]
["https://www.gov.uk/government/statistical-data-sets/fe-data-library-apprenticeships "]
["https://assets.publishing.service.gov.uk/government/uploads/system/uploads/attachment_data/file/814999/Apprenticeship-starts-ach-demographic-LAD_201718_Q3-201819_July2019.xlsx"]
["Totals across each measure of apprenticeships will differ due to figures being aggregated from local authority level and rounding."]

{"sheet":"ES17b. Prov. App Start Level","index":25,"n_rows":19,"n_cols":26,"rows_kept":19,"cut":false,"hidden":false,"merged":[]}
["ES17b. Provider Perspective Apprenticeship Participation by Level",null,null,null,"Return to Contents",null,"Return to TTWA Summary",null,null,null,"Return to LA Summary"]
[null,"Blackburn with Darwen, Hyndburn, Rossendale and Ribble Valley","Blackpool, Fylde and Wyre","Burnley and Pendle","Lancaster and Morecambe ","Preston, Chorley and South Ribble ","West Lancashire ","Preston and South Ribble City Deal","Blackburn with Darwen ","Blackpool","Burnley","Chorley ","Fylde","Hyndburn","Lancaster ","Pendle ","Preston","Ribble Valley","Rossendale ","South Ribble ","West Lancashire ","Wyre ","Lancashire ","North West ","England Minus London","England"]
["Number (2018/19)"]
["Intermediate Apprenticeship",1845,1813,1632,723,2293,562,1761,971,750,963,532,442,370,723,669,1232,230,274,529,562,621,8868,41155,277515,254118]
["Advanced Apprenticeship",2204,2336,2335,984,3894,527,3276,1040,1041,1432,618,667,493,984,903,2465,357,314,811,527,628,12280,55385,357453,317429]
["Higher Apprenticeship",524,762,488,393,1469,132,1321,294,345,262,148,304,134,393,226,929,33,63,392,132,113,3768,18786,124534,101340]
["Total",4573,4911,4455,2100,7656,1221,6358,2305,2136,2657,1298,1413,997,2100,1798,4626,620,651,1732,1221,1362,24916,115326,759502,672887]
[]
["Percentage (2018/19)"]
["Intermediate Apprenticeship",{"$f":"B4/B$7","v":0.4034550623223267},{"$f":"C4/C$7","v":0.36917124821828551},0.36632996632996634,0.34428571428571431,0.29950365726227796,0.46027846027846026,0.27697389116074239,0.42125813449023863,0.351123595505618,0.36243884079789235,0.40986132511556239,0.31280962491153574,0.37111334002006019,0.34428571428571431,0.37208008898776418,0.26632079550367488,0.37096774193548387,0.42089093701996927,0.30542725173210161,0.46027846027846026,0.45594713656387664,0.35591587734788893,0.35685795050552349,0.36539074288151974,0.3776533058299536]
["Advanced Apprenticeship",{"$f":"B5/B$7","v":0.48195932648152195},0.47566687029118304,0.52413019079685741,0.46857142857142858,0.50862068965517238,0.43161343161343163,0.51525636992765023,0.4511930585683297,0.48735955056179775,0.53895370718855851,0.4761171032357473,0.47204529370134468,0.49448345035105318,0.46857142857142858,0.50222469410456061,0.53285776048421962,0.57580645161290323,0.48233486943164361,0.46824480369515009,0.43161343161343163,0.46108663729809102,0.49285599614705411,0.4802472989612056,0.470641288633868,0.47174191208925126]
["Higher Apprenticeship",0.11458561119615132,0.15516188149053145,0.10953984287317621,0.18714285714285714,0.19187565308254964,0.10810810810810811,0.20776973891160741,0.12754880694143167,0.16151685393258428,9.8607452013549118E-2,0.1140215716486903,0.2151450813871196,0.13440320962888666,0.18714285714285714,0.12569521690767518,0.2008214440121055,5.32258064516129E-2,9.6774193548387094E-2,0.22632794457274827,0.10810810810810811,8.2966226138032312E-2,0.15122812650505699,0.1628947505332709,0.16396796848461229,0.15060478208079514]
[]
["Source: Department for Education Apprenticeship participation by sector subject area, provider, framework/standard, local authority district: 2014/15 to 2018/19"]
["Description: Number and percentage of apprenticeship starts by level based on the postcode of the provider"]
["Year: 2018/19"]
["https://assets.publishing.service.gov.uk/government/uploads/system/uploads/attachment_data/file/848363/Apprenticeship_Participation_1415_1819_final_v0.2.xlsx"]
["Totals across each measure of apprenticeships will differ due to figures being aggregated from local authority level and rounding."]
["Participation is classed as a count of the number of people starting, continuing and achieving in FE in that year"]

{"sheet":"ES18. Learn. App Achieve by Age","index":26,"n_rows":44,"n_cols":26,"rows_kept":44,"cut":false,"hidden":false,"merged":[]}
["ES18. Learner Perspective Apprenticeship Achievements by Age",null,null,"Return to Contents",null,"Return to TTWA Summary",null,null,"Return to LA Summary"]
[null,"Blackburn with Darwen, Hyndburn, Rossendale and Ribble Valley","Blackpool, Fylde and Wyre","Burnley and Pendle","Lancaster and Morecambe ","Preston, Chorley and South Ribble ","West Lancashire ","Preston and South Ribble City Deal","Blackburn with Darwen ","Blackpool","Burnley","Chorley ","Fylde","Hyndburn","Lancaster ","Pendle ","Preston","Ribble Valley","Rossendale ","South Ribble ","West Lancashire ","Wyre ","Lancashire ","North West ","England Minus London","England"]
["Number (2016/17)"]
["Under 19",740,530,320,230,710,150,510,290,250,180,200,130,200,230,140,250,120,130,260,150,150,2680,11740,70330,76100]
["19-24",730,670,340,250,670,180,500,260,330,180,170,140,190,250,160,290,130,150,210,180,200,2840,13160,81570,88700]
["25+",970,1000,430,310,810,260,540,430,530,240,270,200,250,310,190,310,90,200,230,260,270,3780,18320,102190,113100]
["Total",2450,2200,1080,780,2220,590,1570,980,1110,600,650,470,640,780,480,860,340,490,710,590,620,9320,43230,254000,277800]
[]
["Percentage (2016/17)"]
["Under 19",{"$f":"B4/B$7","v":0.30204081632653063},{"$f":"C4/C$7","v":0.24090909090909091},0.29629629629629628,0.29487179487179488,0.31981981981981983,0.25423728813559321,0.32484076433121017,0.29591836734693877,0.22522522522522523,0.3,0.30769230769230771,0.27659574468085107,0.3125,0.29487179487179488,0.29166666666666669,0.29069767441860467,0.35294117647058826,0.26530612244897961,0.36619718309859156,0.25423728813559321,0.24193548387096775,0.28755364806866951,0.27157066851723338,0.27688976377952756,0.27393808495320376]
["19-24",{"$f":"B5/B$7","v":0.29795918367346941},0.30454545454545456,0.31481481481481483,0.32051282051282054,0.30180180180180183,0.30508474576271188,0.31847133757961782,0.26530612244897961,0.29729729729729731,0.3,0.26153846153846155,0.2978723404255319,0.296875,0.32051282051282054,0.33333333333333331,0.33720930232558138,0.38235294117647056,0.30612244897959184,0.29577464788732394,0.30508474576271188,0.32258064516129031,0.30472103004291845,0.3044182280823502,0.32114173228346454,0.31929445644348453]
["25+",0.39591836734693875,0.45454545454545453,0.39814814814814814,0.39743589743589741,0.36486486486486486,0.44067796610169491,0.34394904458598724,0.43877551020408162,0.47747747747747749,0.4,0.41538461538461541,0.42553191489361702,0.390625,0.39743589743589741,0.39583333333333331,0.36046511627906974,0.26470588235294118,0.40816326530612246,0.323943661971831,0.44067796610169491,0.43548387096774194,0.40557939914163088,0.42377978255840854,0.40232283464566931,0.40712742980561556]
[]
[]
["Number (2017/18)"]
["Under 19",860,480,300,250,700,180,480,380,200,150,220,100,220,250,150,220,130,130,260,180,180,2770,11310,109650,121540]
["19-24",730,580,350,240,690,190,490,270,250,210,200,120,200,240,140,290,120,140,200,190,210,2780,12730,66850,72300]
["25+",1090,1080,610,360,1020,300,690,460,560,330,330,220,290,360,280,410,120,220,280,300,300,4460,20290,75700,82330]
["Total",2680,2140,1260,850,2420,670,1670,1100,1020,690,750,430,720,850,570,930,370,490,740,670,690,10020,44330,252190,276160]
[]
["Percentage (2017/18)"]
["Under 19",{"$f":"B16/B$19","v":0.32089552238805968},{"$f":"C16/C$19","v":0.22429906542056074},0.23809523809523808,0.29411764705882354,0.28925619834710742,0.26865671641791045,0.28742514970059879,0.34545454545454546,0.19607843137254902,0.21739130434782608,0.29333333333333333,0.23255813953488372,0.30555555555555558,0.29411764705882354,0.26315789473684209,0.23655913978494625,0.35135135135135137,0.26530612244897961,0.35135135135135137,0.26865671641791045,0.2608695652173913,0.27644710578842313,0.25513196480938416,{"$f":"Y16/Y$19","v":0.43479122883540189},0.44010718424101969]
["19-24",{"$f":"B17/B$19","v":0.27238805970149255},0.27102803738317754,0.27777777777777779,0.28235294117647058,0.28512396694214875,0.28358208955223879,0.29341317365269459,0.24545454545454545,0.24509803921568626,0.30434782608695654,0.26666666666666666,0.27906976744186046,0.27777777777777779,0.28235294117647058,0.24561403508771928,0.31182795698924731,0.32432432432432434,0.2857142857142857,0.27027027027027029,0.28358208955223879,0.30434782608695654,0.27744510978043913,0.28716444845477102,0.26507791744319759,0.26180475086906141]
["25+",0.40671641791044777,0.50467289719626163,0.48412698412698413,0.42352941176470588,0.42148760330578511,0.44776119402985076,0.41317365269461076,0.41818181818181815,0.5490196078431373,0.47826086956521741,0.44,0.51162790697674421,0.40277777777777779,0.42352941176470588,0.49122807017543857,0.44086021505376344,0.32432432432432434,0.44897959183673469,0.3783783783783784,0.44776119402985076,0.43478260869565216,0.44510978043912175,0.45770358673584483,0.30017050636424919,0.29812427578215528]
[]
[]
["Number (2018/19)"]
["Under 19",780,440,280,190,500,140,350,340,180,150,150,100,180,190,130,150,140,120,200,140,160,2330,9250,53910,57730]
["19-24",470,380,230,180,460,110,300,170,160,140,160,90,120,180,90,160,70,110,140,110,130,1830,8470,53840,58550]
["25+",540,580,350,210,540,170,390,210,280,190,150,110,130,210,160,230,60,140,160,170,190,2390,10840,61850,68860]
["Total",1790,1400,860,580,1500,420,1040,720,620,480,460,300,430,580,380,540,270,370,500,420,480,6550,28560,169600,185140]
[]
["Percentage (2018/19)"]
["Under 19",{"$f":"B28/B$31","v":0.43575418994413406},{"$f":"C28/C$31","v":0.31428571428571428},0.32558139534883723,0.32758620689655171,0.33333333333333331,0.33333333333333331,0.33653846153846156,0.47222222222222221,0.29032258064516131,0.3125,0.32608695652173914,0.33333333333333331,0.41860465116279072,0.32758620689655171,0.34210526315789475,0.27777777777777779,0.51851851851851849,0.32432432432432434,0.4,0.33333333333333331,0.33333333333333331,0.35572519083969467,0.32387955182072831,{"$f":"Y28/Y$31","v":0.31786556603773586},0.31181808361240143]
["19-24",{"$f":"B29/B$31","v":0.26256983240223464},0.27142857142857141,0.26744186046511625,0.31034482758620691,0.30666666666666664,0.26190476190476192,0.28846153846153844,0.2361111111111111,0.25806451612903225,0.29166666666666669,0.34782608695652173,0.3,0.27906976744186046,0.31034482758620691,0.23684210526315788,0.29629629629629628,0.25925925925925924,0.29729729729729731,0.28000000000000003,0.26190476190476192,0.27083333333333331,0.27938931297709924,0.29656862745098039,0.31745283018867926,0.31624716430809119]
["25+",0.3016759776536313,0.41428571428571431,0.40697674418604651,0.36206896551724138,0.36,0.40476190476190477,0.375,0.29166666666666669,0.45161290322580644,0.39583333333333331,0.32608695652173914,0.36666666666666664,0.30232558139534882,0.36206896551724138,0.42105263157894735,0.42592592592592593,0.22222222222222221,0.3783783783783784,0.32,0.40476190476190477,0.39583333333333331,0.36488549618320609,0.3795518207282913,0.36468160377358488,0.37193475207950738]
[]
["Source: Department for Education: Apprenticeships geography and sector subject area PivotTable tool: starts and achievements 2018 to 2019;"]
["Department for Education: Apprenticeships geography, sector subject area, and level PivotTable tool: starts and achievements 2013/14 to Q3 2018/19"]
["Description: Number and percentage of apprenticeship achievements by age group based on the postcode of the learner"]
["Year: 2016/17; 2017/18, 2018/19"]
["https://www.gov.uk/government/statistical-data-sets/fe-data-library-apprenticeships "]
["https://assets.publishing.service.gov.uk/government/uploads/system/uploads/attachment_data/file/814999/Apprenticeship-starts-ach-demographic-LAD_201718_Q3-201819_July2019.xlsx"]
["Totals across each measure of apprenticeships will differ due to figures being aggregated from local authority level and rounding."]

{"sheet":"ES19a Learn App Achieve Subject","index":27,"n_rows":94,"n_cols":26,"rows_kept":94,"cut":false,"hidden":false,"merged":[]}
["ES19a. Learner Perspective Apprenticeship Achievements by Subject Area",null,null,null,null,"Return to Contents",null,"Return to TTWA Summary",null,null,"Return to LA Summary"]
[null,"Blackburn with Darwen, Hyndburn, Rossendale and Ribble Valley","Blackpool, Fylde and Wyre","Burnley and Pendle","Lancaster and Morecambe ","Preston, Chorley and South Ribble ","West Lancashire ","Preston and South Ribble City Deal","Blackburn with Darwen ","Blackpool","Burnley","Chorley ","Fylde","Hyndburn","Lancaster ","Pendle ","Preston","Ribble Valley","Rossendale ","South Ribble ","West Lancashire ","Wyre ","Lancashire ","North West ","England Minus London","England"]
["Number (2016/17)"]
["Agriculture, Horticulture and Animal Care",20,20,10,10,20,10,20,10,0,0,0,10,0,10,10,10,10,0,10,10,10,90,490,4390,4740]
["Arts, Media and Publishing",0,0,0,0,0,0,0,0,0,0,0,0,0,0,0,0,0,0,0,0,0,0,80,600,740]
["Business, Administration and Law",740,670,320,170,730,200,490,330,330,180,240,150,190,170,140,250,90,130,240,200,190,2830,13290,68070,76040]
["Construction, Planning and the Built Environment",110,90,70,40,160,10,120,20,40,40,40,20,40,40,30,70,20,30,50,10,30,480,2090,11250,11980]
["Education and Training",90,30,30,10,50,10,30,40,10,10,20,10,10,10,20,20,10,30,10,10,10,220,1090,4740,5350]
["Engineering and Manufacturing Technologies",390,250,170,200,330,80,240,140,110,90,90,50,110,200,80,130,70,70,110,80,90,1420,6360,43180,45530]
["Health, Public Services and Care",580,640,280,170,450,140,310,230,370,160,140,120,170,170,120,180,60,120,130,140,150,2260,10200,61940,68230]
["Information and Communication Technology",70,40,20,20,60,10,50,30,20,10,10,10,20,20,10,20,10,10,30,10,10,220,1050,8300,9410]
["Leisure, Travel and Tourism",140,110,30,20,110,20,80,80,60,20,30,20,30,20,10,50,20,10,30,20,30,430,1530,8340,9100]
["Retail and Commercial Enterprise",310,340,160,140,300,100,210,100,160,80,90,70,70,140,80,110,60,80,100,100,110,1350,6990,42940,46450]
["Science and Mathematics",0,0,0,0,0,0,0,0,0,0,0,0,0,0,0,0,0,0,0,0,0,0,70,210,220]
["Total",2450,2200,1080,780,2220,590,1570,980,1110,600,650,470,640,780,480,860,340,490,710,590,620,9320,43230,254000,277800]
[]
["Percentage (2016/17)"]
["Agriculture, Horticulture and Animal Care",{"$f":"B4/B$15","v":8.1632653061224497E-3},{"$f":"C4/C$15","v":9.0909090909090905E-3},9.2592592592592587E-3,1.282051282051282E-2,9.0090090090090089E-3,1.6949152542372881E-2,1.2738853503184714E-2,1.020408163265306E-2,0,0,0,2.1276595744680851E-2,0,1.282051282051282E-2,2.0833333333333332E-2,1.1627906976744186E-2,2.9411764705882353E-2,0,1.4084507042253521E-2,1.6949152542372881E-2,1.6129032258064516E-2,9.6566523605150223E-3,1.133472125838538E-2,1.7283464566929134E-2,1.7062634989200864E-2]
["Arts, Media and Publishing",{"$f":"B5/B$15","v":0},0,0,0,0,0,0,0,0,0,0,0,0,0,0,0,0,0,0,0,0,0,1.8505667360629193E-3,2.3622047244094488E-3,2.6637868970482361E-3]
["Business, Administration and Law",{"$f":"B6/B$15","v":0.30204081632653063},0.30454545454545456,0.29629629629629628,0.21794871794871795,0.32882882882882886,0.33898305084745761,0.31210191082802546,0.33673469387755101,0.29729729729729731,0.3,0.36923076923076925,0.31914893617021278,0.296875,0.21794871794871795,0.29166666666666669,0.29069767441860467,0.26470588235294118,0.26530612244897961,0.3380281690140845,0.33898305084745761,0.30645161290322581,0.30364806866952787,0.30742539902845245,0.26799212598425198,0.27372210223182147]
["Construction, Planning and the Built Environment",4.4897959183673466E-2,4.0909090909090909E-2,6.4814814814814811E-2,5.128205128205128E-2,7.2072072072072071E-2,1.6949152542372881E-2,7.6433121019108277E-2,2.0408163265306121E-2,3.6036036036036036E-2,6.6666666666666666E-2,6.1538461538461542E-2,4.2553191489361701E-2,6.25E-2,5.128205128205128E-2,6.25E-2,8.1395348837209308E-2,5.8823529411764705E-2,6.1224489795918366E-2,7.0422535211267609E-2,1.6949152542372881E-2,4.8387096774193547E-2,5.1502145922746781E-2,4.8346055979643768E-2,4.4291338582677163E-2,4.312455003599712E-2]
["Education and Training",3.6734693877551024E-2,1.3636363636363636E-2,2.7777777777777776E-2,1.282051282051282E-2,2.2522522522522521E-2,1.6949152542372881E-2,1.9108280254777069E-2,4.0816326530612242E-2,9.0090090090090089E-3,1.6666666666666666E-2,3.0769230769230771E-2,2.1276595744680851E-2,1.5625E-2,1.282051282051282E-2,4.1666666666666664E-2,2.3255813953488372E-2,2.9411764705882353E-2,6.1224489795918366E-2,1.4084507042253521E-2,1.6949152542372881E-2,1.6129032258064516E-2,2.3605150214592276E-2,2.5213971778857276E-2,1.8661417322834644E-2,1.9258459323254141E-2]
["Engineering and Manufacturing Technologies",0.15918367346938775,0.11363636363636363,0.15740740740740741,0.25641025641025639,0.14864864864864866,0.13559322033898305,0.15286624203821655,0.14285714285714285,9.90990990990991E-2,0.15,0.13846153846153847,0.10638297872340426,0.171875,0.25641025641025639,0.16666666666666666,0.15116279069767441,0.20588235294117646,0.14285714285714285,0.15492957746478872,0.13559322033898305,0.14516129032258066,0.15236051502145923,0.14712005551700208,0.17,0.1638948884089273]
["Health, Public Services and Care",0.23673469387755103,0.29090909090909089,0.25925925925925924,0.21794871794871795,0.20270270270270271,0.23728813559322035,0.19745222929936307,0.23469387755102042,0.33333333333333331,0.26666666666666666,0.2153846153846154,0.25531914893617019,0.265625,0.21794871794871795,0.25,0.20930232558139536,0.17647058823529413,0.24489795918367346,0.18309859154929578,0.23728813559322035,0.24193548387096775,0.24248927038626608,0.2359472588480222,0.24385826771653543,0.24560835133189346]
["Information and Communication Technology",2.8571428571428571E-2,1.8181818181818181E-2,1.8518518518518517E-2,2.564102564102564E-2,2.7027027027027029E-2,1.6949152542372881E-2,3.1847133757961783E-2,3.0612244897959183E-2,1.8018018018018018E-2,1.6666666666666666E-2,1.5384615384615385E-2,2.1276595744680851E-2,3.125E-2,2.564102564102564E-2,2.0833333333333332E-2,2.3255813953488372E-2,2.9411764705882353E-2,2.0408163265306121E-2,4.2253521126760563E-2,1.6949152542372881E-2,1.6129032258064516E-2,2.3605150214592276E-2,2.4288688410825817E-2,3.2677165354330712E-2,3.387329013678906E-2]
["Leisure, Travel and Tourism",5.7142857142857141E-2,0.05,2.7777777777777776E-2,2.564102564102564E-2,4.954954954954955E-2,3.3898305084745763E-2,5.0955414012738856E-2,8.1632653061224483E-2,5.4054054054054057E-2,3.3333333333333333E-2,4.6153846153846156E-2,4.2553191489361701E-2,4.6875E-2,2.564102564102564E-2,2.0833333333333332E-2,5.8139534883720929E-2,5.8823529411764705E-2,2.0408163265306121E-2,4.2253521126760563E-2,3.3898305084745763E-2,4.8387096774193547E-2,4.6137339055793994E-2,3.5392088827203329E-2,3.283464566929134E-2,3.2757379409647229E-2]
["Retail and Commercial Enterprise",0.12653061224489795,0.15454545454545454,0.14814814814814814,0.17948717948717949,0.13513513513513514,0.16949152542372881,0.13375796178343949,0.10204081632653061,0.14414414414414414,0.13333333333333333,0.13846153846153847,0.14893617021276595,0.109375,0.17948717948717949,0.16666666666666666,0.12790697674418605,0.17647058823529413,0.16326530612244897,0.14084507042253522,0.16949152542372881,0.17741935483870969,0.14484978540772533,0.16169326856349758,0.16905511811023621,0.16720662347012238]
["Science and Mathematics",0,0,0,0,0,0,0,0,0,0,0,0,0,0,0,0,0,0,0,0,0,0,1.6192458940550544E-3,8.2677165354330705E-4,7.9193664506839456E-4]
[]
[]
[]
["Number (2017/18)"]
["Agriculture, Horticulture and Animal Care",40,10,20,10,40,10,20,10,10,10,20,0,10,10,10,10,10,10,10,10,0,130,610,4570,4940]
["Arts, Media and Publishing",0,0,0,0,0,0,0,0,0,0,0,0,0,0,0,0,0,0,0,0,0,0,60,460,560]
["Business, Administration and Law",730,660,340,210,790,210,550,290,300,170,240,140,220,210,170,300,100,120,250,210,220,2940,13390,66590,73610]
["Construction, Planning and the Built Environment",160,110,70,50,140,20,100,40,50,40,40,20,50,50,30,60,30,40,40,20,40,550,2100,11760,12420]
["Education and Training",100,30,40,10,80,30,40,40,10,20,40,10,20,10,20,20,10,30,20,30,10,290,1140,4910,5540]
["Engineering and Manufacturing Technologies",380,210,240,160,310,110,220,120,60,130,90,40,110,160,110,110,60,90,110,110,110,1410,6550,42370,45180]
["Health, Public Services and Care",670,740,300,220,630,140,440,310,410,170,190,130,180,220,130,280,60,120,160,140,200,2700,11440,67510,74580]
["Information and Communication Technology",80,30,20,40,50,10,40,50,10,10,10,10,20,40,10,30,10,0,10,10,10,230,950,7430,8500]
["Leisure, Travel and Tourism",240,70,30,20,70,30,50,170,30,20,20,20,30,20,10,20,20,20,30,30,20,460,1590,8450,9440]
["Retail and Commercial Enterprise",270,270,220,130,300,110,200,80,140,130,100,60,70,130,90,100,70,50,100,110,70,1300,6420,37890,41120]
["Science and Mathematics",0,0,0,0,0,0,0,0,0,0,0,0,0,0,0,0,0,0,0,0,0,0,80,260,270]
["Total",2680,2140,1260,850,2420,670,1670,1100,1020,690,750,430,720,850,570,930,370,490,740,670,690,10020,44330,252190,276160]
[]
["Percentage (2017/18)"]
["Agriculture, Horticulture and Animal Care",{"$f":"B33/B$44","v":1.4925373134328358E-2},{"$f":"C33/C$44","v":4.6728971962616819E-3},1.5873015873015872E-2,1.1764705882352941E-2,1.6528925619834711E-2,1.4925373134328358E-2,1.1976047904191617E-2,9.0909090909090905E-3,9.8039215686274508E-3,1.4492753623188406E-2,2.6666666666666668E-2,0,1.3888888888888888E-2,1.1764705882352941E-2,1.7543859649122806E-2,1.0752688172043012E-2,2.7027027027027029E-2,2.0408163265306121E-2,1.3513513513513514E-2,1.4925373134328358E-2,0,1.2974051896207584E-2,1.3760433115271826E-2,1.8121257781831161E-2,1.7888180764774043E-2]
["Arts, Media and Publishing",{"$f":"B34/B$44","v":0},0,0,0,0,0,0,0,0,0,0,0,0,0,0,0,0,0,0,0,0,0,1.3534852244529664E-3,1.8240215710377096E-3,2.0278099652375433E-3]
["Business, Administration and Law",0.27238805970149255,0.30841121495327101,0.26984126984126983,0.24705882352941178,0.32644628099173556,0.31343283582089554,0.32934131736526945,0.26363636363636361,0.29411764705882354,0.24637681159420291,0.32,0.32558139534883723,0.30555555555555558,0.24705882352941178,0.2982456140350877,0.32258064516129031,0.27027027027027029,0.24489795918367346,0.33783783783783783,0.31343283582089554,0.3188405797101449,0.29341317365269459,0.30205278592375367,0.26404694872913281,0.26654837775202783]
["Construction, Planning and the Built Environment",5.9701492537313432E-2,5.1401869158878503E-2,5.5555555555555552E-2,5.8823529411764705E-2,5.7851239669421489E-2,2.9850746268656716E-2,5.9880239520958084E-2,3.6363636363636362E-2,4.9019607843137254E-2,5.7971014492753624E-2,5.3333333333333337E-2,4.6511627906976744E-2,6.9444444444444448E-2,5.8823529411764705E-2,5.2631578947368418E-2,6.4516129032258063E-2,8.1081081081081086E-2,8.1632653061224483E-2,5.4054054054054057E-2,2.9850746268656716E-2,5.7971014492753624E-2,5.4890219560878244E-2,4.7371982855853825E-2,4.6631507990007537E-2,4.4973928157589806E-2]
["Education and Training",3.7313432835820892E-2,1.4018691588785047E-2,3.1746031746031744E-2,1.1764705882352941E-2,3.3057851239669422E-2,4.4776119402985072E-2,2.3952095808383235E-2,3.6363636363636362E-2,9.8039215686274508E-3,2.8985507246376812E-2,5.3333333333333337E-2,2.3255813953488372E-2,2.7777777777777776E-2,1.1764705882352941E-2,3.5087719298245612E-2,2.1505376344086023E-2,2.7027027027027029E-2,6.1224489795918366E-2,2.7027027027027029E-2,4.4776119402985072E-2,1.4492753623188406E-2,2.8942115768463075E-2,2.5716219264606363E-2,1.946944763868512E-2,2.0060834298957126E-2]
["Engineering and Manufacturing Technologies",0.1417910447761194,9.8130841121495324E-2,0.19047619047619047,0.18823529411764706,0.128099173553719,0.16417910447761194,0.1317365269461078,0.10909090909090909,5.8823529411764705E-2,0.18840579710144928,0.12,9.3023255813953487E-2,0.15277777777777779,0.18823529411764706,0.19298245614035087,0.11827956989247312,0.16216216216216217,0.18367346938775511,0.14864864864864866,0.16417910447761194,0.15942028985507245,0.1407185628742515,0.1477554703361155,0.16800824774971251,0.16360081112398608]
["Health, Public Services and Care",0.25,0.34579439252336447,0.23809523809523808,0.25882352941176473,0.26033057851239672,0.20895522388059701,0.26347305389221559,0.2818181818181818,0.40196078431372551,0.24637681159420291,0.25333333333333335,0.30232558139534882,0.25,0.25882352941176473,0.22807017543859648,0.30107526881720431,0.16216216216216217,0.24489795918367346,0.21621621621621623,0.20895522388059701,0.28985507246376813,0.26946107784431139,0.25806451612903225,0.26769499187120821,0.27006083429895711]
["Information and Communication Technology",2.9850746268656716E-2,1.4018691588785047E-2,1.5873015873015872E-2,4.7058823529411764E-2,2.0661157024793389E-2,1.4925373134328358E-2,2.3952095808383235E-2,4.5454545454545456E-2,9.8039215686274508E-3,1.4492753623188406E-2,1.3333333333333334E-2,2.3255813953488372E-2,2.7777777777777776E-2,4.7058823529411764E-2,1.7543859649122806E-2,3.2258064516129031E-2,2.7027027027027029E-2,0,1.3513513513513514E-2,1.4925373134328358E-2,1.4492753623188406E-2,2.2954091816367265E-2,2.14301827205053E-2,2.9461913636543876E-2,3.0779258400927E-2]
["Leisure, Travel and Tourism",8.9552238805970144E-2,3.2710280373831772E-2,2.3809523809523808E-2,2.3529411764705882E-2,2.8925619834710745E-2,4.4776119402985072E-2,2.9940119760479042E-2,0.15454545454545454,2.9411764705882353E-2,2.8985507246376812E-2,2.6666666666666668E-2,4.6511627906976744E-2,4.1666666666666664E-2,2.3529411764705882E-2,1.7543859649122806E-2,2.1505376344086023E-2,5.4054054054054057E-2,4.0816326530612242E-2,4.0540540540540543E-2,4.4776119402985072E-2,2.8985507246376812E-2,4.590818363273453E-2,3.5867358448003608E-2,3.3506483207105753E-2,3.4183082271147164E-2]
["Retail and Commercial Enterprise",0.10074626865671642,0.12616822429906541,0.17460317460317459,0.15294117647058825,0.12396694214876033,0.16417910447761194,0.11976047904191617,7.2727272727272724E-2,0.13725490196078433,0.18840579710144928,0.13333333333333333,0.13953488372093023,9.7222222222222224E-2,0.15294117647058825,0.15789473684210525,0.10752688172043011,0.1891891891891892,0.10204081632653061,0.13513513513513514,0.16417910447761194,0.10144927536231885,0.12974051896207583,0.14482291901646741,0.15024386375351917,0.14889918887601392]
["Science and Mathematics",0,0,0,0,0,0,0,0,0,0,0,0,0,0,0,0,0,0,0,0,0,0,1.8046469659372885E-3,1.0309687140647925E-3,9.7769409038238699E-4]
[]
[]
[]
["Number (2018/19)"]
["Agriculture, Horticulture and Animal Care",30,30,20,10,40,10,20,10,10,10,20,10,0,10,10,10,10,10,10,10,10,140,560,3810,4100]
["Arts, Media and Publishing",0,0,0,0,0,0,0,0,0,0,0,0,0,0,0,0,0,0,0,0,0,0,10,460,550]
["Business, Administration and Law",420,350,200,120,430,120,300,170,140,100,130,80,100,120,100,140,70,80,160,120,130,1640,7630,42160,46360]
["Construction, Planning and the Built Environment",130,110,50,50,90,20,60,20,40,30,30,30,50,50,20,30,40,20,30,20,40,450,1730,10410,11030]
["Education and Training",50,10,30,20,30,10,20,20,10,20,10,0,10,20,10,10,10,10,10,10,0,150,760,3650,4100]
["Engineering and Manufacturing Technologies",340,220,190,120,280,60,200,110,100,110,80,40,100,120,80,100,60,70,100,60,80,1210,5250,33900,35810]
["Health, Public Services and Care",390,450,230,150,390,100,270,160,230,120,120,90,90,150,110,170,40,100,100,100,130,1710,7140,42110,46830]
["Information and Communication Technology",60,30,20,30,50,10,30,20,10,10,20,10,20,30,10,20,10,10,10,10,10,200,1060,7300,8240]
["Leisure, Travel and Tourism",200,60,40,10,30,20,20,140,20,30,10,20,20,10,10,10,20,20,10,20,20,360,1000,5840,6530]
["Retail and Commercial Enterprise",190,140,90,70,150,80,100,60,60,50,50,30,50,70,40,50,30,50,50,80,50,720,3510,19730,21450]
["Science and Mathematics",0,0,0,0,0,0,0,0,0,0,0,0,0,0,0,0,0,0,0,0,0,0,10,170,170]
["Total",1810,1400,870,580,1490,430,1020,710,620,480,470,310,440,580,390,540,290,370,480,430,470,6580,28660,169540,185170]
[]
["Percentage (2018/19)"]
["Agriculture, Horticulture and Animal Care",{"$f":"B62/B$73","v":1.6574585635359115E-2},{"$f":"C62/C$73","v":2.1428571428571429E-2},2.2988505747126436E-2,1.7241379310344827E-2,2.6845637583892617E-2,2.3255813953488372E-2,1.9607843137254902E-2,1.4084507042253521E-2,1.6129032258064516E-2,2.0833333333333332E-2,4.2553191489361701E-2,3.2258064516129031E-2,0,1.7241379310344827E-2,2.564102564102564E-2,1.8518518518518517E-2,3.4482758620689655E-2,2.7027027027027029E-2,2.0833333333333332E-2,2.3255813953488372E-2,2.1276595744680851E-2,2.1276595744680851E-2,1.9539427773900907E-2,2.247257284416657E-2,2.2141815628881567E-2]
["Arts, Media and Publishing",{"$f":"B63/B$73","v":0},0,0,0,0,0,0,0,0,0,0,0,0,0,0,0,0,0,0,0,0,0,3.4891835310537332E-4,2.7132240179308718E-3,2.9702435599719178E-3]
["Business, Administration and Law",0.23204419889502761,0.25,0.22988505747126436,0.20689655172413793,0.28859060402684567,0.27906976744186046,0.29411764705882354,0.23943661971830985,0.22580645161290322,0.20833333333333334,0.27659574468085107,0.25806451612903225,0.22727272727272727,0.20689655172413793,0.25641025641025639,0.25925925925925924,0.2413793103448276,0.21621621621621623,0.33333333333333331,0.27906976744186046,0.27659574468085107,0.24924012158054712,0.26622470341939986,0.24867287955644685,0.25036452989145108]
["Construction, Planning and the Built Environment",7.18232044198895E-2,7.857142857142857E-2,5.7471264367816091E-2,8.6206896551724144E-2,6.0402684563758392E-2,4.6511627906976744E-2,5.8823529411764705E-2,2.8169014084507043E-2,6.4516129032258063E-2,6.25E-2,6.3829787234042548E-2,9.6774193548387094E-2,0.11363636363636363,8.6206896551724144E-2,5.128205128205128E-2,5.5555555555555552E-2,0.13793103448275862,5.4054054054054057E-2,6.25E-2,4.6511627906976744E-2,8.5106382978723402E-2,6.8389057750759874E-2,6.0362875087229588E-2,6.1401439188392117E-2,5.9566884484527731E-2]
["Education and Training",2.7624309392265192E-2,7.1428571428571426E-3,3.4482758620689655E-2,3.4482758620689655E-2,2.0134228187919462E-2,2.3255813953488372E-2,1.9607843137254902E-2,2.8169014084507043E-2,1.6129032258064516E-2,4.1666666666666664E-2,2.1276595744680851E-2,0,2.2727272727272728E-2,3.4482758620689655E-2,2.564102564102564E-2,1.8518518518518517E-2,3.4482758620689655E-2,2.7027027027027029E-2,2.0833333333333332E-2,2.3255813953488372E-2,0,2.2796352583586626E-2,2.6517794836008374E-2,2.1528842750973221E-2,2.2141815628881567E-2]
["Engineering and Manufacturing Technologies",0.18784530386740331,0.15714285714285714,0.21839080459770116,0.20689655172413793,0.18791946308724833,0.13953488372093023,0.19607843137254902,0.15492957746478872,0.16129032258064516,0.22916666666666666,0.1702127659574468,0.12903225806451613,0.22727272727272727,0.20689655172413793,0.20512820512820512,0.18518518518518517,0.20689655172413793,0.1891891891891892,0.20833333333333334,0.13953488372093023,0.1702127659574468,0.1838905775075988,0.18318213538032099,0.19995281349534033,0.1933898579683534]
["Health, Public Services and Care",0.21546961325966851,0.32142857142857145,0.26436781609195403,0.25862068965517243,0.26174496644295303,0.23255813953488372,0.26470588235294118,0.22535211267605634,0.37096774193548387,0.25,0.25531914893617019,0.29032258064516131,0.20454545454545456,0.25862068965517243,0.28205128205128205,0.31481481481481483,0.13793103448275862,0.27027027027027029,0.20833333333333334,0.23255813953488372,0.27659574468085107,0.25987841945288753,0.24912770411723656,0.24837796390232394,0.25290273802451801]
["Information and Communication Technology",3.3149171270718231E-2,2.1428571428571429E-2,2.2988505747126436E-2,5.1724137931034482E-2,3.3557046979865772E-2,2.3255813953488372E-2,2.9411764705882353E-2,2.8169014084507043E-2,1.6129032258064516E-2,2.0833333333333332E-2,4.2553191489361701E-2,3.2258064516129031E-2,4.5454545454545456E-2,5.1724137931034482E-2,2.564102564102564E-2,3.7037037037037035E-2,3.4482758620689655E-2,2.7027027027027029E-2,2.0833333333333332E-2,2.3255813953488372E-2,2.1276595744680851E-2,3.0395136778115502E-2,3.6985345429169578E-2,4.3057685501946441E-2,4.4499648971215638E-2]
["Leisure, Travel and Tourism",0.11049723756906077,4.2857142857142858E-2,4.5977011494252873E-2,1.7241379310344827E-2,2.0134228187919462E-2,4.6511627906976744E-2,1.9607843137254902E-2,0.19718309859154928,3.2258064516129031E-2,6.25E-2,2.1276595744680851E-2,6.4516129032258063E-2,4.5454545454545456E-2,1.7241379310344827E-2,2.564102564102564E-2,1.8518518518518517E-2,6.8965517241379309E-2,5.4054054054054057E-2,2.0833333333333332E-2,4.6511627906976744E-2,4.2553191489361701E-2,5.4711246200607903E-2,3.4891835310537335E-2,3.4446148401557151E-2,3.5264891721121135E-2]
["Retail and Commercial Enterprise",0.10497237569060773,0.1,0.10344827586206896,0.1206896551724138,0.10067114093959731,0.18604651162790697,9.8039215686274508E-2,8.4507042253521125E-2,9.6774193548387094E-2,0.10416666666666667,0.10638297872340426,9.6774193548387094E-2,0.11363636363636363,0.1206896551724138,0.10256410256410256,9.2592592592592587E-2,0.10344827586206896,0.13513513513513514,0.10416666666666667,0.18604651162790697,0.10638297872340426,0.10942249240121581,0.12247034193998604,0.11637371711690457,0.11583949883890479]
["Science and Mathematics",0,0,0,0,0,0,0,0,0,0,0,0,0,0,0,0,0,0,0,0,0,0,3.4891835310537332E-4,1.0027132240179309E-3,9.1807528217313823E-4]
[]
["Source: Department for Education: Apprenticeships geography and sector subject area PivotTable tool: starts and achievements 2018 to 2019;"]
["Department for Education: Apprenticeships geography, sector subject area, and level PivotTable tool: starts and achievements 2013/14 to Q3 2018/19"]
["Description: Number and percentage of apprenticeship achievements by subject area based on the postcode of the learner"]
["Year: 2016/17; 2017/18, 2018/19"]
["https://www.gov.uk/government/statistical-data-sets/fe-data-library-apprenticeships "]
["https://assets.publishing.service.gov.uk/government/uploads/system/uploads/attachment_data/file/814999/Apprenticeship-starts-ach-demographic-LAD_201718_Q3-201819_July2019.xlsx"]
["Totals across each measure of apprenticeships will differ due to figures being aggregated from local authority level and rounding."]

{"sheet":"ES19b Prov. App Achieve Subject","index":28,"n_rows":34,"n_cols":26,"rows_kept":34,"cut":false,"hidden":false,"merged":[]}
["ES19b. Provider Perspective Apprenticeship Achievements by Subject Area",null,null,null,null,"Return to Contents",null,"Return to TTWA Summary",null,null,"Return to LA Summary"]
[null,"Blackburn with Darwen, Hyndburn, Rossendale and Ribble Valley","Blackpool, Fylde and Wyre","Burnley and Pendle","Lancaster and Morecambe ","Preston, Chorley and South Ribble ","West Lancashire ","Preston and South Ribble City Deal","Blackburn with Darwen ","Blackpool","Burnley","Chorley ","Fylde","Hyndburn","Lancaster ","Pendle ","Preston","Ribble Valley","Rossendale ","South Ribble ","West Lancashire ","Wyre ","Lancashire ","North West ","England Minus London","England"]
["Number (2018/19)"]
["Agriculture, Horticulture and Animal Care",17,62,9,6,36,9,16,6,7,5,20,4,0,6,4,8,7,4,8,9,51,139,629,3826,4098]
["Arts, Media and Publishing",1,1,0,0,9,0,9,1,0,0,null,null,0,0,0,9,0,0,0,0,1,11,44,397,548]
["Business, Administration and Law",288,357,278,102,426,93,359,174,183,166,67,113,65,102,112,280,26,23,79,93,61,1544,7625,41539,46356]
["Construction, Planning and the Built Environment",114,101,64,44,93,12,78,38,37,60,15,21,42,44,4,59,21,13,19,12,43,428,1733,10549,11026]
["Education and Training",38,14,54,14,20,11,13,17,9,18,7,1,5,14,36,11,2,14,2,11,4,151,735,3728,4095]
["Engineering and Manufacturing Technologies",233,192,292,124,314,56,252,119,71,216,62,57,46,124,76,165,30,38,87,56,64,1211,5300,34212,35809]
["Health, Public Services and Care",324,387,219,113,522,75,389,143,194,68,133,92,68,113,151,275,41,72,114,75,101,1640,7127,42653,46831]
["Information and Communication Technology",44,25,15,24,83,14,56,17,12,13,27,6,16,24,2,53,6,5,3,14,7,205,1080,7248,8237]
["Leisure, Travel and Tourism",104,48,47,39,37,7,30,77,22,44,7,10,12,39,3,20,4,11,10,7,16,282,897,5978,6531]
["Retail and Commercial Enterprise",144,127,123,71,162,59,129,46,53,77,33,32,35,71,46,73,30,33,56,59,42,686,3580,19702,21448]
["Science and Mathematics",0,0,1,0,1,0,1,0,0,1,0,0,0,0,0,1,0,0,0,0,0,2,28,167,170]
["Total",1307,1314,1102,537,1703,336,1332,638,588,668,371,336,289,537,434,954,167,213,378,336,390,6299,28778,169999,185149]
[]
["Percentage (2018/19)"]
["Agriculture, Horticulture and Animal Care",{"$f":"B4/B$15","v":1.3006885998469778E-2},{"$f":"C4/C$15","v":4.7184170471841702E-2},8.1669691470054439E-3,1.11731843575419E-2,2.1139166177334117E-2,2.6785714285714284E-2,1.2012012012012012E-2,9.4043887147335428E-3,1.1904761904761904E-2,7.4850299401197605E-3,5.3908355795148251E-2,1.1904761904761904E-2,0,1.11731843575419E-2,9.2165898617511521E-3,8.385744234800839E-3,4.1916167664670656E-2,1.8779342723004695E-2,2.1164021164021163E-2,2.6785714285714284E-2,0.13076923076923078,2.2066994761073187E-2,2.1856974077420252E-2,2.2506014741263184E-2,2.2133524890763655E-2]
["Arts, Media and Publishing",{"$f":"B5/B$15","v":7.6511094108645751E-4},7.6103500761035003E-4,0,0,5.2847915443335293E-3,0,6.7567567567567571E-3,1.567398119122257E-3,0,0,0,0,0,0,0,9.433962264150943E-3,0,0,0,0,2.5641025641025641E-3,1.746308937926655E-3,1.5289457224268539E-3,2.3353078547520868E-3,2.9597783406877702E-3]
["Business, Administration and Law",0.22035195103289976,0.27168949771689499,0.25226860254083483,0.18994413407821228,0.25014679976512039,0.2767857142857143,0.26951951951951952,0.27272727272727271,0.31122448979591838,0.24850299401197604,0.18059299191374664,0.33630952380952384,0.22491349480968859,0.18994413407821228,0.25806451612903225,0.29350104821802936,0.15568862275449102,0.107981220657277,0.20899470899470898,0.2767857142857143,0.15641025641025641,0.24511827274170503,0.26495934394329002,0.24434849616762452,0.25037132255642752]
["Construction, Planning and the Built Environment",8.7222647283856161E-2,7.6864535768645353E-2,5.8076225045372049E-2,8.1936685288640593E-2,5.4609512624779803E-2,3.5714285714285712E-2,5.8558558558558557E-2,5.9561128526645767E-2,6.2925170068027211E-2,8.9820359281437126E-2,4.0431266846361183E-2,6.25E-2,0.1453287197231834,8.1936685288640593E-2,9.2165898617511521E-3,6.1844863731656187E-2,0.12574850299401197,6.1032863849765258E-2,5.0264550264550262E-2,3.5714285714285712E-2,0.11025641025641025,6.7947293221146218E-2,6.0219612203766766E-2,6.2053306195918798E-2,5.9552036467925833E-2]
["Education and Training",2.9074215761285386E-2,1.06544901065449E-2,4.9001814882032667E-2,2.6070763500931099E-2,1.1743981209630064E-2,3.273809523809524E-2,9.7597597597597601E-3,2.664576802507837E-2,1.5306122448979591E-2,2.6946107784431138E-2,1.8867924528301886E-2,2.976190476190476E-3,1.7301038062283738E-2,2.6070763500931099E-2,8.294930875576037E-2,1.1530398322851153E-2,1.1976047904191617E-2,6.5727699530516437E-2,5.2910052910052907E-3,3.273809523809524E-2,1.0256410256410256E-2,2.3972059056993174E-2,2.5540343317812218E-2,2.1929540762004481E-2,2.2117321724665E-2]
["Engineering and Manufacturing Technologies",0.1782708492731446,0.14611872146118721,0.26497277676950998,0.23091247672253259,0.18438050499119202,0.16666666666666666,0.1891891891891892,0.18652037617554859,0.12074829931972789,0.32335329341317365,0.16711590296495957,0.16964285714285715,0.15916955017301038,0.23091247672253259,0.17511520737327188,0.17295597484276728,0.17964071856287425,0.17840375586854459,0.23015873015873015,0.16666666666666666,0.1641025641025641,0.19225273852992539,0.1841684620195983,0.20124824263672139,0.19340639160892037]
["Health, Public Services and Care",0.24789594491201225,0.29452054794520549,0.1987295825771325,0.21042830540037244,0.30651790957134467,0.22321428571428573,0.29204204204204204,0.22413793103448276,0.32993197278911562,0.10179640718562874,0.35849056603773582,0.27380952380952384,0.23529411764705882,0.21042830540037244,0.34792626728110598,0.2882599580712788,0.24550898203592814,0.3380281690140845,0.30158730158730157,0.22321428571428573,0.258974358974359,0.2603587871090649,0.24765445826673152,0.25090147589103468,0.25293682385538135]
["Information and Communication Technology",3.3664881407804131E-2,1.9025875190258751E-2,1.3611615245009074E-2,4.4692737430167599E-2,4.8737522019964771E-2,4.1666666666666664E-2,4.2042042042042045E-2,2.664576802507837E-2,2.0408163265306121E-2,1.9461077844311378E-2,7.277628032345014E-2,1.7857142857142856E-2,5.536332179930796E-2,4.4692737430167599E-2,4.608294930875576E-3,5.5555555555555552E-2,3.5928143712574849E-2,2.3474178403755867E-2,7.9365079365079361E-3,4.1666666666666664E-2,1.7948717948717947E-2,3.2544848388633113E-2,3.7528667732295504E-2,4.263554491497009E-2,4.4488493051542274E-2]
["Leisure, Travel and Tourism",7.957153787299158E-2,3.6529680365296802E-2,4.26497277676951E-2,7.2625698324022353E-2,2.1726365237815619E-2,2.0833333333333332E-2,2.2522522522522521E-2,0.1206896551724138,3.7414965986394558E-2,6.5868263473053898E-2,1.8867924528301886E-2,2.976190476190476E-2,4.1522491349480967E-2,7.2625698324022353E-2,6.9124423963133645E-3,2.0964360587002098E-2,2.3952095808383235E-2,5.1643192488262914E-2,2.6455026455026454E-2,2.0833333333333332E-2,4.1025641025641026E-2,4.4769010954119705E-2,3.1169643477656543E-2,3.5164912734780791E-2,3.5274292596773407E-2]
["Retail and Commercial Enterprise",0.11017597551644988,9.6651445966514454E-2,0.11161524500907441,0.13221601489757914,9.5126247798003521E-2,0.17559523809523808,9.6846846846846843E-2,7.2100313479623826E-2,9.013605442176871E-2,0.11526946107784432,8.8948787061994605E-2,9.5238095238095233E-2,0.12110726643598616,0.13221601489757914,0.10599078341013825,7.6519916142557654E-2,0.17964071856287425,0.15492957746478872,0.14814814814814814,0.17559523809523808,0.1076923076923077,0.10890617558342594,0.12440058377927583,0.11589479938117284,0.11584183549465565]
["Science and Mathematics",0,0,9.0744101633393826E-4,0,5.8719906048150322E-4,0,7.5075075075075074E-4,0,0,1.4970059880239522E-3,0,0,0,0,0,1.0482180293501049E-3,0,0,0,0,0,3.1751071598666456E-4,9.7296545972617977E-4,9.823587197571751E-4,9.1817941225715504E-4]
[]
["Source: Department for Education Apprenticeship achievements by sector subject area, provider, framework/standard, local authority district: 2014/15 to 2018/19"]
["Description: Number and percentage of apprenticeship achievements by subject area based on the postcode of the provider"]
["Year: 2018/19"]
["https://assets.publishing.service.gov.uk/government/uploads/system/uploads/attachment_data/file/848364/Apprenticeship_Achievement_1415_1819_final_v0.2.xlsx"]
["Totals across each measure of apprenticeships will differ due to figures being aggregated from local authority level and rounding."]

{"sheet":"ES20a. Learn. App Achieve Level","index":29,"n_rows":44,"n_cols":26,"rows_kept":44,"cut":false,"hidden":false,"merged":[]}
["ES20a. Learner Perspective Apprenticeship Achievements by Level",null,null,null,"Return to Contents",null,"Return to TTWA Summary",null,null,"Return to LA Summary"]
[null,"Blackburn with Darwen, Hyndburn, Rossendale and Ribble Valley","Blackpool, Fylde and Wyre","Burnley and Pendle","Lancaster and Morecambe ","Preston, Chorley and South Ribble ","West Lancashire ","Preston and South Ribble City Deal","Blackburn with Darwen ","Blackpool","Burnley","Chorley ","Fylde","Hyndburn","Lancaster ","Pendle ","Preston","Ribble Valley","Rossendale ","South Ribble ","West Lancashire ","Wyre ","Lancashire ","North West ","England Minus London","England"]
["Number (2016/17)"]
["Intermediate Apprenticeship",1400,1180,600,440,1260,350,910,580,630,350,350,220,370,440,250,500,170,280,410,350,330,5230,24430,148780,161700]
["Advanced Apprenticeship",940,910,440,320,850,220,600,370,430,230,250,210,240,320,210,330,150,180,270,220,270,3680,17050,95180,105000]
["Higher Apprenticeship",100,100,40,20,110,30,60,30,50,20,50,30,30,20,20,30,10,30,30,30,20,400,1750,10040,11100]
["Total",2450,2200,1080,780,2220,590,1570,980,1110,600,650,470,640,780,480,860,340,490,710,590,620,9320,43230,254000,277800]
[]
["Percentage (2016/17)"]
["Intermediate Apprenticeship",{"$f":"B4/B$7","v":0.5714285714285714},{"$f":"C4/C$7","v":0.53636363636363638},0.55555555555555558,0.5641025641025641,0.56756756756756754,0.59322033898305082,0.57961783439490444,0.59183673469387754,0.56756756756756754,0.58333333333333337,0.53846153846153844,0.46808510638297873,0.578125,0.5641025641025641,0.52083333333333337,0.58139534883720934,0.5,0.5714285714285714,0.57746478873239437,0.59322033898305082,0.532258064516129,0.56115879828326176,0.56511681702521399,0.58574803149606303,0.58207343412527002]
["Advanced Apprenticeship",{"$f":"B5/B$7","v":0.3836734693877551},0.41363636363636364,0.40740740740740738,0.41025641025641024,0.38288288288288286,0.3728813559322034,0.38216560509554143,0.37755102040816324,0.38738738738738737,0.38333333333333336,0.38461538461538464,0.44680851063829785,0.375,0.41025641025641024,0.4375,0.38372093023255816,0.44117647058823528,0.36734693877551022,0.38028169014084506,0.3728813559322034,0.43548387096774194,0.39484978540772531,0.3944020356234097,0.37472440944881891,0.37796976241900648]
["Higher Apprenticeship",4.0816326530612242E-2,4.5454545454545456E-2,3.7037037037037035E-2,2.564102564102564E-2,4.954954954954955E-2,5.0847457627118647E-2,3.8216560509554139E-2,3.0612244897959183E-2,4.5045045045045043E-2,3.3333333333333333E-2,7.6923076923076927E-2,6.3829787234042548E-2,4.6875E-2,2.564102564102564E-2,4.1666666666666664E-2,3.4883720930232558E-2,2.9411764705882353E-2,6.1224489795918366E-2,4.2253521126760563E-2,5.0847457627118647E-2,3.2258064516129031E-2,4.2918454935622317E-2,4.0481147351376361E-2,3.9527559055118108E-2,3.9956803455723541E-2]
[]
[]
["Number (2017/18)"]
["Intermediate Apprenticeship",1440,1100,720,410,1200,350,830,620,530,410,370,200,380,410,310,480,180,260,350,350,370,5220,18160,101110,111360]
["Advanced Apprenticeship",1080,880,470,390,1030,270,700,420,430,240,330,180,290,390,230,380,170,200,320,270,270,4120,23530,136950,149030]
["Higher Apprenticeship",150,160,80,40,200,50,150,60,60,40,50,50,40,40,40,80,20,30,70,50,50,680,2640,14130,15770]
["Total",2680,2140,1260,850,2420,670,1670,1100,1020,690,750,430,720,850,570,930,370,490,740,670,690,10020,44330,252190,276160]
[]
["Percentage (2017/18)"]
["Intermediate Apprenticeship",{"$f":"B16/B$19","v":0.53731343283582089},{"$f":"C16/C$19","v":0.51401869158878499},0.5714285714285714,0.4823529411764706,0.49586776859504134,0.52238805970149249,0.49700598802395207,0.5636363636363636,0.51960784313725494,0.59420289855072461,0.49333333333333335,0.46511627906976744,0.52777777777777779,0.4823529411764706,0.54385964912280704,0.5161290322580645,0.48648648648648651,0.53061224489795922,0.47297297297297297,0.52238805970149249,0.53623188405797106,0.52095808383233533,{"$f":"X16/X$19","v":0.40965486126776451},0.40092787184265832,0.40324449594438005]
["Advanced Apprenticeship",{"$f":"B17/B$19","v":0.40298507462686567},0.41121495327102803,0.37301587301587302,0.45882352941176469,0.42561983471074383,0.40298507462686567,0.41916167664670656,0.38181818181818183,0.42156862745098039,0.34782608695652173,0.44,0.41860465116279072,0.40277777777777779,0.45882352941176469,0.40350877192982454,0.40860215053763443,0.45945945945945948,0.40816326530612246,0.43243243243243246,0.40298507462686567,0.39130434782608697,0.41117764471057883,0.53079178885630496,0.54304294381220508,0.53965092699884121]
["Higher Apprenticeship",5.5970149253731345E-2,7.476635514018691E-2,6.3492063492063489E-2,4.7058823529411764E-2,8.2644628099173556E-2,7.4626865671641784E-2,8.9820359281437126E-2,5.4545454545454543E-2,5.8823529411764705E-2,5.7971014492753624E-2,6.6666666666666666E-2,0.11627906976744186,5.5555555555555552E-2,4.7058823529411764E-2,7.0175438596491224E-2,8.6021505376344093E-2,5.4054054054054057E-2,6.1224489795918366E-2,9.45945945945946E-2,7.4626865671641784E-2,7.2463768115942032E-2,6.7864271457085831E-2,5.9553349875930521E-2,5.6029184345136603E-2,5.7104577056778676E-2]
[]
[]
["Number (2018/19)"]
["Intermediate Apprenticeship",900,560,420,260,620,210,420,400,270,230,200,100,200,260,190,210,130,170,210,210,190,2970,12780,79990,86150]
["Advanced Apprenticeship",760,660,380,290,710,170,500,270,280,210,210,150,190,290,170,280,120,180,220,170,230,2970,13410,77110,85100]
["Higher Apprenticeship",150,150,70,30,170,40,120,50,60,40,50,40,40,30,30,60,30,30,60,40,50,610,2410,12470,13900]
["Total",1810,1370,870,580,1500,420,1040,720,610,480,460,290,430,580,390,550,280,380,490,420,470,6550,28600,169570,185150]
[]
["Percentage (2018/19)"]
["Intermediate Apprenticeship",{"$f":"B28/B$31","v":0.49723756906077349},{"$f":"C28/C$31","v":0.40875912408759124},0.48275862068965519,0.44827586206896552,0.41333333333333333,0.5,0.40384615384615385,0.55555555555555558,0.44262295081967212,0.47916666666666669,0.43478260869565216,0.34482758620689657,0.46511627906976744,0.44827586206896552,0.48717948717948717,0.38181818181818183,0.4642857142857143,0.44736842105263158,0.42857142857142855,0.5,0.40425531914893614,0.45343511450381679,0.44685314685314687,0.47172259243970044,0.46529840669727246]
["Advanced Apprenticeship",{"$f":"B29/B$31","v":0.41988950276243092},0.48175182481751827,0.43678160919540232,0.5,0.47333333333333333,0.40476190476190477,0.48076923076923078,0.375,0.45901639344262296,0.4375,0.45652173913043476,0.51724137931034486,0.44186046511627908,0.5,0.4358974358974359,0.50909090909090904,0.42857142857142855,0.47368421052631576,0.44897959183673469,0.40476190476190477,0.48936170212765956,0.45343511450381679,0.46888111888111889,0.4547384560948281,0.45962732919254656]
["Higher Apprenticeship",8.2872928176795577E-2,0.10948905109489052,8.0459770114942528E-2,5.1724137931034482E-2,0.11333333333333333,9.5238095238095233E-2,0.11538461538461539,6.9444444444444448E-2,9.8360655737704916E-2,8.3333333333333329E-2,0.10869565217391304,0.13793103448275862,9.3023255813953487E-2,5.1724137931034482E-2,7.6923076923076927E-2,0.10909090909090909,0.10714285714285714,7.8947368421052627E-2,0.12244897959183673,9.5238095238095233E-2,0.10638297872340426,9.3129770992366412E-2,8.4265734265734263E-2,7.3538951465471486E-2,7.5074264110180935E-2]
[]
["Source: Department for Education: Apprenticeships geography and sector subject area PivotTable tool: starts and achievements 2018 to 2019;"]
["Department for Education: Apprenticeships geography, sector subject area, and level PivotTable tool: starts and achievements 2013/14 to Q3 2018/19"]
["Description: Number and percentage of apprenticeship achievements by level based on the postcode of the learner"]
["Year: 2016/17; 2017/18, 2018/19"]
["https://www.gov.uk/government/statistical-data-sets/fe-data-library-apprenticeships "]
["https://assets.publishing.service.gov.uk/government/uploads/system/uploads/attachment_data/file/814999/Apprenticeship-starts-ach-demographic-LAD_201718_Q3-201819_July2019.xlsx"]
["Totals across each measure of apprenticeships will differ due to figures being aggregated from local authority level and rounding."]

{"sheet":"ES20b. Prov. App Achieve Level","index":30,"n_rows":18,"n_cols":26,"rows_kept":18,"cut":false,"hidden":false,"merged":[]}
["ES20b. Provider Perspective Apprenticeship Achievements by Level",null,null,null,null,"Return to Contents",null,"Return to TTWA Summary",null,null,"Return to LA Summary"]
[null,"Blackburn with Darwen, Hyndburn, Rossendale and Ribble Valley","Blackpool, Fylde and Wyre","Burnley and Pendle","Lancaster and Morecambe ","Preston, Chorley and South Ribble ","West Lancashire ","Preston and South Ribble City Deal","Blackburn with Darwen ","Blackpool","Burnley","Chorley ","Fylde","Hyndburn","Lancaster ","Pendle ","Preston","Ribble Valley","Rossendale ","South Ribble ","West Lancashire ","Wyre ","Lancashire ","North West ","England Minus London","England"]
["Number (2018/19)"]
["Intermediate Apprenticeship",634,540,560,253,680,166,517,328,244,365,163,113,128,253,195,356,81,97,161,166,183,2833,13030,80601,86150]
["Advanced Apprenticeship",581,582,474,269,834,138,662,267,242,273,172,164,137,269,201,501,78,99,161,138,176,2878,13398,77224,85097]
["Higher Apprenticeship",92,192,68,15,189,32,153,43,102,30,36,59,24,15,38,97,8,17,56,32,31,588,2350,12174,13902]
["Total",1307,1314,1102,537,1703,336,1332,638,588,668,371,336,289,537,434,954,167,213,378,336,390,6299,28778,169999,185149]
[]
["Percentage (2018/19)"]
["Intermediate Apprenticeship",{"$f":"B4/B$7","v":0.48508033664881406},{"$f":"C4/C$7","v":0.41095890410958902},0.50816696914700543,0.47113594040968343,0.3992953611274222,0.49404761904761907,0.38813813813813813,0.51410658307210033,0.41496598639455784,0.54640718562874246,0.43935309973045822,0.33630952380952384,0.44290657439446368,0.47113594040968343,0.44930875576036866,0.37316561844863733,0.48502994011976047,0.45539906103286387,0.42592592592592593,0.49404761904761907,0.46923076923076923,0.44975392919511031,0.4527764264368615,0.47412631839010816,0.46530091979972887]
["Advanced Apprenticeship",{"$f":"B5/B$7","v":0.44452945677123185},0.44292237442922372,0.43012704174228678,0.5009310986964618,0.48972401644157371,0.4107142857142857,0.49699699699699701,0.41849529780564265,0.41156462585034015,0.4086826347305389,0.46361185983827491,0.48809523809523808,0.47404844290657439,0.5009310986964618,0.46313364055299538,0.52515723270440251,0.46706586826347307,0.46478873239436619,0.42592592592592593,0.4107142857142857,0.45128205128205129,0.4568979203048103,0.46556397247897702,0.45426149565585677,0.45961360849910071]
["Higher Apprenticeship",7.0390206579954095E-2,0.14611872146118721,6.1705989110707807E-2,2.7932960893854747E-2,0.11098062243100411,9.5238095238095233E-2,0.11486486486486487,6.7398119122257058E-2,0.17346938775510204,4.4910179640718563E-2,9.7035040431266845E-2,0.17559523809523808,8.3044982698961933E-2,2.7932960893854747E-2,8.755760368663594E-2,0.10167714884696016,4.790419161676647E-2,7.9812206572769953E-2,0.14814814814814814,9.5238095238095233E-2,7.9487179487179482E-2,9.3348150500079372E-2,8.1659601084161509E-2,7.1612185954035026E-2,7.5085471701170414E-2]
[]
["Source: Department for Education Apprenticeship achievements by sector subject area, provider, framework/standard, local authority district: 2014/15 to 2018/19"]
["Description: Number and percentage of apprenticeship achievements by level based on the postcode of the provider"]
["Year: 2018/19"]
["https://assets.publishing.service.gov.uk/government/uploads/system/uploads/attachment_data/file/848364/Apprenticeship_Achievement_1415_1819_final_v0.2.xlsx"]
["Totals across each measure of apprenticeships will differ due to figures being aggregated from local authority level and rounding."]

{"sheet":"ES21. Travel Time for FE","index":31,"n_rows":25,"n_cols":26,"rows_kept":25,"cut":false,"hidden":false,"merged":[]}
["ES21. Travel time for Further Education (FE) by mode of travel","Return to Contents",null,"Return to TTWA Summary",null,"Return to LA Summary"]
[" ","Blackburn with Darwen, Hyndburn, Rossendale and Ribble Valley","Blackpool, Fylde and Wyre","Burnley and Pendle","Lancaster and Morecambe ","Preston, Chorley and South Ribble ","West Lancashire ","Preston and South Ribble City Deal","Blackburn with Darwen ","Blackpool","Burnley","Chorley ","Fylde","Hyndburn","Lancaster ","Pendle ","Preston","Ribble Valley","Rossendale ","South Ribble ","West Lancashire ","Wyre ","Lancashire ","North West ","England Minus London","England"]
[2016]
["% users within 15 minutes of further education colleges available by public transport/walk","-","-","-","-","-","-","-",0.38806712243629599,0.18678160919540202,0.32387190684133899,7.8431372549019589E-3,0.228997729484269,0.20744279607744498,0.38597333973820097,0.11592766906118401,0.287201625190452,0.149098474341193,0.152448913396043,0.12862985685071598,7.8838832487309607E-2,0.28451707521475,0.21016821016821002,0.26800000000000002,"-","-"]
["% users within 30 minutes of further education colleges available by public transport/walk","-","-","-","-","-","-","-",0.99900559353635798,0.76981246218995802,0.94565744784085393,0.46563467492260102,0.98053843658773898,0.94945939150113101,0.92422240903086306,0.849888531087441,0.96038598273235098,0.52531206657420204,0.91339604281543996,0.96134969325153408,0.81900380710659904,0.73224387177875594,0.84764866583048404,0.88100000000000001,"-","-"]
["% users within 45 minutes of further education colleges available by public transport/walk","-","-","-","-","-","-","-",1,1,0.999029597282872,0.97440660474716201,1,1,0.99507625795604693,0.99554124349764705,0.98971559167089895,0.86789181692094308,0.99578332792734303,1,0.99555837563451799,0.93840351979886905,0.98309307400216495,0.98099999999999998,"-","-"]
["% users within 60 minutes of further education colleges available by public transport/walk","-","-","-","-","-","-","-",1,1,1,0.99690402476780204,1,1,0.99843881349825903,1,0.99530218384966995,0.97815533980582503,1,1,1,0.9752776031845799,0.99577326850054104,0.99099999999999999,"-","-"]
[]
[2016]
["% users within 15 minutes of further education colleges available by cycle","-","-","-","-","-","-","-",0.83741454319453101,0.41545674531155496,0.70984958757884498,4.5407636738906097E-3,0.43074927019137199,0.513200905204928,0.58568512069172596,0.42952687639336096,0.696038598273235,0.235436893203883,0.47324035030814104,0.19038854805725999,0.24682741116751297,0.50261889796773507,0.43700280063916402,0.58099999999999996,"-","-"]
["% users within 30 minutes of further education colleges available by cycle","-","-","-","-","-","-","-",0.99627097576134205,0.99848759830611,0.99684619116933504,0.40908152734778097,0.97891663963671705,1,0.94715984147952492,0.776071340104038,0.97346368715083798,0.55374479889043005,0.95880635744404796,1,0.82788705583756395,0.80222082547663898,0.86362777271868196,0.94499999999999995,"-","-"]
["% users within 45 minutes of further education colleges available by cycle","-","-","-","-","-","-","-",1,1,1,0.99422084623323004,1,1,0.98618950402305794,0.91899925687391604,0.99758760792280299,0.86858529819694896,1,1,0.94543147208121792,0.91389063482086696,0.97211388120479003,0.98699999999999999,"-","-"]
["% users within 60 minutes of further education colleges available by cycle","-","-","-","-","-","-","-",1,1,1,0.99690402476780204,1,1,0.99747808334334098,1,1,0.98162274618585299,1,1,1,0.98533417138068302,0.99726808817717894,0.996,"-","-"]
[]
[2016]
["% users within 15 minutes of further education colleges available by car","-","-","-","-","-","-","-",0.99465506525792402,0.65532365396249204,0.96676370693837899,0.23488132094943201,0.92085630879013902,0.82021624339954702,0.764020655698331,0.74263066633638797,0.87353986795327598,0.45006934812760102,0.89782679208563099,0.82004089979550099,0.75364847715736005,0.82086737900691409,0.75959175959175995,0.84199999999999997,"-","-"]
["% users within 30 minutes of further education colleges available by car","-","-","-","-","-","-","-",1,1,1,1,1,1,1,1,1,1,1,1,1,1,1,1,"-","-"]
["% users within 45 minutes of further education colleges available by car","-","-","-","-","-","-","-",1,1,1,1,1,1,1,1,1,1,1,1,1,1,1,1,"-","-"]
["% users within 60 minutes of further education colleges available by car","-","-","-","-","-","-","-",1,1,1,1,1,1,1,1,1,1,1,1,1,1,1,1,"-","-"]
[]
["Source: Department for Transport: Travel time, destination and origin indicators for Further education by mode of travel and local authority, England "]
["Description: Percentage of users of further education by mode of travel"]
["Year: 2016"]
["https://assets.publishing.service.gov.uk/government/uploads/system/uploads/attachment_data/file/853150/jts0404.ods"]
["Percentages not available at Travel to Work Area level"]

{"sheet":"ES23 FE Learner Characteristic ","index":32,"n_rows":54,"n_cols":26,"rows_kept":54,"cut":false,"hidden":false,"merged":[]}
["ES23. Provider Perspective FE and Skills Provision by Learner Characteristics",null,null,null,null,null,"Return to Contents",null,"Return to TTWA Summary",null,"Return to LA Summary"]
[" ","Blackburn with Darwen, Hyndburn, Rossendale and Ribble Valley","Blackpool, Fylde and Wyre","Burnley and Pendle","Lancaster and Morecambe ","Preston, Chorley and South Ribble ","West Lancashire ","Preston and South Ribble City Deal","Blackburn with Darwen ","Blackpool","Burnley","Chorley ","Fylde","Hyndburn","Lancaster ","Pendle ","Preston","Ribble Valley","Rossendale ","South Ribble ","West Lancashire ","Wyre ","Lancashire ","North West ","England Minus London","England"]
["Age (Count 2018/19)"]
["Under 19",6235.1900000000014,6357.54,4850.3999999999996,1267.07,12938.5,105.10999999999999,12873.5,4385.4700000000012,4599.95,2801.97,65,28.450000000000003,1849.7200000000003,1267.07,2048.4299999999998,7844.9000000000005,0,0,5028.6000000000004,105.10999999999999,1729.1399999999999,31753.810000000005,133350.73000000004,756107.79999999993,856819.89999999991]
["19-24",2923.91,2336.9300000000003,2350.8199999999997,823.78,3296.73,98.38,3113.25,1667.4099999999999,1440.79,1063.49,183.48,58.419999999999995,1256.5,823.78,1287.33,2835.81,0,0,277.44,98.38,837.72,11830.549999999997,73724.88,412348.89,497131.00000000006]
["25+",7595.2,6182.35,15528.780000000002,2849.15,6378.7300000000005,106.50999999999999,6067.7300000000005,4558.58,5092.41,1904.54,311,73.22,3036.62,2849.15,13624.240000000002,5593.77,0,0,473.96000000000004,106.50999999999999,1016.7199999999999,38640.720000000001,216381.31999999989,1236241.2300000002,1570349.1]
[]
["Age (Percent 2018/19)"]
["Under 19",0.37215461105507247,0.42734536009711749,0.21339199296084468,0.25649190283400808,0.57214658556042375,0.33906451612903221,0.58371360376667236,0.41327677812478214,0.41317596547248531,0.48561005199306756,0.11617930935869021,0.17771253669810733,0.30111804963176647,0.25649190283400808,0.12078007075471697,0.48203690686276918,0,0,0.87000000000000011,0.33906451612903221,0.48251748251748255,0.3861815640678003,0.31490978315079188,0.31442943153541714,0.29299999999999998]
["19-24",0.17451698966832391,0.15708531796445746,0.10342366915970082,0.16675708502024292,0.14578295884489051,0.3173548387096774,0.1411617956986517,0.15713294871770705,0.12941440652465835,0.18431369150779897,0.32794737970973042,0.36491973265038413,0.20454708245697428,0.16675708502024292,7.5903891509433954E-2,0.17424888537145272,0,0,4.8000000000000001E-2,0.3173548387096774,0.23376623376623382,0.1438800667630849,0.17410242878774004,0.17147637820554193,0.17]
["25+",0.45332839927660351,0.415569321938425,0.68318433787945454,0.57675101214574898,0.2820704555946858,0.34358064516129028,0.27512460053467597,0.4295902731575108,0.45740962800285634,0.33007625649913347,0.55587331093157932,0.45736773065150849,0.49433486791125925,0.57675101214574898,0.80331603773584914,0.3437142077657781,0,0,8.2000000000000003E-2,0.34358064516129028,0.28371628371628371,0.46993836916911486,0.51098778806146805,0.51409419025904102,0.53700000000000003]
[]
[]
["Gender (Count 2018/19)"]
["Female",8459.93,7631.04,14269.199999999999,2804.63,10665.25,234.58999999999997,10265.01,5835.05,6163.7,2525.7399999999998,400.24,78.3,2624.88,2804.63,11743.46,7155.37,0,0,3109.6400000000003,234.58999999999997,1389.04,44064.639999999999,218374.91000000006,1314031.1100000003,1620062.2000000002]
["Male",8290.07,7248.96,8460.7999999999993,2135.37,11964.750000000002,75.41,11804.990000000002,4774.95,4976.3,3244.26,159.76,81.7,3515.12,2135.37,5216.54,9134.630000000001,0,0,2670.36,75.41,2190.96,38175.360000000008,205235.09,1090528.8499999999,1304237.8]
[]
["Gender (Percent 2018/19)"]
["Female",0.50494082116232841,0.51294833169991971,0.62776946766388031,0.56773886639676119,0.4716223960774672,0.75674193548387092,0.46543876799634359,0.5498819201127837,0.553634865244787,0.43773656845753894,0.71537856581111026,0.4890998813167593,0.42730723899694606,0.56773886639676119,0.69242099056603768,0.4396681184283614,0,0,0.53800000000000003,0.75674193548387092,0.38761238761238764,0.53590267105851397,0.51569568125854048,0.54644331791994916,0.55400000000000005]
["Male",0.49480252830616606,0.48726542365908837,0.37223053233611963,0.43226113360323887,0.52908690030406003,0.24325806451612902,0.53526494390255408,0.44998049278798574,0.44698041434814051,0.56226343154246106,0.28555086866375917,0.51033793491161228,0.57223043413144403,0.43226113360323887,0.30757900943396227,0.56128552187228098,0,0,0.46200000000000002,0.24325806451612902,0.61138861138861145,0.46427878209422241,0.48466579588153164,0.45349931104859936,0.44600000000000001]
[]
[]
["Ethnicity (Count 2018/19)"]
["Black, Asian or Minority ",5038.8,623.81000000000006,4418.9400000000005,329.49,4013.2100000000005,49.790000000000006,3973.0500000000006,4227.12,483.71000000000004,1069.54,40.159999999999997,21.96,811.68000000000006,329.49,3349.4,3325.6900000000005,0,0,647.36,49.790000000000006,118.14,14474.04,88073.680000000022,441459.63999999996,663816.1]
["White",11711.199999999999,14256.189999999999,18311.059999999998,4610.51,18616.79,260.20999999999998,18096.95,6382.8799999999992,10656.289999999999,4700.4599999999991,519.84,138.04000000000002,5328.32,4610.51,13610.6,12964.310000000001,0,0,5132.6400000000003,260.20999999999998,3461.8599999999997,67765.959999999992,335525.32999999996,1963300.3399999999,2260483.9]
[]
["Ethnicity (Percent 2018/19)"]
["Black, Asian or Minority ",0.30074667398817018,4.1931676258770353E-2,0.19441003079630448,6.6698380566801621E-2,0.17746604309904151,0.16061290322580646,0.18014707215948872,0.39835423212262966,4.3447721444514809E-2,0.18536221837088387,7.1780939443769204E-2,0.137172840277344,0.13213432223531787,6.6698380566801621E-2,0.19748820754716981,0.20435000073735077,0,0,0.112,0.16061290322580646,3.2967032967032975E-2,0.1760295034069897,0.2079873388776517,0.18358216070648906,0.22699999999999998]
["White",0.69899667548032429,0.95828207910023766,0.80558996920369541,0.93330161943319845,0.82324325328248571,0.83938709677419343,0.82055663973940896,0.60150818077813972,0.95716755814841259,0.81463778162911593,0.92914849503110031,0.86226497595102769,0.86740335089307219,0.93330161943319845,0.80251179245283022,0.79660363956329172,0,0,0.88800000000000001,0.83938709677419343,0.96603396603396607,0.82415194974574657,0.79234818520976857,0.81644364710890582,0.77300000000000002]
[]
[]
["Level of Study (Count 2018/19)"]
["Below Level 2 (excluding English and Maths)",3990,2550,4470,1750,3690,20,3690,1540,1630,2220,0,0,2450,1750,2250,3540,0,0,150,20,920,16470,104020,487820,581300]
["English and Maths",5990,5230,4380,1350,5840,0,5660,3420,3960,2240,180,50,2570,1350,2140,4400,0,0,1260,0,1220,22790,133770,776450,945100]
["Level 2",6100,6760,3900,2980,6200,170,6070,3130,4850,2340,130,50,2970,2980,1560,4620,0,0,1450,170,1860,26110,147820,960360,1117100]
["Full level 2",2780,1910,1470,530,2060,160,1940,870,1030,890,120,50,1910,530,580,1590,0,0,350,160,830,8910,46490,316840,368100]
["Level 3",5290,6450,4870,1030,13330,10,12990,3960,4880,2840,340,80,1330,1030,2030,8300,0,0,4690,10,1490,30980,139400,779770,899600]
["Full level 3",4580,5280,3970,850,11800,10,11550,3370,3850,2240,250,80,1210,850,1730,7570,0,0,3980,10,1350,26490,120840,666110,766800]
["Level 4 and above",430,510,450,120,1960,120,1860,230,470,210,100,20,200,120,240,1800,0,0,60,120,20,3590,26050,116350,139900]
[]
["Level of Study (Percent 2018/19)"]
["Below Level 2 (excluding English and Maths)",0.1368312757201646,8.8881143255489722E-2,0.19013185878349639,0.2032520325203252,8.2219251336898391E-2,4.0816326530612242E-2,8.4323583180987205E-2,9.3220338983050849E-2,7.885824866956942E-2,0.17103235747303544,0,0,0.19382911392405064,0.2032520325203252,0.21367521367521367,0.11125078566939033,{"$error":"#DIV/0!"},{"$error":"#DIV/0!"},1.2562814070351759E-2,4.0816326530612242E-2,0.11963589076723016,0.12169351263484557,0.14479600217152244,0.11887321197943319,0.12065422694534964]
["English and Maths",0.20541838134430726,0.18229348204949461,0.1863037005529562,0.156794425087108,0.13012477718360071,0,0.1293418647166362,0.20702179176755447,0.19158200290275762,0.17257318952234207,0.16071428571428573,0.15151515151515152,0.20332278481012658,0.156794425087108,0.20322886989553657,0.13827781269641734,{"$error":"#DIV/0!"},{"$error":"#DIV/0!"},0.10552763819095477,0,0.15864759427828348,0.16839071966898184,0.18620804855301437,0.18920730072861078,0.19616430394985368]
["Level 2",0.20919067215363513,0.23562216800278843,0.1658868566567418,0.34610917537746805,0.13814616755793227,0.34693877551020408,0.13871115173674589,0.18946731234866829,0.23463957426221577,0.18027734976887519,0.11607142857142858,0.15151515151515152,0.23496835443037975,0.34610917537746805,0.14814814814814814,0.14519170333123821,{"$error":"#DIV/0!"},{"$error":"#DIV/0!"},0.12144053601340034,0.34693877551020408,0.24187256176853056,0.19292153095906606,0.20576567045755093,0.23402295489436362,0.23186450528238445]
["Full level 2",9.5336076817558305E-2,6.6573719065876613E-2,6.2526584432156529E-2,6.1556329849012777E-2,4.5900178253119428E-2,0.32653061224489793,4.43327239488117E-2,5.2663438256658597E-2,4.9830672472181904E-2,6.8567026194144842E-2,0.10714285714285714,0.15151515151515152,0.15110759493670886,6.1556329849012777E-2,5.5080721747388414E-2,4.9968573224387178E-2,{"$error":"#DIV/0!"},{"$error":"#DIV/0!"},2.9313232830820771E-2,0.32653061224489793,0.10793237971391417,6.5834195359834494E-2,6.4714152479850781E-2,7.7208372931744526E-2,7.6402582037817302E-2]
["Level 3",0.18141289437585734,0.22481700941094457,0.20714589536367503,0.11962833914053426,0.29701426024955435,2.0408163265306121E-2,0.29684643510054842,0.23970944309927361,0.23609095307208514,0.21879815100154082,0.30357142857142855,0.24242424242424243,0.10522151898734178,0.11962833914053426,0.19278252611585944,0.26084223758642361,{"$error":"#DIV/0!"},{"$error":"#DIV/0!"},0.39279731993299832,2.0408163265306121E-2,0.19375812743823148,0.22890498005024382,0.1940450173304194,0.19001632672953675,0.18672035534153886]
["Full level 3",0.15706447187928668,0.18403624956430811,0.16886431305827307,9.8722415795586521E-2,0.26292335115864529,2.0408163265306121E-2,0.26393967093235832,0.20399515738498789,0.18626028059990324,0.17257318952234207,0.22321428571428573,0.24242424242424243,9.5727848101265819E-2,9.8722415795586521E-2,0.16429249762583095,0.23790069138906347,{"$error":"#DIV/0!"},{"$error":"#DIV/0!"},0.33333333333333331,2.0408163265306121E-2,0.17555266579973991,0.19572927441997931,0.1682094683946046,0.16231937032434146,0.15915647896386392]
["Level 4 and above",1.4746227709190672E-2,1.7776228651097944E-2,1.9140791152700978E-2,1.3937282229965157E-2,4.3672014260249553E-2,0.24489795918367346,4.2504570383912248E-2,1.3922518159806295E-2,2.2738268021286888E-2,1.6178736517719568E-2,8.9285714285714288E-2,6.0606060606060608E-2,1.5822784810126583E-2,1.3937282229965157E-2,2.2792022792022793E-2,5.6568196103079824E-2,{"$error":"#DIV/0!"},{"$error":"#DIV/0!"},5.0251256281407036E-3,0.24489795918367346,2.6007802340702211E-3,2.6525786907048914E-2,3.6261640613037487E-2,2.8352462411969686E-2,2.9037547479192179E-2]
[]
["Source: Department for Education: Participation by provider by funding stream, learner and learning characteristics 2018/19"]
["Description: Number of further education and skills funded learners by age, gender, ethnicity and level of study based on the postcode of the provider"]
["Year: 2018/19"]
["https://assets.publishing.service.gov.uk/government/uploads/system/uploads/attachment_data/file/848371/Feandskills-learners-by-provider-local-authority-learner-characteristics-1819_Final_v0.1.xlsx"]
["Travel to Work Area figures are not complete due to some being to small is disclose"]

{"sheet":"ES22. Learners by Prov Type","index":33,"n_rows":25,"n_cols":26,"rows_kept":25,"cut":false,"hidden":false,"merged":[]}
["ES22. Provider Perspective Number of FE and Skills Funded Learners by Provider Type",null,null,null,null,null,null,"Return to Contents",null,"Return to TTWA Summary",null,"Return to LA Summary"]
[" ","Blackburn with Darwen, Hyndburn, Rossendale and Ribble Valley","Blackpool, Fylde and Wyre","Burnley and Pendle","Lancaster and Morecambe ","Preston, Chorley and South Ribble ","West Lancashire ","Preston and South Ribble City Deal","Blackburn with Darwen ","Blackpool","Burnley","Chorley ","Fylde","Hyndburn","Lancaster ","Pendle ","Preston","Ribble Valley","Rossendale ","South Ribble ","West Lancashire ","Wyre ","Lancashire ","North West ","England Minus London","England"]
["2018/19"]
["Education and Training",9690,10080,7940,4130,15480,20,15320,6320,7550,4300,160,0,3370,4130,3640,9960,0,0,5360,20,2530,47340,267490,1510310,1791000]
["Apprenticeships",4850,3160,3190,900,7300,290,6870,1970,1820,1750,430,160,2880,900,1440,6430,0,0,440,290,1180,19690,104390,627750,742400]
["Community Learning",2610,2060,13530,0,470,0,470,2610,2060,0,0,0,0,0,13530,470,0,0,0,0,0,18670,70410,344520,490300]
["FE and Skills",16750,14880,22730,4940,22630,310,22070,10610,11140,5770,560,160,6140,4940,16960,16290,0,0,5780,310,3580,82240,423610,2404560,2924300]
[]
["Source: Department for Education: Participation by provider by funding stream, learner and learning characteristics 2018/19"]
["Description: Number of further education and skills funded learners by provider type based on the postcode of the provider"]
["Year: 2018/19"]
["https://assets.publishing.service.gov.uk/government/uploads/system/uploads/attachment_data/file/848371/Feandskills-learners-by-provider-local-authority-learner-characteristics-1819_Final_v0.1.xlsx"]
[]
[]
[]
[]
[]
[]
[]
[]
[]
[]
[]
[]
[null,null,null,null,null,null," "]

{"sheet":"ES24 Provider Ofsted Rating","index":34,"n_rows":15,"n_cols":8,"rows_kept":15,"cut":false,"hidden":false,"merged":[]}
["ES24. Ofsted Rating of Local Education Providers",null,"Return to Contents",null,"Return to TTWA Summary",null,"Return to LA Summary"]
[" ","Blackburn with Darwen ","Blackpool","Lancashire ","Lancashire (LEP)","North West ","England Minus London","England"]
[2019]
["Outstanding",0,2,5,7,26,130,154]
["Good",2,1,10,13,100,612,729]
["Requires improvement",2,0,1,3,16,127,163]
["Inadequate",0,0,2,2,13,36,42]
["Remained good at a short inspection that did not convert",0,0,0,0,0,0,0]
["Not judged",0,1,12,13,115,637,772]
[]
["Source: Ofsted: In-year full and short inspection outcomes for further education and skills providers"]
["Description: Number of education providers based on their most recent Ofsted rating"]
["Year: 2019"]
["https://assets.publishing.service.gov.uk/government/uploads/system/uploads/attachment_data/file/824534/Management_information_-_further_education_and_skills_-_as_at_31_July_2019.xlsx"]
["Data only available at regional and local education authority level"]

{"sheet":"ES25a FE Part. & Achieve","index":35,"n_rows":35,"n_cols":26,"rows_kept":35,"cut":false,"hidden":false,"merged":[]}
["ES25a. Learner Perspective - Number of FE Learners (Participation and Achievements)",null,null,null,null,null,null,"Return to Contents",null,"Return to TTWA Summary",null,"Return to LA Summary"]
[" ","Blackburn with Darwen, Hyndburn, Rossendale and Ribble Valley","Blackpool, Fylde and Wyre","Burnley and Pendle","Lancaster and Morecambe ","Preston, Chorley and South Ribble ","West Lancashire ","Preston and South Ribble City Deal","Blackburn with Darwen ","Blackpool","Burnley","Chorley ","Fylde","Hyndburn","Lancaster ","Pendle ","Preston","Ribble Valley","Rossendale ","South Ribble ","West Lancashire ","Wyre ","Lancashire ","North West ","England Minus London","England"]
["Participation"]
["2014/15",28820,27910,15870,10040,30940,8370,21490,14080,15450,8130,9450,5440,6820,10040,7740,14070,3430,4490,7420,8370,7020,121950,545180,3050310,3576860]
["2015/16",27000,24510,14050,8090,28100,7140,19610,12830,13430,7360,8490,5090,6580,8090,6690,12820,3130,4460,6790,7140,5990,108890,493770,2803170,3274890]
["2016/17",26770,23660,14130,8430,27070,7070,18790,12820,12750,7120,8280,4990,6350,8430,7010,12180,3000,4600,6610,7070,5920,107130,475580,2694890,3152110]
["2017/18",26400,23200,14870,8470,26580,7160,18460,12640,12290,7620,8120,4880,6400,8470,7250,11930,3010,4350,6530,7160,6030,106680,466680,2605170,3062010]
["2018/19",24830,20680,14490,7750,25370,6940,17810,12250,10730,7260,7560,4420,5830,7750,7230,11140,2730,4020,6670,6940,5530,100060,437260,2485890,2924260]
["Change (2014/15 - 2018/19)",{"$f":"B8/B4-1","v":-0.13844552394170717},{"$f":"C8/C4-1","v":-0.25904693658187028},-8.6956521739130488E-2,-0.22808764940239046,-0.18002585649644476,-0.17084826762246119,-0.17124243834341557,-0.12997159090909094,-0.30550161812297738,-0.1070110701107011,-0.19999999999999996,-0.1875,-0.14516129032258063,-0.22808764940239046,-6.589147286821706E-2,-0.20824449182658133,-0.20408163265306123,-0.10467706013363032,-0.10107816711590301,-0.17084826762246119,-0.21225071225071224,-0.17949979499794999,-0.19795296966139619,-0.18503693067262017,-0.18245052923513916]
[]
["Achievements"]
["2014/15",22200,22170,12830,7970,24910,6510,17370,11160,12240,6380,7540,4360,5120,7970,6450,11690,2660,3260,5680,6510,5570,96590,420420,2321870,2737950]
["2015/16",20260,18800,11050,5970,21390,5220,15050,9940,10360,5640,6340,4010,4840,5970,5410,10190,2340,3140,4860,5220,4430,82690,367720,2063310,2429730]
["2016/17",19620,17780,10580,6250,20260,4930,14180,9670,9720,5140,6080,3900,4610,6250,5440,9570,2060,3280,4610,4930,4160,79420,343710,1932280,2284000]
["2017/18",20040,17210,11840,6430,19310,5030,13540,9790,9300,6010,5770,3590,4900,6430,5830,9120,2200,3150,4420,5030,4320,79860,337810,1877960,2231200]
["2018/19",18790,14950,11520,5800,18020,4950,12710,9500,7970,5680,5310,3080,4490,5800,5840,8190,1940,2860,4520,4950,3900,74030,315310,1771790,2108140]
["Change (2014/15 - 2018/19)",{"$f":"B16/B12-1","v":-0.15360360360360359},{"$f":"C16/C12-1","v":-0.3256653134866937},{"$f":"D16/D12-1","v":-0.10210444271239283},{"$f":"E16/E12-1","v":-0.2722710163111669},{"$f":"F16/F12-1","v":-0.27659574468085102},{"$f":"G16/G12-1","v":-0.23963133640552992},{"$f":"H16/H12-1","v":-0.26827864133563617},{"$f":"I16/I12-1","v":-0.14874551971326166},{"$f":"J16/J12-1","v":-0.34885620915032678},{"$f":"K16/K12-1","v":-0.10971786833855801},{"$f":"L16/L12-1","v":-0.29575596816976124},{"$f":"M16/M12-1","v":-0.29357798165137616},{"$f":"N16/N12-1","v":-0.123046875},{"$f":"O16/O12-1","v":-0.2722710163111669},{"$f":"P16/P12-1","v":-9.4573643410852726E-2},{"$f":"Q16/Q12-1","v":-0.29940119760479045},{"$f":"R16/R12-1","v":-0.27067669172932329},{"$f":"S16/S12-1","v":-0.12269938650306744},{"$f":"T16/T12-1","v":-0.20422535211267601},{"$f":"U16/U12-1","v":-0.23963133640552992},{"$f":"V16/V12-1","v":-0.29982046678635543},{"$f":"W16/W12-1","v":-0.23356455119577602},{"$f":"X16/X12-1","v":-0.25001189286903569},{"$f":"Y16/Y12-1","v":-0.23691248864062153},{"$f":"Z16/Z12-1","v":-0.2300297667963257}]
[]
["Source: Department for Education: Further Education and Skills Geography 2014/15 to 2018/19"]
["Description: Number of further education and skills funded participation and achievement numbers based on the postcode of the learner"]
["Year: 2014/15; 2015/16; 2016/17; 2017/18; 2018/19"]
["https://assets.publishing.service.gov.uk/government/uploads/system/uploads/attachment_data/file/848365/FE_and_Skills_Part_and_Achieve_Final_201819.xlsx"]
["Participation is classed as a count of the number of people starting, continuing and achieving in FE in that year"]
[]
[]
[]
[]
[]
[]
[]
[]
[]
[]
[]
[null,null,null,null,null,null," "]

{"sheet":"ES25b FE Part by Characteristic","index":36,"n_rows":35,"n_cols":26,"rows_kept":35,"cut":false,"hidden":false,"merged":[]}
["ES25b. Learner Perspective FE and Skills Participation by Characteristics",null,null,null,null,"Return to Contents",null,"Return to TTWA Summary",null,"Return to LA Summary"]
[" ","Blackburn with Darwen, Hyndburn, Rossendale and Ribble Valley","Blackpool, Fylde and Wyre","Burnley and Pendle","Lancaster and Morecambe ","Preston, Chorley and South Ribble ","West Lancashire ","Preston and South Ribble City Deal","Blackburn with Darwen ","Blackpool","Burnley","Chorley ","Fylde","Hyndburn","Lancaster ","Pendle ","Preston","Ribble Valley","Rossendale ","South Ribble ","West Lancashire ","Wyre ","Lancashire ","North West ","England Minus London","England"]
["Age (Count 2018/19)"]
["16-18",8230,6820,4320,1690,8200,2380,5660,4200,3230,1990,2540,1480,1830,1690,2330,3150,1000,1200,2510,2380,2110,31640,138600,758330,856060]
["Adult (19+)",16590,13860,10170,6060,17180,4560,12150,8040,7500,5270,5030,2940,4000,6060,4900,7980,1730,2820,4170,4560,3420,68420,303810,1713250,2068200]
[]
["Age (Percent 2018/19)"]
["16-18",0.3314538864277084,0.32978723404255317,0.29813664596273293,0.21806451612903227,0.32321639731966889,0.34293948126801155,0.31779898933183603,0.34285714285714286,0.30102516309412863,0.27410468319559228,0.33597883597883599,0.33484162895927599,0.313893653516295,0.21806451612903227,0.32226832641770403,0.28276481149012567,0.36630036630036628,0.29850746268656714,0.37631184407796103,0.34293948126801155,0.38155515370705245,0.32,0.31328405777446261,0.30682117034921125,0.29274414723724979]
["Adult (19+)",0.6681433749496577,0.67021276595744683,0.70186335403726707,0.78193548387096778,0.67717776901852578,0.65706051873198845,0.68220101066816397,0.65632653061224488,0.69897483690587137,0.72589531680440766,0.66534391534391535,0.66515837104072395,0.68610634648370494,0.78193548387096778,0.67773167358229602,0.71633752244165172,0.63369963369963367,0.70149253731343286,0.62518740629685154,0.65706051873198845,0.6184448462929476,0.68,0.68671594222553745,0.69318287566202863,0.70725585276275027]
[]
["Level of Study (Count 2018/19)"]
["Below Level 2 (excluding English and Maths)",5130,3470,3930,2370,5580,1220,4350,2350,2170,2150,1230,640,1460,2370,1780,3480,400,920,870,1220,660,21700,67630,318180,394510]
["English and Maths",7320,6180,4290,2240,7330,1680,5410,3960,3440,2230,1920,1330,1710,2240,2060,3850,540,1110,1560,1680,1410,29040,80200,451000,573480]
["Level 2",8430,8460,4650,3320,8210,2510,5660,3890,4530,2490,2550,1720,2160,3320,2160,3520,840,1540,2140,2510,2210,35580,102660,607750,695630]
["Full level 2",3010,2300,1440,1010,2650,890,1780,1280,1150,790,870,470,750,1010,650,960,350,630,820,890,680,11300,31960,194180,217780]
["Level 3",8080,8140,4350,2010,8990,2450,6270,3690,3800,2090,2720,1810,1880,2010,2260,3490,1090,1420,2780,2450,2530,34020,65910,365840,422390]
["Full level 3",6720,6600,3520,1740,7870,2130,5470,3120,2980,1680,2400,1500,1540,1740,1840,3050,930,1130,2420,2130,2120,28580,55130,313980,356520]
["Level 4 and above",1120,1050,540,360,1280,390,900,430,470,320,380,260,270,360,220,460,220,200,440,390,320,4740,20860,115150,133070]
[]
["Level of Study (Percent 2018/19)"]
["Below Level 2 (excluding English and Maths)",0.12886209495101733,9.5856353591160223E-2,0.17297535211267606,0.18160919540229886,0.13314244810307801,0.10825199645075421,0.14577747989276141,0.12553418803418803,0.11704422869471413,0.18297872340425531,0.10190555095277548,8.2794307891332478E-2,0.14943705220061412,0.18160919540229886,0.16226071103008205,0.1850079744816587,9.1533180778032033E-2,0.13237410071942446,7.8875793291024482E-2,0.10825199645075421,6.6465256797583083E-2,0.13154704170708051,0.1593731589489808,0.13447558831484988,0.14123033744066329]
["English and Maths",0.1838733986435569,0.17071823204419889,0.18882042253521128,0.17164750957854405,0.17489859222142687,0.14906832298136646,0.18130026809651476,0.21153846153846154,0.18554476806903991,0.18978723404255318,0.15907207953603977,0.17205692108667528,0.17502558853633571,0.17164750957854405,0.18778486782133091,0.2046783625730994,0.12356979405034325,0.15971223021582734,0.14143245693563011,0.14906832298136646,0.1419939577039275,0.17604267701260912,0.18899493342759516,0.19061063024073574,0.20529967279782915]
["Level 2",0.21175584024114544,0.23370165745856353,0.20466549295774647,0.25440613026819925,0.19589596754951086,0.22271517302573204,0.18967828418230562,0.20779914529914531,0.24433656957928804,0.21191489361702129,0.21126760563380281,0.22250970245795601,0.2210849539406346,0.25440613026819925,0.19690063810391978,0.1871345029239766,0.19221967963386727,0.22158273381294963,0.19401631912964643,0.22271517302573204,0.22255790533736153,0.21568865179437438,0.24192294096854011,0.2568594468487963,0.24902805919710172]
["Full level 2",7.5609143431298667E-2,6.3535911602209949E-2,6.3380281690140844E-2,7.7394636015325674E-2,6.3230732522071106E-2,7.8970718722271516E-2,5.9651474530831097E-2,6.8376068376068383E-2,6.2028047464940672E-2,6.7234042553191486E-2,7.2079536039768022E-2,6.0802069857697282E-2,7.6765609007164795E-2,7.7394636015325674E-2,5.9252506836827715E-2,5.1036682615629984E-2,8.0091533180778038E-2,9.0647482014388492E-2,7.4342701722574803E-2,7.8970718722271516E-2,6.8479355488418936E-2,6.8501454898157135E-2,7.5315187934488034E-2,8.2068230998106576E-2,7.7962897994544242E-2]
["Level 3",0.20296407937704095,0.22486187845303868,0.19146126760563381,0.15402298850574714,0.21450727749940349,0.21739130434782608,0.21012064343163539,0.19711538461538461,0.20496224379719524,0.17787234042553191,0.22535211267605634,0.23415265200517466,0.19242579324462641,0.15402298850574714,0.20601640838650867,0.18553960659223817,0.2494279176201373,0.20431654676258992,0.25203989120580234,0.21739130434782608,0.25478348439073517,0.2062318137730359,0.15531990102509721,0.1546186096835272,0.15121107761922831]
["Full level 3",0.16880180859080632,0.18232044198895028,0.15492957746478872,0.13333333333333333,0.18778334526366022,0.18899733806566105,0.18331099195710457,0.16666666666666666,0.16073354908306364,0.14297872340425533,0.19884009942004971,0.19404915912031048,0.15762538382804503,0.13333333333333333,0.16773017319963537,0.1621477937267411,0.21281464530892449,0.16258992805755396,0.21940163191296463,0.18899733806566105,0.21349446122860019,0.17325412221144521,0.12991634264168728,0.13270050040573439,0.1276303259850074]
["Level 4 and above",2.8133634765134388E-2,2.9005524861878452E-2,2.3767605633802816E-2,2.7586206896551724E-2,3.0541636840849439E-2,3.4605146406388641E-2,3.0160857908847184E-2,2.2970085470085472E-2,2.535059331175836E-2,2.7234042553191489E-2,3.1483015741507872E-2,3.3635187580853813E-2,2.7635619242579325E-2,2.7586206896551724E-2,2.0054694621695533E-2,2.4455077086656035E-2,5.0343249427917618E-2,2.8776978417266189E-2,3.9891205802357207E-2,3.4605146406388641E-2,3.2225579053373615E-2,2.8734238603297768E-2,4.9157535053611402E-2,4.8666993508249934E-2,4.7637628965625872E-2]
[]
["Source: Department for Education: Further Education and Skills Geography 2014/15 to 2018/19"]
["Description: Number of further education and skills funded learner participation by age and level of study based on the postcode of the learner"]
["Year: 2018/19"]
["https://assets.publishing.service.gov.uk/government/uploads/system/uploads/attachment_data/file/848365/FE_and_Skills_Part_and_Achieve_Final_201819.xlsx"]
["Travel to Work Area figures are not complete due to some being to small is disclose."]
["Participation is classed as a count of the number of people starting, continuing and achieving in FE in that year"]
["Participation where no level was assigned were removed from the analysis."]

{"sheet":"ES25c FE Achieve by Character","index":37,"n_rows":34,"n_cols":26,"rows_kept":34,"cut":false,"hidden":false,"merged":[]}
["ES25c. Learner Perspective FE and Skills Achievements by Characteristics",null,null,null,null,"Return to Contents",null,"Return to TTWA Summary",null,"Return to LA Summary"]
[" ","Blackburn with Darwen, Hyndburn, Rossendale and Ribble Valley","Blackpool, Fylde and Wyre","Burnley and Pendle","Lancaster and Morecambe ","Preston, Chorley and South Ribble ","West Lancashire ","Preston and South Ribble City Deal","Blackburn with Darwen ","Blackpool","Burnley","Chorley ","Fylde","Hyndburn","Lancaster ","Pendle ","Preston","Ribble Valley","Rossendale ","South Ribble ","West Lancashire ","Wyre ","Lancashire ","North West ","England Minus London","England"]
["Age (Count 2018/19)"]
["16-18",6110,5020,3490,1320,5370,1620,3680,3150,2490,1640,1690,1010,1440,1320,1850,2060,670,850,1620,1620,1520,22930,100760,563670,640560]
["Adult (19+)",12680,9930,8020,4480,12660,3330,9040,6350,5480,4040,3620,2070,3050,4480,3980,6140,1270,2010,2900,3330,2380,51100,217770,1196680,1467580]
[]
["Age (Percent 2018/19)"]
["16-18",0.32517296434273552,0.33578595317725751,0.3029513888888889,0.22758620689655173,0.29800221975582686,0.32727272727272727,0.2895357985837923,0.33157894736842103,0.31242158092848182,0.28873239436619719,0.31826741996233521,0.32792207792207795,0.32071269487750559,0.22758620689655173,0.31678082191780821,0.25152625152625152,0.34536082474226804,0.29720279720279719,0.3584070796460177,0.32727272727272727,0.38974358974358975,0.31,0.31633806354389049,0.32,0.30385078789833692]
["Adult (19+)",0.67482703565726454,0.66421404682274243,0.69618055555555558,0.77241379310344827,0.70255271920088791,0.67272727272727273,0.71125098347757676,0.66842105263157892,0.68757841907151818,0.71126760563380287,0.68173258003766479,0.67207792207792205,0.67928730512249447,0.77241379310344827,0.68150684931506844,0.7496947496947497,0.65463917525773196,0.70279720279720281,0.6415929203539823,0.67272727272727273,0.61025641025641031,0.69,0.68369333165892254,0.68,0.69614921210166303]
[]
["Level of Study (Count 2018/19)"]
["Below Level 2 (excluding English and Maths)",4720,3140,3810,2190,5040,1120,3960,2120,1940,2090,1080,590,1360,2190,1720,3170,380,860,790,1120,610,20020,61970,290300,359950]
["English and Maths",4860,4100,3110,1420,4850,1140,3640,2800,2340,1530,1210,840,1070,1420,1580,2670,330,660,970,1140,920,19480,50540,275320,363830]
["Level 2",5720,6140,3370,2280,5500,1720,3810,2680,3400,1770,1690,1170,1470,2280,1600,2410,570,1000,1400,1720,1570,24730,71460,412390,474020]
["Full level 2",1280,880,590,410,990,400,650,560,470,330,340,150,300,410,260,350,160,260,300,400,260,4550,13110,79870,89260]
["Level 3",4080,4620,2140,940,4360,1290,2920,1960,2170,910,1440,990,950,940,1230,1570,510,660,1350,1290,1460,17430,25790,134560,156740]
["Full level 3",3090,3360,1540,750,3390,1040,2240,1510,1530,650,1150,730,700,750,890,1200,400,480,1040,1040,1100,13170,19690,106730,121480]
["Level 4 and above",190,220,100,50,240,60,170,70,100,60,70,50,50,50,40,90,40,30,80,60,70,860,3380,17470,19780]
[]
["Level of Study (Percent 2018/19)"]
["Below Level 2 (excluding English and Maths)",0.1971595655806182,0.13980409617097062,0.25989085948158253,0.27238805970149255,0.20681165367254822,0.16543574593796159,0.22771707878090858,0.18119658119658119,0.16234309623430962,0.28474114441416892,0.15472779369627507,0.13053097345132744,0.23050847457627119,0.27238805970149255,0.23497267759562843,0.27661431064572428,0.15899581589958159,0.21772151898734177,0.13322091062394603,0.16543574593796159,0.1018363939899833,0.19972067039106145,0.25197202569732458,0.22048547818689998,0.22708919536168978]
["English and Maths",0.20300751879699247,0.182546749777382,0.21214188267394271,0.17661691542288557,0.19901518260155929,0.16838995568685378,0.2093156986774008,0.23931623931623933,0.19581589958158996,0.20844686648501362,0.17335243553008595,0.18584070796460178,0.18135593220338983,0.17661691542288557,0.21584699453551912,0.23298429319371727,0.13807531380753138,0.16708860759493671,0.16357504215851601,0.16838995568685378,0.15358931552587646,0.19433359936153233,0.20549727575831503,0.20910803256774821,0.22953705222515236]
["Level 2",0.23893065998329155,0.27337488869100623,0.22987721691678034,0.28358208955223879,0.22568732047599507,0.25406203840472674,0.2190914318573893,0.22905982905982905,0.28451882845188287,0.24114441416893734,0.24212034383954154,0.25884955752212391,0.24915254237288137,0.28358208955223879,0.21857923497267759,0.21029668411867364,0.2384937238493724,0.25316455696202533,0.23608768971332209,0.25406203840472674,0.26210350584307179,0.24670790103750997,0.29055867284703585,0.31321393851014706,0.2990549253656013]
["Full level 2",5.3467000835421885E-2,3.9180765805877114E-2,4.0245566166439289E-2,5.0995024875621887E-2,4.0623717685679114E-2,5.9084194977843424E-2,3.7377803335250141E-2,4.7863247863247867E-2,3.9330543933054393E-2,4.4959128065395093E-2,4.8710601719197708E-2,3.3185840707964605E-2,5.0847457627118647E-2,5.0995024875621887E-2,3.5519125683060107E-2,3.0541012216404886E-2,6.6945606694560664E-2,6.5822784810126586E-2,5.0590219224283306E-2,5.9084194977843424E-2,4.340567612687813E-2,4.5391061452513967E-2,5.3305684313247136E-2,6.0661988090898046E-2,5.6313325678523207E-2]
["Level 3",0.17042606516290726,0.20569902048085487,0.14597544338335608,0.11691542288557213,0.17890849405006154,0.19054652880354506,0.16791259344450835,0.16752136752136751,0.18158995815899581,0.12397820163487738,0.20630372492836677,0.21902654867256638,0.16101694915254236,0.11691542288557213,0.16803278688524589,0.13699825479930192,0.21338912133891214,0.16708860759493671,0.22765598650927488,0.19054652880354506,0.24373956594323873,0.1738826815642458,0.10486297470927869,0.10219953821849556,9.8885846592558016E-2]
["Full level 3",0.12907268170426064,0.1495992876224399,0.10504774897680765,9.3283582089552244E-2,0.1391054575297497,0.15361890694239291,0.12880966072455435,0.12905982905982907,0.12803347280334729,8.8555858310626706E-2,0.16475644699140402,0.16150442477876106,0.11864406779661017,9.3283582089552244E-2,0.12158469945355191,0.10471204188481675,0.16736401673640167,0.12151898734177215,0.17537942664418213,0.15361890694239291,0.18363939899833054,0.13138467677573823,8.0060177279011144E-2,8.1062401263823067E-2,7.6640631900369696E-2]
["Level 4 and above",7.9365079365079361E-3,9.7951914514692786E-3,6.8212824010914054E-3,6.2189054726368162E-3,9.8481739844070576E-3,8.8626292466765146E-3,9.7757331799884998E-3,5.9829059829059833E-3,8.368200836820083E-3,8.1743869209809257E-3,1.0028653295128941E-2,1.1061946902654867E-2,8.4745762711864406E-3,6.2189054726368162E-3,5.4644808743169399E-3,7.8534031413612562E-3,1.6736401673640166E-2,7.5949367088607592E-3,1.3490725126475547E-2,8.8626292466765146E-3,1.1686143572621035E-2,8.5794094173982441E-3,1.374318939578759E-2,1.3268623161988092E-2,1.2479022876105637E-2]
[]
["Source: Department for Education: Further Education and Skills Geography 2014/15 to 2018/19"]
["Description: Number of further education and skills funded learner achievements by age and level of study based on the postcode of the learner"]
["Year: 2018/19"]
["https://assets.publishing.service.gov.uk/government/uploads/system/uploads/attachment_data/file/848365/FE_and_Skills_Part_and_Achieve_Final_201819.xlsx"]
["Travel to Work Area figures are not complete due to some being to small is disclose"]
["Achievements where no level was assigned were removed from the analysis."]

{"sheet":"ES26. Total HE Students","index":38,"n_rows":10,"n_cols":8,"rows_kept":10,"cut":false,"hidden":false,"merged":[]}
["ES26. Total Higher Education (HE) Students",null,null,"Return to Contents",null,"Return to TTWA Summary",null,"Return to LA Summary"]
[null,"Lancashire ","North West ","England Minus London","England"]
["2017/18"]
["Full Time Equivalent",56460,203611,"--",1773252]
[]
[]
["Source: Office for Students: Student Number Data"]
["Description: Number of full time equivalent Higher Education students"]
["Year: 2017/18"]
["https://www.officeforstudents.org.uk/data-and-analysis/student-number-data/get-the-data/"]

{"sheet":"ES27. HE Students by Institut","index":39,"n_rows":18,"n_cols":10,"rows_kept":18,"cut":false,"hidden":false,"merged":[]}
["ES27. HE Students by Teaching/Registered Institution",null,null,null,"Return to Contents",null,"Return to TTWA Summary",null,null,"Return to LA Summary"]
[null,"Lancashire ","North West ","England Minus London","England"]
["Number (2017/18)"]
["FEC Taught",7215,13562,"--","--"]
["HEI Taught",49245,189512,"--","--"]
["AP Taught","~",537,"--","--"]
["Total",56460,{"$f":"SUM(C4:C6)","v":203611},"--","--"]
[]
["Percentage (2017/18)"]
["FEC Taught",{"$f":"B4/B$7","v":0.12778958554729011},{"$f":"C4/C$7","v":6.6607403332825832E-2},"--","--"]
["HEI Taught",{"$f":"B5/B$7","v":0.87221041445270986},{"$f":"C5/C$7","v":0.93075521460039001},"--","--"]
["AP Taught","--",{"$f":"C6/C$7","v":2.6373820667842112E-3},"--","--"]
[]
["Source: Higher education full time equivalent (FTE) 2017/18 calculated using HESA student, HESA AP student or ILR data."]
["Description: Number and percentage of Higher Education students by teaching/registered institution"]
["Year: 2017/18"]
["https://www.officeforstudents.org.uk/media/06f32f22-e155-49ba-ac16-b988215c74d5/sn1718officialstats-4-september.xlsx"]
["~ Data supressed"]

{"sheet":"ES28. HE Students by Domicile","index":40,"n_rows":11,"n_cols":8,"rows_kept":11,"cut":false,"hidden":false,"merged":[]}
["ES28. HE Students by Domicile ",null,"Return to Contents",null,"Return to TTWA Summary",null,null,"Return to LA Summary"]
[null,"Lancashire ","North West ","England Minus London","England"]
["Higher Education Institution (2017/18)"]
["Total UK  ",0.873486323990177,0.83244467836792602,"..",0.80273439543081893]
["Other European Union",3.7598441866373108E-2,3.8444815670839148E-2,"..",5.6662342960553155E-2]
["Non-European Union",8.8999915318824618E-2,0.12913338978008651,"..",0.14059280102932101]
[]
["Source: The Higher Education Statistics Agency (HESA) Higher Education student enrolments by Higher Education provider"]
["Description: Percentage of Higher Education students by domicile and teaching/registered institution"]
["Year: 2017/18"]
["https://www.hesa.ac.uk/data-and-analysis/students/table-1"]

{"sheet":"ES29. HE Students by Ethnicity","index":41,"n_rows":13,"n_cols":6,"rows_kept":13,"cut":false,"hidden":false,"merged":[]}
["ES29. HE Students by Ethnicity","Return to Contents",null,"Return to TTWA Summary",null,"Return to LA Summary"]
[null,"Lancashire ","North West ","England Minus London","England"]
["Higher Education Institution (2017/18)"]
["Asian or Asian British",0.09,0.1,"..",0.11]
["Black or Black British",2.9916410300000001E-2,3.7111589899999999E-2,"..",7.4431479100000003E-2]
["Other (including mixed)",0.01,0.01,"..",0.02]
["Unknown",0.01,0.02,"..",0.02]
["White",0.83,0.79,"..",0.75]
[]
["Source: The Higher Education Statistics Agency (HESA) UK domiciled Higher Education student enrolments by Higher Education provider and ethnicity marker"]
["Description: Percentage of Higher Education students by ethnicity"]
["Year: 2017/18"]
["https://www.hesa.ac.uk/data-and-analysis/students/table-5"]

{"sheet":"ES30. HE Students by Age","index":42,"n_rows":11,"n_cols":6,"rows_kept":11,"cut":false,"hidden":false,"merged":[]}
["ES30. HE Students by Age","Return to Contents",null,"Return to TTWA Summary",null,"Return to LA Summary"]
[null,"Lancashire ","North West ","England Minus London","England"]
["Higher Education Institution (2017/18)"]
["Under 21",0.42653908036243543,0.45960967059276203,"..",0.42126060441227237]
["21-24",0.23880091455669405,0.27271755627284583,"..",0.27971066037637166]
["Over 24",0.33449064273012108,0.26760864453517452,"..",0.29893458999759409]
[]
["Source: The Higher Education Statisitcs Agency (HESA) Higher Education student enrolments by Higher Education provider and age group"]
["Description: Percentage of Higher Education students by age on entry"]
["Year: 2017/18"]
["https://www.hesa.ac.uk/data-and-analysis/students/table-3"]

{"sheet":"ES31. HE Students by Gender","index":43,"n_rows":10,"n_cols":6,"rows_kept":10,"cut":false,"hidden":false,"merged":[]}
["ES31. HE Students by Gender","Return to Contents",null,"Return to TTWA Summary",null,"Return to LA Summary"]
[null,"Lancashire ","North West ","England Minus London","England"]
["Higher Education Institution (2017/18)"]
["Female",0.60451042710000003,0.57999999999999996,"..",0.56999999999999995]
["Male",0.39548957289999997,0.42,"..",0.43]
[]
["Source: The Higher Education Statisitcs Agency (HESA) Higher Education student enrolments by Higher Education provider"]
["Description: Percentage of Higher Education students by gender"]
["Year: 2017/18"]
["https://www.hesa.ac.uk/data-and-analysis/students/table-1"]

{"sheet":"ES32. HE Students by Level","index":44,"n_rows":32,"n_cols":6,"rows_kept":32,"cut":false,"hidden":false,"merged":[]}
["ES32. HE Students by Level","Return to Contents",null,"Return to TTWA Summary",null,"Return to LA Summary"]
[null,"Lancashire ","North West ","England Minus London","England"]
["Number (2016/17)"]
["Postgraduate research",1935,9485,64160,82930]
["Postgraduate taught",6060,25410,159430,226145]
["First degree",40590,159880,1009055,1221045]
["Other undergraduate",2720,5660,49955,60445]
["Total",{"$f":"SUM(B4:B7)","v":51305},{"$f":"SUM(C4:C7)","v":200435},{"$f":"SUM(D4:D7)","v":1282600},{"$f":"SUM(E4:E7)","v":1590565}]
[]
["Number (2017/18)"]
["Postgraduate research",1965,9750,63940,82435]
["Postgraduate taught",5910,26110,169345,241250]
["First degree",39275,161460,1029385,1244625]
["Other undergraduate",2095,4680,46190,55680]
["Total",49245,202005,1308860,1623995]
[]
["Percentage (2016/17)"]
["Postgraduate research",{"$f":"B4/B$8","v":3.7715622259039079E-2},4.7322074487988627E-2,5.002338998908467E-2,5.2138705428574121E-2]
["Postgraduate taught",0.11811714257869603,0.12677426597151195,0.12430219865897396,0.14217903700886164]
["First degree",0.79115095994542439,0.79766507845436174,0.78672618119444881,0.76768003822541042]
["Other undergraduate",{"$f":"B7/B$8","v":5.3016275216840464E-2},2.8238581086137651E-2,3.8948230157492596E-2,3.8002219337153781E-2]
[]
["Percentage (2017/18)"]
["Postgraduate research",{"$f":"B11/B$15","v":3.9902528175449287E-2},{"$f":"C11/C$15","v":4.8266132026434989E-2},4.8851672447778986E-2,5.0760624263005732E-2]
["Postgraduate taught",{"$f":"B12/B$15","v":0.12001218397806884},0.12925422638053513,0.12938358571581376,0.14855341303390712]
["First degree",0.79754289775611742,0.79928714635776343,0.78647448925018715,0.76639706403036956]
["Other undergraduate",4.2542390090364507E-2,2.3167743372688794E-2,3.5290252586220067E-2,3.4285819845504453E-2]
[]
["Source: Higher Education Statistics Agency (HESA)"]
["Description: Number and percentage of Higher Education students by level of study"]
["Year: 2016/17; 2017/18 "]
["https://www.hesa.ac.uk/data-and-analysis/students/releases"]

{"sheet":"ES33. FT UG Students Domicile","index":45,"n_rows":54,"n_cols":8,"rows_kept":54,"cut":false,"hidden":false,"merged":[]}
["ES33. Full Time Undergraduate Students by Domicile",null,"Return to Contents",null,"Return to TTWA Summary",null,null,"Return to LA Summary"]
[null,"Lancashire ","North West ","England Minus London","England"]
["Full-time undergraduate (2015/16)"]
["UK",36255,142720,858310,1023700]
["Non-European Union",3170,16320,95330,127480]
["Other European Union",1430,5540,45480,65190]
["Total",{"$f":"SUM(B4:B6)","v":40855},{"$f":"SUM(C4:C6)","v":164580},{"$f":"SUM(D4:D6)","v":999120},{"$f":"SUM(E4:E6)","v":1216370}]
[]
["Part-time undergraduate (2015/16)"]
["UK",6380,13430,184655,208340]
["Non-European Union",235,550,4265,6815]
["Other European Union",170,235,2130,2985]
["Total",{"$f":"SUM(B10:B12)","v":6785},14215,191050,218140]
[]
["Full-time undergraduate (2017/18)"]
["UK",35815,143625,874815,1039905]
["Non-European Union",3185,16820,96860,131175]
["Other European Union",1510,5780,49075,69890]
["Total",{"$f":"SUM(B16:B18)","v":40510},{"$f":"SUM(C16:C18)","v":166225},{"$f":"SUM(D16:D18)","v":1020750},{"$f":"SUM(E16:E18)","v":1240970}]
[]
["Part-time undergraduate (2017/18)"]
["UK",4535,11170,172135,193895]
["Non-European Union",45,295,3830,6355]
["Other European Union",50,110,1745,2645]
["Total",{"$f":"SUM(B22:B24)","v":4630},{"$f":"SUM(C22:C24)","v":11575},{"$f":"SUM(D22:D24)","v":177710},{"$f":"SUM(E22:E24)","v":202895}]
[]
["Full-time postgraduate (2015/16)"]
["UK",3850,16395,91385,124765]
["Non-European Union",1485,10535,80300,112760]
["Other European Union",510,2105,17615,28980]
["Total",{"$f":"SUM(B28:B30)","v":5845},{"$f":"SUM(C28:C30)","v":29035},{"$f":"SUM(D28:D30)","v":189300},{"$f":"SUM(E28:E30)","v":266505}]
[]
["Part-time postgraduate (2015/16)"]
["UK",7535,24220,132315,171220]
["Non-European Union",400,965,7805,11655]
["Other European Union",195,750,5035,7725]
["Total",{"$f":"SUM(B34:B36)","v":8130},{"$f":"SUM(C34:C36)","v":25935},{"$f":"SUM(D34:D36)","v":145155},{"$f":"SUM(E34:E36)","v":190600}]
[]
["Full-time postgraduate (2017/18)"]
["UK",4175,17080,96255,130915]
["Non-European Union",1665,10880,84970,120505]
["Other European Union",485,2050,17025,28565]
["Total",{"$f":"SUM(B40:B42)","v":6325},{"$f":"SUM(C40:C42)","v":30010},{"$f":"SUM(D40:D42)","v":198250},{"$f":"SUM(E40:E42)","v":279985}]
[]
["Part-time postgraduate (2017/18)"]
["UK",7040,24520,132135,170060]
["Non-European Union",355,905,7395,10775]
["Other European Union",175,670,4580,7235]
["Total",{"$f":"SUM(B46:B48)","v":7570},{"$f":"SUM(C46:C48)","v":26095},{"$f":"SUM(D46:D48)","v":144110},{"$f":"SUM(E46:E48)","v":188070}]
[]
["Source: Higher Education Statistics Agency (HESA)"]
["Description: Number of Higher Education students by domicile and level of study"]
["Year: 2015/16 to 2017/18"]
["https://www.hesa.ac.uk/data-and-analysis/publications/students-2015-16 "]

{"sheet":"ES34. HE Students by Subject","index":46,"n_rows":29,"n_cols":6,"rows_kept":29,"cut":false,"hidden":false,"merged":[]}
["ES34. HE Students by Subject","Return to Contents",null,"Return to TTWA Summary",null,"Return to LA Summary"]
[null,"Lancashire ","North West ","England Minus London","England"]
["Higher Education Institution (2017/18)"]
["Medicine and Dentistry",2.2525192649673977E-2,3.2085675808554752E-2,"..",2.8114523738900898E-2]
["Subjects allied to Medicine",0.20374290795156236,0.15290395673457172,"..",0.12294209154985179]
["Biological Sciences",9.8484206960792617E-2,0.10361044013595264,"..",9.9855106173672006E-2]
["Veterinary Sciences",0,8.5077274962057237E-3,"..",3.3545374814081376E-3]
["Agriculture and related subjects",3.2178846642391397E-3,4.9165259400183832E-3,"..",7.9723613425832073E-3]
["Physical Sciences",5.2248285206198661E-2,4.982792159209936E-2,"..",4.0851950091652281E-2]
["Mathematical Sciences",2.2440511474299263E-2,2.0392894551206686E-2,"..",1.9023983235848311E-2]
["Computer Science",3.8106528918621388E-2,3.8370278531882601E-2,"..",4.5772791969595772E-2]
["Engineering and Technology",3.1162672537894825E-2,6.6009704794681601E-2,"..",7.04090103047465E-2]
["Architecture, Building and Planning",9.3149292912185627E-3,2.4368867702699814E-2,"..",2.2884262055102331E-2]
["Social studies",0.10449657041239732,9.1041234689296938E-2,"..",9.7887622994372828E-2]
["Law",3.5481412482005252E-2,3.751523054231419E-2,"..",3.9334726078114633E-2]
["Business and Administrative studies",0.12448132780082988,0.14486650563262862,"..",0.14637477353671105]
["Mass Communications and Documentation",1.7698365653315267E-2,2.1803723733994571E-2,"..",2.1919725832712716E-2]
["Languages",4.4203573545600811E-2,3.7429725743357345E-2,"..",4.419155006519155E-2]
["Historical and Philosophical studies",2.0408163265306121E-2,2.8665483850281098E-2,"..",3.589909926827551E-2]
["Creative Arts and Design",7.5450927258870357E-2,6.6330347790769753E-2,"..",7.6145013326390953E-2]
["Education",9.6875264628673047E-2,6.8788610760778954E-2,"..",6.207388091391941E-2]
["Combined",0,2.6506487676620852E-3,"..",1.4988722181559007E-2]
["Initial Teacher Training","..","..","..",".."]
["Geographical Studies","..","..","..",".."]
[]
["Source: The Higher Education Statistics Agency (HESA) HE student enrolments By HE Provider and Subject of Study"]
["Description: Percentage of Higher Education students by subject"]
["Year: 2017/18"]
["https://www.hesa.ac.uk/data-and-analysis/students/table-13 "]

{"sheet":"ES35. Underrepresented in HE","index":47,"n_rows":22,"n_cols":8,"rows_kept":22,"cut":false,"hidden":false,"merged":[]}
["ES35. Participation of Under-Represented Groups in HE",null,"Return to Contents",null,"Return to TTWA Summary",null,null,"Return to LA Summary"]
[null,"Lancashire ","North West ","England Minus London","England"]
["Number (2016/17)"]
["Number of entrants from state schools or colleges",8625,"..","..",242060]
["Number of entrants from low participation neighbourhoods",1530,"..","..",31195]
[]
["Percentage (2016/17)"]
["Percentage of entrants from state schools or colleges",0.96422582448295102,"..","..",0.9]
["Percentage of entrants from low participation neighbourhoods",0.168687982359427,"..","..",0.114]
[]
["Number (2017/18)"]
["Number of entrants from state schools or colleges",8205,"..","..",241330]
["Number of entrants from low participation neighbourhoods",1480,"..","..",31645]
[]
["Percentage (2017/18)"]
["Percentage of entrants from state schools or colleges",0.96,"..","..",0.9]
["Percentage of entrants from low participation neighbourhoods",0.17,"..","..",0.12]
[]
["Source: Higher Education Statistics Agency (HESA)"]
["Description: Number and percentage of Higher Education students by from under-represented groups"]
["Year: 2016/17; 2017/18"]
["https://www.hesa.ac.uk/data-and-analysis/ukpis/widening-participation/table-t1"]

{"sheet":"ES36. Home, Study, Emp Geog","index":48,"n_rows":12,"n_cols":11,"rows_kept":12,"cut":false,"hidden":false,"merged":[]}
["ES36. HE Students by Home, Study and Employment Geography",null,null,null,null,"Return to Contents",null,"Return to TTWA Summary",null,null,"Return to LA Summary"]
[null,"Lancashire ","North West ","England (LEP)","England (Region)"]
["Percentage (2010/11-2014/15)"]
["Stay for study and employment",0.39300000000000002,0.628,0.29299999999999998,0.44900000000000001]
["Leave for study, return for employment",0.21299999999999999,0.16800000000000001,0.30399999999999999,0.249]
["Leave for study, do not return",0.29899999999999999,0.14899999999999999,0.34300000000000003,0.23200000000000001]
["Stay for study, leave for employment",9.5000000000000001E-2,5.5E-2,0.06,7.0999999999999994E-2]
[]
["Source: Higher Education Funding Council for England (HEFCE), Student Geographical Mobility"]
["Description: Percentage of Higher Education students by place of study and place of employment"]
["Years: 2010/11 to 2014/15 "]
["http://www.hefce.ac.uk/analysis/maps/mobility/mobdata/ "]

{"sheet":"ES37. HE Students Home LEP","index":49,"n_rows":51,"n_cols":7,"rows_kept":51,"cut":false,"hidden":false,"merged":[[1,1,1,2]]}
["ES37. HE Students Home LEP","Return to Contents",null,"Return to TTWA Summary",null,null,"Return to LA Summary"]
[null,"Lancashire "]
["Number and % (2016/17 Leavers)"]
["Black Country",38,5.2939537475619946E-3]
["Buckinghamshire Thames Valley",22,3.0649205906937865E-3]
["Cheshire and Warrington",316,4.4023404848147117E-2]
["Coast to Capital",28,3.9008080245193648E-3]
["Cornwall and Isles of Scilly",7,9.752020061298412E-4]
["Coventry and Warwickshire",37,5.1546391752577319E-3]
["Cumbria",282,3.9286709389802173E-2]
["Derby, Derbyshire, Nottingham and Nottinghamshire",72,1.0030649205906938E-2]
["Dorset",5,6.9657286152131513E-4]
["Enterprise M3",29,4.040122596823628E-3]
["Gloucestershire",16,2.2290331568682086E-3]
["Greater Birmingham and Solihull",71,9.8913346336026754E-3]
["Greater Lincolnshire",32,4.4580663137364172E-3]
["Greater Manchester",1292,0.17999442741710783]
["Heart of the South West",38,5.2939537475619946E-3]
["Hertfordshire",29,4.040122596823628E-3]
["Humber",22,3.0649205906937865E-3]
["Lancashire",2275,0.3169406519921984]
["Leeds City Region",254,3.5385901365282808E-2]
["Leicester and Leicestershire",28,3.9008080245193648E-3]
["Liverpool City Region",1121,0.15617163555307886]
["London",128,1.7832265254945669E-2]
["New Anglia",34,4.7366954583449427E-3]
["North East",65,9.0554471997770971E-3]
["Oxfordshire",20,2.7862914460852605E-3]
["Solent",15,2.0897185845639454E-3]
["South East",75,1.0448592922819726E-2]
["Stoke-on-Trent and Staffordshire",51,7.105043187517414E-3]
["Swindon and Wiltshire",9,1.2538311507383673E-3]
["Tees Valley",26,3.6221788799108388E-3]
["Thames Valley Berkshire",19,2.6469768737809973E-3]
["The Marches",71,9.8913346336026754E-3]
["West of England",21,2.9256060183895237E-3]
["Worcestershire",12,1.6717748676511562E-3]
["York, North Yorkshire and East Riding",21,2.9256060183895237E-3]
["Sheffield City Region",46,6.4084703259960994E-3]
["South East Midlands",61,8.4981889105600443E-3]
["Greater Cambridge and Greater Peterborough",18,2.5076623014767345E-3]
["England LEP Unknown",4,5.5725828921705215E-4]
["Wales",138,1.9225410977988296E-2]
["Scotland",36,5.0153246029534691E-3]
["Northern Ireland",101,1.4070771802730565E-2]
["Channel Islands and the Isle of Man",21,2.9256060183895237E-3]
["Non UK",172,2.3962106436333241E-2]
[]
["Source: Higher Education Statistics Agency (HESA) Destinations of Leavers Survey and Student Record 2016/17 "]
["Description: Number and percentage of Higher Education students in Lancashire by their home LEP"]
["Years: 2016/17"]

{"sheet":"ES38. Graduates by Employ. LEP","index":50,"n_rows":51,"n_cols":8,"rows_kept":51,"cut":false,"hidden":false,"merged":[[1,1,1,2]]}
["ES38. Graduates by Employment LEP",null,"Return to Contents",null,"Return to TTWA Summary",null,null,"Return to LA Summary"]
[null,"Lancashire "]
["Number and % (2016/17 Leavers)"]
["Black Country",21,2.9256060183895237E-3]
["Buckinghamshire Thames Valley",20,2.7862914460852605E-3]
["Cheshire and Warrington",294,4.0958484257453333E-2]
["Coast to Capital",25,3.4828643076065756E-3]
["Cornwall and Isles of Scilly",3,4.1794371691278906E-4]
["Coventry and Warwickshire",32,4.4580663137364172E-3]
["Cumbria",226,3.1485093340763444E-2]
["Derby, Derbyshire, Nottingham and Nottinghamshire",62,8.6375034828643071E-3]
["Dorset",8,1.1145165784341043E-3]
["Enterprise M3",32,4.4580663137364172E-3]
["Gloucestershire",27,3.7614934522151016E-3]
["Greater Birmingham and Solihull",79,1.1005851212036779E-2]
["Greater Lincolnshire",18,2.5076623014767345E-3]
["Greater Manchester",1323,0.18431317915853998]
["Heart of the South West",28,3.9008080245193648E-3]
["Hertfordshire",22,3.0649205906937865E-3]
["Humber",8,1.1145165784341043E-3]
["Lancashire",2321,0.32334912231819446]
["Leeds City Region",209,2.9116745611590972E-2]
["Leicester and Leicestershire",18,2.5076623014767345E-3]
["Liverpool City Region",1085,0.15115631095012538]
["London",306,4.2630259125104486E-2]
["New Anglia",32,4.4580663137364172E-3]
["North East",50,6.9657286152131513E-3]
["Oxfordshire",26,3.6221788799108388E-3]
["Solent",12,1.6717748676511562E-3]
["South East",44,6.129841181387573E-3]
["Stoke-on-Trent and Staffordshire",41,5.7118974644747838E-3]
["Swindon and Wiltshire",15,2.0897185845639454E-3]
["Tees Valley",13,1.8110894399554194E-3]
["Thames Valley Berkshire",34,4.7366954583449427E-3]
["The Marches",48,6.6870994706046249E-3]
["West of England",28,3.9008080245193648E-3]
["Worcestershire",9,1.2538311507383673E-3]
["York, North Yorkshire and East Riding",8,1.1145165784341043E-3]
["Sheffield City Region",42,5.8512120367790474E-3]
["South East Midlands",77,1.0727222067428254E-2]
["Greater Cambridge and Greater Peterborough",18,2.5076623014767345E-3]
["England LEP Unknown",122,1.6996377821120089E-2]
["Wales",78,1.0866536639732517E-2]
["Scotland",42,5.8512120367790474E-3]
["Northern Ireland",57,7.9409306213429932E-3]
["Channel Islands and the Isle of Man",21,2.9256060183895237E-3]
["Non UK",194,2.7027027027027029E-2]
[]
["Source: Higher Education Statistics Agency (HESA) Destinations of Leavers Survey and Student Record 2016/17 "]
["Description: Number and percentage of Higher Education graduates by LEP of employment"]
["Year: 2016/17"]

{"sheet":"ES39. Graduates by Level","index":51,"n_rows":30,"n_cols":6,"rows_kept":30,"cut":false,"hidden":false,"merged":[]}
["ES39. Graduates by Level","Return to Contents",null,"Return to TTWA Summary",null,"Return to LA Summary"]
[null,"Lancashire ","North West ","England Minus London","England"]
["Number (2016/17)"]
["First degree",13345,45605,283720,344255]
["Other undergraduate",3060,8095,50205,61215]
["Masters taught",2865,13895,95510,139875]
["Other postgraduate",3325,11360,62625,80305]
[]
["Percentage (2016/17)"]
["First degree",{"$f":"B4/SUM(B$4:B$7)","v":0.59061739322859041},{"$f":"C4/SUM(C$4:C$7)","v":0.57760749794186561},0.5765963500386132,0.55023575481499243]
["Other undergraduate",{"$f":"B5/SUM(B$4:B$7)","v":0.13542819207789333},0.10252675574694446,0.10203024021460798,9.7842244066171188E-2]
["Masters taught",{"$f":"B6/SUM(B$4:B$7)","v":0.12679796415136091},0.17598632132227218,0.1941023452424501,0.22356748981059699]
["Other postgraduate",{"$f":"B7/SUM(B$4:B$7)","v":0.14715645054215534},0.14387942498891773,0.12727106450432873,0.12835451130823944]
[]
["Number (2017/18)"]
["First degree",11850,46730,288440,349190]
["Other undergraduate",2410,6560,34460,42710]
["Masters taught",3270,16320,106610,154955]
["Other postgraduate",2825,9840,48985,61845]
[]
["Percentage (2017/18)"]
["First degree",{"$f":"B16/SUM(B$16:B$19)","v":0.58216654384672073},{"$f":"C16/SUM(C$16:C$19)","v":0.58816865953429831},0.60280671689359344,0.57366518810579925]
["Other undergraduate",{"$f":"B17/SUM(B$16:B$19)","v":0.11839842790469172},8.2567652611705469E-2,7.2017471446932574E-2,7.0165927386232951E-2]
["Masters taught",{"$f":"B18/SUM(B$16:B$19)","v":0.16064848931466469},0.20541220893643802,0.22280274611019968,0.2545671102349269]
["Other postgraduate",{"$f":"B19/SUM(B$16:B$19)","v":0.13878653893392287},0.12385147891755821,0.10237306554927429,0.1016017742730409]
[]
["Source: Higher Education Statistics Agency (HESA)"]
["Description: Number and percentage of Higher Education graduates by level of study"]
["Year: 2016/17; 2017/18"]
["https://www.hesa.ac.uk/data-and-analysis/students/releases"]

{"sheet":"ES40. Graduates After 1 Year","index":52,"n_rows":91,"n_cols":10,"rows_kept":91,"cut":false,"hidden":false,"merged":[]}
["ES40. Graduates by Employment 1 Year After Graduation",null,null,null,"Return to Contents",null,"Return to TTWA Summary",null,null,"Return to LA Summary"]
[null,"Edge Hill University","The University of Central Lancashire","The University of Lancaster","University of Cumbria","Lancashire ","North West "]
["2003/04"]
["Activity not captured",5.7999999999999996E-2,7.8E-2,0.08,6.0999999999999999E-2,7.3074277854195319E-2,7.9762068342071987E-2]
["No sustained destination",6.7000000000000004E-2,9.8000000000000004E-2,9.3000000000000013E-2,8.8000000000000009E-2,9.0577028885832203E-2,0.10414445850659919]
["Sustained employment only",0.46600000000000003,0.57899999999999996,0.51600000000000001,0.51500000000000001,0.53543259972489676,0.55551961670583971]
["Sustained employment with or without further study",0.77200000000000002,0.74099999999999999,0.70400000000000007,0.7659999999999999,0.73905983493810168,0.71680744892424508]
["Further study, sustained employment or both",0.875,0.82400000000000007,0.82700000000000007,0.85,0.83619876203576349,0.81613776893870904]
[]
["2004/05"]
["Activity not captured",6.8000000000000005E-2,8.4000000000000005E-2,8.5999999999999993E-2,7.8E-2,8.1199192462987874E-2,9.0592684659090927E-2]
["No sustained destination",8.5000000000000006E-2,0.105,0.10400000000000001,9.3000000000000013E-2,9.9803499327052486E-2,0.10523401988636363]
["Sustained employment only",0.39799999999999996,0.56999999999999995,0.51100000000000001,0.63100000000000001,0.53803432032301479,0.55093004261363632]
["Sustained employment with or without further study",0.74400000000000011,0.73599999999999999,0.69700000000000006,0.78299999999999992,0.73405181695827726,0.71155699573863618]
["Further study, sustained employment or both",0.84699999999999998,0.81099999999999994,0.81099999999999994,0.82900000000000007,0.81927321668909814,0.80422301136363628]
[]
["2005/06"]
["Activity not captured",7.0999999999999994E-2,7.8E-2,0.08,6.0999999999999999E-2,6.6718940936863549E-2,9.8067209775967432E-2]
["No sustained destination",9.6000000000000002E-2,9.8000000000000004E-2,9.3000000000000013E-2,8.8000000000000009E-2,9.8067209775967432E-2,0.59859470468431775]
["Sustained employment only",0.60899999999999999,0.57899999999999996,0.51600000000000001,0.51500000000000001,0.59859470468431775,0.76801697216564835]
["Sustained employment with or without further study",0.76400000000000001,0.74099999999999999,0.70400000000000007,0.7659999999999999,0.76801697216564835,0.83521384928716902]
["Further study, sustained employment or both",0.83200000000000007,0.82400000000000007,0.82700000000000007,0.85,0.83521384928716902,0]
[]
["2006/07"]
["Activity not captured",6.7000000000000004E-2,7.8E-2,0.08,6.0999999999999999E-2,7.0237452405676706E-2,9.4332641052267241E-2]
["No sustained destination",9.6999999999999989E-2,9.8000000000000004E-2,9.3000000000000013E-2,8.8000000000000009E-2,9.4332641052267241E-2,0.60033021806853581]
["Sustained employment only",0.60299999999999998,0.57899999999999996,0.51600000000000001,0.51500000000000001,0.60033021806853581,0.76294773277950867]
["Sustained employment with or without further study",0.76900000000000002,0.74099999999999999,0.70400000000000007,0.7659999999999999,0.76294773277950867,0.83590896503980627]
["Further study, sustained employment or both",0.83599999999999997,0.82400000000000007,0.82700000000000007,0.85,0.83590896503980627,0]
[]
["2007/08"]
["Activity not captured",7.6999999999999999E-2,6.7000000000000004E-2,7.0000000000000007E-2,7.9000000000000001E-2,7.1532459797498504E-2,7.7924772622167418E-2]
["No sustained destination",7.400000000000001E-2,0.107,0.111,7.2999999999999995E-2,9.6454437164979173E-2,0.10592246030522583]
["Sustained employment only",0.59599999999999997,0.626,0.505,0.65500000000000003,0.59686063132817158,0.57125173423770625]
["Sustained employment with or without further study",0.78599999999999992,0.76200000000000001,0.69400000000000006,0.79799999999999993,0.75582251340083384,0.72638276553106207]
["Further study, sustained employment or both",0.84900000000000009,0.82700000000000007,0.81900000000000006,0.84799999999999998,0.83242525312686122,0.81213118544781859]
[]
["2008/09"]
["Activity not captured",5.2000000000000005E-2,6.6000000000000003E-2,6.4000000000000001E-2,7.0000000000000007E-2,6.3837037037037039E-2,7.1265064002497658E-2]
["No sustained destination",8.5999999999999993E-2,0.10199999999999999,9.5000000000000001E-2,9.5000000000000001E-2,9.6388888888888899E-2,0.103245082734936]
["Sustained employment only",0.58399999999999996,0.623,0.503,0.65099999999999991,0.59242160493827156,0.57449344364658139]
["Sustained employment with or without further study",0.79500000000000004,0.77800000000000002,0.71299999999999997,0.78799999999999992,0.76701234567901222,0.73943428036216052]
["Further study, sustained employment or both",0.86199999999999999,0.83200000000000007,0.84200000000000008,0.83499999999999996,0.84001419753086426,0.8208674679987511]
[]
["2009/10"]
["Activity not captured",5.2999999999999999E-2,7.4999999999999997E-2,5.9000000000000004E-2,6.8000000000000005E-2,6.5144230769230774E-2,6.7812815938150459E-2]
["No sustained destination",8.6999999999999994E-2,0.10800000000000001,9.6000000000000002E-2,8.5999999999999993E-2,9.6796875000000004E-2,0.10780062444246209]
["Sustained employment only",0.60799999999999998,0.61399999999999999,0.51200000000000001,0.67599999999999993,0.59967427884615387,0.59435385072851621]
["Sustained employment with or without further study",0.80200000000000005,0.76200000000000001,0.73099999999999998,0.80900000000000005,0.77191766826923069,0.74429006839131739]
["Further study, sustained employment or both",0.86,0.81700000000000006,0.84499999999999997,0.84599999999999997,0.83805889423076918,0.81991763306571519]
[]
["2010/11"]
["Activity not captured",5.5E-2,7.2999999999999995E-2,5.5E-2,6.7000000000000004E-2,6.4345492443981245E-2,6.9654042553191492E-2]
["No sustained destination",0.10800000000000001,0.126,0.11,0.107,0.11580927566440855,0.1196387234042553]
["Sustained employment only",0.67200000000000004,0.60099999999999998,0.54299999999999993,0.70400000000000007,0.61949765502866072,0.59532014184397164]
["Sustained employment with or without further study",0.79799999999999993,0.74299999999999999,0.74199999999999999,0.78900000000000003,0.76163157894736844,0.73217645390070929]
["Further study, sustained employment or both",0.83599999999999997,0.80099999999999993,0.83499999999999996,0.82599999999999996,0.81962897342365804,0.80625163120567367]
[]
["2011/12"]
["Activity not captured",6.8000000000000005E-2,8.3000000000000004E-2,5.5E-2,5.9000000000000004E-2,7.0175813501699852E-2,7.0725713501646539E-2]
["No sustained destination",8.3000000000000004E-2,0.11199999999999999,0.11800000000000001,0.106,0.10535356969402625,0.11300027442371018]
["Sustained employment only",0.68400000000000005,0.64300000000000002,0.55000000000000004,0.70900000000000007,0.64509907722195237,0.62220032930845226]
["Sustained employment with or without further study",0.80099999999999993,0.75599999999999989,0.7390000000000001,0.80400000000000005,0.77097911607576497,0.74707038968166861]
["Further study, sustained employment or both",0.84900000000000009,0.80500000000000005,0.82700000000000007,0.83499999999999996,0.82447061680427391,0.81225178375411633]
[]
["2012/13"]
["Activity not captured",6.0999999999999999E-2,7.4999999999999997E-2,7.2999999999999995E-2,6.7000000000000004E-2,6.9862817551963052E-2,7.177316376849209E-2]
["No sustained destination",9.9000000000000005E-2,0.114,0.10800000000000001,0.124,0.11081986143187067,0.11730547625227095]
["Sustained employment only",0.67299999999999993,0.64200000000000002,0.54899999999999993,0.67299999999999993,0.63754688221708999,0.61897443550480136]
["Sustained employment with or without further study",0.79599999999999993,0.76,0.72400000000000009,0.78,0.76551501154734414,0.74369283675058395]
["Further study, sustained employment or both",0.84,0.81099999999999994,0.81900000000000006,0.81,0.81948083140877603,0.80688813911238]
[]
["2013/14"]
["Activity not captured","..","..","..","..","..",".."]
["No sustained destination","..","..","..","..","..",".."]
["Sustained employment only","..","..","..","..","..",".."]
["Sustained employment with or without further study","..","..","..","..","..",".."]
["Further study, sustained employment or both","..","..","..","..","..",".."]
[]
["2014/15*"]
["Activity not captured",3.5285008237232282E-2,4.8772959183673477E-2,4.8988603988603982E-2,3.1729483282674775E-2,4.2148720424915499E-2,4.4999999999999998E-2]
["No sustained destination",6.5041186161449743E-2,8.1247448979591866E-2,6.4472934472934479E-2,6.6370820668693029E-2,7.1291163689039122E-2,0.08]
["Sustained employment only",0.71810378912685324,0.6692117346938774,0.58741310541310543,0.79889665653495456,0.69028005794302261,0.66]
["Sustained employment with or without further study",0.86379077429983531,0.82978698979591836,0.78979202279202276,0.88154711246200623,0.84119748913568326,0.81]
["Further study, sustained employment or both",0.89958813838550267,0.86984948979591847,0.88649572649572661,0.90206686930091196,0.88650507001448575,0.88]
[]
["Source: Department for Education, Longitudinal Educational Outcomes data"]
["Description: Percentage of Higher Education graduates by employment status one year after graduation"]
["Years: 2003/04 to 2012/13 "]
["https://www.gov.uk/government/uploads/system/uploads/attachment_data/file/573728/SFR60-2016_LEO_Institution_tables.xlsx "]
["* University percentages were collect by the summation of each subject area, which included subjects which were too small to disclose."]

{"sheet":"ES41. Graduates After 1 3 5 Yrs","index":53,"n_rows":29,"n_cols":10,"rows_kept":29,"cut":false,"hidden":false,"merged":[]}
["ES41. Graduates by Employment 1, 3 and 5 Years After Graduation",null,null,null,"Return to Contents",null,"Return to TTWA Summary",null,null,"Return to LA Summary"]
[null,"Edge Hill University","The University of Central Lancashire","The University of Lancaster","University of Cumbria","Lancashire ","North West "]
["One Year"]
["Activity not captured",3.5285008237232282E-2,4.8772959183673477E-2,4.8988603988603982E-2,3.1729483282674775E-2,4.2148720424915499E-2,4.4999999999999998E-2]
["No sustained destination",6.5041186161449743E-2,8.1247448979591866E-2,6.4472934472934479E-2,6.6370820668693029E-2,7.1291163689039122E-2,0.08]
["Sustained employment only",0.71810378912685324,0.6692117346938774,0.58741310541310543,0.79889665653495456,0.69028005794302261,0.66]
["Sustained employment with or without further study",0.86379077429983531,0.82978698979591836,0.78979202279202276,0.88154711246200623,0.84119748913568326,0.81]
["Further study, sustained employment or both",0.89958813838550267,0.86984948979591847,0.88649572649572661,0.90206686930091196,0.88650507001448575,0.88]
[]
["Three Years"]
["Activity not captured",4.8728119180633148E-2,6.3321670428893917E-2,6.8615000000000009E-2,6.1256338028169009E-2,0.10922460286710887,6.8000000000000005E-2]
["No sustained destination",5.1569832402234651E-2,5.6179458239277662E-2,5.8674999999999998E-2,5.2400000000000009E-2,0.10963212942125029,6.3E-2]
["Sustained employment only",0.77255307262569839,0.73286230248306994,0.72848750000000007,0.77351549295774646,0.71693008244386591,0.72799999999999998]
["Sustained employment with or without further study",0.88130540037243943,0.857971783295711,0.84053999999999984,0.8696338028169015,0.82557034832462151,0.83799999999999997]
["Further study, sustained employment or both",0.8996797020484173,0.88064898419864546,0.87281500000000001,0.88660563380281687,0.88836817197406981,0.86899999999999999]
[]
["Five Years"]
["Activity not captured",6.3748815165876771E-2,8.3956204379562055E-2,7.3040767386091138E-2,7.0950000000000013E-2,7.529678735339114E-2,8.1000000000000003E-2]
["No sustained destination",5.8616113744075833E-2,5.9385644768856445E-2,5.3956834532374091E-2,4.5443333333333329E-2,5.5932687404385513E-2,5.6000000000000001E-2]
["Sustained employment only",0.78520616113744068,0.7596192214111922,0.77142446043165458,0.79664333333333348,0.77329984701682819,0.76200000000000001]
["Sustained employment with or without further study",0.86530805687203804,0.8425827250608271,0.85176498800959211,0.87726333333333306,0.85473125956144813,0.84399999999999997]
["Further study, sustained employment or both",0.87763507109004735,0.8567262773722627,0.87257553956834555,0.88352333333333311,0.86869556348801624,0.86299999999999999]
[]
["Source: Department for Education, Longitudinal Educational Outcomes data"]
["Description: Percentage of Higher Education graduates by employment status one year after graduation"]
["Year: 2016/17"]
["https://www.gov.uk/government/uploads/system/uploads/attachment_data/file/573728/SFR60-2016_LEO_Institution_tables.xlsx "]
["https://www.gov.uk/government/statistics/graduate-outcomes-leo-subject-by-provider-2016-to-2017"]
["University percentages were collect by the summation of each subject area, which included subjects which were too small to disclose."]