{"text_format":"1","workbook":"xlsx","n_sheets":41,"sheets":["Front Cover","Contents","TTWA Summary","LA Summary","ONS LA Codes","LS1. Total Population","LS2. Population Split","LS3. Population Change by Age","LS4. Working Age Population","LS5. Population Aged 65+","LS6. Components of Pop Change","LS7. Population Projections","LS8. Pop Projections 16-64","LS9. Pop Projections 65+","LS10. Resident Employment","LS11. Resident Employment Split","LS12. Self-Employment","LS13. Hours Worked Weekly","LS14. Non-Permanent Employment","LS15. Zero-Hour Contracts","LS16. Unemployment","LS17. Unemployment Split","LS18. Claimant Count","LS19. Claimant Count Split","LS20. Economic Inactivity","LS21. Inactivity Split","LS22. Economic Activity","LS23. Reason for Inactivity","LS24. Activity Health Condition","LS25. Households by Activity","LS26. Workless Households","LS27. Resident Occupations","LS28. Occupations by Gender","LS29. Qualifications by NVQ","LS30. Qualifications Split","LS31. Employed Qualifications","LS32. Travel to Work, method","LS33. Travel to Work, distance","LS34. Travel to Work, location","LS35. Workplace Earnings","LS36. Resident Earnings"],"not_rendered":{"charts":54,"images":1,"macros":1,"external_links":2,"defined_names":21,"comments":0,"pivot_tables":0},"unopened":[],"bounds":{"document_bytes":16777216,"sheet_cells":100000,"rows_first":2000,"rows_last":500,"rows_between":2000,"halvings":0,"cell_chars":16384,"cell_head_chars":4096},"cells_cut":0,"cells_raw":0,"read":"whole","date_system":"1900"}

{"sheet":"Front Cover","index":0,"n_rows":0,"n_cols":0,"rows_kept":0,"cut":false,"hidden":false,"merged":[]}

{"sheet":"Contents","index":1,"n_rows":25,"n_cols":17,"rows_kept":25,"cut":false,"hidden":false,"merged":[[24,1,43,9],[3,15,3,16],[5,15,7,15],[8,15,11,15],[12,15,14,15],[18,1,22,9]]}
[]
[null,"Labour Market Information Toolkit Data Matrix - Residents"]
[]
[null,"Indicators",null,null,null,null,null,null,null,null,null,null,null,null,null,"Composition of Lancashire Travel to Work Areas"]
[null,"The following indicators are included in this workbook:",null,null,null,null,null,null,null,null,null,null,null,null,null,"Lancaster and Morecambe ","Lancaster "]
[null,"LS1: Total Population",null,null,null,"LS13: Hours Worked Weekly",null,null,null,"LS25: Households by Activity",null,null,null,null,null,"Blackpool, Fylde and Wyre ","Blackpool"]
[null,"LS2: Population (Age, Gender, Ethnicity, Disability)",null,null,null,"LS14: Non-Permanent Employment",null,null,null,"LS26: Workless Household Characteristics",null,null,null,null,null,null,"Fylde"]
[null,"LS3: Population Change by Age",null,null,null,"LS15: Zero-Hour Contracts",null,null,null,"LS27: Resident Occupations",null,null,null,null,null,null,"Wyre"]
[null,"LS4: Working Age Population",null,null,null,"LS16: Unemployment",null,null,null,"LS28: Occupations by Gender",null,null,null,null,null,"Blackburn with Darwen, Hyndburn, Rossendale and Ribble Valley ","Blackburn with Darwen"]
[null,"LS5: Population Aged 65+",null,null,null,"LS17: Unemployment (Age, Gender, Ethnicity)",null,null,null,"LS29: Qualifications by NVQ",null,null,null,null,null,null,"Hyndburn "]
[null,"LS6: Components of Pop Change",null,null,null,"LS18: Claimant Count",null,null,null,"LS30: Qualifications (Age & Gender)",null,null,null,null,null,null,"Rossendale "]
[null,"LS7: Population Projections",null,null,null,"LS19: Claimant Count (Age & Gender)",null,null,null,"LS31: Qualifications of those Employed",null,null,null,null,null,null,"Ribble Valley"]
[null,"LS8: Population Projections 16-64",null,null,null,"LS20: Economic Inactivity",null,null,null,"LS32: Travel to Work, Method",null,null,null,null,null,"Preston, Chorley, South Ribble ","Preston"]
[null,"LS9: Population Projections 65+",null,null,null,"LS21: Economic Inactivity (Age, Gender, Ethnicity)",null,null,null,"LS33: Travel to Work, Distance",null,null,null,null,null,null,"Chorley"]
[null,"LS10: Resident Employment",null,null,null,"LS22: Economic Activity",null,null,null,"LS34: Travel to Work, Destination",null,null,null,null,null,null,"South Ribble "]
[null,"LS11: Employment (Age, Gender, Ethnicity)",null,null,null,"LS23: Reason for Inactivity",null,null,null,"LS35: Workplace Earnings",null,null,null,null,null,"Burnley and Pendle ","Burnley"]
[null,"LS12: Self-Employment",null,null,null,"LS24: Activity of those with Health Conditions",null,null,null,"LS36: Resident Earnings",null,null,null,null,null,null,"Pendle "]
[null,null,null,null,null,null,null,null,null,null,null,null,null,null,null,"West Lancashire ","West Lancashire "]
[null,"Matrix Data\nThe data was the most up to date available data at the time of writing. The data matrix workbook contains data from the Mid-Year Population Estimates, the Annual Population Survey, the 2011 Census and the Annual Survey of Hours and Earnings. All data sources are stated. Please note the data matrix does not reflect any updates to indicators that have been released after February 2018. Please check with the original sources for any updated data releases."]
[]
[]
[]
[]
[]
[null,"How to use the Matrix\nThe matrix contains summary pages for the Travel to Work Areas (TTWA) and Local Authority regions. The two summary pages include a drop-down menu (shaded blue at the top of the sheet) for selecting the geography for which summary data will be provided. The relevant indicators can then be selected by clicking the corresponding indicator button. When selecting a geography from the drop-down menu in the Local Authority summary page, the corresponding TTWA will automatically be selected as a comparator geography.\n\nTo access a more comprehensive dataset, click the link above each data table to view the full datasheet for that selected indicator. Links can be used to navigate between each summary tab and datasheet.\n\nPlease note that to use the summary features of the matrix, macros must be enabled. \nYou can enable macros by selecting ‘Enable content’ if prompted to do so in the notification box or banner at the top of the sheet. If you are not prompted to enable macros, you may need to change the spreadsheet’s macro settings. You can do this in Excel 2013 by accessing the following menu options: File \\ Options \\ Trust Centre \\ Trust Centre Settings… \\ Macro Settings  and selecting ‘Disable all macros with notification’. \n\nWhen you reopen this spreadsheet you will receive a notification stating that Macros have been disabled and will be given the option to accept macros within the spreadsheet. It is not recommended that ‘Enable all macros’ is selected as this will enable macros in all spreadsheets, not just the Lancashire LMI Toolkit. \n"]

{"sheet":"TTWA Summary","index":2,"n_rows":1634,"n_cols":20,"rows_kept":1634,"cut":false,"hidden":false,"merged":[[1289,2,1289,6],[1332,2,1332,6],[1378,2,1378,6],[1288,2,1288,6],[963,2,963,6],[1201,2,1201,6],[2,3,2,7],[10,15,10,16],[626,2,626,6],[927,2,927,6],[8,5,8,6],[8,9,8,10],[8,15,8,16],[8,3,8,4],[10,3,10,4],[10,5,10,6],[10,7,10,8],[10,11,10,12],[1130,7,1130,11],[1143,7,1143,11],[10,9,10,10],[10,13,10,14],[130,3,130,4],[152,2,152,6],[8,21,8,22],[8,19,8,20],[8,17,8,18],[6,3,6,4],[4,5,4,6],[4,3,4,4],[4,13,4,14],[8,13,8,14],[4,11,4,12],[4,7,4,8],[4,9,4,10],[6,5,6,6],[8,7,8,8],[8,11,8,12],[6,7,6,8],[4,15,4,16],[4,17,4,18],[4,19,4,20],[6,9,6,10],[6,11,6,12],[6,13,6,14]]}
["Blackburn with Darwen, Hyndburn, Rossendale and Ribble Valley",null,"Residents Indicators: Travel to Work Area Summary"]
["Blackpool, Fylde and Wyre"]
["Burnley and Pendle",null,"Summary Statistics for: ","Blackburn with Darwen, Hyndburn, Rossendale and Ribble Valley"]
["Lancaster and Morecambe "]
["Preston, Chorley and South Ribble ",null,"Population","Total Population",null,"Population by Age Band",null,"Population Change by Age",null,"Working Age Population",null,"Population Aged 65+",null,"Components of Population Change",null,"Projection Populations",null,"Population Projections, 16-64",null,"Population Projections, 65+"]
["West Lancashire "]
[null,null,"Labour Market (1)","Resident Employment",null,"Self Employment",null,"Hours Worked Weekly",null,"Non-Permanent Employment",null,"Zero Hour Contracts",null,"Workless Households"]
[]
[null,null,"Labour Market (2)","Unemployment",null,"Claimant Count",null,"Economic Inactivity",null,"Economic Activity",null,"Travel to Work, Method",null,"Travel to Work, Distance",null,"Travel to Work, Destination"]
[]
[null,null,"Occupations and Qualifications","Resident Occupations",null,"Qualifications by NVQ",null,"Qualifications of those Employed",null,"Workplace Earnings",null,"Resident Earnings"]
[null,null,"Back to top"]
[]
[]
[]
[]
[]
[]
[]
[]
[]
[]
[]
[]
[]
[]
[]
[]
[]
[]
[]
[]
[]
[]
[]
[]
[]
[]
[]
[]
[]
[]
[]
[]
[]
[]
[]
[]
[]
[]
[]
[]
[]
[]
[]
[]
[]
[]
[null,null,"LS1. Total Population, 2006-16"]
[null,null,null,{"$f":"D$3","v":"Blackburn with Darwen, Hyndburn, Rossendale and Ribble Valley"},"Lancashire ","England Minus London"]
[null,null,2006,{"$f":"INDEX('LS1. Total Population'!$B4:$Z4,MATCH(D$3,'LS1. Total Population'!$B$2:$Z$2,0))","v":347464},{"$f":"INDEX('LS1. Total Population'!$B4:$Z4,MATCH(E$60,'LS1. Total Population'!$B$2:$Z$2,0))","v":1445983},{"$f":"INDEX('LS1. Total Population'!$B4:$Z4,MATCH(F$60,'LS1. Total Population'!$B$2:$Z$2,0))","v":43367361}]
[null,null,2007,{"$f":"INDEX('LS1. Total Population'!$B5:$Z5,MATCH(D$3,'LS1. Total Population'!$B$2:$Z$2,0))","v":349004},{"$f":"INDEX('LS1. Total Population'!$B5:$Z5,MATCH(E$60,'LS1. Total Population'!$B$2:$Z$2,0))","v":1449418},{"$f":"INDEX('LS1. Total Population'!$B5:$Z5,MATCH(F$60,'LS1. Total Population'!$B$2:$Z$2,0))","v":43687620}]
[null,null,2008,{"$f":"INDEX('LS1. Total Population'!$B6:$Z6,MATCH(D$3,'LS1. Total Population'!$B$2:$Z$2,0))","v":350299},{"$f":"INDEX('LS1. Total Population'!$B6:$Z6,MATCH(E$60,'LS1. Total Population'!$B$2:$Z$2,0))","v":1451175},{"$f":"INDEX('LS1. Total Population'!$B6:$Z6,MATCH(F$60,'LS1. Total Population'!$B$2:$Z$2,0))","v":44003692}]
[null,null,2009,{"$f":"INDEX('LS1. Total Population'!$B7:$Z7,MATCH(D$3,'LS1. Total Population'!$B$2:$Z$2,0))","v":351683},{"$f":"INDEX('LS1. Total Population'!$B7:$Z7,MATCH(E$60,'LS1. Total Population'!$B$2:$Z$2,0))","v":1452916},{"$f":"INDEX('LS1. Total Population'!$B7:$Z7,MATCH(F$60,'LS1. Total Population'!$B$2:$Z$2,0))","v":44253787}]
[null,null,2010,{"$f":"INDEX('LS1. Total Population'!$B8:$Z8,MATCH(D$3,'LS1. Total Population'!$B$2:$Z$2,0))","v":352884},{"$f":"INDEX('LS1. Total Population'!$B8:$Z8,MATCH(E$60,'LS1. Total Population'!$B$2:$Z$2,0))","v":1457298},{"$f":"INDEX('LS1. Total Population'!$B8:$Z8,MATCH(F$60,'LS1. Total Population'!$B$2:$Z$2,0))","v":44580957}]
[null,null,2011,{"$f":"INDEX('LS1. Total Population'!$B9:$Z9,MATCH(D$3,'LS1. Total Population'!$B$2:$Z$2,0))","v":353551},{"$f":"INDEX('LS1. Total Population'!$B9:$Z9,MATCH(E$60,'LS1. Total Population'!$B$2:$Z$2,0))","v":1461295},{"$f":"INDEX('LS1. Total Population'!$B9:$Z9,MATCH(F$60,'LS1. Total Population'!$B$2:$Z$2,0))","v":44902762}]
[null,null,2012,{"$f":"INDEX('LS1. Total Population'!$B10:$Z10,MATCH(D$3,'LS1. Total Population'!$B$2:$Z$2,0))","v":353865},{"$f":"INDEX('LS1. Total Population'!$B10:$Z10,MATCH(E$60,'LS1. Total Population'!$B$2:$Z$2,0))","v":1465668},{"$f":"INDEX('LS1. Total Population'!$B10:$Z10,MATCH(F$60,'LS1. Total Population'!$B$2:$Z$2,0))","v":45185360}]
[null,null,2013,{"$f":"INDEX('LS1. Total Population'!$B11:$Z11,MATCH(D$3,'LS1. Total Population'!$B$2:$Z$2,0))","v":354017},{"$f":"INDEX('LS1. Total Population'!$B11:$Z11,MATCH(E$60,'LS1. Total Population'!$B$2:$Z$2,0))","v":1468846},{"$f":"INDEX('LS1. Total Population'!$B11:$Z11,MATCH(F$60,'LS1. Total Population'!$B$2:$Z$2,0))","v":45449274}]
[null,null,2014,{"$f":"INDEX('LS1. Total Population'!$B12:$Z12,MATCH(D$3,'LS1. Total Population'!$B$2:$Z$2,0))","v":354210},{"$f":"INDEX('LS1. Total Population'!$B12:$Z12,MATCH(E$60,'LS1. Total Population'!$B$2:$Z$2,0))","v":1471979},{"$f":"INDEX('LS1. Total Population'!$B12:$Z12,MATCH(F$60,'LS1. Total Population'!$B$2:$Z$2,0))","v":45777929}]
[null,null,2015,{"$f":"INDEX('LS1. Total Population'!$B13:$Z13,MATCH(D$3,'LS1. Total Population'!$B$2:$Z$2,0))","v":355041},{"$f":"INDEX('LS1. Total Population'!$B13:$Z13,MATCH(E$60,'LS1. Total Population'!$B$2:$Z$2,0))","v":1478115},{"$f":"INDEX('LS1. Total Population'!$B13:$Z13,MATCH(F$60,'LS1. Total Population'!$B$2:$Z$2,0))","v":46112614}]
[null,null,2016,{"$f":"INDEX('LS1. Total Population'!$B14:$Z14,MATCH(D$3,'LS1. Total Population'!$B$2:$Z$2,0))","v":356298},{"$f":"INDEX('LS1. Total Population'!$B14:$Z14,MATCH(E$60,'LS1. Total Population'!$B$2:$Z$2,0))","v":1485042},{"$f":"INDEX('LS1. Total Population'!$B14:$Z14,MATCH(F$60,'LS1. Total Population'!$B$2:$Z$2,0))","v":46480175}]
[null,null,"Change 2006-16",{"$f":"D71-D61","v":8834},39059,3112814]
[null,null,"% Change 2006-16",{"$f":"D72/D61","v":2.5424216609490478E-2},{"$f":"E72/E61","v":2.701207413918421E-2},7.1777805432984496E-2]
[]
[null,null,"LS1. Index of Population, 2006-16"]
[null,null,null,{"$f":"D$3","v":"Blackburn with Darwen, Hyndburn, Rossendale and Ribble Valley"},"Lancashire ","England Minus London"]
[null,null,2006,{"$f":"INDEX('LS1. Total Population'!$B20:$Z20,MATCH(D$3,'LS1. Total Population'!$B$2:$Z$2,0))","v":100},{"$f":"INDEX('LS1. Total Population'!$B20:$Z20,MATCH(E$76,'LS1. Total Population'!$B$2:$Z$2,0))","v":100},{"$f":"INDEX('LS1. Total Population'!$B20:$Z20,MATCH(F$76,'LS1. Total Population'!$B$2:$Z$2,0))","v":100}]
[null,null,2007,{"$f":"INDEX('LS1. Total Population'!$B21:$Z21,MATCH(D$3,'LS1. Total Population'!$B$2:$Z$2,0))","v":100.44321138304974},{"$f":"INDEX('LS1. Total Population'!$B21:$Z21,MATCH(E$76,'LS1. Total Population'!$B$2:$Z$2,0))","v":100.23755466004786},{"$f":"INDEX('LS1. Total Population'!$B21:$Z21,MATCH(F$76,'LS1. Total Population'!$B$2:$Z$2,0))","v":100.73847933702953}]
[null,null,2008,{"$f":"INDEX('LS1. Total Population'!$B22:$Z22,MATCH(D$3,'LS1. Total Population'!$B$2:$Z$2,0))","v":100.81591186425069},{"$f":"INDEX('LS1. Total Population'!$B22:$Z22,MATCH(E$76,'LS1. Total Population'!$B$2:$Z$2,0))","v":100.35906369576959},{"$f":"INDEX('LS1. Total Population'!$B22:$Z22,MATCH(F$76,'LS1. Total Population'!$B$2:$Z$2,0))","v":101.46730394777768}]
[null,null,2009,{"$f":"INDEX('LS1. Total Population'!$B23:$Z23,MATCH(D$3,'LS1. Total Population'!$B$2:$Z$2,0))","v":101.2142265097967},{"$f":"INDEX('LS1. Total Population'!$B23:$Z23,MATCH(E$76,'LS1. Total Population'!$B$2:$Z$2,0))","v":100.47946621779093},{"$f":"INDEX('LS1. Total Population'!$B23:$Z23,MATCH(F$76,'LS1. Total Population'!$B$2:$Z$2,0))","v":102.04399340785343}]
[null,null,2010,{"$f":"INDEX('LS1. Total Population'!$B24:$Z24,MATCH(D$3,'LS1. Total Population'!$B$2:$Z$2,0))","v":101.55987382865564},{"$f":"INDEX('LS1. Total Population'!$B24:$Z24,MATCH(E$76,'LS1. Total Population'!$B$2:$Z$2,0))","v":100.78251265747937},{"$f":"INDEX('LS1. Total Population'!$B24:$Z24,MATCH(F$76,'LS1. Total Population'!$B$2:$Z$2,0))","v":102.79840869265713}]
[null,null,2011,{"$f":"INDEX('LS1. Total Population'!$B25:$Z25,MATCH(D$3,'LS1. Total Population'!$B$2:$Z$2,0))","v":101.75183616144406},{"$f":"INDEX('LS1. Total Population'!$B25:$Z25,MATCH(E$76,'LS1. Total Population'!$B$2:$Z$2,0))","v":101.05893361125268},{"$f":"INDEX('LS1. Total Population'!$B25:$Z25,MATCH(F$76,'LS1. Total Population'!$B$2:$Z$2,0))","v":103.54045292264844}]
[null,null,2012,{"$f":"INDEX('LS1. Total Population'!$B26:$Z26,MATCH(D$3,'LS1. Total Population'!$B$2:$Z$2,0))","v":101.84220523565031},{"$f":"INDEX('LS1. Total Population'!$B26:$Z26,MATCH(E$76,'LS1. Total Population'!$B$2:$Z$2,0))","v":101.36135763698466},{"$f":"INDEX('LS1. Total Population'!$B26:$Z26,MATCH(F$76,'LS1. Total Population'!$B$2:$Z$2,0))","v":104.19209045254104}]
[null,null,2013,{"$f":"INDEX('LS1. Total Population'!$B27:$Z27,MATCH(D$3,'LS1. Total Population'!$B$2:$Z$2,0))","v":101.88595077475652},{"$f":"INDEX('LS1. Total Population'!$B27:$Z27,MATCH(E$76,'LS1. Total Population'!$B$2:$Z$2,0))","v":101.58113892072036},{"$f":"INDEX('LS1. Total Population'!$B27:$Z27,MATCH(F$76,'LS1. Total Population'!$B$2:$Z$2,0))","v":104.80064489052032}]
[null,null,2014,{"$f":"INDEX('LS1. Total Population'!$B28:$Z28,MATCH(D$3,'LS1. Total Population'!$B$2:$Z$2,0))","v":101.94149609743744},{"$f":"INDEX('LS1. Total Population'!$B28:$Z28,MATCH(E$76,'LS1. Total Population'!$B$2:$Z$2,0))","v":101.79780813467379},{"$f":"INDEX('LS1. Total Population'!$B28:$Z28,MATCH(F$76,'LS1. Total Population'!$B$2:$Z$2,0))","v":105.55848440950788}]
[null,null,2015,{"$f":"INDEX('LS1. Total Population'!$B29:$Z29,MATCH(D$3,'LS1. Total Population'!$B$2:$Z$2,0))","v":102.18065756452468},{"$f":"INDEX('LS1. Total Population'!$B29:$Z29,MATCH(E$76,'LS1. Total Population'!$B$2:$Z$2,0))","v":102.22215613876511},{"$f":"INDEX('LS1. Total Population'!$B29:$Z29,MATCH(F$76,'LS1. Total Population'!$B$2:$Z$2,0))","v":106.33022839457536}]
[null,null,2016,{"$f":"INDEX('LS1. Total Population'!$B30:$Z30,MATCH(D$3,'LS1. Total Population'!$B$2:$Z$2,0))","v":102.54242166094905},{"$f":"INDEX('LS1. Total Population'!$B30:$Z30,MATCH(E$76,'LS1. Total Population'!$B$2:$Z$2,0))","v":102.70120741391841},{"$f":"INDEX('LS1. Total Population'!$B30:$Z30,MATCH(F$76,'LS1. Total Population'!$B$2:$Z$2,0))","v":107.17778054329845}]
[]
[]
[]
[]
[]
[]
[]
[]
[]
[]
[]
[]
[]
[]
[]
[]
[]
[]
[]
[]
[]
[]
[]
[]
[]
[]
[]
[]
[]
[]
[]
[]
[]
[]
[]
[]
[]
[]
[]
[]
[]
[]
[null,null,"LS2. Population by Age Band, 2016"]
[null,null,null,{"$f":"D$3","v":"Blackburn with Darwen, Hyndburn, Rossendale and Ribble Valley"},null,"Lancashire ","England Minus London"]
[null,null,"Aged under 1 year",{"$f":"INDEX('LS2. Population Split'!$B70:$Z70,MATCH(D$3,'LS2. Population Split'!$B$2:$Z$2,0))","v":4500},{"$f":"INDEX('LS2. Population Split'!$B103:$Z103,MATCH(D$3,'LS2. Population Split'!$B$2:$Z$2,0))","v":1.2629806342969408E-2},{"$f":"INDEX('LS2. Population Split'!$B103:$Z103,MATCH(F$131,'LS2. Population Split'!$B$2:$Z$2,0))","v":1.1447811447811448E-2},{"$f":"INDEX('LS2. Population Split'!$B103:$Z103,MATCH(G$131,'LS2. Population Split'!$B$2:$Z$2,0))","v":1.1622153088842131E-2}]
[null,null,"Aged 1 - 4 years",{"$f":"INDEX('LS2. Population Split'!$B71:$Z71,MATCH(D$3,'LS2. Population Split'!$B$2:$Z$2,0))","v":18800},{"$f":"INDEX('LS2. Population Split'!$B104:$Z104,MATCH(D$3,'LS2. Population Split'!$B$2:$Z$2,0))","v":5.2764524277294417E-2},{"$f":"INDEX('LS2. Population Split'!$B104:$Z104,MATCH(F$131,'LS2. Population Split'!$B$2:$Z$2,0))","v":4.7744107744107742E-2},{"$f":"INDEX('LS2. Population Split'!$B104:$Z104,MATCH(G$131,'LS2. Population Split'!$B$2:$Z$2,0))","v":4.8478707062362035E-2}]
[null,null,"Aged 5 - 9 years",{"$f":"INDEX('LS2. Population Split'!$B72:$Z72,MATCH(D$3,'LS2. Population Split'!$B$2:$Z$2,0))","v":24200},{"$f":"INDEX('LS2. Population Split'!$B105:$Z105,MATCH(D$3,'LS2. Population Split'!$B$2:$Z$2,0))","v":6.7920291888857703E-2},{"$f":"INDEX('LS2. Population Split'!$B105:$Z105,MATCH(F$131,'LS2. Population Split'!$B$2:$Z$2,0))","v":6.1010101010101007E-2},{"$f":"INDEX('LS2. Population Split'!$B105:$Z105,MATCH(G$131,'LS2. Population Split'!$B$2:$Z$2,0))","v":6.1286311160451114E-2}]
[null,null,"Aged 10 - 14 years",{"$f":"INDEX('LS2. Population Split'!$B73:$Z73,MATCH(D$3,'LS2. Population Split'!$B$2:$Z$2,0))","v":22900},{"$f":"INDEX('LS2. Population Split'!$B106:$Z106,MATCH(D$3,'LS2. Population Split'!$B$2:$Z$2,0))","v":6.4271681167555425E-2},{"$f":"INDEX('LS2. Population Split'!$B106:$Z106,MATCH(F$131,'LS2. Population Split'!$B$2:$Z$2,0))","v":5.6430976430976429E-2},{"$f":"INDEX('LS2. Population Split'!$B106:$Z106,MATCH(G$131,'LS2. Population Split'!$B$2:$Z$2,0))","v":5.5565595672996244E-2}]
[null,null,"Aged 15 - 19 years",{"$f":"INDEX('LS2. Population Split'!$B74:$Z74,MATCH(D$3,'LS2. Population Split'!$B$2:$Z$2,0))","v":22000},{"$f":"INDEX('LS2. Population Split'!$B107:$Z107,MATCH(D$3,'LS2. Population Split'!$B$2:$Z$2,0))","v":6.1745719898961549E-2},{"$f":"INDEX('LS2. Population Split'!$B107:$Z107,MATCH(F$131,'LS2. Population Split'!$B$2:$Z$2,0))","v":5.9663299663299661E-2},{"$f":"INDEX('LS2. Population Split'!$B107:$Z107,MATCH(G$131,'LS2. Population Split'!$B$2:$Z$2,0))","v":5.8321607910465104E-2}]
[null,null,"Aged 20 - 24 years",{"$f":"INDEX('LS2. Population Split'!$B75:$Z75,MATCH(D$3,'LS2. Population Split'!$B$2:$Z$2,0))","v":19700},{"$f":"INDEX('LS2. Population Split'!$B108:$Z108,MATCH(D$3,'LS2. Population Split'!$B$2:$Z$2,0))","v":5.5290485545888293E-2},{"$f":"INDEX('LS2. Population Split'!$B108:$Z108,MATCH(F$131,'LS2. Population Split'!$B$2:$Z$2,0))","v":6.4309764309764303E-2},{"$f":"INDEX('LS2. Population Split'!$B108:$Z108,MATCH(G$131,'LS2. Population Split'!$B$2:$Z$2,0))","v":6.434567837487791E-2}]
[null,null,"Aged 25 - 29 years",{"$f":"INDEX('LS2. Population Split'!$B76:$Z76,MATCH(D$3,'LS2. Population Split'!$B$2:$Z$2,0))","v":22000},{"$f":"INDEX('LS2. Population Split'!$B109:$Z109,MATCH(D$3,'LS2. Population Split'!$B$2:$Z$2,0))","v":6.1745719898961549E-2},{"$f":"INDEX('LS2. Population Split'!$B109:$Z109,MATCH(F$131,'LS2. Population Split'!$B$2:$Z$2,0))","v":6.1750841750841751E-2},{"$f":"INDEX('LS2. Population Split'!$B109:$Z109,MATCH(G$131,'LS2. Population Split'!$B$2:$Z$2,0))","v":6.4229499873064227E-2}]
[null,null,"Aged 30 - 34 years",{"$f":"INDEX('LS2. Population Split'!$B77:$Z77,MATCH(D$3,'LS2. Population Split'!$B$2:$Z$2,0))","v":22300},{"$f":"INDEX('LS2. Population Split'!$B110:$Z110,MATCH(D$3,'LS2. Population Split'!$B$2:$Z$2,0))","v":6.258770698849285E-2},{"$f":"INDEX('LS2. Population Split'!$B110:$Z110,MATCH(F$131,'LS2. Population Split'!$B$2:$Z$2,0))","v":5.9057239057239058E-2},{"$f":"INDEX('LS2. Population Split'!$B110:$Z110,MATCH(G$131,'LS2. Population Split'!$B$2:$Z$2,0))","v":6.2095257765672263E-2}]
[null,null,"Aged 35 - 39 years",{"$f":"INDEX('LS2. Population Split'!$B78:$Z78,MATCH(D$3,'LS2. Population Split'!$B$2:$Z$2,0))","v":21200},{"$f":"INDEX('LS2. Population Split'!$B111:$Z111,MATCH(D$3,'LS2. Population Split'!$B$2:$Z$2,0))","v":5.9500420993544766E-2},{"$f":"INDEX('LS2. Population Split'!$B111:$Z111,MATCH(F$131,'LS2. Population Split'!$B$2:$Z$2,0))","v":5.5959595959595959E-2},{"$f":"INDEX('LS2. Population Split'!$B111:$Z111,MATCH(G$131,'LS2. Population Split'!$B$2:$Z$2,0))","v":6.0191221208170359E-2}]
[null,null,"Aged 40 - 44 years",{"$f":"INDEX('LS2. Population Split'!$B79:$Z79,MATCH(D$3,'LS2. Population Split'!$B$2:$Z$2,0))","v":22900},{"$f":"INDEX('LS2. Population Split'!$B112:$Z112,MATCH(D$3,'LS2. Population Split'!$B$2:$Z$2,0))","v":6.4271681167555425E-2},{"$f":"INDEX('LS2. Population Split'!$B112:$Z112,MATCH(F$131,'LS2. Population Split'!$B$2:$Z$2,0))","v":6.0673400673400671E-2},{"$f":"INDEX('LS2. Population Split'!$B112:$Z112,MATCH(G$131,'LS2. Population Split'!$B$2:$Z$2,0))","v":6.2430884548689551E-2}]
[null,null,"Aged 45 - 49 years",{"$f":"INDEX('LS2. Population Split'!$B80:$Z80,MATCH(D$3,'LS2. Population Split'!$B$2:$Z$2,0))","v":26500},{"$f":"INDEX('LS2. Population Split'!$B113:$Z113,MATCH(D$3,'LS2. Population Split'!$B$2:$Z$2,0))","v":7.4375526241930959E-2},{"$f":"INDEX('LS2. Population Split'!$B113:$Z113,MATCH(F$131,'LS2. Population Split'!$B$2:$Z$2,0))","v":7.1582491582491581E-2},{"$f":"INDEX('LS2. Population Split'!$B113:$Z113,MATCH(G$131,'LS2. Population Split'!$B$2:$Z$2,0))","v":7.0787130864325018E-2}]
[null,null,"Aged 50 - 54 years",{"$f":"INDEX('LS2. Population Split'!$B81:$Z81,MATCH(D$3,'LS2. Population Split'!$B$2:$Z$2,0))","v":25300},{"$f":"INDEX('LS2. Population Split'!$B114:$Z114,MATCH(D$3,'LS2. Population Split'!$B$2:$Z$2,0))","v":7.1007577883805781E-2},{"$f":"INDEX('LS2. Population Split'!$B114:$Z114,MATCH(F$131,'LS2. Population Split'!$B$2:$Z$2,0))","v":7.2390572390572394E-2},{"$f":"INDEX('LS2. Population Split'!$B114:$Z114,MATCH(G$131,'LS2. Population Split'!$B$2:$Z$2,0))","v":7.1548745487325788E-2}]
[null,null,"Aged 55 - 59 years",{"$f":"INDEX('LS2. Population Split'!$B82:$Z82,MATCH(D$3,'LS2. Population Split'!$B$2:$Z$2,0))","v":22400},{"$f":"INDEX('LS2. Population Split'!$B115:$Z115,MATCH(D$3,'LS2. Population Split'!$B$2:$Z$2,0))","v":6.2868369351669937E-2},{"$f":"INDEX('LS2. Population Split'!$B115:$Z115,MATCH(F$131,'LS2. Population Split'!$B$2:$Z$2,0))","v":6.471380471380471E-2},{"$f":"INDEX('LS2. Population Split'!$B115:$Z115,MATCH(G$131,'LS2. Population Split'!$B$2:$Z$2,0))","v":6.3031140141393535E-2}]
[null,null,"Aged 60 - 64 years",{"$f":"INDEX('LS2. Population Split'!$B83:$Z83,MATCH(D$3,'LS2. Population Split'!$B$2:$Z$2,0))","v":19800},{"$f":"INDEX('LS2. Population Split'!$B116:$Z116,MATCH(D$3,'LS2. Population Split'!$B$2:$Z$2,0))","v":5.5571147909065394E-2},{"$f":"INDEX('LS2. Population Split'!$B116:$Z116,MATCH(F$131,'LS2. Population Split'!$B$2:$Z$2,0))","v":5.7104377104377102E-2},{"$f":"INDEX('LS2. Population Split'!$B116:$Z116,MATCH(G$131,'LS2. Population Split'!$B$2:$Z$2,0))","v":5.5412842457648631E-2}]
[null,null,"Aged 65 - 69 years",{"$f":"INDEX('LS2. Population Split'!$B84:$Z84,MATCH(D$3,'LS2. Population Split'!$B$2:$Z$2,0))","v":20400},{"$f":"INDEX('LS2. Population Split'!$B117:$Z117,MATCH(D$3,'LS2. Population Split'!$B$2:$Z$2,0))","v":5.7255122088127983E-2},{"$f":"INDEX('LS2. Population Split'!$B117:$Z117,MATCH(F$131,'LS2. Population Split'!$B$2:$Z$2,0))","v":6.1481481481481484E-2},{"$f":"INDEX('LS2. Population Split'!$B117:$Z117,MATCH(G$131,'LS2. Population Split'!$B$2:$Z$2,0))","v":5.8446392227227938E-2}]
[null,null,"Aged 70 - 74 years",{"$f":"INDEX('LS2. Population Split'!$B85:$Z85,MATCH(D$3,'LS2. Population Split'!$B$2:$Z$2,0))","v":15200},{"$f":"INDEX('LS2. Population Split'!$B118:$Z118,MATCH(D$3,'LS2. Population Split'!$B$2:$Z$2,0))","v":4.266067920291889E-2},{"$f":"INDEX('LS2. Population Split'!$B118:$Z118,MATCH(F$131,'LS2. Population Split'!$B$2:$Z$2,0))","v":4.7878787878787882E-2},{"$f":"INDEX('LS2. Population Split'!$B118:$Z118,MATCH(G$131,'LS2. Population Split'!$B$2:$Z$2,0))","v":4.6150834118613947E-2}]
[null,null,"Aged 75 - 79 years",{"$f":"INDEX('LS2. Population Split'!$B86:$Z86,MATCH(D$3,'LS2. Population Split'!$B$2:$Z$2,0))","v":10900},{"$f":"INDEX('LS2. Population Split'!$B119:$Z119,MATCH(D$3,'LS2. Population Split'!$B$2:$Z$2,0))","v":3.0592197586303677E-2},{"$f":"INDEX('LS2. Population Split'!$B119:$Z119,MATCH(F$131,'LS2. Population Split'!$B$2:$Z$2,0))","v":3.6094276094276095E-2},{"$f":"INDEX('LS2. Population Split'!$B119:$Z119,MATCH(G$131,'LS2. Population Split'!$B$2:$Z$2,0))","v":3.461043627178885E-2}]
[null,null,"Aged 80 - 84 years",{"$f":"INDEX('LS2. Population Split'!$B87:$Z87,MATCH(D$3,'LS2. Population Split'!$B$2:$Z$2,0))","v":8000},{"$f":"INDEX('LS2. Population Split'!$B120:$Z120,MATCH(D$3,'LS2. Population Split'!$B$2:$Z$2,0))","v":2.2452989054167836E-2},{"$f":"INDEX('LS2. Population Split'!$B120:$Z120,MATCH(F$131,'LS2. Population Split'!$B$2:$Z$2,0))","v":2.6127946127946129E-2},{"$f":"INDEX('LS2. Population Split'!$B120:$Z120,MATCH(G$131,'LS2. Population Split'!$B$2:$Z$2,0))","v":2.5892745728288605E-2}]
[null,null,"Aged 85 and over",{"$f":"INDEX('LS2. Population Split'!$B88:$Z88,MATCH(D$3,'LS2. Population Split'!$B$2:$Z$2,0))","v":7400},{"$f":"INDEX('LS2. Population Split'!$B121:$Z121,MATCH(D$3,'LS2. Population Split'!$B$2:$Z$2,0))","v":2.0769014875105248E-2},{"$f":"INDEX('LS2. Population Split'!$B121:$Z121,MATCH(F$131,'LS2. Population Split'!$B$2:$Z$2,0))","v":2.4713804713804712E-2},{"$f":"INDEX('LS2. Population Split'!$B121:$Z121,MATCH(G$131,'LS2. Population Split'!$B$2:$Z$2,0))","v":2.555496749153403E-2}]
[null,null,"Total",{"$f":"INDEX('LS2. Population Split'!$B89:$Z89,MATCH(D$3,'LS2. Population Split'!$B$2:$Z$2,0))","v":356300},{"$f":"INDEX('LS2. Population Split'!$B122:$Z122,MATCH(D$3,'LS2. Population Split'!$B$2:$Z$2,0))","v":1},{"$f":"INDEX('LS2. Population Split'!$B122:$Z122,MATCH(F$131,'LS2. Population Split'!$B$2:$Z$2,0))","v":1},{"$f":"INDEX('LS2. Population Split'!$B122:$Z122,MATCH(G$131,'LS2. Population Split'!$B$2:$Z$2,0))","v":1}]
[]
[null,null,"For details on Population by gender, ethnicity and disability, please click here"]
[]
[]
[]
[]
[]
[]
[]
[]
[]
[]
[]
[]
[]
[]
[]
[]
[]
[]
[]
[]
[]
[]
[]
[]
[]
[]
[]
[]
[]
[]
[]
[]
[]
[]
[]
[]
[]
[]
[]
[]
[]
[]
[]
[]
[]
[]
[]
[]
[]
[null,null,"LS3. Population Change by Age, 2006-2016"]
[null,null,null,{"$f":"D$3","v":"Blackburn with Darwen, Hyndburn, Rossendale and Ribble Valley"},"Lancashire ","England Minus London"]
[null,null,"0-15",{"$f":"INDEX('LS3. Population Change by Age'!$B61:$AB61,MATCH(D$3,'LS3. Population Change by Age'!$B$2:$AB$2,0))","v":-8.4507042253521118E-3},{"$f":"INDEX('LS3. Population Change by Age'!$B61:$AB61,MATCH(E$204,'LS3. Population Change by Age'!$B$2:$AB$2,0))","v":6.5234075211051418E-3},{"$f":"INDEX('LS3. Population Change by Age'!$B61:$AB61,MATCH(F$204,'LS3. Population Change by Age'!$B$2:$AB$2,0))","v":6.5278209511967666E-2}]
[null,null,"16-19",{"$f":"INDEX('LS3. Population Change by Age'!$B62:$AB62,MATCH(D$3,'LS3. Population Change by Age'!$B$2:$AB$2,0))","v":-9.8360655737704916E-2},{"$f":"INDEX('LS3. Population Change by Age'!$B62:$AB62,MATCH(E$204,'LS3. Population Change by Age'!$B$2:$AB$2,0))","v":-9.5918367346938774E-2},{"$f":"INDEX('LS3. Population Change by Age'!$B62:$AB62,MATCH(F$204,'LS3. Population Change by Age'!$B$2:$AB$2,0))","v":-4.4651982378854628E-2}]
[null,null,"20-24",{"$f":"INDEX('LS3. Population Change by Age'!$B63:$AB63,MATCH(D$3,'LS3. Population Change by Age'!$B$2:$AB$2,0))","v":0},{"$f":"INDEX('LS3. Population Change by Age'!$B63:$AB63,MATCH(E$204,'LS3. Population Change by Age'!$B$2:$AB$2,0))","v":2.7987082884822389E-2},{"$f":"INDEX('LS3. Population Change by Age'!$B63:$AB63,MATCH(F$204,'LS3. Population Change by Age'!$B$2:$AB$2,0))","v":7.5479161422561045E-2}]
[null,null,"25-34",{"$f":"INDEX('LS3. Population Change by Age'!$B64:$AB64,MATCH(D$3,'LS3. Population Change by Age'!$B$2:$AB$2,0))","v":3.7470725995316159E-2},{"$f":"INDEX('LS3. Population Change by Age'!$B64:$AB64,MATCH(E$204,'LS3. Population Change by Age'!$B$2:$AB$2,0))","v":6.216696269982238E-2},{"$f":"INDEX('LS3. Population Change by Age'!$B64:$AB64,MATCH(F$204,'LS3. Population Change by Age'!$B$2:$AB$2,0))","v":9.973591054672136E-2}]
[null,null,"35-44",{"$f":"INDEX('LS3. Population Change by Age'!$B65:$AB65,MATCH(D$3,'LS3. Population Change by Age'!$B$2:$AB$2,0))","v":-0.16949152542372881},{"$f":"INDEX('LS3. Population Change by Age'!$B65:$AB65,MATCH(E$204,'LS3. Population Change by Age'!$B$2:$AB$2,0))","v":-0.19178721418572095},{"$f":"INDEX('LS3. Population Change by Age'!$B65:$AB65,MATCH(F$204,'LS3. Population Change by Age'!$B$2:$AB$2,0))","v":-0.12974103707323031}]
[null,null,"45-54",{"$f":"INDEX('LS3. Population Change by Age'!$B66:$AB66,MATCH(D$3,'LS3. Population Change by Age'!$B$2:$AB$2,0))","v":0.14855875831485588},{"$f":"INDEX('LS3. Population Change by Age'!$B66:$AB66,MATCH(E$204,'LS3. Population Change by Age'!$B$2:$AB$2,0))","v":0.13361611876988336},{"$f":"INDEX('LS3. Population Change by Age'!$B66:$AB66,MATCH(F$204,'LS3. Population Change by Age'!$B$2:$AB$2,0))","v":0.17052370842179759}]
[null,null,"55-64",{"$f":"INDEX('LS3. Population Change by Age'!$B67:$AB67,MATCH(D$3,'LS3. Population Change by Age'!$B$2:$AB$2,0))","v":2.9268292682926831E-2},{"$f":"INDEX('LS3. Population Change by Age'!$B67:$AB67,MATCH(E$204,'LS3. Population Change by Age'!$B$2:$AB$2,0))","v":5.5309734513274336E-4},{"$f":"INDEX('LS3. Population Change by Age'!$B67:$AB67,MATCH(F$204,'LS3. Population Change by Age'!$B$2:$AB$2,0))","v":3.6916354321661987E-2}]
[null,null,"65+",{"$f":"INDEX('LS3. Population Change by Age'!$B68:$AB68,MATCH(D$3,'LS3. Population Change by Age'!$B$2:$AB$2,0))","v":0.22574257425742575},{"$f":"INDEX('LS3. Population Change by Age'!$B68:$AB68,MATCH(E$204,'LS3. Population Change by Age'!$B$2:$AB$2,0))","v":0.20504340636626706},{"$f":"INDEX('LS3. Population Change by Age'!$B68:$AB68,MATCH(F$204,'LS3. Population Change by Age'!$B$2:$AB$2,0))","v":0.23442636652365298}]
[]
[]
[]
[]
[]
[]
[]
[]
[]
[]
[]
[]
[]
[]
[]
[]
[]
[]
[]
[]
[]
[]
[]
[]
[]
[]
[]
[]
[]
[]
[]
[]
[]
[]
[]
[]
[]
[]
[]
[]
[]
[null,null,"LS4. Working Age Population, 2006-2016"]
[null,null,null,{"$f":"D$3","v":"Blackburn with Darwen, Hyndburn, Rossendale and Ribble Valley"},"Lancashire ","England Minus London"]
[null,null,2006,{"$f":"INDEX('LS4. Working Age Population'!$B4:$Z4,MATCH(D$3,'LS4. Working Age Population'!$B$2:$Z$2,0))","v":220800},{"$f":"INDEX('LS4. Working Age Population'!$B4:$Z4,MATCH(E$255,'LS4. Working Age Population'!$B$2:$Z$2,0))","v":923500},{"$f":"INDEX('LS4. Working Age Population'!$B4:$Z4,MATCH(F$255,'LS4. Working Age Population'!$B$2:$Z$2,0))","v":27886700}]
[null,null,2007,{"$f":"INDEX('LS4. Working Age Population'!$B5:$Z5,MATCH(D$3,'LS4. Working Age Population'!$B$2:$Z$2,0))","v":222500},{"$f":"INDEX('LS4. Working Age Population'!$B5:$Z5,MATCH(E$255,'LS4. Working Age Population'!$B$2:$Z$2,0))","v":927600},{"$f":"INDEX('LS4. Working Age Population'!$B5:$Z5,MATCH(F$255,'LS4. Working Age Population'!$B$2:$Z$2,0))","v":28142300}]
[null,null,2008,{"$f":"INDEX('LS4. Working Age Population'!$B6:$Z6,MATCH(D$3,'LS4. Working Age Population'!$B$2:$Z$2,0))","v":223700},{"$f":"INDEX('LS4. Working Age Population'!$B6:$Z6,MATCH(E$255,'LS4. Working Age Population'!$B$2:$Z$2,0))","v":928500},{"$f":"INDEX('LS4. Working Age Population'!$B6:$Z6,MATCH(F$255,'LS4. Working Age Population'!$B$2:$Z$2,0))","v":28325800}]
[null,null,2009,{"$f":"INDEX('LS4. Working Age Population'!$B7:$Z7,MATCH(D$3,'LS4. Working Age Population'!$B$2:$Z$2,0))","v":224300},{"$f":"INDEX('LS4. Working Age Population'!$B7:$Z7,MATCH(E$255,'LS4. Working Age Population'!$B$2:$Z$2,0))","v":927600},{"$f":"INDEX('LS4. Working Age Population'!$B7:$Z7,MATCH(F$255,'LS4. Working Age Population'!$B$2:$Z$2,0))","v":28413600}]
[null,null,2010,{"$f":"INDEX('LS4. Working Age Population'!$B8:$Z8,MATCH(D$3,'LS4. Working Age Population'!$B$2:$Z$2,0))","v":224700},{"$f":"INDEX('LS4. Working Age Population'!$B8:$Z8,MATCH(E$255,'LS4. Working Age Population'!$B$2:$Z$2,0))","v":928500},{"$f":"INDEX('LS4. Working Age Population'!$B8:$Z8,MATCH(F$255,'LS4. Working Age Population'!$B$2:$Z$2,0))","v":28559600}]
[null,null,2011,{"$f":"INDEX('LS4. Working Age Population'!$B9:$Z9,MATCH(D$3,'LS4. Working Age Population'!$B$2:$Z$2,0))","v":224700},{"$f":"INDEX('LS4. Working Age Population'!$B9:$Z9,MATCH(E$255,'LS4. Working Age Population'!$B$2:$Z$2,0))","v":928000},{"$f":"INDEX('LS4. Working Age Population'!$B9:$Z9,MATCH(F$255,'LS4. Working Age Population'!$B$2:$Z$2,0))","v":28683000}]
[null,null,2012,{"$f":"INDEX('LS4. Working Age Population'!$B10:$Z10,MATCH(D$3,'LS4. Working Age Population'!$B$2:$Z$2,0))","v":222900},{"$f":"INDEX('LS4. Working Age Population'!$B10:$Z10,MATCH(E$255,'LS4. Working Age Population'!$B$2:$Z$2,0))","v":922200},{"$f":"INDEX('LS4. Working Age Population'!$B10:$Z10,MATCH(F$255,'LS4. Working Age Population'!$B$2:$Z$2,0))","v":28603200}]
[null,null,2013,{"$f":"INDEX('LS4. Working Age Population'!$B11:$Z11,MATCH(D$3,'LS4. Working Age Population'!$B$2:$Z$2,0))","v":221500},{"$f":"INDEX('LS4. Working Age Population'!$B11:$Z11,MATCH(E$255,'LS4. Working Age Population'!$B$2:$Z$2,0))","v":918400},{"$f":"INDEX('LS4. Working Age Population'!$B11:$Z11,MATCH(F$255,'LS4. Working Age Population'!$B$2:$Z$2,0))","v":28595200}]
[null,null,2014,{"$f":"INDEX('LS4. Working Age Population'!$B12:$Z12,MATCH(D$3,'LS4. Working Age Population'!$B$2:$Z$2,0))","v":220300},{"$f":"INDEX('LS4. Working Age Population'!$B12:$Z12,MATCH(E$255,'LS4. Working Age Population'!$B$2:$Z$2,0))","v":914400},{"$f":"INDEX('LS4. Working Age Population'!$B12:$Z12,MATCH(F$255,'LS4. Working Age Population'!$B$2:$Z$2,0))","v":28651900}]
[null,null,2015,{"$f":"INDEX('LS4. Working Age Population'!$B13:$Z13,MATCH(D$3,'LS4. Working Age Population'!$B$2:$Z$2,0))","v":219700},{"$f":"INDEX('LS4. Working Age Population'!$B13:$Z13,MATCH(E$255,'LS4. Working Age Population'!$B$2:$Z$2,0))","v":914200},{"$f":"INDEX('LS4. Working Age Population'!$B13:$Z13,MATCH(F$255,'LS4. Working Age Population'!$B$2:$Z$2,0))","v":28761900}]
[null,null,2016,{"$f":"INDEX('LS4. Working Age Population'!$B14:$Z14,MATCH(D$3,'LS4. Working Age Population'!$B$2:$Z$2,0))","v":219700},{"$f":"INDEX('LS4. Working Age Population'!$B14:$Z14,MATCH(E$255,'LS4. Working Age Population'!$B$2:$Z$2,0))","v":914500},{"$f":"INDEX('LS4. Working Age Population'!$B14:$Z14,MATCH(F$255,'LS4. Working Age Population'!$B$2:$Z$2,0))","v":28885000}]
[null,null,"Change 2006-16",{"$f":"D266-D256","v":-1100},{"$f":"E266-E256","v":-9000},998300]
[null,null,"% Change 2006-16",{"$f":"D267/D256","v":-4.9818840579710141E-3},{"$f":"E267/E256","v":-9.7455332972387655E-3},3.5798427207234987E-2]
[]
[null,null,"LS4. Index of Working Age Population, 2006-16"]
[null,null,null,{"$f":"D$3","v":"Blackburn with Darwen, Hyndburn, Rossendale and Ribble Valley"},"Lancashire ","England Minus London"]
[null,null,2006,100,100,100]
[null,null,2007,{"$f":"D257/D$256*100","v":100.76992753623189},{"$f":"E257/E$256*100","v":100.44396318354087},100.91656596155157]
[null,null,2008,{"$f":"D258/D$256*100","v":101.31340579710144},100.54141851651326,101.57458573441819]
[null,null,2009,{"$f":"D259/D$256*100","v":101.58514492753623},100.44396318354087,101.88943116252551]
[null,null,2010,{"$f":"D260/D$256*100","v":101.76630434782609},100.54141851651326,102.41297822976546]
[null,null,2011,{"$f":"D261/D$256*100","v":101.76630434782609},100.48727666486195,102.8554830797477]
[null,null,2012,{"$f":"D262/D$256*100","v":100.95108695652173},99.859231185706548,102.56932516217407]
[null,null,2013,{"$f":"D263/D$256*100","v":100.31702898550725},99.447753113156466,102.54063765164038]
[null,null,2014,{"$f":"D264/D$256*100","v":99.773550724637687},99.014618299945852,102.74396038254795]
[null,null,2015,{"$f":"D265/D$256*100","v":99.501811594202891},98.992961559285334,103.13841365238628]
[null,null,2016,{"$f":"D266/D$256*100","v":99.501811594202891},99.025446670276125,103.57984272072349]
[]
[]
[]
[]
[]
[]
[]
[]
[]
[]
[]
[]
[]
[]
[]
[]
[]
[]
[]
[]
[]
[]
[]
[]
[]
[]
[null,null,"LS5. Population Aged 65+, 2006-16"]
[null,null,null,{"$f":"D$3","v":"Blackburn with Darwen, Hyndburn, Rossendale and Ribble Valley"},"Lancashire ","England Minus London"]
[null,null,2006,{"$f":"INDEX('LS5. Population Aged 65+'!$B4:$Z4,MATCH(D$3,'LS5. Population Aged 65+'!$B$2:$Z$2,0))","v":50400},{"$f":"INDEX('LS5. Population Aged 65+'!$B4:$Z4,MATCH(E$310,'LS5. Population Aged 65+'!$B$2:$Z$2,0))","v":241800},{"$f":"INDEX('LS5. Population Aged 65+'!$B4:$Z4,MATCH(F$310,'LS5. Population Aged 65+'!$B$2:$Z$2,0))","v":7178800}]
[null,null,2007,{"$f":"INDEX('LS5. Population Aged 65+'!$B5:$Z5,MATCH(D$3,'LS5. Population Aged 65+'!$B$2:$Z$2,0))","v":50800},{"$f":"INDEX('LS5. Population Aged 65+'!$B5:$Z5,MATCH(E$310,'LS5. Population Aged 65+'!$B$2:$Z$2,0))","v":243700},{"$f":"INDEX('LS5. Population Aged 65+'!$B5:$Z5,MATCH(F$310,'LS5. Population Aged 65+'!$B$2:$Z$2,0))","v":7251700}]
[null,null,2008,{"$f":"INDEX('LS5. Population Aged 65+'!$B6:$Z6,MATCH(D$3,'LS5. Population Aged 65+'!$B$2:$Z$2,0))","v":51500},{"$f":"INDEX('LS5. Population Aged 65+'!$B6:$Z6,MATCH(E$310,'LS5. Population Aged 65+'!$B$2:$Z$2,0))","v":247100},{"$f":"INDEX('LS5. Population Aged 65+'!$B6:$Z6,MATCH(F$310,'LS5. Population Aged 65+'!$B$2:$Z$2,0))","v":7371700}]
[null,null,2009,{"$f":"INDEX('LS5. Population Aged 65+'!$B7:$Z7,MATCH(D$3,'LS5. Population Aged 65+'!$B$2:$Z$2,0))","v":52300},{"$f":"INDEX('LS5. Population Aged 65+'!$B7:$Z7,MATCH(E$310,'LS5. Population Aged 65+'!$B$2:$Z$2,0))","v":250700},{"$f":"INDEX('LS5. Population Aged 65+'!$B7:$Z7,MATCH(F$310,'LS5. Population Aged 65+'!$B$2:$Z$2,0))","v":7513000}]
[null,null,2010,{"$f":"INDEX('LS5. Population Aged 65+'!$B8:$Z8,MATCH(D$3,'LS5. Population Aged 65+'!$B$2:$Z$2,0))","v":53300},{"$f":"INDEX('LS5. Population Aged 65+'!$B8:$Z8,MATCH(E$310,'LS5. Population Aged 65+'!$B$2:$Z$2,0))","v":255000},{"$f":"INDEX('LS5. Population Aged 65+'!$B8:$Z8,MATCH(F$310,'LS5. Population Aged 65+'!$B$2:$Z$2,0))","v":7666500}]
[null,null,2011,{"$f":"INDEX('LS5. Population Aged 65+'!$B9:$Z9,MATCH(D$3,'LS5. Population Aged 65+'!$B$2:$Z$2,0))","v":54300},{"$f":"INDEX('LS5. Population Aged 65+'!$B9:$Z9,MATCH(E$310,'LS5. Population Aged 65+'!$B$2:$Z$2,0))","v":259400},{"$f":"INDEX('LS5. Population Aged 65+'!$B9:$Z9,MATCH(F$310,'LS5. Population Aged 65+'!$B$2:$Z$2,0))","v":7819500}]
[null,null,2012,{"$f":"INDEX('LS5. Population Aged 65+'!$B10:$Z10,MATCH(D$3,'LS5. Population Aged 65+'!$B$2:$Z$2,0))","v":56500},{"$f":"INDEX('LS5. Population Aged 65+'!$B10:$Z10,MATCH(E$310,'LS5. Population Aged 65+'!$B$2:$Z$2,0))","v":268800},{"$f":"INDEX('LS5. Population Aged 65+'!$B10:$Z10,MATCH(F$310,'LS5. Population Aged 65+'!$B$2:$Z$2,0))","v":8119100}]
[null,null,2013,{"$f":"INDEX('LS5. Population Aged 65+'!$B11:$Z11,MATCH(D$3,'LS5. Population Aged 65+'!$B$2:$Z$2,0))","v":58200},{"$f":"INDEX('LS5. Population Aged 65+'!$B11:$Z11,MATCH(E$310,'LS5. Population Aged 65+'!$B$2:$Z$2,0))","v":275600},{"$f":"INDEX('LS5. Population Aged 65+'!$B11:$Z11,MATCH(F$310,'LS5. Population Aged 65+'!$B$2:$Z$2,0))","v":8344800}]
[null,null,2014,{"$f":"INDEX('LS5. Population Aged 65+'!$B12:$Z12,MATCH(D$3,'LS5. Population Aged 65+'!$B$2:$Z$2,0))","v":59700},{"$f":"INDEX('LS5. Population Aged 65+'!$B12:$Z12,MATCH(E$310,'LS5. Population Aged 65+'!$B$2:$Z$2,0))","v":282000},{"$f":"INDEX('LS5. Population Aged 65+'!$B12:$Z12,MATCH(F$310,'LS5. Population Aged 65+'!$B$2:$Z$2,0))","v":8554800}]
[null,null,2015,{"$f":"INDEX('LS5. Population Aged 65+'!$B13:$Z13,MATCH(D$3,'LS5. Population Aged 65+'!$B$2:$Z$2,0))","v":60800},{"$f":"INDEX('LS5. Population Aged 65+'!$B13:$Z13,MATCH(E$310,'LS5. Population Aged 65+'!$B$2:$Z$2,0))","v":286700},{"$f":"INDEX('LS5. Population Aged 65+'!$B13:$Z13,MATCH(F$310,'LS5. Population Aged 65+'!$B$2:$Z$2,0))","v":8710200}]
[null,null,2016,{"$f":"INDEX('LS5. Population Aged 65+'!$B14:$Z14,MATCH(D$3,'LS5. Population Aged 65+'!$B$2:$Z$2,0))","v":61900},{"$f":"INDEX('LS5. Population Aged 65+'!$B14:$Z14,MATCH(E$310,'LS5. Population Aged 65+'!$B$2:$Z$2,0))","v":291400},{"$f":"INDEX('LS5. Population Aged 65+'!$B14:$Z14,MATCH(F$310,'LS5. Population Aged 65+'!$B$2:$Z$2,0))","v":8861700}]
[null,null,"Change 2006-16",{"$f":"D321-D311","v":11500},{"$f":"E321-E311","v":49600},1682900]
[null,null,"% Change 2006-16",{"$f":"D322/D311","v":0.22817460317460317},{"$f":"E322/E311","v":0.20512820512820512},0.23442636652365298]
[]
[null,null,"LS5. Index of Population Aged 65+, 2006-16"]
[null,null,null,{"$f":"D$3","v":"Blackburn with Darwen, Hyndburn, Rossendale and Ribble Valley"},"Lancashire ","England Minus London"]
[null,null,2006,100,100,100]
[null,null,2007,{"$f":"D312/D$311*100","v":100.79365079365078},{"$f":"E312/E$311*100","v":100.78577336641852},101.01549005404804]
[null,null,2008,{"$f":"D313/D$311*100","v":102.18253968253967},102.19189412737799,102.68707862038224]
[null,null,2009,{"$f":"D314/D$311*100","v":103.76984126984128},103.68072787427627,104.65537415724076]
[null,null,2010,{"$f":"D315/D$311*100","v":105.75396825396825},105.4590570719603,106.7936145316766]
[null,null,2011,{"$f":"D316/D$311*100","v":107.73809523809523},107.27874276261373,108.92488995375271]
[null,null,2012,{"$f":"D317/D$311*100","v":112.10317460317461},111.16625310173698,113.09828940770046]
[null,null,2013,{"$f":"D318/D$311*100","v":115.47619047619047},113.97849462365592,116.2422689028807]
[null,null,2014,{"$f":"D319/D$311*100","v":118.45238095238095},116.62531017369726,119.16754889396557]
[null,null,2015,{"$f":"D320/D$311*100","v":120.63492063492063},118.56906534325888,121.33225608736838]
[null,null,2016,{"$f":"D321/D$311*100","v":122.81746031746033},120.51282051282051,123.44263665236529]
[]
[]
[]
[]
[]
[]
[]
[]
[]
[]
[]
[]
[]
[]
[]
[]
[]
[]
[]
[]
[]
[]
[null,null,"LS6. Components of Population Change, 2016"]
[null,null,null,{"$f":"D$3","v":"Blackburn with Darwen, Hyndburn, Rossendale and Ribble Valley"},"Lancashire ","England Minus London"]
[null,null,"Long-Term International Migration",{"$f":"IFERROR(INDEX('LS6. Components of Pop Change'!$B5:$Z5,MATCH(D$3,'LS6. Components of Pop Change'!$B$2:$Z$2,0)),\"n/a\")","v":524},{"$f":"IFERROR(INDEX('LS6. Components of Pop Change'!$B5:$Z5,MATCH(E$361,'LS6. Components of Pop Change'!$B$2:$Z$2,0)),\"n/a\")","v":3574},{"$f":"IFERROR(INDEX('LS6. Components of Pop Change'!$B5:$Z5,MATCH(F$361,'LS6. Components of Pop Change'!$B$2:$Z$2,0)),\"n/a\")","v":175538}]
[null,null,"Internal Migration (within UK)",{"$f":"IFERROR(INDEX('LS6. Components of Pop Change'!$B6:$Z6,MATCH(D$3,'LS6. Components of Pop Change'!$B$2:$Z$2,0)),\"n/a\")","v":-510},{"$f":"IFERROR(INDEX('LS6. Components of Pop Change'!$B6:$Z6,MATCH(E$361,'LS6. Components of Pop Change'!$B$2:$Z$2,0)),\"n/a\")","v":2146},{"$f":"IFERROR(INDEX('LS6. Components of Pop Change'!$B6:$Z6,MATCH(F$361,'LS6. Components of Pop Change'!$B$2:$Z$2,0)),\"n/a\")","v":81117}]
[]
[null,null,"LS6. Components of Population Change as a % of Total Population, 2016"]
[null,null,null,{"$f":"D$3","v":"Blackburn with Darwen, Hyndburn, Rossendale and Ribble Valley"},"Lancashire ","England Minus London"]
[null,null,"Long-Term International Migration",{"$f":"IFERROR(INDEX('LS6. Components of Pop Change'!$B10:$Z10,MATCH(D$3,'LS6. Components of Pop Change'!$B$2:$Z$2,0)),\"n/a\")","v":1.4706790383330808E-3},{"$f":"IFERROR(INDEX('LS6. Components of Pop Change'!$B10:$Z10,MATCH(E$361,'LS6. Components of Pop Change'!$B$2:$Z$2,0)),\"n/a\")","v":2.981319621821191E-3},{"$f":"IFERROR(INDEX('LS6. Components of Pop Change'!$B10:$Z10,MATCH(F$361,'LS6. Components of Pop Change'!$B$2:$Z$2,0)),\"n/a\")","v":3.7766208926709077E-3}]
[null,null,"Internal Migration (within UK)",{"$f":"IFERROR(INDEX('LS6. Components of Pop Change'!$B11:$Z11,MATCH(D$3,'LS6. Components of Pop Change'!$B$2:$Z$2,0)),\"n/a\")","v":-1.4313860869272351E-3},{"$f":"IFERROR(INDEX('LS6. Components of Pop Change'!$B11:$Z11,MATCH(E$361,'LS6. Components of Pop Change'!$B$2:$Z$2,0)),\"n/a\")","v":1.7901264433207262E-3},{"$f":"IFERROR(INDEX('LS6. Components of Pop Change'!$B11:$Z11,MATCH(F$361,'LS6. Components of Pop Change'!$B$2:$Z$2,0)),\"n/a\")","v":1.745195666754697E-3}]
[]
[]
[]
[]
[]
[]
[]
[]
[]
[]
[]
[]
[]
[]
[]
[]
[]
[]
[]
[]
[]
[]
[]
[]
[]
[]
[]
[]
[]
[]
[]
[null,null,"LS7. Total Projected Population, 2018-28"]
[null,null,null,{"$f":"D$3","v":"Blackburn with Darwen, Hyndburn, Rossendale and Ribble Valley"},"Lancashire ","England Minus London"]
[null,null,2018,{"$f":"INDEX('LS7. Population Projections'!$B4:$Z4,MATCH(D$3,'LS7. Population Projections'!$B$2:$Z$2,0))","v":355039},{"$f":"INDEX('LS7. Population Projections'!$B4:$Z4,MATCH(E$401,'LS7. Population Projections'!$B$2:$Z$2,0))","v":1485312},{"$f":"INDEX('LS7. Population Projections'!$B4:$Z4,MATCH(F$401,'LS7. Population Projections'!$B$2:$Z$2,0))","v":46980139}]
[null,null,2019,{"$f":"INDEX('LS7. Population Projections'!$B5:$Z5,MATCH(D$3,'LS7. Population Projections'!$B$2:$Z$2,0))","v":355396},{"$f":"INDEX('LS7. Population Projections'!$B5:$Z5,MATCH(E$401,'LS7. Population Projections'!$B$2:$Z$2,0))","v":1488534},{"$f":"INDEX('LS7. Population Projections'!$B5:$Z5,MATCH(F$401,'LS7. Population Projections'!$B$2:$Z$2,0))","v":47269814}]
[null,null,2020,{"$f":"INDEX('LS7. Population Projections'!$B6:$Z6,MATCH(D$3,'LS7. Population Projections'!$B$2:$Z$2,0))","v":355772},{"$f":"INDEX('LS7. Population Projections'!$B6:$Z6,MATCH(E$401,'LS7. Population Projections'!$B$2:$Z$2,0))","v":1491672},{"$f":"INDEX('LS7. Population Projections'!$B6:$Z6,MATCH(F$401,'LS7. Population Projections'!$B$2:$Z$2,0))","v":47555883}]
[null,null,2021,{"$f":"INDEX('LS7. Population Projections'!$B7:$Z7,MATCH(D$3,'LS7. Population Projections'!$B$2:$Z$2,0))","v":356175},{"$f":"INDEX('LS7. Population Projections'!$B7:$Z7,MATCH(E$401,'LS7. Population Projections'!$B$2:$Z$2,0))","v":1494798},{"$f":"INDEX('LS7. Population Projections'!$B7:$Z7,MATCH(F$401,'LS7. Population Projections'!$B$2:$Z$2,0))","v":47837833}]
[null,null,2022,{"$f":"INDEX('LS7. Population Projections'!$B8:$Z8,MATCH(D$3,'LS7. Population Projections'!$B$2:$Z$2,0))","v":356518},{"$f":"INDEX('LS7. Population Projections'!$B8:$Z8,MATCH(E$401,'LS7. Population Projections'!$B$2:$Z$2,0))","v":1498017},{"$f":"INDEX('LS7. Population Projections'!$B8:$Z8,MATCH(F$401,'LS7. Population Projections'!$B$2:$Z$2,0))","v":48121588}]
[null,null,2023,{"$f":"INDEX('LS7. Population Projections'!$B9:$Z9,MATCH(D$3,'LS7. Population Projections'!$B$2:$Z$2,0))","v":356836},{"$f":"INDEX('LS7. Population Projections'!$B9:$Z9,MATCH(E$401,'LS7. Population Projections'!$B$2:$Z$2,0))","v":1501295},{"$f":"INDEX('LS7. Population Projections'!$B9:$Z9,MATCH(F$401,'LS7. Population Projections'!$B$2:$Z$2,0))","v":48405637}]
[null,null,2024,{"$f":"INDEX('LS7. Population Projections'!$B10:$Z10,MATCH(D$3,'LS7. Population Projections'!$B$2:$Z$2,0))","v":357086},{"$f":"INDEX('LS7. Population Projections'!$B10:$Z10,MATCH(E$401,'LS7. Population Projections'!$B$2:$Z$2,0))","v":1504519},{"$f":"INDEX('LS7. Population Projections'!$B10:$Z10,MATCH(F$401,'LS7. Population Projections'!$B$2:$Z$2,0))","v":48688326}]
[null,null,2025,{"$f":"INDEX('LS7. Population Projections'!$B11:$Z11,MATCH(D$3,'LS7. Population Projections'!$B$2:$Z$2,0))","v":357266},{"$f":"INDEX('LS7. Population Projections'!$B11:$Z11,MATCH(E$401,'LS7. Population Projections'!$B$2:$Z$2,0))","v":1507703},{"$f":"INDEX('LS7. Population Projections'!$B11:$Z11,MATCH(F$401,'LS7. Population Projections'!$B$2:$Z$2,0))","v":48967834}]
[null,null,2026,{"$f":"INDEX('LS7. Population Projections'!$B12:$Z12,MATCH(D$3,'LS7. Population Projections'!$B$2:$Z$2,0))","v":357400},{"$f":"INDEX('LS7. Population Projections'!$B12:$Z12,MATCH(E$401,'LS7. Population Projections'!$B$2:$Z$2,0))","v":1510768},{"$f":"INDEX('LS7. Population Projections'!$B12:$Z12,MATCH(F$401,'LS7. Population Projections'!$B$2:$Z$2,0))","v":49242497}]
[null,null,2027,{"$f":"INDEX('LS7. Population Projections'!$B13:$Z13,MATCH(D$3,'LS7. Population Projections'!$B$2:$Z$2,0))","v":357500},{"$f":"INDEX('LS7. Population Projections'!$B13:$Z13,MATCH(E$401,'LS7. Population Projections'!$B$2:$Z$2,0))","v":1513664},{"$f":"INDEX('LS7. Population Projections'!$B13:$Z13,MATCH(F$401,'LS7. Population Projections'!$B$2:$Z$2,0))","v":49511497}]
[null,null,2028,{"$f":"INDEX('LS7. Population Projections'!$B14:$Z14,MATCH(D$3,'LS7. Population Projections'!$B$2:$Z$2,0))","v":357586},{"$f":"INDEX('LS7. Population Projections'!$B14:$Z14,MATCH(E$401,'LS7. Population Projections'!$B$2:$Z$2,0))","v":1516364},{"$f":"INDEX('LS7. Population Projections'!$B14:$Z14,MATCH(F$401,'LS7. Population Projections'!$B$2:$Z$2,0))","v":49774372}]
[null,null,"Change 2018-2028",{"$f":"INDEX('LS7. Population Projections'!$B15:$Z15,MATCH(D$3,'LS7. Population Projections'!$B$2:$Z$2,0))","v":2547},{"$f":"INDEX('LS7. Population Projections'!$B15:$Z15,MATCH(E$401,'LS7. Population Projections'!$B$2:$Z$2,0))","v":31052},{"$f":"INDEX('LS7. Population Projections'!$B15:$Z15,MATCH(F$401,'LS7. Population Projections'!$B$2:$Z$2,0))","v":2794233}]
[null,null,"% Change 2018-2028",{"$f":"D413/D402","v":7.1738597731516819E-3},{"$f":"E413/E402","v":2.0906045329196828E-2},{"$f":"F413/F402","v":5.947689937656421E-2}]
[]
[null,null,"LS7. Index of Projected Population, 2018-28"]
[null,null,null,{"$f":"D$3","v":"Blackburn with Darwen, Hyndburn, Rossendale and Ribble Valley"},"Lancashire ","England Minus London"]
[null,null,2018,{"$f":"INDEX('LS7. Population Projections'!$B20:$Z20,MATCH(D$3,'LS7. Population Projections'!$B$2:$Z$2,0))","v":100},{"$f":"INDEX('LS7. Population Projections'!$B20:$Z20,MATCH(E$401,'LS7. Population Projections'!$B$2:$Z$2,0))","v":100},{"$f":"INDEX('LS7. Population Projections'!$B20:$Z20,MATCH(F$401,'LS7. Population Projections'!$B$2:$Z$2,0))","v":100}]
[null,null,2019,{"$f":"INDEX('LS7. Population Projections'!$B21:$Z21,MATCH(D$3,'LS7. Population Projections'!$B$2:$Z$2,0))","v":100.10055233368729},{"$f":"INDEX('LS7. Population Projections'!$B21:$Z21,MATCH(E$401,'LS7. Population Projections'!$B$2:$Z$2,0))","v":100.21692412099277},{"$f":"INDEX('LS7. Population Projections'!$B21:$Z21,MATCH(F$401,'LS7. Population Projections'!$B$2:$Z$2,0))","v":100.61659034257009}]
[null,null,2020,{"$f":"INDEX('LS7. Population Projections'!$B22:$Z22,MATCH(D$3,'LS7. Population Projections'!$B$2:$Z$2,0))","v":100.20645619213664},{"$f":"INDEX('LS7. Population Projections'!$B22:$Z22,MATCH(E$401,'LS7. Population Projections'!$B$2:$Z$2,0))","v":100.42819286452946},{"$f":"INDEX('LS7. Population Projections'!$B22:$Z22,MATCH(F$401,'LS7. Population Projections'!$B$2:$Z$2,0))","v":101.22550510120882}]
[null,null,2021,{"$f":"INDEX('LS7. Population Projections'!$B23:$Z23,MATCH(D$3,'LS7. Population Projections'!$B$2:$Z$2,0))","v":100.31996484893209},{"$f":"INDEX('LS7. Population Projections'!$B23:$Z23,MATCH(E$401,'LS7. Population Projections'!$B$2:$Z$2,0))","v":100.63865369700102},{"$f":"INDEX('LS7. Population Projections'!$B23:$Z23,MATCH(F$401,'LS7. Population Projections'!$B$2:$Z$2,0))","v":101.82565232512401}]
[null,null,2022,{"$f":"INDEX('LS7. Population Projections'!$B24:$Z24,MATCH(D$3,'LS7. Population Projections'!$B$2:$Z$2,0))","v":100.41657395384733},{"$f":"INDEX('LS7. Population Projections'!$B24:$Z24,MATCH(E$401,'LS7. Population Projections'!$B$2:$Z$2,0))","v":100.8553758402275},{"$f":"INDEX('LS7. Population Projections'!$B24:$Z24,MATCH(F$401,'LS7. Population Projections'!$B$2:$Z$2,0))","v":102.42964159812298}]
[null,null,2023,{"$f":"INDEX('LS7. Population Projections'!$B25:$Z25,MATCH(D$3,'LS7. Population Projections'!$B$2:$Z$2,0))","v":100.50614157881246},{"$f":"INDEX('LS7. Population Projections'!$B25:$Z25,MATCH(E$401,'LS7. Population Projections'!$B$2:$Z$2,0))","v":101.07607021285763},{"$f":"INDEX('LS7. Population Projections'!$B25:$Z25,MATCH(F$401,'LS7. Population Projections'!$B$2:$Z$2,0))","v":103.03425666748241}]
[null,null,2024,{"$f":"INDEX('LS7. Population Projections'!$B26:$Z26,MATCH(D$3,'LS7. Population Projections'!$B$2:$Z$2,0))","v":100.57655637831337},{"$f":"INDEX('LS7. Population Projections'!$B26:$Z26,MATCH(E$401,'LS7. Population Projections'!$B$2:$Z$2,0))","v":101.29312898569458},{"$f":"INDEX('LS7. Population Projections'!$B26:$Z26,MATCH(F$401,'LS7. Population Projections'!$B$2:$Z$2,0))","v":103.63597689653494}]
[null,null,2025,{"$f":"INDEX('LS7. Population Projections'!$B27:$Z27,MATCH(D$3,'LS7. Population Projections'!$B$2:$Z$2,0))","v":100.62725503395401},{"$f":"INDEX('LS7. Population Projections'!$B27:$Z27,MATCH(E$401,'LS7. Population Projections'!$B$2:$Z$2,0))","v":101.5074947216477},{"$f":"INDEX('LS7. Population Projections'!$B27:$Z27,MATCH(F$401,'LS7. Population Projections'!$B$2:$Z$2,0))","v":104.23092617925205}]
[null,null,2026,{"$f":"INDEX('LS7. Population Projections'!$B28:$Z28,MATCH(D$3,'LS7. Population Projections'!$B$2:$Z$2,0))","v":100.6649973664865},{"$f":"INDEX('LS7. Population Projections'!$B28:$Z28,MATCH(E$401,'LS7. Population Projections'!$B$2:$Z$2,0))","v":101.71384867287144},{"$f":"INDEX('LS7. Population Projections'!$B28:$Z28,MATCH(F$401,'LS7. Population Projections'!$B$2:$Z$2,0))","v":104.8155625933759}]
[null,null,2027,{"$f":"INDEX('LS7. Population Projections'!$B29:$Z29,MATCH(D$3,'LS7. Population Projections'!$B$2:$Z$2,0))","v":100.69316328628686},{"$f":"INDEX('LS7. Population Projections'!$B29:$Z29,MATCH(E$401,'LS7. Population Projections'!$B$2:$Z$2,0))","v":101.90882454326093},{"$f":"INDEX('LS7. Population Projections'!$B29:$Z29,MATCH(F$401,'LS7. Population Projections'!$B$2:$Z$2,0))","v":105.38814497760427}]
[null,null,2028,{"$f":"INDEX('LS7. Population Projections'!$B30:$Z30,MATCH(D$3,'LS7. Population Projections'!$B$2:$Z$2,0))","v":100.71738597731516},{"$f":"INDEX('LS7. Population Projections'!$B30:$Z30,MATCH(E$401,'LS7. Population Projections'!$B$2:$Z$2,0))","v":102.0906045329197},{"$f":"INDEX('LS7. Population Projections'!$B30:$Z30,MATCH(F$401,'LS7. Population Projections'!$B$2:$Z$2,0))","v":105.94768993765642}]
[]
[]
[]
[]
[]
[]
[]
[]
[]
[]
[]
[]
[]
[]
[]
[]
[]
[]
[]
[]
[]
[]
[]
[]
[]
[]
[]
[]
[]
[]
[]
[]
[null,null,"LS8. Population Projections, 16-64, 2018-28"]
[null,null,null,{"$f":"D$3","v":"Blackburn with Darwen, Hyndburn, Rossendale and Ribble Valley"},"Lancashire ","England Minus London"]
[null,null,2018,{"$f":"INDEX('LS8. Pop Projections 16-64'!$B4:$Z4,MATCH(D$3,'LS8. Pop Projections 16-64'!$B$2:$Z$2,0))","v":216812},{"$f":"INDEX('LS8. Pop Projections 16-64'!$B4:$Z4,MATCH(E$462,'LS8. Pop Projections 16-64'!$B$2:$Z$2,0))","v":906288},{"$f":"INDEX('LS8. Pop Projections 16-64'!$B4:$Z4,MATCH(F$462,'LS8. Pop Projections 16-64'!$B$2:$Z$2,0))","v":28916187}]
[null,null,2019,{"$f":"INDEX('LS8. Pop Projections 16-64'!$B5:$Z5,MATCH(D$3,'LS8. Pop Projections 16-64'!$B$2:$Z$2,0))","v":216220},{"$f":"INDEX('LS8. Pop Projections 16-64'!$B5:$Z5,MATCH(E$462,'LS8. Pop Projections 16-64'!$B$2:$Z$2,0))","v":903746},{"$f":"INDEX('LS8. Pop Projections 16-64'!$B5:$Z5,MATCH(F$462,'LS8. Pop Projections 16-64'!$B$2:$Z$2,0))","v":28949602}]
[null,null,2020,{"$f":"INDEX('LS8. Pop Projections 16-64'!$B6:$Z6,MATCH(D$3,'LS8. Pop Projections 16-64'!$B$2:$Z$2,0))","v":215514},{"$f":"INDEX('LS8. Pop Projections 16-64'!$B6:$Z6,MATCH(E$462,'LS8. Pop Projections 16-64'!$B$2:$Z$2,0))","v":901615},{"$f":"INDEX('LS8. Pop Projections 16-64'!$B6:$Z6,MATCH(F$462,'LS8. Pop Projections 16-64'!$B$2:$Z$2,0))","v":29003349}]
[null,null,2021,{"$f":"INDEX('LS8. Pop Projections 16-64'!$B7:$Z7,MATCH(D$3,'LS8. Pop Projections 16-64'!$B$2:$Z$2,0))","v":214933},{"$f":"INDEX('LS8. Pop Projections 16-64'!$B7:$Z7,MATCH(E$462,'LS8. Pop Projections 16-64'!$B$2:$Z$2,0))","v":899642},{"$f":"INDEX('LS8. Pop Projections 16-64'!$B7:$Z7,MATCH(F$462,'LS8. Pop Projections 16-64'!$B$2:$Z$2,0))","v":29046808}]
[null,null,2022,{"$f":"INDEX('LS8. Pop Projections 16-64'!$B8:$Z8,MATCH(D$3,'LS8. Pop Projections 16-64'!$B$2:$Z$2,0))","v":214305},{"$f":"INDEX('LS8. Pop Projections 16-64'!$B8:$Z8,MATCH(E$462,'LS8. Pop Projections 16-64'!$B$2:$Z$2,0))","v":897629},{"$f":"INDEX('LS8. Pop Projections 16-64'!$B8:$Z8,MATCH(F$462,'LS8. Pop Projections 16-64'!$B$2:$Z$2,0))","v":29099836}]
[null,null,2023,{"$f":"INDEX('LS8. Pop Projections 16-64'!$B9:$Z9,MATCH(D$3,'LS8. Pop Projections 16-64'!$B$2:$Z$2,0))","v":213795},{"$f":"INDEX('LS8. Pop Projections 16-64'!$B9:$Z9,MATCH(E$462,'LS8. Pop Projections 16-64'!$B$2:$Z$2,0))","v":895671},{"$f":"INDEX('LS8. Pop Projections 16-64'!$B9:$Z9,MATCH(F$462,'LS8. Pop Projections 16-64'!$B$2:$Z$2,0))","v":29147643}]
[null,null,2024,{"$f":"INDEX('LS8. Pop Projections 16-64'!$B10:$Z10,MATCH(D$3,'LS8. Pop Projections 16-64'!$B$2:$Z$2,0))","v":213249},{"$f":"INDEX('LS8. Pop Projections 16-64'!$B10:$Z10,MATCH(E$462,'LS8. Pop Projections 16-64'!$B$2:$Z$2,0))","v":894432},{"$f":"INDEX('LS8. Pop Projections 16-64'!$B10:$Z10,MATCH(F$462,'LS8. Pop Projections 16-64'!$B$2:$Z$2,0))","v":29208351}]
[null,null,2025,{"$f":"INDEX('LS8. Pop Projections 16-64'!$B11:$Z11,MATCH(D$3,'LS8. Pop Projections 16-64'!$B$2:$Z$2,0))","v":212516},{"$f":"INDEX('LS8. Pop Projections 16-64'!$B11:$Z11,MATCH(E$462,'LS8. Pop Projections 16-64'!$B$2:$Z$2,0))","v":892553},{"$f":"INDEX('LS8. Pop Projections 16-64'!$B11:$Z11,MATCH(F$462,'LS8. Pop Projections 16-64'!$B$2:$Z$2,0))","v":29257962}]
[null,null,2026,{"$f":"INDEX('LS8. Pop Projections 16-64'!$B12:$Z12,MATCH(D$3,'LS8. Pop Projections 16-64'!$B$2:$Z$2,0))","v":211718},{"$f":"INDEX('LS8. Pop Projections 16-64'!$B12:$Z12,MATCH(E$462,'LS8. Pop Projections 16-64'!$B$2:$Z$2,0))","v":890260},{"$f":"INDEX('LS8. Pop Projections 16-64'!$B12:$Z12,MATCH(F$462,'LS8. Pop Projections 16-64'!$B$2:$Z$2,0))","v":29294745}]
[null,null,2027,{"$f":"INDEX('LS8. Pop Projections 16-64'!$B13:$Z13,MATCH(D$3,'LS8. Pop Projections 16-64'!$B$2:$Z$2,0))","v":210638},{"$f":"INDEX('LS8. Pop Projections 16-64'!$B13:$Z13,MATCH(E$462,'LS8. Pop Projections 16-64'!$B$2:$Z$2,0))","v":887477},{"$f":"INDEX('LS8. Pop Projections 16-64'!$B13:$Z13,MATCH(F$462,'LS8. Pop Projections 16-64'!$B$2:$Z$2,0))","v":29323462}]
[null,null,2028,{"$f":"INDEX('LS8. Pop Projections 16-64'!$B14:$Z14,MATCH(D$3,'LS8. Pop Projections 16-64'!$B$2:$Z$2,0))","v":209760},{"$f":"INDEX('LS8. Pop Projections 16-64'!$B14:$Z14,MATCH(E$462,'LS8. Pop Projections 16-64'!$B$2:$Z$2,0))","v":884605},{"$f":"INDEX('LS8. Pop Projections 16-64'!$B14:$Z14,MATCH(F$462,'LS8. Pop Projections 16-64'!$B$2:$Z$2,0))","v":29351753}]
[null,null,"Change 2018-2028",{"$f":"INDEX('LS8. Pop Projections 16-64'!$B15:$Z15,MATCH(D$3,'LS8. Pop Projections 16-64'!$B$2:$Z$2,0))","v":-7052},{"$f":"INDEX('LS8. Pop Projections 16-64'!$B15:$Z15,MATCH(E$462,'LS8. Pop Projections 16-64'!$B$2:$Z$2,0))","v":-21683},{"$f":"INDEX('LS8. Pop Projections 16-64'!$B15:$Z15,MATCH(F$462,'LS8. Pop Projections 16-64'!$B$2:$Z$2,0))","v":435566}]
[null,null,"% Change 2018-2028",{"$f":"D474/D463","v":-3.2525874951570943E-2},{"$f":"E474/E463","v":-2.392506576275974E-2},{"$f":"F474/F463","v":1.5063051017065286E-2}]
[]
[null,null,"LS8. Index of Population Projections, 16-64, 2018-28"]
[null,null,null,{"$f":"D$3","v":"Blackburn with Darwen, Hyndburn, Rossendale and Ribble Valley"},"Lancashire ","England Minus London"]
[null,null,2018,{"$f":"INDEX('LS8. Pop Projections 16-64'!$B20:$Z20,MATCH(D$3,'LS8. Pop Projections 16-64'!$B$2:$Z$2,0))","v":100},{"$f":"INDEX('LS8. Pop Projections 16-64'!$B20:$Z20,MATCH(E$462,'LS8. Pop Projections 16-64'!$B$2:$Z$2,0))","v":100},{"$f":"INDEX('LS8. Pop Projections 16-64'!$B20:$Z20,MATCH(F$462,'LS8. Pop Projections 16-64'!$B$2:$Z$2,0))","v":100}]
[null,null,2019,{"$f":"INDEX('LS8. Pop Projections 16-64'!$B21:$Z21,MATCH(D$3,'LS8. Pop Projections 16-64'!$B$2:$Z$2,0))","v":99.726952382709442},{"$f":"INDEX('LS8. Pop Projections 16-64'!$B21:$Z21,MATCH(E$462,'LS8. Pop Projections 16-64'!$B$2:$Z$2,0))","v":99.719515209293291},{"$f":"INDEX('LS8. Pop Projections 16-64'!$B21:$Z21,MATCH(F$462,'LS8. Pop Projections 16-64'!$B$2:$Z$2,0))","v":100.11555811283142}]
[null,null,2020,{"$f":"INDEX('LS8. Pop Projections 16-64'!$B22:$Z22,MATCH(D$3,'LS8. Pop Projections 16-64'!$B$2:$Z$2,0))","v":99.401324649927119},{"$f":"INDEX('LS8. Pop Projections 16-64'!$B22:$Z22,MATCH(E$462,'LS8. Pop Projections 16-64'!$B$2:$Z$2,0))","v":99.484380241159542},{"$f":"INDEX('LS8. Pop Projections 16-64'!$B22:$Z22,MATCH(F$462,'LS8. Pop Projections 16-64'!$B$2:$Z$2,0))","v":100.30142978394765}]
[null,null,2021,{"$f":"INDEX('LS8. Pop Projections 16-64'!$B23:$Z23,MATCH(D$3,'LS8. Pop Projections 16-64'!$B$2:$Z$2,0))","v":99.133350552552443},{"$f":"INDEX('LS8. Pop Projections 16-64'!$B23:$Z23,MATCH(E$462,'LS8. Pop Projections 16-64'!$B$2:$Z$2,0))","v":99.266679024769161},{"$f":"INDEX('LS8. Pop Projections 16-64'!$B23:$Z23,MATCH(F$462,'LS8. Pop Projections 16-64'!$B$2:$Z$2,0))","v":100.45172276690562}]
[null,null,2022,{"$f":"INDEX('LS8. Pop Projections 16-64'!$B24:$Z24,MATCH(D$3,'LS8. Pop Projections 16-64'!$B$2:$Z$2,0))","v":98.843698688264496},{"$f":"INDEX('LS8. Pop Projections 16-64'!$B24:$Z24,MATCH(E$462,'LS8. Pop Projections 16-64'!$B$2:$Z$2,0))","v":99.044564200342506},{"$f":"INDEX('LS8. Pop Projections 16-64'!$B24:$Z24,MATCH(F$462,'LS8. Pop Projections 16-64'!$B$2:$Z$2,0))","v":100.6351079414447}]
[null,null,2023,{"$f":"INDEX('LS8. Pop Projections 16-64'!$B25:$Z25,MATCH(D$3,'LS8. Pop Projections 16-64'!$B$2:$Z$2,0))","v":98.608471855801341},{"$f":"INDEX('LS8. Pop Projections 16-64'!$B25:$Z25,MATCH(E$462,'LS8. Pop Projections 16-64'!$B$2:$Z$2,0))","v":98.82851808696573},{"$f":"INDEX('LS8. Pop Projections 16-64'!$B25:$Z25,MATCH(F$462,'LS8. Pop Projections 16-64'!$B$2:$Z$2,0))","v":100.80043748506675}]
[null,null,2024,{"$f":"INDEX('LS8. Pop Projections 16-64'!$B26:$Z26,MATCH(D$3,'LS8. Pop Projections 16-64'!$B$2:$Z$2,0))","v":98.356640776340797},{"$f":"INDEX('LS8. Pop Projections 16-64'!$B26:$Z26,MATCH(E$462,'LS8. Pop Projections 16-64'!$B$2:$Z$2,0))","v":98.691806578041422},{"$f":"INDEX('LS8. Pop Projections 16-64'!$B26:$Z26,MATCH(F$462,'LS8. Pop Projections 16-64'!$B$2:$Z$2,0))","v":101.01038217798217}]
[null,null,2025,{"$f":"INDEX('LS8. Pop Projections 16-64'!$B27:$Z27,MATCH(D$3,'LS8. Pop Projections 16-64'!$B$2:$Z$2,0))","v":98.018559858310425},{"$f":"INDEX('LS8. Pop Projections 16-64'!$B27:$Z27,MATCH(E$462,'LS8. Pop Projections 16-64'!$B$2:$Z$2,0))","v":98.484477340536344},{"$f":"INDEX('LS8. Pop Projections 16-64'!$B27:$Z27,MATCH(F$462,'LS8. Pop Projections 16-64'!$B$2:$Z$2,0))","v":101.18195044180618}]
[null,null,2026,{"$f":"INDEX('LS8. Pop Projections 16-64'!$B28:$Z28,MATCH(D$3,'LS8. Pop Projections 16-64'!$B$2:$Z$2,0))","v":97.650499049868088},{"$f":"INDEX('LS8. Pop Projections 16-64'!$B28:$Z28,MATCH(E$462,'LS8. Pop Projections 16-64'!$B$2:$Z$2,0))","v":98.231467259855592},{"$f":"INDEX('LS8. Pop Projections 16-64'!$B28:$Z28,MATCH(F$462,'LS8. Pop Projections 16-64'!$B$2:$Z$2,0))","v":101.30915601009221}]
[null,null,2027,{"$f":"INDEX('LS8. Pop Projections 16-64'!$B29:$Z29,MATCH(D$3,'LS8. Pop Projections 16-64'!$B$2:$Z$2,0))","v":97.152371639946139},{"$f":"INDEX('LS8. Pop Projections 16-64'!$B29:$Z29,MATCH(E$462,'LS8. Pop Projections 16-64'!$B$2:$Z$2,0))","v":97.924390480730182},{"$f":"INDEX('LS8. Pop Projections 16-64'!$B29:$Z29,MATCH(F$462,'LS8. Pop Projections 16-64'!$B$2:$Z$2,0))","v":101.40846716754184}]
[null,null,2028,{"$f":"INDEX('LS8. Pop Projections 16-64'!$B30:$Z30,MATCH(D$3,'LS8. Pop Projections 16-64'!$B$2:$Z$2,0))","v":96.747412504842899},{"$f":"INDEX('LS8. Pop Projections 16-64'!$B30:$Z30,MATCH(E$462,'LS8. Pop Projections 16-64'!$B$2:$Z$2,0))","v":97.607493423724023},{"$f":"INDEX('LS8. Pop Projections 16-64'!$B30:$Z30,MATCH(F$462,'LS8. Pop Projections 16-64'!$B$2:$Z$2,0))","v":101.50630510170653}]
[]
[]
[]
[]
[]
[]
[]
[]
[]
[]
[]
[]
[]
[]
[]
[]
[]
[]
[]
[]
[]
[]
[]
[]
[]
[]
[]
[]
[]
[]
[]
[]
[]
[]
[]
[]
[]
[]
[]
[]
[]
[]
[]
[]
[]
[]
[]
[]
[]
[]
[null,null,"LS9. Population Projections, 65+, 2018-28"]
[null,null,null,{"$f":"D$3","v":"Blackburn with Darwen, Hyndburn, Rossendale and Ribble Valley"},"Lancashire ","England Minus London"]
[null,null,2018,{"$f":"INDEX('LS9. Pop Projections 65+'!$B4:$Z4,MATCH(D$3,'LS9. Pop Projections 65+'!$B$2:$Z$2,0))","v":63806},{"$f":"INDEX('LS9. Pop Projections 65+'!$B4:$Z4,MATCH(E$541,'LS9. Pop Projections 65+'!$B$2:$Z$2,0))","v":298848},{"$f":"INDEX('LS9. Pop Projections 65+'!$B4:$Z4,MATCH(F$541,'LS9. Pop Projections 65+'!$B$2:$Z$2,0))","v":9187643}]
[null,null,2019,{"$f":"INDEX('LS9. Pop Projections 65+'!$B5:$Z5,MATCH(D$3,'LS9. Pop Projections 65+'!$B$2:$Z$2,0))","v":64779},{"$f":"INDEX('LS9. Pop Projections 65+'!$B5:$Z5,MATCH(E$541,'LS9. Pop Projections 65+'!$B$2:$Z$2,0))","v":302934},{"$f":"INDEX('LS9. Pop Projections 65+'!$B5:$Z5,MATCH(F$541,'LS9. Pop Projections 65+'!$B$2:$Z$2,0))","v":9351043}]
[null,null,2020,{"$f":"INDEX('LS9. Pop Projections 65+'!$B6:$Z6,MATCH(D$3,'LS9. Pop Projections 65+'!$B$2:$Z$2,0))","v":65823},{"$f":"INDEX('LS9. Pop Projections 65+'!$B6:$Z6,MATCH(E$541,'LS9. Pop Projections 65+'!$B$2:$Z$2,0))","v":307140},{"$f":"INDEX('LS9. Pop Projections 65+'!$B6:$Z6,MATCH(F$541,'LS9. Pop Projections 65+'!$B$2:$Z$2,0))","v":9506582}]
[null,null,2021,{"$f":"INDEX('LS9. Pop Projections 65+'!$B7:$Z7,MATCH(D$3,'LS9. Pop Projections 65+'!$B$2:$Z$2,0))","v":66917},{"$f":"INDEX('LS9. Pop Projections 65+'!$B7:$Z7,MATCH(E$541,'LS9. Pop Projections 65+'!$B$2:$Z$2,0))","v":311766},{"$f":"INDEX('LS9. Pop Projections 65+'!$B7:$Z7,MATCH(F$541,'LS9. Pop Projections 65+'!$B$2:$Z$2,0))","v":9675754}]
[null,null,2022,{"$f":"INDEX('LS9. Pop Projections 65+'!$B8:$Z8,MATCH(D$3,'LS9. Pop Projections 65+'!$B$2:$Z$2,0))","v":68150},{"$f":"INDEX('LS9. Pop Projections 65+'!$B8:$Z8,MATCH(E$541,'LS9. Pop Projections 65+'!$B$2:$Z$2,0))","v":316991},{"$f":"INDEX('LS9. Pop Projections 65+'!$B8:$Z8,MATCH(F$541,'LS9. Pop Projections 65+'!$B$2:$Z$2,0))","v":9859904}]
[null,null,2023,{"$f":"INDEX('LS9. Pop Projections 65+'!$B9:$Z9,MATCH(D$3,'LS9. Pop Projections 65+'!$B$2:$Z$2,0))","v":69308},{"$f":"INDEX('LS9. Pop Projections 65+'!$B9:$Z9,MATCH(E$541,'LS9. Pop Projections 65+'!$B$2:$Z$2,0))","v":322395},{"$f":"INDEX('LS9. Pop Projections 65+'!$B9:$Z9,MATCH(F$541,'LS9. Pop Projections 65+'!$B$2:$Z$2,0))","v":10059887}]
[null,null,2024,{"$f":"INDEX('LS9. Pop Projections 65+'!$B10:$Z10,MATCH(D$3,'LS9. Pop Projections 65+'!$B$2:$Z$2,0))","v":70545},{"$f":"INDEX('LS9. Pop Projections 65+'!$B10:$Z10,MATCH(E$541,'LS9. Pop Projections 65+'!$B$2:$Z$2,0))","v":327835},{"$f":"INDEX('LS9. Pop Projections 65+'!$B10:$Z10,MATCH(F$541,'LS9. Pop Projections 65+'!$B$2:$Z$2,0))","v":10266089}]
[null,null,2025,{"$f":"INDEX('LS9. Pop Projections 65+'!$B11:$Z11,MATCH(D$3,'LS9. Pop Projections 65+'!$B$2:$Z$2,0))","v":71921},{"$f":"INDEX('LS9. Pop Projections 65+'!$B11:$Z11,MATCH(E$541,'LS9. Pop Projections 65+'!$B$2:$Z$2,0))","v":333782},{"$f":"INDEX('LS9. Pop Projections 65+'!$B11:$Z11,MATCH(F$541,'LS9. Pop Projections 65+'!$B$2:$Z$2,0))","v":10478396}]
[null,null,2026,{"$f":"INDEX('LS9. Pop Projections 65+'!$B12:$Z12,MATCH(D$3,'LS9. Pop Projections 65+'!$B$2:$Z$2,0))","v":73338},{"$f":"INDEX('LS9. Pop Projections 65+'!$B12:$Z12,MATCH(E$541,'LS9. Pop Projections 65+'!$B$2:$Z$2,0))","v":340168},{"$f":"INDEX('LS9. Pop Projections 65+'!$B12:$Z12,MATCH(F$541,'LS9. Pop Projections 65+'!$B$2:$Z$2,0))","v":10709927}]
[null,null,2027,{"$f":"INDEX('LS9. Pop Projections 65+'!$B13:$Z13,MATCH(D$3,'LS9. Pop Projections 65+'!$B$2:$Z$2,0))","v":74959},{"$f":"INDEX('LS9. Pop Projections 65+'!$B13:$Z13,MATCH(E$541,'LS9. Pop Projections 65+'!$B$2:$Z$2,0))","v":347279},{"$f":"INDEX('LS9. Pop Projections 65+'!$B13:$Z13,MATCH(F$541,'LS9. Pop Projections 65+'!$B$2:$Z$2,0))","v":10956838}]
[null,null,2028,{"$f":"INDEX('LS9. Pop Projections 65+'!$B14:$Z14,MATCH(D$3,'LS9. Pop Projections 65+'!$B$2:$Z$2,0))","v":76490},{"$f":"INDEX('LS9. Pop Projections 65+'!$B14:$Z14,MATCH(E$541,'LS9. Pop Projections 65+'!$B$2:$Z$2,0))","v":354319},{"$f":"INDEX('LS9. Pop Projections 65+'!$B14:$Z14,MATCH(F$541,'LS9. Pop Projections 65+'!$B$2:$Z$2,0))","v":11209083}]
[null,null,"Change 2018-2028",{"$f":"INDEX('LS9. Pop Projections 65+'!$B15:$Z15,MATCH(D$3,'LS9. Pop Projections 65+'!$B$2:$Z$2,0))","v":12684},{"$f":"INDEX('LS9. Pop Projections 65+'!$B15:$Z15,MATCH(E$541,'LS9. Pop Projections 65+'!$B$2:$Z$2,0))","v":55471},{"$f":"INDEX('LS9. Pop Projections 65+'!$B15:$Z15,MATCH(F$541,'LS9. Pop Projections 65+'!$B$2:$Z$2,0))","v":2021440}]
[null,null,"% Change 2018-2028",{"$f":"D553/D542","v":0.19879008243738833},{"$f":"E553/E542","v":0.18561609915408503},{"$f":"F553/F542","v":0.22001725578584191}]
[]
[null,null,"LS9. Index of Population Projections, 65+, 2018-28"]
[null,null,null,{"$f":"D$3","v":"Blackburn with Darwen, Hyndburn, Rossendale and Ribble Valley"},"Lancashire ","England Minus London"]
[null,null,2018,{"$f":"INDEX('LS9. Pop Projections 65+'!$B20:$Z20,MATCH(D$3,'LS9. Pop Projections 65+'!$B$2:$Z$2,0))","v":100},{"$f":"INDEX('LS9. Pop Projections 65+'!$B20:$Z20,MATCH(E$541,'LS9. Pop Projections 65+'!$B$2:$Z$2,0))","v":100},{"$f":"INDEX('LS9. Pop Projections 65+'!$B20:$Z20,MATCH(F$541,'LS9. Pop Projections 65+'!$B$2:$Z$2,0))","v":100}]
[null,null,2019,{"$f":"INDEX('LS9. Pop Projections 65+'!$B21:$Z21,MATCH(D$3,'LS9. Pop Projections 65+'!$B$2:$Z$2,0))","v":101.52493495909476},{"$f":"INDEX('LS9. Pop Projections 65+'!$B21:$Z21,MATCH(E$541,'LS9. Pop Projections 65+'!$B$2:$Z$2,0))","v":101.36725024092515},{"$f":"INDEX('LS9. Pop Projections 65+'!$B21:$Z21,MATCH(F$541,'LS9. Pop Projections 65+'!$B$2:$Z$2,0))","v":101.77847572005139}]
[null,null,2020,{"$f":"INDEX('LS9. Pop Projections 65+'!$B22:$Z22,MATCH(D$3,'LS9. Pop Projections 65+'!$B$2:$Z$2,0))","v":103.1611447199323},{"$f":"INDEX('LS9. Pop Projections 65+'!$B22:$Z22,MATCH(E$541,'LS9. Pop Projections 65+'!$B$2:$Z$2,0))","v":102.77465467394795},{"$f":"INDEX('LS9. Pop Projections 65+'!$B22:$Z22,MATCH(F$541,'LS9. Pop Projections 65+'!$B$2:$Z$2,0))","v":103.47139086705917}]
[null,null,2021,{"$f":"INDEX('LS9. Pop Projections 65+'!$B23:$Z23,MATCH(D$3,'LS9. Pop Projections 65+'!$B$2:$Z$2,0))","v":104.87571701720842},{"$f":"INDEX('LS9. Pop Projections 65+'!$B23:$Z23,MATCH(E$541,'LS9. Pop Projections 65+'!$B$2:$Z$2,0))","v":104.32259877931256},{"$f":"INDEX('LS9. Pop Projections 65+'!$B23:$Z23,MATCH(F$541,'LS9. Pop Projections 65+'!$B$2:$Z$2,0))","v":105.31269009908199}]
[null,null,2022,{"$f":"INDEX('LS9. Pop Projections 65+'!$B24:$Z24,MATCH(D$3,'LS9. Pop Projections 65+'!$B$2:$Z$2,0))","v":106.80813716578379},{"$f":"INDEX('LS9. Pop Projections 65+'!$B24:$Z24,MATCH(E$541,'LS9. Pop Projections 65+'!$B$2:$Z$2,0))","v":106.07097922689796},{"$f":"INDEX('LS9. Pop Projections 65+'!$B24:$Z24,MATCH(F$541,'LS9. Pop Projections 65+'!$B$2:$Z$2,0))","v":107.31701264404809}]
[null,null,2023,{"$f":"INDEX('LS9. Pop Projections 65+'!$B25:$Z25,MATCH(D$3,'LS9. Pop Projections 65+'!$B$2:$Z$2,0))","v":108.62301350970127},{"$f":"INDEX('LS9. Pop Projections 65+'!$B25:$Z25,MATCH(E$541,'LS9. Pop Projections 65+'!$B$2:$Z$2,0))","v":107.87925634436235},{"$f":"INDEX('LS9. Pop Projections 65+'!$B25:$Z25,MATCH(F$541,'LS9. Pop Projections 65+'!$B$2:$Z$2,0))","v":109.4936644795624}]
[null,null,2024,{"$f":"INDEX('LS9. Pop Projections 65+'!$B26:$Z26,MATCH(D$3,'LS9. Pop Projections 65+'!$B$2:$Z$2,0))","v":110.56170266119175},{"$f":"INDEX('LS9. Pop Projections 65+'!$B26:$Z26,MATCH(E$541,'LS9. Pop Projections 65+'!$B$2:$Z$2,0))","v":109.69957971945605},{"$f":"INDEX('LS9. Pop Projections 65+'!$B26:$Z26,MATCH(F$541,'LS9. Pop Projections 65+'!$B$2:$Z$2,0))","v":111.73800505744509}]
[null,null,2025,{"$f":"INDEX('LS9. Pop Projections 65+'!$B27:$Z27,MATCH(D$3,'LS9. Pop Projections 65+'!$B$2:$Z$2,0))","v":112.71823966398145},{"$f":"INDEX('LS9. Pop Projections 65+'!$B27:$Z27,MATCH(E$541,'LS9. Pop Projections 65+'!$B$2:$Z$2,0))","v":111.68955455616234},{"$f":"INDEX('LS9. Pop Projections 65+'!$B27:$Z27,MATCH(F$541,'LS9. Pop Projections 65+'!$B$2:$Z$2,0))","v":114.04879358068223}]
[null,null,2026,{"$f":"INDEX('LS9. Pop Projections 65+'!$B28:$Z28,MATCH(D$3,'LS9. Pop Projections 65+'!$B$2:$Z$2,0))","v":114.9390339466508},{"$f":"INDEX('LS9. Pop Projections 65+'!$B28:$Z28,MATCH(E$541,'LS9. Pop Projections 65+'!$B$2:$Z$2,0))","v":113.82642681229254},{"$f":"INDEX('LS9. Pop Projections 65+'!$B28:$Z28,MATCH(F$541,'LS9. Pop Projections 65+'!$B$2:$Z$2,0))","v":116.56881966354156}]
[null,null,2027,{"$f":"INDEX('LS9. Pop Projections 65+'!$B29:$Z29,MATCH(D$3,'LS9. Pop Projections 65+'!$B$2:$Z$2,0))","v":117.47954737798953},{"$f":"INDEX('LS9. Pop Projections 65+'!$B29:$Z29,MATCH(E$541,'LS9. Pop Projections 65+'!$B$2:$Z$2,0))","v":116.20589731234607},{"$f":"INDEX('LS9. Pop Projections 65+'!$B29:$Z29,MATCH(F$541,'LS9. Pop Projections 65+'!$B$2:$Z$2,0))","v":119.25624450144612}]
[null,null,2028,{"$f":"INDEX('LS9. Pop Projections 65+'!$B30:$Z30,MATCH(D$3,'LS9. Pop Projections 65+'!$B$2:$Z$2,0))","v":119.87900824373882},{"$f":"INDEX('LS9. Pop Projections 65+'!$B30:$Z30,MATCH(E$541,'LS9. Pop Projections 65+'!$B$2:$Z$2,0))","v":118.5616099154085},{"$f":"INDEX('LS9. Pop Projections 65+'!$B30:$Z30,MATCH(F$541,'LS9. Pop Projections 65+'!$B$2:$Z$2,0))","v":122.0017255785842}]
[]
[]
[]
[]
[]
[]
[]
[]
[]
[]
[]
[]
[]
[]
[]
[]
[]
[]
[]
[]
[]
[]
[]
[]
[]
[]
[]
[]
[]
[]
[null,null,"LS10. Resident Employment, 2006/07-16/17"]
[null,null,null,{"$f":"D$3","v":"Blackburn with Darwen, Hyndburn, Rossendale and Ribble Valley"},"Lancashire ","England Minus London"]
[null,null,"Jul 2006-Jun 2007",{"$f":"INDEX('LS10. Resident Employment'!$B4:$Z4,MATCH(D$3,'LS10. Resident Employment'!$B$2:$Z$2,0))","v":152600},{"$f":"INDEX('LS10. Resident Employment'!$B4:$Z4,MATCH(E$600,'LS10. Resident Employment'!$B$2:$Z$2,0))","v":647100},{"$f":"INDEX('LS10. Resident Employment'!$B4:$Z4,MATCH(F$600,'LS10. Resident Employment'!$B$2:$Z$2,0))","v":20395600}]
[null,null,"Jul 2007-Jun 2008",{"$f":"INDEX('LS10. Resident Employment'!$B5:$Z5,MATCH(D$3,'LS10. Resident Employment'!$B$2:$Z$2,0))","v":151300},{"$f":"INDEX('LS10. Resident Employment'!$B5:$Z5,MATCH(E$600,'LS10. Resident Employment'!$B$2:$Z$2,0))","v":655700},{"$f":"INDEX('LS10. Resident Employment'!$B5:$Z5,MATCH(F$600,'LS10. Resident Employment'!$B$2:$Z$2,0))","v":20506500}]
[null,null,"Jul 2008-Jun 2009",{"$f":"INDEX('LS10. Resident Employment'!$B6:$Z6,MATCH(D$3,'LS10. Resident Employment'!$B$2:$Z$2,0))","v":147300},{"$f":"INDEX('LS10. Resident Employment'!$B6:$Z6,MATCH(E$600,'LS10. Resident Employment'!$B$2:$Z$2,0))","v":635200},{"$f":"INDEX('LS10. Resident Employment'!$B6:$Z6,MATCH(F$600,'LS10. Resident Employment'!$B$2:$Z$2,0))","v":20295700}]
[null,null,"Jul 2009-Jun 2010",{"$f":"INDEX('LS10. Resident Employment'!$B7:$Z7,MATCH(D$3,'LS10. Resident Employment'!$B$2:$Z$2,0))","v":149400},{"$f":"INDEX('LS10. Resident Employment'!$B7:$Z7,MATCH(E$600,'LS10. Resident Employment'!$B$2:$Z$2,0))","v":639800},{"$f":"INDEX('LS10. Resident Employment'!$B7:$Z7,MATCH(F$600,'LS10. Resident Employment'!$B$2:$Z$2,0))","v":20029600}]
[null,null,"Jul 2010-Jun 2011",{"$f":"INDEX('LS10. Resident Employment'!$B8:$Z8,MATCH(D$3,'LS10. Resident Employment'!$B$2:$Z$2,0))","v":147200},{"$f":"INDEX('LS10. Resident Employment'!$B8:$Z8,MATCH(E$600,'LS10. Resident Employment'!$B$2:$Z$2,0))","v":646500},{"$f":"INDEX('LS10. Resident Employment'!$B8:$Z8,MATCH(F$600,'LS10. Resident Employment'!$B$2:$Z$2,0))","v":20058000}]
[null,null,"Jul 2011-Jun 2012",{"$f":"INDEX('LS10. Resident Employment'!$B9:$Z9,MATCH(D$3,'LS10. Resident Employment'!$B$2:$Z$2,0))","v":156300},{"$f":"INDEX('LS10. Resident Employment'!$B9:$Z9,MATCH(E$600,'LS10. Resident Employment'!$B$2:$Z$2,0))","v":650400},{"$f":"INDEX('LS10. Resident Employment'!$B9:$Z9,MATCH(F$600,'LS10. Resident Employment'!$B$2:$Z$2,0))","v":20092400}]
[null,null,"Jul 2012-Jun 2013",{"$f":"INDEX('LS10. Resident Employment'!$B10:$Z10,MATCH(D$3,'LS10. Resident Employment'!$B$2:$Z$2,0))","v":153700},{"$f":"INDEX('LS10. Resident Employment'!$B10:$Z10,MATCH(E$600,'LS10. Resident Employment'!$B$2:$Z$2,0))","v":634400},{"$f":"INDEX('LS10. Resident Employment'!$B10:$Z10,MATCH(F$600,'LS10. Resident Employment'!$B$2:$Z$2,0))","v":20284700}]
[null,null,"Jul 2013-Jun 2014",{"$f":"INDEX('LS10. Resident Employment'!$B11:$Z11,MATCH(D$3,'LS10. Resident Employment'!$B$2:$Z$2,0))","v":141500},{"$f":"INDEX('LS10. Resident Employment'!$B11:$Z11,MATCH(E$600,'LS10. Resident Employment'!$B$2:$Z$2,0))","v":615900},{"$f":"INDEX('LS10. Resident Employment'!$B11:$Z11,MATCH(F$600,'LS10. Resident Employment'!$B$2:$Z$2,0))","v":20484700}]
[null,null,"Jul 2014-Jun 2015",{"$f":"INDEX('LS10. Resident Employment'!$B12:$Z12,MATCH(D$3,'LS10. Resident Employment'!$B$2:$Z$2,0))","v":155400},{"$f":"INDEX('LS10. Resident Employment'!$B12:$Z12,MATCH(E$600,'LS10. Resident Employment'!$B$2:$Z$2,0))","v":637300},{"$f":"INDEX('LS10. Resident Employment'!$B12:$Z12,MATCH(F$600,'LS10. Resident Employment'!$B$2:$Z$2,0))","v":20881900}]
[null,null,"Jul 2015-Jun 2016",{"$f":"INDEX('LS10. Resident Employment'!$B13:$Z13,MATCH(D$3,'LS10. Resident Employment'!$B$2:$Z$2,0))","v":157900},{"$f":"INDEX('LS10. Resident Employment'!$B13:$Z13,MATCH(E$600,'LS10. Resident Employment'!$B$2:$Z$2,0))","v":670100},{"$f":"INDEX('LS10. Resident Employment'!$B13:$Z13,MATCH(F$600,'LS10. Resident Employment'!$B$2:$Z$2,0))","v":21157500}]
[null,null,"Jul 2016-Jun 2017",{"$f":"INDEX('LS10. Resident Employment'!$B14:$Z14,MATCH(D$3,'LS10. Resident Employment'!$B$2:$Z$2,0))","v":153600},{"$f":"INDEX('LS10. Resident Employment'!$B14:$Z14,MATCH(E$600,'LS10. Resident Employment'!$B$2:$Z$2,0))","v":669700},{"$f":"INDEX('LS10. Resident Employment'!$B14:$Z14,MATCH(F$600,'LS10. Resident Employment'!$B$2:$Z$2,0))","v":21373000}]
[]
[null,null,"LS10. Resident Employment (% of working age population)"]
[null,null,null,{"$f":"D$3","v":"Blackburn with Darwen, Hyndburn, Rossendale and Ribble Valley"},"Lancashire ","England Minus London"]
[null,null,"Jul 2006-Jun 2007",{"$f":"INDEX('LS10. Resident Employment'!$B18:$Z18,MATCH(D$3,'LS10. Resident Employment'!$B$2:$Z$2,0))","v":69.5},{"$f":"INDEX('LS10. Resident Employment'!$B18:$Z18,MATCH(E$600,'LS10. Resident Employment'!$B$2:$Z$2,0))","v":70.7},{"$f":"INDEX('LS10. Resident Employment'!$B18:$Z18,MATCH(F$600,'LS10. Resident Employment'!$B$2:$Z$2,0))","v":73.5}]
[null,null,"Jul 2007-Jun 2008",{"$f":"INDEX('LS10. Resident Employment'!$B19:$Z19,MATCH(D$3,'LS10. Resident Employment'!$B$2:$Z$2,0))","v":67.7},{"$f":"INDEX('LS10. Resident Employment'!$B19:$Z19,MATCH(E$600,'LS10. Resident Employment'!$B$2:$Z$2,0))","v":71.400000000000006},{"$f":"INDEX('LS10. Resident Employment'!$B19:$Z19,MATCH(F$600,'LS10. Resident Employment'!$B$2:$Z$2,0))","v":73.3}]
[null,null,"Jul 2008-Jun 2009",{"$f":"INDEX('LS10. Resident Employment'!$B20:$Z20,MATCH(D$3,'LS10. Resident Employment'!$B$2:$Z$2,0))","v":65.5},{"$f":"INDEX('LS10. Resident Employment'!$B20:$Z20,MATCH(E$600,'LS10. Resident Employment'!$B$2:$Z$2,0))","v":69.2},{"$f":"INDEX('LS10. Resident Employment'!$B20:$Z20,MATCH(F$600,'LS10. Resident Employment'!$B$2:$Z$2,0))","v":72.2}]
[null,null,"Jul 2009-Jun 2010",{"$f":"INDEX('LS10. Resident Employment'!$B21:$Z21,MATCH(D$3,'LS10. Resident Employment'!$B$2:$Z$2,0))","v":67},{"$f":"INDEX('LS10. Resident Employment'!$B21:$Z21,MATCH(E$600,'LS10. Resident Employment'!$B$2:$Z$2,0))","v":69.7},{"$f":"INDEX('LS10. Resident Employment'!$B21:$Z21,MATCH(F$600,'LS10. Resident Employment'!$B$2:$Z$2,0))","v":71}]
[null,null,"Jul 2010-Jun 2011",{"$f":"INDEX('LS10. Resident Employment'!$B22:$Z22,MATCH(D$3,'LS10. Resident Employment'!$B$2:$Z$2,0))","v":65.8},{"$f":"INDEX('LS10. Resident Employment'!$B22:$Z22,MATCH(E$600,'LS10. Resident Employment'!$B$2:$Z$2,0))","v":70.400000000000006},{"$f":"INDEX('LS10. Resident Employment'!$B22:$Z22,MATCH(F$600,'LS10. Resident Employment'!$B$2:$Z$2,0))","v":70.8}]
[null,null,"Jul 2011-Jun 2012",{"$f":"INDEX('LS10. Resident Employment'!$B23:$Z23,MATCH(D$3,'LS10. Resident Employment'!$B$2:$Z$2,0))","v":70.900000000000006},{"$f":"INDEX('LS10. Resident Employment'!$B23:$Z23,MATCH(E$600,'LS10. Resident Employment'!$B$2:$Z$2,0))","v":71},{"$f":"INDEX('LS10. Resident Employment'!$B23:$Z23,MATCH(F$600,'LS10. Resident Employment'!$B$2:$Z$2,0))","v":70.8}]
[null,null,"Jul 2012-Jun 2013",{"$f":"INDEX('LS10. Resident Employment'!$B24:$Z24,MATCH(D$3,'LS10. Resident Employment'!$B$2:$Z$2,0))","v":69.599999999999994},{"$f":"INDEX('LS10. Resident Employment'!$B24:$Z24,MATCH(E$600,'LS10. Resident Employment'!$B$2:$Z$2,0))","v":69.7},{"$f":"INDEX('LS10. Resident Employment'!$B24:$Z24,MATCH(F$600,'LS10. Resident Employment'!$B$2:$Z$2,0))","v":71.599999999999994}]
[null,null,"Jul 2013-Jun 2014",{"$f":"INDEX('LS10. Resident Employment'!$B25:$Z25,MATCH(D$3,'LS10. Resident Employment'!$B$2:$Z$2,0))","v":64.599999999999994},{"$f":"INDEX('LS10. Resident Employment'!$B25:$Z25,MATCH(E$600,'LS10. Resident Employment'!$B$2:$Z$2,0))","v":67.900000000000006},{"$f":"INDEX('LS10. Resident Employment'!$B25:$Z25,MATCH(F$600,'LS10. Resident Employment'!$B$2:$Z$2,0))","v":72.3}]
[null,null,"Jul 2014-Jun 2015",{"$f":"INDEX('LS10. Resident Employment'!$B26:$Z26,MATCH(D$3,'LS10. Resident Employment'!$B$2:$Z$2,0))","v":70.900000000000006},{"$f":"INDEX('LS10. Resident Employment'!$B26:$Z26,MATCH(E$600,'LS10. Resident Employment'!$B$2:$Z$2,0))","v":70.400000000000006},{"$f":"INDEX('LS10. Resident Employment'!$B26:$Z26,MATCH(F$600,'LS10. Resident Employment'!$B$2:$Z$2,0))","v":73.400000000000006}]
[null,null,"Jul 2015-Jun 2016",{"$f":"INDEX('LS10. Resident Employment'!$B27:$Z27,MATCH(D$3,'LS10. Resident Employment'!$B$2:$Z$2,0))","v":72.5},{"$f":"INDEX('LS10. Resident Employment'!$B27:$Z27,MATCH(E$600,'LS10. Resident Employment'!$B$2:$Z$2,0))","v":74.2},{"$f":"INDEX('LS10. Resident Employment'!$B27:$Z27,MATCH(F$600,'LS10. Resident Employment'!$B$2:$Z$2,0))","v":74.2}]
[null,null,"Jul 2016-Jun 2017",{"$f":"INDEX('LS10. Resident Employment'!$B28:$Z28,MATCH(D$3,'LS10. Resident Employment'!$B$2:$Z$2,0))","v":70.8},{"$f":"INDEX('LS10. Resident Employment'!$B28:$Z28,MATCH(E$600,'LS10. Resident Employment'!$B$2:$Z$2,0))","v":74.400000000000006},{"$f":"INDEX('LS10. Resident Employment'!$B28:$Z28,MATCH(F$600,'LS10. Resident Employment'!$B$2:$Z$2,0))","v":74.8}]
[]
[null,null,"For details on Resident Employment by age, gender and ethnicity, please click here"]
[]
[]
[]
[]
[]
[]
[]
[]
[]
[]
[]
[]
[]
[]
[]
[]
[]
[]
[]
[]
[]
[]
[]
[]
[]
[]
[]
[]
[]
[]
[]
[]
[]
[]
[]
[]
[]
[]
[]
[]
[]
[]
[null,null,"LS12. Self-Employment, 2006/07-16/17"]
[null,null,null,{"$f":"D$3","v":"Blackburn with Darwen, Hyndburn, Rossendale and Ribble Valley"},"Lancashire ","England Minus London"]
[null,null,"Jul 2006-Jun 2007",{"$f":"IFERROR(INDEX('LS12. Self-Employment'!$B4:$Z4,MATCH(D$3,'LS12. Self-Employment'!$B$2:$Z$2,0)),\"n/a\")","v":16900},{"$f":"IFERROR(INDEX('LS12. Self-Employment'!$B4:$Z4,MATCH(E$671,'LS12. Self-Employment'!$B$2:$Z$2,0)),\"n/a\")","v":72900},{"$f":"IFERROR(INDEX('LS12. Self-Employment'!$B4:$Z4,MATCH(F$671,'LS12. Self-Employment'!$B$2:$Z$2,0)),\"n/a\")","v":2529400}]
[null,null,"Jul 2007-Jun 2008",{"$f":"IFERROR(INDEX('LS12. Self-Employment'!$B5:$Z5,MATCH(D$3,'LS12. Self-Employment'!$B$2:$Z$2,0)),\"n/a\")","v":18100},{"$f":"IFERROR(INDEX('LS12. Self-Employment'!$B5:$Z5,MATCH(E$671,'LS12. Self-Employment'!$B$2:$Z$2,0)),\"n/a\")","v":72300},{"$f":"IFERROR(INDEX('LS12. Self-Employment'!$B5:$Z5,MATCH(F$671,'LS12. Self-Employment'!$B$2:$Z$2,0)),\"n/a\")","v":2545500}]
[null,null,"Jul 2008-Jun 2009",{"$f":"IFERROR(INDEX('LS12. Self-Employment'!$B6:$Z6,MATCH(D$3,'LS12. Self-Employment'!$B$2:$Z$2,0)),\"n/a\")","v":21900},{"$f":"IFERROR(INDEX('LS12. Self-Employment'!$B6:$Z6,MATCH(E$671,'LS12. Self-Employment'!$B$2:$Z$2,0)),\"n/a\")","v":81200},{"$f":"IFERROR(INDEX('LS12. Self-Employment'!$B6:$Z6,MATCH(F$671,'LS12. Self-Employment'!$B$2:$Z$2,0)),\"n/a\")","v":2464300}]
[null,null,"Jul 2009-Jun 2010",{"$f":"IFERROR(INDEX('LS12. Self-Employment'!$B7:$Z7,MATCH(D$3,'LS12. Self-Employment'!$B$2:$Z$2,0)),\"n/a\")","v":18500},{"$f":"IFERROR(INDEX('LS12. Self-Employment'!$B7:$Z7,MATCH(E$671,'LS12. Self-Employment'!$B$2:$Z$2,0)),\"n/a\")","v":76400},{"$f":"IFERROR(INDEX('LS12. Self-Employment'!$B7:$Z7,MATCH(F$671,'LS12. Self-Employment'!$B$2:$Z$2,0)),\"n/a\")","v":2524700}]
[null,null,"Jul 2010-Jun 2011",{"$f":"IFERROR(INDEX('LS12. Self-Employment'!$B8:$Z8,MATCH(D$3,'LS12. Self-Employment'!$B$2:$Z$2,0)),\"n/a\")","v":20500},{"$f":"IFERROR(INDEX('LS12. Self-Employment'!$B8:$Z8,MATCH(E$671,'LS12. Self-Employment'!$B$2:$Z$2,0)),\"n/a\")","v":87000},{"$f":"IFERROR(INDEX('LS12. Self-Employment'!$B8:$Z8,MATCH(F$671,'LS12. Self-Employment'!$B$2:$Z$2,0)),\"n/a\")","v":2559900}]
[null,null,"Jul 2011-Jun 2012",{"$f":"IFERROR(INDEX('LS12. Self-Employment'!$B9:$Z9,MATCH(D$3,'LS12. Self-Employment'!$B$2:$Z$2,0)),\"n/a\")","v":21000},{"$f":"IFERROR(INDEX('LS12. Self-Employment'!$B9:$Z9,MATCH(E$671,'LS12. Self-Employment'!$B$2:$Z$2,0)),\"n/a\")","v":80700},{"$f":"IFERROR(INDEX('LS12. Self-Employment'!$B9:$Z9,MATCH(F$671,'LS12. Self-Employment'!$B$2:$Z$2,0)),\"n/a\")","v":2652000}]
[null,null,"Jul 2012-Jun 2013",{"$f":"IFERROR(INDEX('LS12. Self-Employment'!$B10:$Z10,MATCH(D$3,'LS12. Self-Employment'!$B$2:$Z$2,0)),\"n/a\")","v":20200},{"$f":"IFERROR(INDEX('LS12. Self-Employment'!$B10:$Z10,MATCH(E$671,'LS12. Self-Employment'!$B$2:$Z$2,0)),\"n/a\")","v":82600},{"$f":"IFERROR(INDEX('LS12. Self-Employment'!$B10:$Z10,MATCH(F$671,'LS12. Self-Employment'!$B$2:$Z$2,0)),\"n/a\")","v":2654700}]
[null,null,"Jul 2013-Jun 2014",{"$f":"IFERROR(INDEX('LS12. Self-Employment'!$B11:$Z11,MATCH(D$3,'LS12. Self-Employment'!$B$2:$Z$2,0)),\"n/a\")","v":18800},{"$f":"IFERROR(INDEX('LS12. Self-Employment'!$B11:$Z11,MATCH(E$671,'LS12. Self-Employment'!$B$2:$Z$2,0)),\"n/a\")","v":85500},{"$f":"IFERROR(INDEX('LS12. Self-Employment'!$B11:$Z11,MATCH(F$671,'LS12. Self-Employment'!$B$2:$Z$2,0)),\"n/a\")","v":2759200}]
[null,null,"Jul 2014-Jun 2015",{"$f":"IFERROR(INDEX('LS12. Self-Employment'!$B12:$Z12,MATCH(D$3,'LS12. Self-Employment'!$B$2:$Z$2,0)),\"n/a\")","v":17900},{"$f":"IFERROR(INDEX('LS12. Self-Employment'!$B12:$Z12,MATCH(E$671,'LS12. Self-Employment'!$B$2:$Z$2,0)),\"n/a\")","v":81200},{"$f":"IFERROR(INDEX('LS12. Self-Employment'!$B12:$Z12,MATCH(F$671,'LS12. Self-Employment'!$B$2:$Z$2,0)),\"n/a\")","v":2813900}]
[null,null,"Jul 2015-Jun 2016",{"$f":"IFERROR(INDEX('LS12. Self-Employment'!$B13:$Z13,MATCH(D$3,'LS12. Self-Employment'!$B$2:$Z$2,0)),\"n/a\")","v":23100},{"$f":"IFERROR(INDEX('LS12. Self-Employment'!$B13:$Z13,MATCH(E$671,'LS12. Self-Employment'!$B$2:$Z$2,0)),\"n/a\")","v":90800},{"$f":"IFERROR(INDEX('LS12. Self-Employment'!$B13:$Z13,MATCH(F$671,'LS12. Self-Employment'!$B$2:$Z$2,0)),\"n/a\")","v":2863000}]
[null,null,"Jul 2016-Jun 2017",{"$f":"IFERROR(INDEX('LS12. Self-Employment'!$B14:$Z14,MATCH(D$3,'LS12. Self-Employment'!$B$2:$Z$2,0)),\"n/a\")","v":21300},{"$f":"IFERROR(INDEX('LS12. Self-Employment'!$B14:$Z14,MATCH(E$671,'LS12. Self-Employment'!$B$2:$Z$2,0)),\"n/a\")","v":86400},{"$f":"IFERROR(INDEX('LS12. Self-Employment'!$B14:$Z14,MATCH(F$671,'LS12. Self-Employment'!$B$2:$Z$2,0)),\"n/a\")","v":2960000}]
[]
[null,null,"LS12. Self-Employment (% of working age population)"]
[null,null,null,{"$f":"D$3","v":"Blackburn with Darwen, Hyndburn, Rossendale and Ribble Valley"},"Lancashire ","England Minus London"]
[null,null,"Jul 2006-Jun 2007",{"$f":"IFERROR(INDEX('LS12. Self-Employment'!$B18:$Z18,MATCH(D$3,'LS12. Self-Employment'!$B$2:$Z$2,0)),\"n/a\")","v":11.1},{"$f":"IFERROR(INDEX('LS12. Self-Employment'!$B18:$Z18,MATCH(E$671,'LS12. Self-Employment'!$B$2:$Z$2,0)),\"n/a\")","v":11.3},{"$f":"IFERROR(INDEX('LS12. Self-Employment'!$B18:$Z18,MATCH(F$671,'LS12. Self-Employment'!$B$2:$Z$2,0)),\"n/a\")","v":12.4}]
[null,null,"Jul 2007-Jun 2008",{"$f":"IFERROR(INDEX('LS12. Self-Employment'!$B19:$Z19,MATCH(D$3,'LS12. Self-Employment'!$B$2:$Z$2,0)),\"n/a\")","v":12},{"$f":"IFERROR(INDEX('LS12. Self-Employment'!$B19:$Z19,MATCH(E$671,'LS12. Self-Employment'!$B$2:$Z$2,0)),\"n/a\")","v":11},{"$f":"IFERROR(INDEX('LS12. Self-Employment'!$B19:$Z19,MATCH(F$671,'LS12. Self-Employment'!$B$2:$Z$2,0)),\"n/a\")","v":12.4}]
[null,null,"Jul 2008-Jun 2009",{"$f":"IFERROR(INDEX('LS12. Self-Employment'!$B20:$Z20,MATCH(D$3,'LS12. Self-Employment'!$B$2:$Z$2,0)),\"n/a\")","v":14.9},{"$f":"IFERROR(INDEX('LS12. Self-Employment'!$B20:$Z20,MATCH(E$671,'LS12. Self-Employment'!$B$2:$Z$2,0)),\"n/a\")","v":12.8},{"$f":"IFERROR(INDEX('LS12. Self-Employment'!$B20:$Z20,MATCH(F$671,'LS12. Self-Employment'!$B$2:$Z$2,0)),\"n/a\")","v":12.1}]
[null,null,"Jul 2009-Jun 2010",{"$f":"IFERROR(INDEX('LS12. Self-Employment'!$B21:$Z21,MATCH(D$3,'LS12. Self-Employment'!$B$2:$Z$2,0)),\"n/a\")","v":12.4},{"$f":"IFERROR(INDEX('LS12. Self-Employment'!$B21:$Z21,MATCH(E$671,'LS12. Self-Employment'!$B$2:$Z$2,0)),\"n/a\")","v":11.9},{"$f":"IFERROR(INDEX('LS12. Self-Employment'!$B21:$Z21,MATCH(F$671,'LS12. Self-Employment'!$B$2:$Z$2,0)),\"n/a\")","v":12.6}]
[null,null,"Jul 2010-Jun 2011",{"$f":"IFERROR(INDEX('LS12. Self-Employment'!$B22:$Z22,MATCH(D$3,'LS12. Self-Employment'!$B$2:$Z$2,0)),\"n/a\")","v":14},{"$f":"IFERROR(INDEX('LS12. Self-Employment'!$B22:$Z22,MATCH(E$671,'LS12. Self-Employment'!$B$2:$Z$2,0)),\"n/a\")","v":13.5},{"$f":"IFERROR(INDEX('LS12. Self-Employment'!$B22:$Z22,MATCH(F$671,'LS12. Self-Employment'!$B$2:$Z$2,0)),\"n/a\")","v":12.8}]
[null,null,"Jul 2011-Jun 2012",{"$f":"IFERROR(INDEX('LS12. Self-Employment'!$B23:$Z23,MATCH(D$3,'LS12. Self-Employment'!$B$2:$Z$2,0)),\"n/a\")","v":13.5},{"$f":"IFERROR(INDEX('LS12. Self-Employment'!$B23:$Z23,MATCH(E$671,'LS12. Self-Employment'!$B$2:$Z$2,0)),\"n/a\")","v":12.4},{"$f":"IFERROR(INDEX('LS12. Self-Employment'!$B23:$Z23,MATCH(F$671,'LS12. Self-Employment'!$B$2:$Z$2,0)),\"n/a\")","v":13.2}]
[null,null,"Jul 2012-Jun 2013",{"$f":"IFERROR(INDEX('LS12. Self-Employment'!$B24:$Z24,MATCH(D$3,'LS12. Self-Employment'!$B$2:$Z$2,0)),\"n/a\")","v":13.1},{"$f":"IFERROR(INDEX('LS12. Self-Employment'!$B24:$Z24,MATCH(E$671,'LS12. Self-Employment'!$B$2:$Z$2,0)),\"n/a\")","v":13},{"$f":"IFERROR(INDEX('LS12. Self-Employment'!$B24:$Z24,MATCH(F$671,'LS12. Self-Employment'!$B$2:$Z$2,0)),\"n/a\")","v":13.1}]
[null,null,"Jul 2013-Jun 2014",{"$f":"IFERROR(INDEX('LS12. Self-Employment'!$B25:$Z25,MATCH(D$3,'LS12. Self-Employment'!$B$2:$Z$2,0)),\"n/a\")","v":13.3},{"$f":"IFERROR(INDEX('LS12. Self-Employment'!$B25:$Z25,MATCH(E$671,'LS12. Self-Employment'!$B$2:$Z$2,0)),\"n/a\")","v":13.9},{"$f":"IFERROR(INDEX('LS12. Self-Employment'!$B25:$Z25,MATCH(F$671,'LS12. Self-Employment'!$B$2:$Z$2,0)),\"n/a\")","v":13.5}]
[null,null,"Jul 2014-Jun 2015",{"$f":"IFERROR(INDEX('LS12. Self-Employment'!$B26:$Z26,MATCH(D$3,'LS12. Self-Employment'!$B$2:$Z$2,0)),\"n/a\")","v":11.5},{"$f":"IFERROR(INDEX('LS12. Self-Employment'!$B26:$Z26,MATCH(E$671,'LS12. Self-Employment'!$B$2:$Z$2,0)),\"n/a\")","v":12.7},{"$f":"IFERROR(INDEX('LS12. Self-Employment'!$B26:$Z26,MATCH(F$671,'LS12. Self-Employment'!$B$2:$Z$2,0)),\"n/a\")","v":13.5}]
[null,null,"Jul 2015-Jun 2016",{"$f":"IFERROR(INDEX('LS12. Self-Employment'!$B27:$Z27,MATCH(D$3,'LS12. Self-Employment'!$B$2:$Z$2,0)),\"n/a\")","v":14.6},{"$f":"IFERROR(INDEX('LS12. Self-Employment'!$B27:$Z27,MATCH(E$671,'LS12. Self-Employment'!$B$2:$Z$2,0)),\"n/a\")","v":13.5},{"$f":"IFERROR(INDEX('LS12. Self-Employment'!$B27:$Z27,MATCH(F$671,'LS12. Self-Employment'!$B$2:$Z$2,0)),\"n/a\")","v":13.5}]
[null,null,"Jul 2016-Jun 2017",{"$f":"IFERROR(INDEX('LS12. Self-Employment'!$B28:$Z28,MATCH(D$3,'LS12. Self-Employment'!$B$2:$Z$2,0)),\"n/a\")","v":13.9},{"$f":"IFERROR(INDEX('LS12. Self-Employment'!$B28:$Z28,MATCH(E$671,'LS12. Self-Employment'!$B$2:$Z$2,0)),\"n/a\")","v":12.9},{"$f":"IFERROR(INDEX('LS12. Self-Employment'!$B28:$Z28,MATCH(F$671,'LS12. Self-Employment'!$B$2:$Z$2,0)),\"n/a\")","v":13.8}]
[]
[]
[]
[]
[]
[]
[]
[]
[]
[]
[]
[]
[]
[]
[]
[]
[]
[]
[]
[]
[]
[]
[]
[]
[]
[]
[]
[null,null,"LS13. Hours Worked Weekly, 2017"]
[null,null,null,{"$f":"D$3","v":"Blackburn with Darwen, Hyndburn, Rossendale and Ribble Valley"},"Lancashire ","England Minus London"]
[null,null,"Who work under 10 hours",{"$f":"IFERROR(INDEX('LS13. Hours Worked Weekly'!$B4:$Z4,MATCH(D$3,'LS13. Hours Worked Weekly'!$B$2:$Z$2,0)),\"n/a\")","v":6900},{"$f":"IFERROR(INDEX('LS13. Hours Worked Weekly'!$B4:$Z4,MATCH(E$725,'LS13. Hours Worked Weekly'!$B$2:$Z$2,0)),\"n/a\")","v":29300},{"$f":"IFERROR(INDEX('LS13. Hours Worked Weekly'!$B4:$Z4,MATCH(F$725,'LS13. Hours Worked Weekly'!$B$2:$Z$2,0)),\"n/a\")","v":798100}]
[null,null,"Who work 10-34 hours",{"$f":"IFERROR(INDEX('LS13. Hours Worked Weekly'!$B5:$Z5,MATCH(D$3,'LS13. Hours Worked Weekly'!$B$2:$Z$2,0)),\"n/a\")","v":43500},{"$f":"IFERROR(INDEX('LS13. Hours Worked Weekly'!$B5:$Z5,MATCH(E$725,'LS13. Hours Worked Weekly'!$B$2:$Z$2,0)),\"n/a\")","v":194900},{"$f":"IFERROR(INDEX('LS13. Hours Worked Weekly'!$B5:$Z5,MATCH(F$725,'LS13. Hours Worked Weekly'!$B$2:$Z$2,0)),\"n/a\")","v":6099100}]
[null,null,"Who work 35-44 hours",{"$f":"IFERROR(INDEX('LS13. Hours Worked Weekly'!$B6:$Z6,MATCH(D$3,'LS13. Hours Worked Weekly'!$B$2:$Z$2,0)),\"n/a\")","v":73200},{"$f":"IFERROR(INDEX('LS13. Hours Worked Weekly'!$B6:$Z6,MATCH(E$725,'LS13. Hours Worked Weekly'!$B$2:$Z$2,0)),\"n/a\")","v":300700},{"$f":"IFERROR(INDEX('LS13. Hours Worked Weekly'!$B6:$Z6,MATCH(F$725,'LS13. Hours Worked Weekly'!$B$2:$Z$2,0)),\"n/a\")","v":9620200}]
[null,null,"Work 45 hours or more",{"$f":"IFERROR(INDEX('LS13. Hours Worked Weekly'!$B7:$Z7,MATCH(D$3,'LS13. Hours Worked Weekly'!$B$2:$Z$2,0)),\"n/a\")","v":35700},{"$f":"IFERROR(INDEX('LS13. Hours Worked Weekly'!$B7:$Z7,MATCH(E$725,'LS13. Hours Worked Weekly'!$B$2:$Z$2,0)),\"n/a\")","v":148300},{"$f":"IFERROR(INDEX('LS13. Hours Worked Weekly'!$B7:$Z7,MATCH(F$725,'LS13. Hours Worked Weekly'!$B$2:$Z$2,0)),\"n/a\")","v":5105200}]
[]
[null,null,"LS13. % of Hours Worked Weekly, 2017"]
[null,null,null,{"$f":"D$3","v":"Blackburn with Darwen, Hyndburn, Rossendale and Ribble Valley"},"Lancashire ","England Minus London"]
[null,null,"Who work under 10 hours",{"$f":"IFERROR(INDEX('LS13. Hours Worked Weekly'!$B11:$Z11,MATCH(D$3,'LS13. Hours Worked Weekly'!$B$2:$Z$2,0)),\"n/a\")/100","v":4.4000000000000004E-2},{"$f":"IFERROR(INDEX('LS13. Hours Worked Weekly'!$B11:$Z11,MATCH(E$725,'LS13. Hours Worked Weekly'!$B$2:$Z$2,0)),\"n/a\")/100","v":4.4000000000000004E-2},{"$f":"IFERROR(INDEX('LS13. Hours Worked Weekly'!$B11:$Z11,MATCH(F$725,'LS13. Hours Worked Weekly'!$B$2:$Z$2,0)),\"n/a\")/100","v":3.7000000000000005E-2}]
[null,null,"Who work 10-34 hours",{"$f":"IFERROR(INDEX('LS13. Hours Worked Weekly'!$B12:$Z12,MATCH(D$3,'LS13. Hours Worked Weekly'!$B$2:$Z$2,0)),\"n/a\")/100","v":0.27300000000000002},{"$f":"IFERROR(INDEX('LS13. Hours Worked Weekly'!$B12:$Z12,MATCH(E$725,'LS13. Hours Worked Weekly'!$B$2:$Z$2,0)),\"n/a\")/100","v":0.28899999999999998},{"$f":"IFERROR(INDEX('LS13. Hours Worked Weekly'!$B12:$Z12,MATCH(F$725,'LS13. Hours Worked Weekly'!$B$2:$Z$2,0)),\"n/a\")/100","v":0.28199999999999997}]
[null,null,"Who work 35-44 hours",{"$f":"IFERROR(INDEX('LS13. Hours Worked Weekly'!$B13:$Z13,MATCH(D$3,'LS13. Hours Worked Weekly'!$B$2:$Z$2,0)),\"n/a\")/100","v":0.45899999999999996},{"$f":"IFERROR(INDEX('LS13. Hours Worked Weekly'!$B13:$Z13,MATCH(E$725,'LS13. Hours Worked Weekly'!$B$2:$Z$2,0)),\"n/a\")/100","v":0.44700000000000001},{"$f":"IFERROR(INDEX('LS13. Hours Worked Weekly'!$B13:$Z13,MATCH(F$725,'LS13. Hours Worked Weekly'!$B$2:$Z$2,0)),\"n/a\")/100","v":0.44500000000000001}]
[null,null,"Work 45 hours or more",{"$f":"IFERROR(INDEX('LS13. Hours Worked Weekly'!$B14:$Z14,MATCH(D$3,'LS13. Hours Worked Weekly'!$B$2:$Z$2,0)),\"n/a\")/100","v":0.22399999999999998},{"$f":"IFERROR(INDEX('LS13. Hours Worked Weekly'!$B14:$Z14,MATCH(E$725,'LS13. Hours Worked Weekly'!$B$2:$Z$2,0)),\"n/a\")/100","v":0.22},{"$f":"IFERROR(INDEX('LS13. Hours Worked Weekly'!$B14:$Z14,MATCH(F$725,'LS13. Hours Worked Weekly'!$B$2:$Z$2,0)),\"n/a\")/100","v":0.23600000000000002}]
[]
[]
[]
[]
[]
[]
[]
[]
[]
[]
[]
[]
[]
[]
[]
[]
[]
[]
[]
[]
[]
[]
[]
[]
[]
[]
[]
[]
[]
[]
[]
[]
[]
[]
[]
[]
[]
[]
[]
[]
[]
[null,null,"LS14. Non-Permanent Employment, 2017"]
[null,null,null,{"$f":"D$3","v":"Blackburn with Darwen, Hyndburn, Rossendale and Ribble Valley"},"Lancashire ","England Minus London"]
[null,null,"Number in employment",{"$f":"IFERROR(INDEX('LS14. Non-Permanent Employment'!$B4:$Z4,MATCH(D$3,'LS14. Non-Permanent Employment'!$B$2:$Z$2,0)),\"n/a\")","v":7000},{"$f":"IFERROR(INDEX('LS14. Non-Permanent Employment'!$B4:$Z4,MATCH(E$779,'LS14. Non-Permanent Employment'!$B$2:$Z$2,0)),\"n/a\")","v":40000},{"$f":"IFERROR(INDEX('LS14. Non-Permanent Employment'!$B4:$Z4,MATCH(F$779,'LS14. Non-Permanent Employment'!$B$2:$Z$2,0)),\"n/a\")","v":1080600}]
[null,null,"Rate in employment",{"$f":"IFERROR(INDEX('LS14. Non-Permanent Employment'!$B5:$Z5,MATCH(D$3,'LS14. Non-Permanent Employment'!$B$2:$Z$2,0)),\"n/a\")/100","v":4.2999999999999997E-2},{"$f":"IFERROR(INDEX('LS14. Non-Permanent Employment'!$B5:$Z5,MATCH(E$779,'LS14. Non-Permanent Employment'!$B$2:$Z$2,0)),\"n/a\")/100","v":5.7000000000000002E-2},{"$f":"IFERROR(INDEX('LS14. Non-Permanent Employment'!$B5:$Z5,MATCH(F$779,'LS14. Non-Permanent Employment'!$B$2:$Z$2,0)),\"n/a\")/100","v":4.9000000000000002E-2}]
[]
[]
[]
[]
[]
[]
[]
[]
[]
[]
[]
[]
[]
[]
[]
[]
[]
[]
[]
[]
[]
[]
[]
[]
[]
[]
[]
[]
[]
[]
[]
[]
[]
[]
[]
[]
[]
[]
[]
[]
[]
[]
[]
[]
[]
[]
[]
[]
[]
[]
[]
[]
[]
[]
[]
[]
[null,null,"LS15. Zero-Hour Contracts, 2017"]
[null,null,null,"North West ","England Minus London","England"]
[null,null,"Number in employment",{"$f":"INDEX('LS15. Zero-Hour Contracts'!$B4:$X4,MATCH(D$839,'LS15. Zero-Hour Contracts'!$B$2:$X$2,0))","v":67000},{"$f":"INDEX('LS15. Zero-Hour Contracts'!$B4:$X4,MATCH(E$839,'LS15. Zero-Hour Contracts'!$B$2:$X$2,0))","v":640000},{"$f":"INDEX('LS15. Zero-Hour Contracts'!$B4:$X4,MATCH(F$839,'LS15. Zero-Hour Contracts'!$B$2:$X$2,0))","v":758000}]
[null,null,"Rate in employment",{"$f":"INDEX('LS15. Zero-Hour Contracts'!$B5:$X5,MATCH(D$839,'LS15. Zero-Hour Contracts'!$B$2:$X$2,0))/100","v":0.02},"..",{"$f":"INDEX('LS15. Zero-Hour Contracts'!$B5:$X5,MATCH(F$839,'LS15. Zero-Hour Contracts'!$B$2:$X$2,0))/100","v":2.7999999999999997E-2}]
[]
[]
[]
[]
[]
[]
[]
[]
[]
[]
[]
[]
[]
[]
[]
[]
[]
[]
[]
[]
[]
[]
[]
[]
[]
[]
[]
[]
[]
[]
[]
[]
[]
[]
[]
[]
[]
[]
[]
[]
[]
[]
[]
[]
[]
[]
[]
[]
[]
[]
[]
[]
[]
[]
[]
[]
[]
[]
[null,null,"LS16. Unemployment, 2006/07-16/17"]
[null,null,null,{"$f":"D$3","v":"Blackburn with Darwen, Hyndburn, Rossendale and Ribble Valley"},"Lancashire ","England Minus London"]
[null,null,"Jul 2006-Jun 2007",{"$f":"IFERROR(INDEX('LS16. Unemployment'!$B4:$Z4,MATCH(D$3,'LS16. Unemployment'!$B$2:$Z$2,0)),\"n/a\")","v":7500},{"$f":"IFERROR(INDEX('LS16. Unemployment'!$B4:$Z4,MATCH(E$901,'LS16. Unemployment'!$B$2:$Z$2,0)),\"n/a\")","v":38300},{"$f":"IFERROR(INDEX('LS16. Unemployment'!$B4:$Z4,MATCH(F$901,'LS16. Unemployment'!$B$2:$Z$2,0)),\"n/a\")","v":1068300}]
[null,null,"Jul 2007-Jun 2008",{"$f":"IFERROR(INDEX('LS16. Unemployment'!$B5:$Z5,MATCH(D$3,'LS16. Unemployment'!$B$2:$Z$2,0)),\"n/a\")","v":11600},{"$f":"IFERROR(INDEX('LS16. Unemployment'!$B5:$Z5,MATCH(E$901,'LS16. Unemployment'!$B$2:$Z$2,0)),\"n/a\")","v":39900},{"$f":"IFERROR(INDEX('LS16. Unemployment'!$B5:$Z5,MATCH(F$901,'LS16. Unemployment'!$B$2:$Z$2,0)),\"n/a\")","v":1101800}]
[null,null,"Jul 2008-Jun 2009",{"$f":"IFERROR(INDEX('LS16. Unemployment'!$B6:$Z6,MATCH(D$3,'LS16. Unemployment'!$B$2:$Z$2,0)),\"n/a\")","v":11000},{"$f":"IFERROR(INDEX('LS16. Unemployment'!$B6:$Z6,MATCH(E$901,'LS16. Unemployment'!$B$2:$Z$2,0)),\"n/a\")","v":48500},{"$f":"IFERROR(INDEX('LS16. Unemployment'!$B6:$Z6,MATCH(F$901,'LS16. Unemployment'!$B$2:$Z$2,0)),\"n/a\")","v":1468600}]
[null,null,"Jul 2009-Jun 2010",{"$f":"IFERROR(INDEX('LS16. Unemployment'!$B7:$Z7,MATCH(D$3,'LS16. Unemployment'!$B$2:$Z$2,0)),\"n/a\")","v":12700},{"$f":"IFERROR(INDEX('LS16. Unemployment'!$B7:$Z7,MATCH(E$901,'LS16. Unemployment'!$B$2:$Z$2,0)),\"n/a\")","v":46500},{"$f":"IFERROR(INDEX('LS16. Unemployment'!$B7:$Z7,MATCH(F$901,'LS16. Unemployment'!$B$2:$Z$2,0)),\"n/a\")","v":1648800}]
[null,null,"Jul 2010-Jun 2011",{"$f":"IFERROR(INDEX('LS16. Unemployment'!$B8:$Z8,MATCH(D$3,'LS16. Unemployment'!$B$2:$Z$2,0)),\"n/a\")","v":12200},{"$f":"IFERROR(INDEX('LS16. Unemployment'!$B8:$Z8,MATCH(E$901,'LS16. Unemployment'!$B$2:$Z$2,0)),\"n/a\")","v":43000},{"$f":"IFERROR(INDEX('LS16. Unemployment'!$B8:$Z8,MATCH(F$901,'LS16. Unemployment'!$B$2:$Z$2,0)),\"n/a\")","v":1640500}]
[null,null,"Jul 2011-Jun 2012",{"$f":"IFERROR(INDEX('LS16. Unemployment'!$B9:$Z9,MATCH(D$3,'LS16. Unemployment'!$B$2:$Z$2,0)),\"n/a\")","v":12900},{"$f":"IFERROR(INDEX('LS16. Unemployment'!$B9:$Z9,MATCH(E$901,'LS16. Unemployment'!$B$2:$Z$2,0)),\"n/a\")","v":56800},{"$f":"IFERROR(INDEX('LS16. Unemployment'!$B9:$Z9,MATCH(F$901,'LS16. Unemployment'!$B$2:$Z$2,0)),\"n/a\")","v":1743900}]
[null,null,"Jul 2012-Jun 2013",{"$f":"IFERROR(INDEX('LS16. Unemployment'!$B10:$Z10,MATCH(D$3,'LS16. Unemployment'!$B$2:$Z$2,0)),\"n/a\")","v":10000},{"$f":"IFERROR(INDEX('LS16. Unemployment'!$B10:$Z10,MATCH(E$901,'LS16. Unemployment'!$B$2:$Z$2,0)),\"n/a\")","v":44600},{"$f":"IFERROR(INDEX('LS16. Unemployment'!$B10:$Z10,MATCH(F$901,'LS16. Unemployment'!$B$2:$Z$2,0)),\"n/a\")","v":1700900}]
[null,null,"Jul 2013-Jun 2014",{"$f":"IFERROR(INDEX('LS16. Unemployment'!$B11:$Z11,MATCH(D$3,'LS16. Unemployment'!$B$2:$Z$2,0)),\"n/a\")","v":13800},{"$f":"IFERROR(INDEX('LS16. Unemployment'!$B11:$Z11,MATCH(E$901,'LS16. Unemployment'!$B$2:$Z$2,0)),\"n/a\")","v":53500},{"$f":"IFERROR(INDEX('LS16. Unemployment'!$B11:$Z11,MATCH(F$901,'LS16. Unemployment'!$B$2:$Z$2,0)),\"n/a\")","v":1496700}]
[null,null,"Jul 2014-Jun 2015",{"$f":"IFERROR(INDEX('LS16. Unemployment'!$B12:$Z12,MATCH(D$3,'LS16. Unemployment'!$B$2:$Z$2,0)),\"n/a\")","v":8300},{"$f":"IFERROR(INDEX('LS16. Unemployment'!$B12:$Z12,MATCH(E$901,'LS16. Unemployment'!$B$2:$Z$2,0)),\"n/a\")","v":31500},{"$f":"IFERROR(INDEX('LS16. Unemployment'!$B12:$Z12,MATCH(F$901,'LS16. Unemployment'!$B$2:$Z$2,0)),\"n/a\")","v":1221000}]
[null,null,"Jul 2015-Jun 2016",{"$f":"IFERROR(INDEX('LS16. Unemployment'!$B13:$Z13,MATCH(D$3,'LS16. Unemployment'!$B$2:$Z$2,0)),\"n/a\")","v":10700},{"$f":"IFERROR(INDEX('LS16. Unemployment'!$B13:$Z13,MATCH(E$901,'LS16. Unemployment'!$B$2:$Z$2,0)),\"n/a\")","v":29700},{"$f":"IFERROR(INDEX('LS16. Unemployment'!$B13:$Z13,MATCH(F$901,'LS16. Unemployment'!$B$2:$Z$2,0)),\"n/a\")","v":1111900}]
[null,null,"Jul 2016-Jun 2017",{"$f":"IFERROR(INDEX('LS16. Unemployment'!$B14:$Z14,MATCH(D$3,'LS16. Unemployment'!$B$2:$Z$2,0)),\"n/a\")","v":5500},{"$f":"IFERROR(INDEX('LS16. Unemployment'!$B14:$Z14,MATCH(E$901,'LS16. Unemployment'!$B$2:$Z$2,0)),\"n/a\")","v":30800},{"$f":"IFERROR(INDEX('LS16. Unemployment'!$B14:$Z14,MATCH(F$901,'LS16. Unemployment'!$B$2:$Z$2,0)),\"n/a\")","v":1003500}]
[]
[null,null,"LS16. Unemployment (% of working age population), 2006/07-16/17"]
[null,null,null,{"$f":"D$3","v":"Blackburn with Darwen, Hyndburn, Rossendale and Ribble Valley"},"Lancashire ","England Minus London"]
[null,null,"Jul 2006-Jun 2007",{"$f":"IFERROR(INDEX('LS16. Unemployment'!$B18:$Z18,MATCH(D$3,'LS16. Unemployment'!$B$2:$Z$2,0)),\"n/a\")","v":4.7},{"$f":"IFERROR(INDEX('LS16. Unemployment'!$B18:$Z18,MATCH(E$915,'LS16. Unemployment'!$B$2:$Z$2,0)),\"n/a\")","v":5.6},{"$f":"IFERROR(INDEX('LS16. Unemployment'!$B18:$Z18,MATCH(F$915,'LS16. Unemployment'!$B$2:$Z$2,0)),\"n/a\")","v":5}]
[null,null,"Jul 2007-Jun 2008",{"$f":"IFERROR(INDEX('LS16. Unemployment'!$B19:$Z19,MATCH(D$3,'LS16. Unemployment'!$B$2:$Z$2,0)),\"n/a\")","v":7.1},{"$f":"IFERROR(INDEX('LS16. Unemployment'!$B19:$Z19,MATCH(E$915,'LS16. Unemployment'!$B$2:$Z$2,0)),\"n/a\")","v":5.7},{"$f":"IFERROR(INDEX('LS16. Unemployment'!$B19:$Z19,MATCH(F$915,'LS16. Unemployment'!$B$2:$Z$2,0)),\"n/a\")","v":5.0999999999999996}]
[null,null,"Jul 2008-Jun 2009",{"$f":"IFERROR(INDEX('LS16. Unemployment'!$B20:$Z20,MATCH(D$3,'LS16. Unemployment'!$B$2:$Z$2,0)),\"n/a\")","v":7},{"$f":"IFERROR(INDEX('LS16. Unemployment'!$B20:$Z20,MATCH(E$915,'LS16. Unemployment'!$B$2:$Z$2,0)),\"n/a\")","v":7.1},{"$f":"IFERROR(INDEX('LS16. Unemployment'!$B20:$Z20,MATCH(F$915,'LS16. Unemployment'!$B$2:$Z$2,0)),\"n/a\")","v":6.7}]
[null,null,"Jul 2009-Jun 2010",{"$f":"IFERROR(INDEX('LS16. Unemployment'!$B21:$Z21,MATCH(D$3,'LS16. Unemployment'!$B$2:$Z$2,0)),\"n/a\")","v":7.8},{"$f":"IFERROR(INDEX('LS16. Unemployment'!$B21:$Z21,MATCH(E$915,'LS16. Unemployment'!$B$2:$Z$2,0)),\"n/a\")","v":6.8},{"$f":"IFERROR(INDEX('LS16. Unemployment'!$B21:$Z21,MATCH(F$915,'LS16. Unemployment'!$B$2:$Z$2,0)),\"n/a\")","v":7.6}]
[null,null,"Jul 2010-Jun 2011",{"$f":"IFERROR(INDEX('LS16. Unemployment'!$B22:$Z22,MATCH(D$3,'LS16. Unemployment'!$B$2:$Z$2,0)),\"n/a\")","v":7.6},{"$f":"IFERROR(INDEX('LS16. Unemployment'!$B22:$Z22,MATCH(E$915,'LS16. Unemployment'!$B$2:$Z$2,0)),\"n/a\")","v":6.2},{"$f":"IFERROR(INDEX('LS16. Unemployment'!$B22:$Z22,MATCH(F$915,'LS16. Unemployment'!$B$2:$Z$2,0)),\"n/a\")","v":7.6}]
[null,null,"Jul 2011-Jun 2012",{"$f":"IFERROR(INDEX('LS16. Unemployment'!$B23:$Z23,MATCH(D$3,'LS16. Unemployment'!$B$2:$Z$2,0)),\"n/a\")","v":7.6},{"$f":"IFERROR(INDEX('LS16. Unemployment'!$B23:$Z23,MATCH(E$915,'LS16. Unemployment'!$B$2:$Z$2,0)),\"n/a\")","v":8},{"$f":"IFERROR(INDEX('LS16. Unemployment'!$B23:$Z23,MATCH(F$915,'LS16. Unemployment'!$B$2:$Z$2,0)),\"n/a\")","v":8}]
[null,null,"Jul 2012-Jun 2013",{"$f":"IFERROR(INDEX('LS16. Unemployment'!$B24:$Z24,MATCH(D$3,'LS16. Unemployment'!$B$2:$Z$2,0)),\"n/a\")","v":6.1},{"$f":"IFERROR(INDEX('LS16. Unemployment'!$B24:$Z24,MATCH(E$915,'LS16. Unemployment'!$B$2:$Z$2,0)),\"n/a\")","v":6.6},{"$f":"IFERROR(INDEX('LS16. Unemployment'!$B24:$Z24,MATCH(F$915,'LS16. Unemployment'!$B$2:$Z$2,0)),\"n/a\")","v":7.7}]
[null,null,"Jul 2013-Jun 2014",{"$f":"IFERROR(INDEX('LS16. Unemployment'!$B25:$Z25,MATCH(D$3,'LS16. Unemployment'!$B$2:$Z$2,0)),\"n/a\")","v":8.9},{"$f":"IFERROR(INDEX('LS16. Unemployment'!$B25:$Z25,MATCH(E$915,'LS16. Unemployment'!$B$2:$Z$2,0)),\"n/a\")","v":8},{"$f":"IFERROR(INDEX('LS16. Unemployment'!$B25:$Z25,MATCH(F$915,'LS16. Unemployment'!$B$2:$Z$2,0)),\"n/a\")","v":6.8}]
[null,null,"Jul 2014-Jun 2015",{"$f":"IFERROR(INDEX('LS16. Unemployment'!$B26:$Z26,MATCH(D$3,'LS16. Unemployment'!$B$2:$Z$2,0)),\"n/a\")","v":5.0999999999999996},{"$f":"IFERROR(INDEX('LS16. Unemployment'!$B26:$Z26,MATCH(E$915,'LS16. Unemployment'!$B$2:$Z$2,0)),\"n/a\")","v":4.7},{"$f":"IFERROR(INDEX('LS16. Unemployment'!$B26:$Z26,MATCH(F$915,'LS16. Unemployment'!$B$2:$Z$2,0)),\"n/a\")","v":5.5}]
[null,null,"Jul 2015-Jun 2016",{"$f":"IFERROR(INDEX('LS16. Unemployment'!$B27:$Z27,MATCH(D$3,'LS16. Unemployment'!$B$2:$Z$2,0)),\"n/a\")","v":6.3},{"$f":"IFERROR(INDEX('LS16. Unemployment'!$B27:$Z27,MATCH(E$915,'LS16. Unemployment'!$B$2:$Z$2,0)),\"n/a\")","v":4.2},{"$f":"IFERROR(INDEX('LS16. Unemployment'!$B27:$Z27,MATCH(F$915,'LS16. Unemployment'!$B$2:$Z$2,0)),\"n/a\")","v":5}]
[null,null,"Jul 2016-Jun 2017",{"$f":"IFERROR(INDEX('LS16. Unemployment'!$B28:$Z28,MATCH(D$3,'LS16. Unemployment'!$B$2:$Z$2,0)),\"n/a\")","v":3.5},{"$f":"IFERROR(INDEX('LS16. Unemployment'!$B28:$Z28,MATCH(E$915,'LS16. Unemployment'!$B$2:$Z$2,0)),\"n/a\")","v":4.4000000000000004},{"$f":"IFERROR(INDEX('LS16. Unemployment'!$B28:$Z28,MATCH(F$915,'LS16. Unemployment'!$B$2:$Z$2,0)),\"n/a\")","v":4.5}]
[]
[null,null,"For details on Unemployment by age and gender, please click here"]
[]
[]
[]
[]
[]
[]
[]
[]
[]
[]
[]
[]
[]
[]
[]
[]
[]
[]
[]
[null,null,"LS18. Claimant Count, Nov 2013-Nov 2017"]
[null,null,null,{"$f":"D$3","v":"Blackburn with Darwen, Hyndburn, Rossendale and Ribble Valley"},"Lancashire ","England Minus London"]
[null,null,"Nov 2013",{"$f":"IFERROR(INDEX('LS18. Claimant Count'!$B4:$Z4,MATCH(D$3,'LS18. Claimant Count'!$B$2:$Z$2,0)),\"n/a\")","v":6380},{"$f":"IFERROR(INDEX('LS18. Claimant Count'!$B4:$Z4,MATCH(E$949,'LS18. Claimant Count'!$B$2:$Z$2,0)),\"n/a\")","v":26210},{"$f":"IFERROR(INDEX('LS18. Claimant Count'!$B4:$Z4,MATCH(F$949,'LS18. Claimant Count'!$B$2:$Z$2,0)),\"n/a\")","v":817645}]
[null,null,"Nov 2014",{"$f":"IFERROR(INDEX('LS18. Claimant Count'!$B5:$Z5,MATCH(D$3,'LS18. Claimant Count'!$B$2:$Z$2,0)),\"n/a\")","v":4435},{"$f":"IFERROR(INDEX('LS18. Claimant Count'!$B5:$Z5,MATCH(E$949,'LS18. Claimant Count'!$B$2:$Z$2,0)),\"n/a\")","v":17995},{"$f":"IFERROR(INDEX('LS18. Claimant Count'!$B5:$Z5,MATCH(F$949,'LS18. Claimant Count'!$B$2:$Z$2,0)),\"n/a\")","v":555135}]
[null,null,"Nov 2015",{"$f":"IFERROR(INDEX('LS18. Claimant Count'!$B6:$Z6,MATCH(D$3,'LS18. Claimant Count'!$B$2:$Z$2,0)),\"n/a\")","v":4575},{"$f":"IFERROR(INDEX('LS18. Claimant Count'!$B6:$Z6,MATCH(E$949,'LS18. Claimant Count'!$B$2:$Z$2,0)),\"n/a\")","v":18110},{"$f":"IFERROR(INDEX('LS18. Claimant Count'!$B6:$Z6,MATCH(F$949,'LS18. Claimant Count'!$B$2:$Z$2,0)),\"n/a\")","v":478435}]
[null,null,"Nov 2016",{"$f":"IFERROR(INDEX('LS18. Claimant Count'!$B7:$Z7,MATCH(D$3,'LS18. Claimant Count'!$B$2:$Z$2,0)),\"n/a\")","v":4775},{"$f":"IFERROR(INDEX('LS18. Claimant Count'!$B7:$Z7,MATCH(E$949,'LS18. Claimant Count'!$B$2:$Z$2,0)),\"n/a\")","v":19440},{"$f":"IFERROR(INDEX('LS18. Claimant Count'!$B7:$Z7,MATCH(F$949,'LS18. Claimant Count'!$B$2:$Z$2,0)),\"n/a\")","v":495560}]
[null,null,"Nov 2017",{"$f":"IFERROR(INDEX('LS18. Claimant Count'!$B8:$Z8,MATCH(D$3,'LS18. Claimant Count'!$B$2:$Z$2,0)),\"n/a\")","v":5090},{"$f":"IFERROR(INDEX('LS18. Claimant Count'!$B8:$Z8,MATCH(E$949,'LS18. Claimant Count'!$B$2:$Z$2,0)),\"n/a\")","v":21505},{"$f":"IFERROR(INDEX('LS18. Claimant Count'!$B8:$Z8,MATCH(F$949,'LS18. Claimant Count'!$B$2:$Z$2,0)),\"n/a\")","v":525290}]
[]
[null,null,"LS18. Claimant Count as % of Working Age Residents, Nov 2013-Nov 2017"]
[null,null,null,{"$f":"D$3","v":"Blackburn with Darwen, Hyndburn, Rossendale and Ribble Valley"},"Lancashire ","England Minus London"]
[null,null,"Nov 2013",{"$f":"IFERROR(INDEX('LS18. Claimant Count'!$B12:$Z12,MATCH(D$3,'LS18. Claimant Count'!$B$2:$Z$2,0)),\"n/a\")","v":2.9},{"$f":"IFERROR(INDEX('LS18. Claimant Count'!$B12:$Z12,MATCH(E$949,'LS18. Claimant Count'!$B$2:$Z$2,0)),\"n/a\")","v":2.9},{"$f":"IFERROR(INDEX('LS18. Claimant Count'!$B12:$Z12,MATCH(F$949,'LS18. Claimant Count'!$B$2:$Z$2,0)),\"n/a\")","v":2.9}]
[null,null,"Nov 2014",{"$f":"IFERROR(INDEX('LS18. Claimant Count'!$B13:$Z13,MATCH(D$3,'LS18. Claimant Count'!$B$2:$Z$2,0)),\"n/a\")","v":2},{"$f":"IFERROR(INDEX('LS18. Claimant Count'!$B13:$Z13,MATCH(E$949,'LS18. Claimant Count'!$B$2:$Z$2,0)),\"n/a\")","v":2},{"$f":"IFERROR(INDEX('LS18. Claimant Count'!$B13:$Z13,MATCH(F$949,'LS18. Claimant Count'!$B$2:$Z$2,0)),\"n/a\")","v":1.9}]
[null,null,"Nov 2015",{"$f":"IFERROR(INDEX('LS18. Claimant Count'!$B14:$Z14,MATCH(D$3,'LS18. Claimant Count'!$B$2:$Z$2,0)),\"n/a\")","v":2.1},{"$f":"IFERROR(INDEX('LS18. Claimant Count'!$B14:$Z14,MATCH(E$949,'LS18. Claimant Count'!$B$2:$Z$2,0)),\"n/a\")","v":2},{"$f":"IFERROR(INDEX('LS18. Claimant Count'!$B14:$Z14,MATCH(F$949,'LS18. Claimant Count'!$B$2:$Z$2,0)),\"n/a\")","v":1.7}]
[null,null,"Nov 2016",{"$f":"IFERROR(INDEX('LS18. Claimant Count'!$B15:$Z15,MATCH(D$3,'LS18. Claimant Count'!$B$2:$Z$2,0)),\"n/a\")","v":2.2000000000000002},{"$f":"IFERROR(INDEX('LS18. Claimant Count'!$B15:$Z15,MATCH(E$949,'LS18. Claimant Count'!$B$2:$Z$2,0)),\"n/a\")","v":2.1},{"$f":"IFERROR(INDEX('LS18. Claimant Count'!$B15:$Z15,MATCH(F$949,'LS18. Claimant Count'!$B$2:$Z$2,0)),\"n/a\")","v":1.7}]
[null,null,"Nov 2017",{"$f":"IFERROR(INDEX('LS18. Claimant Count'!$B16:$Z16,MATCH(D$3,'LS18. Claimant Count'!$B$2:$Z$2,0)),\"n/a\")","v":2.2999999999999998},{"$f":"IFERROR(INDEX('LS18. Claimant Count'!$B16:$Z16,MATCH(E$949,'LS18. Claimant Count'!$B$2:$Z$2,0)),\"n/a\")","v":2.4},{"$f":"IFERROR(INDEX('LS18. Claimant Count'!$B16:$Z16,MATCH(F$949,'LS18. Claimant Count'!$B$2:$Z$2,0)),\"n/a\")","v":1.8}]
[]
[null,null,"For details on Claimant Count by age and gender, please click here"]
[]
[]
[]
[]
[]
[]
[]
[]
[]
[]
[]
[]
[]
[]
[]
[]
[]
[]
[]
[]
[]
[]
[]
[]
[]
[null,null,"LS32. Travel to Work, method, 2011"]
[null,null,null,{"$f":"D$3","v":"Blackburn with Darwen, Hyndburn, Rossendale and Ribble Valley"},"Lancashire ","England Minus London"]
[null,null,"Work mainly at or from home",{"$f":"IFERROR(INDEX('LS32. Travel to Work, method'!$B4:$Z4,MATCH(D$3,'LS32. Travel to Work, method'!$B$2:$Z$2,0)),\"n/a\")","v":7339},{"$f":"IFERROR(INDEX('LS32. Travel to Work, method'!$B4:$Z4,MATCH(E$991,'LS32. Travel to Work, method'!$B$2:$Z$2,0)),\"n/a\")","v":31731},{"$f":"IFERROR(INDEX('LS32. Travel to Work, method'!$B4:$Z4,MATCH(F$991,'LS32. Travel to Work, method'!$B$2:$Z$2,0)),\"n/a\")","v":1146889}]
[null,null,"Underground, metro, light rail, tram",{"$f":"IFERROR(INDEX('LS32. Travel to Work, method'!$B5:$Z5,MATCH(D$3,'LS32. Travel to Work, method'!$B$2:$Z$2,0)),\"n/a\")","v":109},{"$f":"IFERROR(INDEX('LS32. Travel to Work, method'!$B5:$Z5,MATCH(E$991,'LS32. Travel to Work, method'!$B$2:$Z$2,0)),\"n/a\")","v":537},{"$f":"IFERROR(INDEX('LS32. Travel to Work, method'!$B5:$Z5,MATCH(F$991,'LS32. Travel to Work, method'!$B$2:$Z$2,0)),\"n/a\")","v":125362}]
[null,null,"Train",{"$f":"IFERROR(INDEX('LS32. Travel to Work, method'!$B6:$Z6,MATCH(D$3,'LS32. Travel to Work, method'!$B$2:$Z$2,0)),\"n/a\")","v":1851},{"$f":"IFERROR(INDEX('LS32. Travel to Work, method'!$B6:$Z6,MATCH(E$991,'LS32. Travel to Work, method'!$B$2:$Z$2,0)),\"n/a\")","v":10003},{"$f":"IFERROR(INDEX('LS32. Travel to Work, method'!$B6:$Z6,MATCH(F$991,'LS32. Travel to Work, method'!$B$2:$Z$2,0)),\"n/a\")","v":810964}]
[null,null,"Bus, minibus or coach",{"$f":"IFERROR(INDEX('LS32. Travel to Work, method'!$B7:$Z7,MATCH(D$3,'LS32. Travel to Work, method'!$B$2:$Z$2,0)),\"n/a\")","v":8091},{"$f":"IFERROR(INDEX('LS32. Travel to Work, method'!$B7:$Z7,MATCH(E$991,'LS32. Travel to Work, method'!$B$2:$Z$2,0)),\"n/a\")","v":38976},{"$f":"IFERROR(INDEX('LS32. Travel to Work, method'!$B7:$Z7,MATCH(F$991,'LS32. Travel to Work, method'!$B$2:$Z$2,0)),\"n/a\")","v":1324934}]
[null,null,"Taxi",{"$f":"IFERROR(INDEX('LS32. Travel to Work, method'!$B8:$Z8,MATCH(D$3,'LS32. Travel to Work, method'!$B$2:$Z$2,0)),\"n/a\")","v":1714},{"$f":"IFERROR(INDEX('LS32. Travel to Work, method'!$B8:$Z8,MATCH(E$991,'LS32. Travel to Work, method'!$B$2:$Z$2,0)),\"n/a\")","v":5160},{"$f":"IFERROR(INDEX('LS32. Travel to Work, method'!$B8:$Z8,MATCH(F$991,'LS32. Travel to Work, method'!$B$2:$Z$2,0)),\"n/a\")","v":111151}]
[null,null,"Motorcycle, scooter or moped",{"$f":"IFERROR(INDEX('LS32. Travel to Work, method'!$B9:$Z9,MATCH(D$3,'LS32. Travel to Work, method'!$B$2:$Z$2,0)),\"n/a\")","v":951},{"$f":"IFERROR(INDEX('LS32. Travel to Work, method'!$B9:$Z9,MATCH(E$991,'LS32. Travel to Work, method'!$B$2:$Z$2,0)),\"n/a\")","v":4683},{"$f":"IFERROR(INDEX('LS32. Travel to Work, method'!$B9:$Z9,MATCH(F$991,'LS32. Travel to Work, method'!$B$2:$Z$2,0)),\"n/a\")","v":160574}]
[null,null,"Driving a car or van",{"$f":"IFERROR(INDEX('LS32. Travel to Work, method'!$B10:$Z10,MATCH(D$3,'LS32. Travel to Work, method'!$B$2:$Z$2,0)),\"n/a\")","v":106842},{"$f":"IFERROR(INDEX('LS32. Travel to Work, method'!$B10:$Z10,MATCH(E$991,'LS32. Travel to Work, method'!$B$2:$Z$2,0)),\"n/a\")","v":437279},{"$f":"IFERROR(INDEX('LS32. Travel to Work, method'!$B10:$Z10,MATCH(F$991,'LS32. Travel to Work, method'!$B$2:$Z$2,0)),\"n/a\")","v":13225056}]
[null,null,"Passenger in a car or van",{"$f":"IFERROR(INDEX('LS32. Travel to Work, method'!$B11:$Z11,MATCH(D$3,'LS32. Travel to Work, method'!$B$2:$Z$2,0)),\"n/a\")","v":11016},{"$f":"IFERROR(INDEX('LS32. Travel to Work, method'!$B11:$Z11,MATCH(E$991,'LS32. Travel to Work, method'!$B$2:$Z$2,0)),\"n/a\")","v":44142},{"$f":"IFERROR(INDEX('LS32. Travel to Work, method'!$B11:$Z11,MATCH(F$991,'LS32. Travel to Work, method'!$B$2:$Z$2,0)),\"n/a\")","v":1194894}]
[null,null,"Bicycle",{"$f":"IFERROR(INDEX('LS32. Travel to Work, method'!$B12:$Z12,MATCH(D$3,'LS32. Travel to Work, method'!$B$2:$Z$2,0)),\"n/a\")","v":1637},{"$f":"IFERROR(INDEX('LS32. Travel to Work, method'!$B12:$Z12,MATCH(E$991,'LS32. Travel to Work, method'!$B$2:$Z$2,0)),\"n/a\")","v":14147},{"$f":"IFERROR(INDEX('LS32. Travel to Work, method'!$B12:$Z12,MATCH(F$991,'LS32. Travel to Work, method'!$B$2:$Z$2,0)),\"n/a\")","v":580970}]
[null,null,"On foot",{"$f":"IFERROR(INDEX('LS32. Travel to Work, method'!$B13:$Z13,MATCH(D$3,'LS32. Travel to Work, method'!$B$2:$Z$2,0)),\"n/a\")","v":17598},{"$f":"IFERROR(INDEX('LS32. Travel to Work, method'!$B13:$Z13,MATCH(E$991,'LS32. Travel to Work, method'!$B$2:$Z$2,0)),\"n/a\")","v":77299},{"$f":"IFERROR(INDEX('LS32. Travel to Work, method'!$B13:$Z13,MATCH(F$991,'LS32. Travel to Work, method'!$B$2:$Z$2,0)),\"n/a\")","v":2348841}]
[null,null,"Other method of travel to work",{"$f":"IFERROR(INDEX('LS32. Travel to Work, method'!$B14:$Z14,MATCH(D$3,'LS32. Travel to Work, method'!$B$2:$Z$2,0)),\"n/a\")","v":889},{"$f":"IFERROR(INDEX('LS32. Travel to Work, method'!$B14:$Z14,MATCH(E$991,'LS32. Travel to Work, method'!$B$2:$Z$2,0)),\"n/a\")","v":4193},{"$f":"IFERROR(INDEX('LS32. Travel to Work, method'!$B14:$Z14,MATCH(F$991,'LS32. Travel to Work, method'!$B$2:$Z$2,0)),\"n/a\")","v":134189}]
[null,null,"Total",{"$f":"IFERROR(INDEX('LS32. Travel to Work, method'!$B15:$Z15,MATCH(D$3,'LS32. Travel to Work, method'!$B$2:$Z$2,0)),\"n/a\")","v":158037},{"$f":"IFERROR(INDEX('LS32. Travel to Work, method'!$B15:$Z15,MATCH(E$991,'LS32. Travel to Work, method'!$B$2:$Z$2,0)),\"n/a\")","v":668150},{"$f":"IFERROR(INDEX('LS32. Travel to Work, method'!$B15:$Z15,MATCH(F$991,'LS32. Travel to Work, method'!$B$2:$Z$2,0)),\"n/a\")","v":21163824}]
[]
[null,null,"LS32. Travel to Work, method, 2011"]
[null,null,null,{"$f":"D$3","v":"Blackburn with Darwen, Hyndburn, Rossendale and Ribble Valley"},"Lancashire ","England Minus London"]
[null,null,"Work mainly at or from home",{"$f":"IFERROR(INDEX('LS32. Travel to Work, method'!$B18:$Z18,MATCH(D$3,'LS32. Travel to Work, method'!$B$2:$Z$2,0)),\"n/a\")","v":4.6438492251814449E-2},{"$f":"IFERROR(INDEX('LS32. Travel to Work, method'!$B18:$Z18,MATCH(E$991,'LS32. Travel to Work, method'!$B$2:$Z$2,0)),\"n/a\")","v":4.7490832896804606E-2},{"$f":"IFERROR(INDEX('LS32. Travel to Work, method'!$B18:$Z18,MATCH(F$991,'LS32. Travel to Work, method'!$B$2:$Z$2,0)),\"n/a\")","v":5.419101009345003E-2}]
[null,null,"Underground, metro, light rail, tram",{"$f":"IFERROR(INDEX('LS32. Travel to Work, method'!$B19:$Z19,MATCH(D$3,'LS32. Travel to Work, method'!$B$2:$Z$2,0)),\"n/a\")","v":6.8971190290881247E-4},{"$f":"IFERROR(INDEX('LS32. Travel to Work, method'!$B19:$Z19,MATCH(E$991,'LS32. Travel to Work, method'!$B$2:$Z$2,0)),\"n/a\")","v":8.0371174137543969E-4},{"$f":"IFERROR(INDEX('LS32. Travel to Work, method'!$B19:$Z19,MATCH(F$991,'LS32. Travel to Work, method'!$B$2:$Z$2,0)),\"n/a\")","v":5.923409682484602E-3}]
[null,null,"Train",{"$f":"IFERROR(INDEX('LS32. Travel to Work, method'!$B20:$Z20,MATCH(D$3,'LS32. Travel to Work, method'!$B$2:$Z$2,0)),\"n/a\")","v":1.1712447085176256E-2},{"$f":"IFERROR(INDEX('LS32. Travel to Work, method'!$B20:$Z20,MATCH(E$991,'LS32. Travel to Work, method'!$B$2:$Z$2,0)),\"n/a\")","v":1.497118910424306E-2},{"$f":"IFERROR(INDEX('LS32. Travel to Work, method'!$B20:$Z20,MATCH(F$991,'LS32. Travel to Work, method'!$B$2:$Z$2,0)),\"n/a\")","v":3.8318405974270053E-2}]
[null,null,"Bus, minibus or coach",{"$f":"IFERROR(INDEX('LS32. Travel to Work, method'!$B21:$Z21,MATCH(D$3,'LS32. Travel to Work, method'!$B$2:$Z$2,0)),\"n/a\")","v":5.1196871618671577E-2},{"$f":"IFERROR(INDEX('LS32. Travel to Work, method'!$B21:$Z21,MATCH(E$991,'LS32. Travel to Work, method'!$B$2:$Z$2,0)),\"n/a\")","v":5.8334206390780512E-2},{"$f":"IFERROR(INDEX('LS32. Travel to Work, method'!$B21:$Z21,MATCH(F$991,'LS32. Travel to Work, method'!$B$2:$Z$2,0)),\"n/a\")","v":6.2603714716206293E-2}]
[null,null,"Taxi",{"$f":"IFERROR(INDEX('LS32. Travel to Work, method'!$B22:$Z22,MATCH(D$3,'LS32. Travel to Work, method'!$B$2:$Z$2,0)),\"n/a\")","v":1.0845561482437658E-2},{"$f":"IFERROR(INDEX('LS32. Travel to Work, method'!$B22:$Z22,MATCH(E$991,'LS32. Travel to Work, method'!$B$2:$Z$2,0)),\"n/a\")","v":7.7228167327695876E-3},{"$f":"IFERROR(INDEX('LS32. Travel to Work, method'!$B22:$Z22,MATCH(F$991,'LS32. Travel to Work, method'!$B$2:$Z$2,0)),\"n/a\")","v":5.2519336770141352E-3}]
[null,null,"Motorcycle, scooter or moped",{"$f":"IFERROR(INDEX('LS32. Travel to Work, method'!$B23:$Z23,MATCH(D$3,'LS32. Travel to Work, method'!$B$2:$Z$2,0)),\"n/a\")","v":6.0175781620759698E-3},{"$f":"IFERROR(INDEX('LS32. Travel to Work, method'!$B23:$Z23,MATCH(E$991,'LS32. Travel to Work, method'!$B$2:$Z$2,0)),\"n/a\")","v":7.0089051859612362E-3},{"$f":"IFERROR(INDEX('LS32. Travel to Work, method'!$B23:$Z23,MATCH(F$991,'LS32. Travel to Work, method'!$B$2:$Z$2,0)),\"n/a\")","v":7.5871921822823702E-3}]
[null,null,"Driving a car or van",{"$f":"IFERROR(INDEX('LS32. Travel to Work, method'!$B24:$Z24,MATCH(D$3,'LS32. Travel to Work, method'!$B$2:$Z$2,0)),\"n/a\")","v":0.67605687275764537},{"$f":"IFERROR(INDEX('LS32. Travel to Work, method'!$B24:$Z24,MATCH(E$991,'LS32. Travel to Work, method'!$B$2:$Z$2,0)),\"n/a\")","v":0.65446232133502957},{"$f":"IFERROR(INDEX('LS32. Travel to Work, method'!$B24:$Z24,MATCH(F$991,'LS32. Travel to Work, method'!$B$2:$Z$2,0)),\"n/a\")","v":0.62488971747260802}]
[null,null,"Passenger in a car or van",{"$f":"IFERROR(INDEX('LS32. Travel to Work, method'!$B25:$Z25,MATCH(D$3,'LS32. Travel to Work, method'!$B$2:$Z$2,0)),\"n/a\")","v":6.9705195618747509E-2},{"$f":"IFERROR(INDEX('LS32. Travel to Work, method'!$B25:$Z25,MATCH(E$991,'LS32. Travel to Work, method'!$B$2:$Z$2,0)),\"n/a\")","v":6.6066003143006813E-2},{"$f":"IFERROR(INDEX('LS32. Travel to Work, method'!$B25:$Z25,MATCH(F$991,'LS32. Travel to Work, method'!$B$2:$Z$2,0)),\"n/a\")","v":5.6459267474535793E-2}]
[null,null,"Bicycle",{"$f":"IFERROR(INDEX('LS32. Travel to Work, method'!$B26:$Z26,MATCH(D$3,'LS32. Travel to Work, method'!$B$2:$Z$2,0)),\"n/a\")","v":1.0358333807905743E-2},{"$f":"IFERROR(INDEX('LS32. Travel to Work, method'!$B26:$Z26,MATCH(E$991,'LS32. Travel to Work, method'!$B$2:$Z$2,0)),\"n/a\")","v":2.1173389209009952E-2},{"$f":"IFERROR(INDEX('LS32. Travel to Work, method'!$B26:$Z26,MATCH(F$991,'LS32. Travel to Work, method'!$B$2:$Z$2,0)),\"n/a\")","v":2.7451088234337992E-2}]
[null,null,"On foot",{"$f":"IFERROR(INDEX('LS32. Travel to Work, method'!$B27:$Z27,MATCH(D$3,'LS32. Travel to Work, method'!$B$2:$Z$2,0)),\"n/a\")","v":0.11135367034302093},{"$f":"IFERROR(INDEX('LS32. Travel to Work, method'!$B27:$Z27,MATCH(E$991,'LS32. Travel to Work, method'!$B$2:$Z$2,0)),\"n/a\")","v":0.11569108733068921},{"$f":"IFERROR(INDEX('LS32. Travel to Work, method'!$B27:$Z27,MATCH(F$991,'LS32. Travel to Work, method'!$B$2:$Z$2,0)),\"n/a\")","v":0.11098377117481227}]
[null,null,"Other method of travel to work",{"$f":"IFERROR(INDEX('LS32. Travel to Work, method'!$B28:$Z28,MATCH(D$3,'LS32. Travel to Work, method'!$B$2:$Z$2,0)),\"n/a\")","v":5.625264969595728E-3},{"$f":"IFERROR(INDEX('LS32. Travel to Work, method'!$B28:$Z28,MATCH(E$991,'LS32. Travel to Work, method'!$B$2:$Z$2,0)),\"n/a\")","v":6.2755369303300161E-3},{"$f":"IFERROR(INDEX('LS32. Travel to Work, method'!$B28:$Z28,MATCH(F$991,'LS32. Travel to Work, method'!$B$2:$Z$2,0)),\"n/a\")","v":6.3404893179984864E-3}]
[null,null,"Total",{"$f":"IFERROR(INDEX('LS32. Travel to Work, method'!$B29:$Z29,MATCH(D$3,'LS32. Travel to Work, method'!$B$2:$Z$2,0)),\"n/a\")","v":1},{"$f":"IFERROR(INDEX('LS32. Travel to Work, method'!$B29:$Z29,MATCH(E$991,'LS32. Travel to Work, method'!$B$2:$Z$2,0)),\"n/a\")","v":1},{"$f":"IFERROR(INDEX('LS32. Travel to Work, method'!$B29:$Z29,MATCH(F$991,'LS32. Travel to Work, method'!$B$2:$Z$2,0)),\"n/a\")","v":1}]
[]
[]
[]
[]
[]
[]
[]
[]
[]
[]
[]
[]
[]
[]
[]
[]
[]
[]
[]
[]
[]
[]
[]
[]
[]
[]
[]
[]
[]
[null,null,"LS33. Travel to Work, distance, 2011"]
[null,null,null,{"$f":"D$3","v":"Blackburn with Darwen, Hyndburn, Rossendale and Ribble Valley"},"Lancashire ","England Minus London"]
[null,null,"Work mainly at or from home",{"$f":"IFERROR(INDEX('LS33. Travel to Work, distance'!$B4:$Z4,MATCH(D$3,'LS33. Travel to Work, distance'!$B$2:$Z$2,0)),\"n/a\")","v":15152},{"$f":"IFERROR(INDEX('LS33. Travel to Work, distance'!$B4:$Z4,MATCH(E$1049,'LS33. Travel to Work, distance'!$B$2:$Z$2,0)),\"n/a\")","v":64945},{"$f":"IFERROR(INDEX('LS33. Travel to Work, distance'!$B4:$Z4,MATCH(F$1049,'LS33. Travel to Work, distance'!$B$2:$Z$2,0)),\"n/a\")","v":2201167}]
[null,null,"Less than 2km",{"$f":"IFERROR(INDEX('LS33. Travel to Work, distance'!$B5:$Z5,MATCH(D$3,'LS33. Travel to Work, distance'!$B$2:$Z$2,0)),\"n/a\")","v":30642},{"$f":"IFERROR(INDEX('LS33. Travel to Work, distance'!$B5:$Z5,MATCH(E$1049,'LS33. Travel to Work, distance'!$B$2:$Z$2,0)),\"n/a\")","v":131827},{"$f":"IFERROR(INDEX('LS33. Travel to Work, distance'!$B5:$Z5,MATCH(F$1049,'LS33. Travel to Work, distance'!$B$2:$Z$2,0)),\"n/a\")","v":3695553}]
[null,null,"2km to less than 5km",{"$f":"IFERROR(INDEX('LS33. Travel to Work, distance'!$B6:$Z6,MATCH(D$3,'LS33. Travel to Work, distance'!$B$2:$Z$2,0)),\"n/a\")","v":29842},{"$f":"IFERROR(INDEX('LS33. Travel to Work, distance'!$B6:$Z6,MATCH(E$1049,'LS33. Travel to Work, distance'!$B$2:$Z$2,0)),\"n/a\")","v":138977},{"$f":"IFERROR(INDEX('LS33. Travel to Work, distance'!$B6:$Z6,MATCH(F$1049,'LS33. Travel to Work, distance'!$B$2:$Z$2,0)),\"n/a\")","v":3911353}]
[null,null,"5km to less than 10km",{"$f":"IFERROR(INDEX('LS33. Travel to Work, distance'!$B7:$Z7,MATCH(D$3,'LS33. Travel to Work, distance'!$B$2:$Z$2,0)),\"n/a\")","v":25914},{"$f":"IFERROR(INDEX('LS33. Travel to Work, distance'!$B7:$Z7,MATCH(E$1049,'LS33. Travel to Work, distance'!$B$2:$Z$2,0)),\"n/a\")","v":111157},{"$f":"IFERROR(INDEX('LS33. Travel to Work, distance'!$B7:$Z7,MATCH(F$1049,'LS33. Travel to Work, distance'!$B$2:$Z$2,0)),\"n/a\")","v":3438342}]
[null,null,"10km to less than 20km",{"$f":"IFERROR(INDEX('LS33. Travel to Work, distance'!$B8:$Z8,MATCH(D$3,'LS33. Travel to Work, distance'!$B$2:$Z$2,0)),\"n/a\")","v":25117},{"$f":"IFERROR(INDEX('LS33. Travel to Work, distance'!$B8:$Z8,MATCH(E$1049,'LS33. Travel to Work, distance'!$B$2:$Z$2,0)),\"n/a\")","v":89023},{"$f":"IFERROR(INDEX('LS33. Travel to Work, distance'!$B8:$Z8,MATCH(F$1049,'LS33. Travel to Work, distance'!$B$2:$Z$2,0)),\"n/a\")","v":3052231}]
[null,null,"20km to less than 30km",{"$f":"IFERROR(INDEX('LS33. Travel to Work, distance'!$B9:$Z9,MATCH(D$3,'LS33. Travel to Work, distance'!$B$2:$Z$2,0)),\"n/a\")","v":9694},{"$f":"IFERROR(INDEX('LS33. Travel to Work, distance'!$B9:$Z9,MATCH(E$1049,'LS33. Travel to Work, distance'!$B$2:$Z$2,0)),\"n/a\")","v":35740},{"$f":"IFERROR(INDEX('LS33. Travel to Work, distance'!$B9:$Z9,MATCH(F$1049,'LS33. Travel to Work, distance'!$B$2:$Z$2,0)),\"n/a\")","v":1285266}]
[null,null,"30km to less than 40km",{"$f":"IFERROR(INDEX('LS33. Travel to Work, distance'!$B10:$Z10,MATCH(D$3,'LS33. Travel to Work, distance'!$B$2:$Z$2,0)),\"n/a\")","v":4596},{"$f":"IFERROR(INDEX('LS33. Travel to Work, distance'!$B10:$Z10,MATCH(E$1049,'LS33. Travel to Work, distance'!$B$2:$Z$2,0)),\"n/a\")","v":19383},{"$f":"IFERROR(INDEX('LS33. Travel to Work, distance'!$B10:$Z10,MATCH(F$1049,'LS33. Travel to Work, distance'!$B$2:$Z$2,0)),\"n/a\")","v":603895}]
[null,null,"40km to less than 60km",{"$f":"IFERROR(INDEX('LS33. Travel to Work, distance'!$B11:$Z11,MATCH(D$3,'LS33. Travel to Work, distance'!$B$2:$Z$2,0)),\"n/a\")","v":2614},{"$f":"IFERROR(INDEX('LS33. Travel to Work, distance'!$B11:$Z11,MATCH(E$1049,'LS33. Travel to Work, distance'!$B$2:$Z$2,0)),\"n/a\")","v":12528},{"$f":"IFERROR(INDEX('LS33. Travel to Work, distance'!$B11:$Z11,MATCH(F$1049,'LS33. Travel to Work, distance'!$B$2:$Z$2,0)),\"n/a\")","v":558195}]
[null,null,"60km and over",{"$f":"IFERROR(INDEX('LS33. Travel to Work, distance'!$B12:$Z12,MATCH(D$3,'LS33. Travel to Work, distance'!$B$2:$Z$2,0)),\"n/a\")","v":3151},{"$f":"IFERROR(INDEX('LS33. Travel to Work, distance'!$B12:$Z12,MATCH(E$1049,'LS33. Travel to Work, distance'!$B$2:$Z$2,0)),\"n/a\")","v":15995},{"$f":"IFERROR(INDEX('LS33. Travel to Work, distance'!$B12:$Z12,MATCH(F$1049,'LS33. Travel to Work, distance'!$B$2:$Z$2,0)),\"n/a\")","v":721901}]
[null,null,"Other",{"$f":"IFERROR(INDEX('LS33. Travel to Work, distance'!$B13:$Z13,MATCH(D$3,'LS33. Travel to Work, distance'!$B$2:$Z$2,0)),\"n/a\")","v":11315},{"$f":"IFERROR(INDEX('LS33. Travel to Work, distance'!$B13:$Z13,MATCH(E$1049,'LS33. Travel to Work, distance'!$B$2:$Z$2,0)),\"n/a\")","v":48575},{"$f":"IFERROR(INDEX('LS33. Travel to Work, distance'!$B13:$Z13,MATCH(F$1049,'LS33. Travel to Work, distance'!$B$2:$Z$2,0)),\"n/a\")","v":1695921}]
[null,null,"All people aged 16 to 74 in employment",{"$f":"IFERROR(INDEX('LS33. Travel to Work, distance'!$B14:$Z14,MATCH(D$3,'LS33. Travel to Work, distance'!$B$2:$Z$2,0)),\"n/a\")","v":158037},{"$f":"IFERROR(INDEX('LS33. Travel to Work, distance'!$B14:$Z14,MATCH(E$1049,'LS33. Travel to Work, distance'!$B$2:$Z$2,0)),\"n/a\")","v":668150},{"$f":"IFERROR(INDEX('LS33. Travel to Work, distance'!$B14:$Z14,MATCH(F$1049,'LS33. Travel to Work, distance'!$B$2:$Z$2,0)),\"n/a\")","v":21163824}]
[]
[null,null,"LS33. Travel to Work, distance (%)"]
[null,null,null,{"$f":"D$3","v":"Blackburn with Darwen, Hyndburn, Rossendale and Ribble Valley"},"Lancashire ","England Minus London"]
[null,null,"Work mainly at or from home",{"$f":"IFERROR(INDEX('LS33. Travel to Work, distance'!$B17:$Z17,MATCH(D$3,'LS33. Travel to Work, distance'!$B$2:$Z$2,0)),\"n/a\")","v":9.587628213646171E-2},{"$f":"IFERROR(INDEX('LS33. Travel to Work, distance'!$B17:$Z17,MATCH(E$1049,'LS33. Travel to Work, distance'!$B$2:$Z$2,0)),\"n/a\")","v":9.7201227269325743E-2},{"$f":"IFERROR(INDEX('LS33. Travel to Work, distance'!$B17:$Z17,MATCH(F$1049,'LS33. Travel to Work, distance'!$B$2:$Z$2,0)),\"n/a\")","v":0.1040061096709177}]
[null,null,"Less than 2km",{"$f":"IFERROR(INDEX('LS33. Travel to Work, distance'!$B18:$Z18,MATCH(D$3,'LS33. Travel to Work, distance'!$B$2:$Z$2,0)),\"n/a\")","v":0.19389130393515441},{"$f":"IFERROR(INDEX('LS33. Travel to Work, distance'!$B18:$Z18,MATCH(E$1049,'LS33. Travel to Work, distance'!$B$2:$Z$2,0)),\"n/a\")","v":0.19730150415325901},{"$f":"IFERROR(INDEX('LS33. Travel to Work, distance'!$B18:$Z18,MATCH(F$1049,'LS33. Travel to Work, distance'!$B$2:$Z$2,0)),\"n/a\")","v":0.17461650597736969}]
[null,null,"2km to less than 5km",{"$f":"IFERROR(INDEX('LS33. Travel to Work, distance'!$B19:$Z19,MATCH(D$3,'LS33. Travel to Work, distance'!$B$2:$Z$2,0)),\"n/a\")","v":0.18882919822573194},{"$f":"IFERROR(INDEX('LS33. Travel to Work, distance'!$B19:$Z19,MATCH(E$1049,'LS33. Travel to Work, distance'!$B$2:$Z$2,0)),\"n/a\")","v":0.20800269400583701},{"$f":"IFERROR(INDEX('LS33. Travel to Work, distance'!$B19:$Z19,MATCH(F$1049,'LS33. Travel to Work, distance'!$B$2:$Z$2,0)),\"n/a\")","v":0.18481315096931444}]
[null,null,"5km to less than 10km",{"$f":"IFERROR(INDEX('LS33. Travel to Work, distance'!$B20:$Z20,MATCH(D$3,'LS33. Travel to Work, distance'!$B$2:$Z$2,0)),\"n/a\")","v":0.16397425919246758},{"$f":"IFERROR(INDEX('LS33. Travel to Work, distance'!$B20:$Z20,MATCH(E$1049,'LS33. Travel to Work, distance'!$B$2:$Z$2,0)),\"n/a\")","v":0.16636533712489709},{"$f":"IFERROR(INDEX('LS33. Travel to Work, distance'!$B20:$Z20,MATCH(F$1049,'LS33. Travel to Work, distance'!$B$2:$Z$2,0)),\"n/a\")","v":0.16246317300691973}]
[null,null,"10km to less than 20km",{"$f":"IFERROR(INDEX('LS33. Travel to Work, distance'!$B21:$Z21,MATCH(D$3,'LS33. Travel to Work, distance'!$B$2:$Z$2,0)),\"n/a\")","v":0.15893113637945544},{"$f":"IFERROR(INDEX('LS33. Travel to Work, distance'!$B21:$Z21,MATCH(E$1049,'LS33. Travel to Work, distance'!$B$2:$Z$2,0)),\"n/a\")","v":0.13323804534909825},{"$f":"IFERROR(INDEX('LS33. Travel to Work, distance'!$B21:$Z21,MATCH(F$1049,'LS33. Travel to Work, distance'!$B$2:$Z$2,0)),\"n/a\")","v":0.14421925829661028}]
[null,null,"20km to less than 30km",{"$f":"IFERROR(INDEX('LS33. Travel to Work, distance'!$B22:$Z22,MATCH(D$3,'LS33. Travel to Work, distance'!$B$2:$Z$2,0)),\"n/a\")","v":6.1340065933926866E-2},{"$f":"IFERROR(INDEX('LS33. Travel to Work, distance'!$B22:$Z22,MATCH(E$1049,'LS33. Travel to Work, distance'!$B$2:$Z$2,0)),\"n/a\")","v":5.3490982563795558E-2},{"$f":"IFERROR(INDEX('LS33. Travel to Work, distance'!$B22:$Z22,MATCH(F$1049,'LS33. Travel to Work, distance'!$B$2:$Z$2,0)),\"n/a\")","v":6.0729384254943716E-2}]
[null,null,"30km to less than 40km",{"$f":"IFERROR(INDEX('LS33. Travel to Work, distance'!$B23:$Z23,MATCH(D$3,'LS33. Travel to Work, distance'!$B$2:$Z$2,0)),\"n/a\")","v":2.908179730063213E-2},{"$f":"IFERROR(INDEX('LS33. Travel to Work, distance'!$B23:$Z23,MATCH(E$1049,'LS33. Travel to Work, distance'!$B$2:$Z$2,0)),\"n/a\")","v":2.9009952854897852E-2},{"$f":"IFERROR(INDEX('LS33. Travel to Work, distance'!$B23:$Z23,MATCH(F$1049,'LS33. Travel to Work, distance'!$B$2:$Z$2,0)),\"n/a\")","v":2.8534304575581426E-2}]
[null,null,"40km to less than 60km",{"$f":"IFERROR(INDEX('LS33. Travel to Work, distance'!$B24:$Z24,MATCH(D$3,'LS33. Travel to Work, distance'!$B$2:$Z$2,0)),\"n/a\")","v":1.6540430405537945E-2},{"$f":"IFERROR(INDEX('LS33. Travel to Work, distance'!$B24:$Z24,MATCH(E$1049,'LS33. Travel to Work, distance'!$B$2:$Z$2,0)),\"n/a\")","v":1.8750280625608021E-2},{"$f":"IFERROR(INDEX('LS33. Travel to Work, distance'!$B24:$Z24,MATCH(F$1049,'LS33. Travel to Work, distance'!$B$2:$Z$2,0)),\"n/a\")","v":2.637495945912232E-2}]
[null,null,"60km and over",{"$f":"IFERROR(INDEX('LS33. Travel to Work, distance'!$B25:$Z25,MATCH(D$3,'LS33. Travel to Work, distance'!$B$2:$Z$2,0)),\"n/a\")","v":1.993836886298778E-2},{"$f":"IFERROR(INDEX('LS33. Travel to Work, distance'!$B25:$Z25,MATCH(E$1049,'LS33. Travel to Work, distance'!$B$2:$Z$2,0)),\"n/a\")","v":2.3939235201676269E-2},{"$f":"IFERROR(INDEX('LS33. Travel to Work, distance'!$B25:$Z25,MATCH(F$1049,'LS33. Travel to Work, distance'!$B$2:$Z$2,0)),\"n/a\")","v":3.4110140020064426E-2}]
[null,null,"Other",{"$f":"IFERROR(INDEX('LS33. Travel to Work, distance'!$B26:$Z26,MATCH(D$3,'LS33. Travel to Work, distance'!$B$2:$Z$2,0)),\"n/a\")","v":7.1597157627644153E-2},{"$f":"IFERROR(INDEX('LS33. Travel to Work, distance'!$B26:$Z26,MATCH(E$1049,'LS33. Travel to Work, distance'!$B$2:$Z$2,0)),\"n/a\")","v":7.2700740851605175E-2},{"$f":"IFERROR(INDEX('LS33. Travel to Work, distance'!$B26:$Z26,MATCH(F$1049,'LS33. Travel to Work, distance'!$B$2:$Z$2,0)),\"n/a\")","v":8.0133013769156269E-2}]
[]
[]
[]
[]
[]
[]
[]
[]
[]
[]
[]
[]
[]
[]
[]
[]
[]
[]
[]
[]
[]
[]
[]
[]
[]
[]
[]
[]
[]
[]
[]
[]
[]
[]
[]
[]
[]
[]
[]
[]
[]
[null,null,"LS20. Economic Inactivity, 2006/07-16/17"]
[null,null,null,{"$f":"D$3","v":"Blackburn with Darwen, Hyndburn, Rossendale and Ribble Valley"},"Lancashire ","England Minus London"]
[null,null,"Jul 2006-Jun 2007",{"$f":"IFERROR(INDEX('LS20. Economic Inactivity'!$B4:$Z4,MATCH(D$3,'LS20. Economic Inactivity'!$B$2:$Z$2,0)),\"n/a\")","v":59300},{"$f":"IFERROR(INDEX('LS20. Economic Inactivity'!$B4:$Z4,MATCH(E$1116,'LS20. Economic Inactivity'!$B$2:$Z$2,0)),\"n/a\")","v":230400},{"$f":"IFERROR(INDEX('LS20. Economic Inactivity'!$B4:$Z4,MATCH(F$1116,'LS20. Economic Inactivity'!$B$2:$Z$2,0)),\"n/a\")","v":6281300}]
[null,null,"Jul 2007-Jun 2008",{"$f":"IFERROR(INDEX('LS20. Economic Inactivity'!$B5:$Z5,MATCH(D$3,'LS20. Economic Inactivity'!$B$2:$Z$2,0)),\"n/a\")","v":60700},{"$f":"IFERROR(INDEX('LS20. Economic Inactivity'!$B5:$Z5,MATCH(E$1116,'LS20. Economic Inactivity'!$B$2:$Z$2,0)),\"n/a\")","v":222800},{"$f":"IFERROR(INDEX('LS20. Economic Inactivity'!$B5:$Z5,MATCH(F$1116,'LS20. Economic Inactivity'!$B$2:$Z$2,0)),\"n/a\")","v":6354500}]
[null,null,"Jul 2008-Jun 2009",{"$f":"IFERROR(INDEX('LS20. Economic Inactivity'!$B6:$Z6,MATCH(D$3,'LS20. Economic Inactivity'!$B$2:$Z$2,0)),\"n/a\")","v":66400},{"$f":"IFERROR(INDEX('LS20. Economic Inactivity'!$B6:$Z6,MATCH(E$1116,'LS20. Economic Inactivity'!$B$2:$Z$2,0)),\"n/a\")","v":234700},{"$f":"IFERROR(INDEX('LS20. Economic Inactivity'!$B6:$Z6,MATCH(F$1116,'LS20. Economic Inactivity'!$B$2:$Z$2,0)),\"n/a\")","v":6332600}]
[null,null,"Jul 2009-Jun 2010",{"$f":"IFERROR(INDEX('LS20. Economic Inactivity'!$B7:$Z7,MATCH(D$3,'LS20. Economic Inactivity'!$B$2:$Z$2,0)),\"n/a\")","v":61000},{"$f":"IFERROR(INDEX('LS20. Economic Inactivity'!$B7:$Z7,MATCH(E$1116,'LS20. Economic Inactivity'!$B$2:$Z$2,0)),\"n/a\")","v":232000},{"$f":"IFERROR(INDEX('LS20. Economic Inactivity'!$B7:$Z7,MATCH(F$1116,'LS20. Economic Inactivity'!$B$2:$Z$2,0)),\"n/a\")","v":6534100}]
[null,null,"Jul 2010-Jun 2011",{"$f":"IFERROR(INDEX('LS20. Economic Inactivity'!$B8:$Z8,MATCH(D$3,'LS20. Economic Inactivity'!$B$2:$Z$2,0)),\"n/a\")","v":64200},{"$f":"IFERROR(INDEX('LS20. Economic Inactivity'!$B8:$Z8,MATCH(E$1116,'LS20. Economic Inactivity'!$B$2:$Z$2,0)),\"n/a\")","v":229100},{"$f":"IFERROR(INDEX('LS20. Economic Inactivity'!$B8:$Z8,MATCH(F$1116,'LS20. Economic Inactivity'!$B$2:$Z$2,0)),\"n/a\")","v":6646900}]
[null,null,"Jul 2011-Jun 2012",{"$f":"IFERROR(INDEX('LS20. Economic Inactivity'!$B9:$Z9,MATCH(D$3,'LS20. Economic Inactivity'!$B$2:$Z$2,0)),\"n/a\")","v":51300},{"$f":"IFERROR(INDEX('LS20. Economic Inactivity'!$B9:$Z9,MATCH(E$1116,'LS20. Economic Inactivity'!$B$2:$Z$2,0)),\"n/a\")","v":208300},{"$f":"IFERROR(INDEX('LS20. Economic Inactivity'!$B9:$Z9,MATCH(F$1116,'LS20. Economic Inactivity'!$B$2:$Z$2,0)),\"n/a\")","v":6530800}]
[null,null,"Jul 2012-Jun 2013",{"$f":"IFERROR(INDEX('LS20. Economic Inactivity'!$B10:$Z10,MATCH(D$3,'LS20. Economic Inactivity'!$B$2:$Z$2,0)),\"n/a\")","v":57000},{"$f":"IFERROR(INDEX('LS20. Economic Inactivity'!$B10:$Z10,MATCH(E$1116,'LS20. Economic Inactivity'!$B$2:$Z$2,0)),\"n/a\")","v":231800},{"$f":"IFERROR(INDEX('LS20. Economic Inactivity'!$B10:$Z10,MATCH(F$1116,'LS20. Economic Inactivity'!$B$2:$Z$2,0)),\"n/a\")","v":6338700}]
[null,null,"Jul 2013-Jun 2014",{"$f":"IFERROR(INDEX('LS20. Economic Inactivity'!$B11:$Z11,MATCH(D$3,'LS20. Economic Inactivity'!$B$2:$Z$2,0)),\"n/a\")","v":63600},{"$f":"IFERROR(INDEX('LS20. Economic Inactivity'!$B11:$Z11,MATCH(E$1116,'LS20. Economic Inactivity'!$B$2:$Z$2,0)),\"n/a\")","v":237400},{"$f":"IFERROR(INDEX('LS20. Economic Inactivity'!$B11:$Z11,MATCH(F$1116,'LS20. Economic Inactivity'!$B$2:$Z$2,0)),\"n/a\")","v":6367500}]
[null,null,"Jul 2014-Jun 2015",{"$f":"IFERROR(INDEX('LS20. Economic Inactivity'!$B12:$Z12,MATCH(D$3,'LS20. Economic Inactivity'!$B$2:$Z$2,0)),\"n/a\")","v":55600},{"$f":"IFERROR(INDEX('LS20. Economic Inactivity'!$B12:$Z12,MATCH(E$1116,'LS20. Economic Inactivity'!$B$2:$Z$2,0)),\"n/a\")","v":236200},{"$f":"IFERROR(INDEX('LS20. Economic Inactivity'!$B12:$Z12,MATCH(F$1116,'LS20. Economic Inactivity'!$B$2:$Z$2,0)),\"n/a\")","v":6330700}]
[null,null,"Jul 2015-Jun 2016",{"$f":"IFERROR(INDEX('LS20. Economic Inactivity'!$B13:$Z13,MATCH(D$3,'LS20. Economic Inactivity'!$B$2:$Z$2,0)),\"n/a\")","v":49300},{"$f":"IFERROR(INDEX('LS20. Economic Inactivity'!$B13:$Z13,MATCH(E$1116,'LS20. Economic Inactivity'!$B$2:$Z$2,0)),\"n/a\")","v":203600},{"$f":"IFERROR(INDEX('LS20. Economic Inactivity'!$B13:$Z13,MATCH(F$1116,'LS20. Economic Inactivity'!$B$2:$Z$2,0)),\"n/a\")","v":6246800}]
[null,null,"Jul 2016-Jun 2017",{"$f":"IFERROR(INDEX('LS20. Economic Inactivity'!$B14:$Z14,MATCH(D$3,'LS20. Economic Inactivity'!$B$2:$Z$2,0)),\"n/a\")","v":57800},{"$f":"IFERROR(INDEX('LS20. Economic Inactivity'!$B14:$Z14,MATCH(E$1116,'LS20. Economic Inactivity'!$B$2:$Z$2,0)),\"n/a\")","v":200100},{"$f":"IFERROR(INDEX('LS20. Economic Inactivity'!$B14:$Z14,MATCH(F$1116,'LS20. Economic Inactivity'!$B$2:$Z$2,0)),\"n/a\")","v":6201000}]
[]
[null,null,"LS20. Economic Inactivity (% of working age population), 2006/07-16/17"]
[null,null,null,{"$f":"D$3","v":"Blackburn with Darwen, Hyndburn, Rossendale and Ribble Valley"},"Lancashire ","England Minus London"]
[null,null,"Jul 2006-Jun 2007",{"$f":"IFERROR(INDEX('LS20. Economic Inactivity'!$B18:$Z18,MATCH(D$3,'LS20. Economic Inactivity'!$B$2:$Z$2,0)),\"n/a\")","v":27},{"$f":"IFERROR(INDEX('LS20. Economic Inactivity'!$B18:$Z18,MATCH(E$1116,'LS20. Economic Inactivity'!$B$2:$Z$2,0)),\"n/a\")","v":25.2},{"$f":"IFERROR(INDEX('LS20. Economic Inactivity'!$B18:$Z18,MATCH(F$1116,'LS20. Economic Inactivity'!$B$2:$Z$2,0)),\"n/a\")","v":22.6},null,"For details on Economic Inactivity by age and gender, please click here"]
[null,null,"Jul 2007-Jun 2008",{"$f":"IFERROR(INDEX('LS20. Economic Inactivity'!$B19:$Z19,MATCH(D$3,'LS20. Economic Inactivity'!$B$2:$Z$2,0)),\"n/a\")","v":27.1},{"$f":"IFERROR(INDEX('LS20. Economic Inactivity'!$B19:$Z19,MATCH(E$1116,'LS20. Economic Inactivity'!$B$2:$Z$2,0)),\"n/a\")","v":24.3},{"$f":"IFERROR(INDEX('LS20. Economic Inactivity'!$B19:$Z19,MATCH(F$1116,'LS20. Economic Inactivity'!$B$2:$Z$2,0)),\"n/a\")","v":22.7}]
[null,null,"Jul 2008-Jun 2009",{"$f":"IFERROR(INDEX('LS20. Economic Inactivity'!$B20:$Z20,MATCH(D$3,'LS20. Economic Inactivity'!$B$2:$Z$2,0)),\"n/a\")","v":29.5},{"$f":"IFERROR(INDEX('LS20. Economic Inactivity'!$B20:$Z20,MATCH(E$1116,'LS20. Economic Inactivity'!$B$2:$Z$2,0)),\"n/a\")","v":25.6},{"$f":"IFERROR(INDEX('LS20. Economic Inactivity'!$B20:$Z20,MATCH(F$1116,'LS20. Economic Inactivity'!$B$2:$Z$2,0)),\"n/a\")","v":22.5}]
[null,null,"Jul 2009-Jun 2010",{"$f":"IFERROR(INDEX('LS20. Economic Inactivity'!$B21:$Z21,MATCH(D$3,'LS20. Economic Inactivity'!$B$2:$Z$2,0)),\"n/a\")","v":27.4},{"$f":"IFERROR(INDEX('LS20. Economic Inactivity'!$B21:$Z21,MATCH(E$1116,'LS20. Economic Inactivity'!$B$2:$Z$2,0)),\"n/a\")","v":25.3},{"$f":"IFERROR(INDEX('LS20. Economic Inactivity'!$B21:$Z21,MATCH(F$1116,'LS20. Economic Inactivity'!$B$2:$Z$2,0)),\"n/a\")","v":23.2}]
[null,null,"Jul 2010-Jun 2011",{"$f":"IFERROR(INDEX('LS20. Economic Inactivity'!$B22:$Z22,MATCH(D$3,'LS20. Economic Inactivity'!$B$2:$Z$2,0)),\"n/a\")","v":28.7},{"$f":"IFERROR(INDEX('LS20. Economic Inactivity'!$B22:$Z22,MATCH(E$1116,'LS20. Economic Inactivity'!$B$2:$Z$2,0)),\"n/a\")","v":24.9},{"$f":"IFERROR(INDEX('LS20. Economic Inactivity'!$B22:$Z22,MATCH(F$1116,'LS20. Economic Inactivity'!$B$2:$Z$2,0)),\"n/a\")","v":23.4}]
[null,null,"Jul 2011-Jun 2012",{"$f":"IFERROR(INDEX('LS20. Economic Inactivity'!$B23:$Z23,MATCH(D$3,'LS20. Economic Inactivity'!$B$2:$Z$2,0)),\"n/a\")","v":23.3},{"$f":"IFERROR(INDEX('LS20. Economic Inactivity'!$B23:$Z23,MATCH(E$1116,'LS20. Economic Inactivity'!$B$2:$Z$2,0)),\"n/a\")","v":22.8},{"$f":"IFERROR(INDEX('LS20. Economic Inactivity'!$B23:$Z23,MATCH(F$1116,'LS20. Economic Inactivity'!$B$2:$Z$2,0)),\"n/a\")","v":23}]
[null,null,"Jul 2012-Jun 2013",{"$f":"IFERROR(INDEX('LS20. Economic Inactivity'!$B24:$Z24,MATCH(D$3,'LS20. Economic Inactivity'!$B$2:$Z$2,0)),\"n/a\")","v":25.8},{"$f":"IFERROR(INDEX('LS20. Economic Inactivity'!$B24:$Z24,MATCH(E$1116,'LS20. Economic Inactivity'!$B$2:$Z$2,0)),\"n/a\")","v":25.5},{"$f":"IFERROR(INDEX('LS20. Economic Inactivity'!$B24:$Z24,MATCH(F$1116,'LS20. Economic Inactivity'!$B$2:$Z$2,0)),\"n/a\")","v":22.4}]
[null,null,"Jul 2013-Jun 2014",{"$f":"IFERROR(INDEX('LS20. Economic Inactivity'!$B25:$Z25,MATCH(D$3,'LS20. Economic Inactivity'!$B$2:$Z$2,0)),\"n/a\")","v":29},{"$f":"IFERROR(INDEX('LS20. Economic Inactivity'!$B25:$Z25,MATCH(E$1116,'LS20. Economic Inactivity'!$B$2:$Z$2,0)),\"n/a\")","v":26.2},{"$f":"IFERROR(INDEX('LS20. Economic Inactivity'!$B25:$Z25,MATCH(F$1116,'LS20. Economic Inactivity'!$B$2:$Z$2,0)),\"n/a\")","v":22.5}]
[null,null,"Jul 2014-Jun 2015",{"$f":"IFERROR(INDEX('LS20. Economic Inactivity'!$B26:$Z26,MATCH(D$3,'LS20. Economic Inactivity'!$B$2:$Z$2,0)),\"n/a\")","v":25.4},{"$f":"IFERROR(INDEX('LS20. Economic Inactivity'!$B26:$Z26,MATCH(E$1116,'LS20. Economic Inactivity'!$B$2:$Z$2,0)),\"n/a\")","v":26.1},{"$f":"IFERROR(INDEX('LS20. Economic Inactivity'!$B26:$Z26,MATCH(F$1116,'LS20. Economic Inactivity'!$B$2:$Z$2,0)),\"n/a\")","v":22.3}]
[null,null,"Jul 2015-Jun 2016",{"$f":"IFERROR(INDEX('LS20. Economic Inactivity'!$B27:$Z27,MATCH(D$3,'LS20. Economic Inactivity'!$B$2:$Z$2,0)),\"n/a\")","v":22.6},{"$f":"IFERROR(INDEX('LS20. Economic Inactivity'!$B27:$Z27,MATCH(E$1116,'LS20. Economic Inactivity'!$B$2:$Z$2,0)),\"n/a\")","v":22.5},{"$f":"IFERROR(INDEX('LS20. Economic Inactivity'!$B27:$Z27,MATCH(F$1116,'LS20. Economic Inactivity'!$B$2:$Z$2,0)),\"n/a\")","v":21.9}]
[null,null,"Jul 2016-Jun 2017",{"$f":"IFERROR(INDEX('LS20. Economic Inactivity'!$B28:$Z28,MATCH(D$3,'LS20. Economic Inactivity'!$B$2:$Z$2,0)),\"n/a\")","v":26.7},{"$f":"IFERROR(INDEX('LS20. Economic Inactivity'!$B28:$Z28,MATCH(E$1116,'LS20. Economic Inactivity'!$B$2:$Z$2,0)),\"n/a\")","v":22.2},{"$f":"IFERROR(INDEX('LS20. Economic Inactivity'!$B28:$Z28,MATCH(F$1116,'LS20. Economic Inactivity'!$B$2:$Z$2,0)),\"n/a\")","v":21.7}]
[]
[null,null,"LS23. Economic Inactivity by Reason, 2016/17"]
[null,null,null,{"$f":"D$3","v":"Blackburn with Darwen, Hyndburn, Rossendale and Ribble Valley"},"Lancashire ","England Minus London"]
[null,null,"Student",{"$f":"IFERROR(INDEX('LS23. Reason for Inactivity'!$B14:$Z14,MATCH(D$3,'LS23. Reason for Inactivity'!$B$2:$Z$2,0)),\"n/a\")","v":26.5},{"$f":"IFERROR(INDEX('LS23. Reason for Inactivity'!$B14:$Z14,MATCH(E$1144,'LS23. Reason for Inactivity'!$B$2:$Z$2,0)),\"n/a\")","v":25.1},{"$f":"IFERROR(INDEX('LS23. Reason for Inactivity'!$B14:$Z14,MATCH(F$1144,'LS23. Reason for Inactivity'!$B$2:$Z$2,0)),\"n/a\")","v":25.7}]
[null,null,"Looking after family/home",{"$f":"IFERROR(INDEX('LS23. Reason for Inactivity'!$B15:$Z15,MATCH(D$3,'LS23. Reason for Inactivity'!$B$2:$Z$2,0)),\"n/a\")","v":20.2},{"$f":"IFERROR(INDEX('LS23. Reason for Inactivity'!$B15:$Z15,MATCH(E$1144,'LS23. Reason for Inactivity'!$B$2:$Z$2,0)),\"n/a\")","v":24.1},{"$f":"IFERROR(INDEX('LS23. Reason for Inactivity'!$B15:$Z15,MATCH(F$1144,'LS23. Reason for Inactivity'!$B$2:$Z$2,0)),\"n/a\")","v":24.6}]
[null,null,"Temporary sick",{"$f":"IFERROR(INDEX('LS23. Reason for Inactivity'!$B16:$Z16,MATCH(D$3,'LS23. Reason for Inactivity'!$B$2:$Z$2,0)),\"n/a\")","v":0.8},{"$f":"IFERROR(INDEX('LS23. Reason for Inactivity'!$B16:$Z16,MATCH(E$1144,'LS23. Reason for Inactivity'!$B$2:$Z$2,0)),\"n/a\")","v":1.6},{"$f":"IFERROR(INDEX('LS23. Reason for Inactivity'!$B16:$Z16,MATCH(F$1144,'LS23. Reason for Inactivity'!$B$2:$Z$2,0)),\"n/a\")","v":1.9}]
[null,null,"Long-term sick",{"$f":"IFERROR(INDEX('LS23. Reason for Inactivity'!$B17:$Z17,MATCH(D$3,'LS23. Reason for Inactivity'!$B$2:$Z$2,0)),\"n/a\")","v":27.8},{"$f":"IFERROR(INDEX('LS23. Reason for Inactivity'!$B17:$Z17,MATCH(E$1144,'LS23. Reason for Inactivity'!$B$2:$Z$2,0)),\"n/a\")","v":25},{"$f":"IFERROR(INDEX('LS23. Reason for Inactivity'!$B17:$Z17,MATCH(F$1144,'LS23. Reason for Inactivity'!$B$2:$Z$2,0)),\"n/a\")","v":22.1}]
[null,null,"Discouraged",{"$f":"IFERROR(INDEX('LS23. Reason for Inactivity'!$B18:$Z18,MATCH(D$3,'LS23. Reason for Inactivity'!$B$2:$Z$2,0)),\"n/a\")","v":0.7},{"$f":"IFERROR(INDEX('LS23. Reason for Inactivity'!$B18:$Z18,MATCH(E$1144,'LS23. Reason for Inactivity'!$B$2:$Z$2,0)),\"n/a\")","v":0.8},{"$f":"IFERROR(INDEX('LS23. Reason for Inactivity'!$B18:$Z18,MATCH(F$1144,'LS23. Reason for Inactivity'!$B$2:$Z$2,0)),\"n/a\")","v":0.3}]
[null,null,"Retired",{"$f":"IFERROR(INDEX('LS23. Reason for Inactivity'!$B19:$Z19,MATCH(D$3,'LS23. Reason for Inactivity'!$B$2:$Z$2,0)),\"n/a\")","v":14.3},{"$f":"IFERROR(INDEX('LS23. Reason for Inactivity'!$B19:$Z19,MATCH(E$1144,'LS23. Reason for Inactivity'!$B$2:$Z$2,0)),\"n/a\")","v":15.6},{"$f":"IFERROR(INDEX('LS23. Reason for Inactivity'!$B19:$Z19,MATCH(F$1144,'LS23. Reason for Inactivity'!$B$2:$Z$2,0)),\"n/a\")","v":14.6}]
[null,null,"Other",{"$f":"IFERROR(INDEX('LS23. Reason for Inactivity'!$B20:$Z20,MATCH(D$3,'LS23. Reason for Inactivity'!$B$2:$Z$2,0)),\"n/a\")","v":9.8000000000000007},{"$f":"IFERROR(INDEX('LS23. Reason for Inactivity'!$B20:$Z20,MATCH(E$1144,'LS23. Reason for Inactivity'!$B$2:$Z$2,0)),\"n/a\")","v":7.8},{"$f":"IFERROR(INDEX('LS23. Reason for Inactivity'!$B20:$Z20,MATCH(F$1144,'LS23. Reason for Inactivity'!$B$2:$Z$2,0)),\"n/a\")","v":10.8}]
[]
[]
[]
[]
[]
[]
[]
[]
[]
[]
[]
[]
[]
[]
[]
[]
[]
[]
[]
[]
[]
[]
[null,null,"LS22. Economic Activity, 2006/07-16/17"]
[null,null,null,{"$f":"D$3","v":"Blackburn with Darwen, Hyndburn, Rossendale and Ribble Valley"},"Lancashire ","England Minus London"]
[null,null,"Jul 2006-Jun 2007",{"$f":"IFERROR(INDEX('LS22. Economic Activity'!$B4:$Z4,MATCH(D$3,'LS22. Economic Activity'!$B$2:$Z$2,0)),\"n/a\")","v":160100},{"$f":"IFERROR(INDEX('LS22. Economic Activity'!$B4:$Z4,MATCH(E$1175,'LS22. Economic Activity'!$B$2:$Z$2,0)),\"n/a\")","v":685400},{"$f":"IFERROR(INDEX('LS22. Economic Activity'!$B4:$Z4,MATCH(F$1175,'LS22. Economic Activity'!$B$2:$Z$2,0)),\"n/a\")","v":21463800}]
[null,null,"Jul 2007-Jun 2008",{"$f":"IFERROR(INDEX('LS22. Economic Activity'!$B5:$Z5,MATCH(D$3,'LS22. Economic Activity'!$B$2:$Z$2,0)),\"n/a\")","v":162900},{"$f":"IFERROR(INDEX('LS22. Economic Activity'!$B5:$Z5,MATCH(E$1175,'LS22. Economic Activity'!$B$2:$Z$2,0)),\"n/a\")","v":695600},{"$f":"IFERROR(INDEX('LS22. Economic Activity'!$B5:$Z5,MATCH(F$1175,'LS22. Economic Activity'!$B$2:$Z$2,0)),\"n/a\")","v":21608200}]
[null,null,"Jul 2008-Jun 2009",{"$f":"IFERROR(INDEX('LS22. Economic Activity'!$B6:$Z6,MATCH(D$3,'LS22. Economic Activity'!$B$2:$Z$2,0)),\"n/a\")","v":158300},{"$f":"IFERROR(INDEX('LS22. Economic Activity'!$B6:$Z6,MATCH(E$1175,'LS22. Economic Activity'!$B$2:$Z$2,0)),\"n/a\")","v":683700},{"$f":"IFERROR(INDEX('LS22. Economic Activity'!$B6:$Z6,MATCH(F$1175,'LS22. Economic Activity'!$B$2:$Z$2,0)),\"n/a\")","v":21764200}]
[null,null,"Jul 2009-Jun 2010",{"$f":"IFERROR(INDEX('LS22. Economic Activity'!$B7:$Z7,MATCH(D$3,'LS22. Economic Activity'!$B$2:$Z$2,0)),\"n/a\")","v":162100},{"$f":"IFERROR(INDEX('LS22. Economic Activity'!$B7:$Z7,MATCH(E$1175,'LS22. Economic Activity'!$B$2:$Z$2,0)),\"n/a\")","v":686300},{"$f":"IFERROR(INDEX('LS22. Economic Activity'!$B7:$Z7,MATCH(F$1175,'LS22. Economic Activity'!$B$2:$Z$2,0)),\"n/a\")","v":21678400}]
[null,null,"Jul 2010-Jun 2011",{"$f":"IFERROR(INDEX('LS22. Economic Activity'!$B8:$Z8,MATCH(D$3,'LS22. Economic Activity'!$B$2:$Z$2,0)),\"n/a\")","v":159400},{"$f":"IFERROR(INDEX('LS22. Economic Activity'!$B8:$Z8,MATCH(E$1175,'LS22. Economic Activity'!$B$2:$Z$2,0)),\"n/a\")","v":689500},{"$f":"IFERROR(INDEX('LS22. Economic Activity'!$B8:$Z8,MATCH(F$1175,'LS22. Economic Activity'!$B$2:$Z$2,0)),\"n/a\")","v":21698600}]
[null,null,"Jul 2011-Jun 2012",{"$f":"IFERROR(INDEX('LS22. Economic Activity'!$B9:$Z9,MATCH(D$3,'LS22. Economic Activity'!$B$2:$Z$2,0)),\"n/a\")","v":169200},{"$f":"IFERROR(INDEX('LS22. Economic Activity'!$B9:$Z9,MATCH(E$1175,'LS22. Economic Activity'!$B$2:$Z$2,0)),\"n/a\")","v":707200},{"$f":"IFERROR(INDEX('LS22. Economic Activity'!$B9:$Z9,MATCH(F$1175,'LS22. Economic Activity'!$B$2:$Z$2,0)),\"n/a\")","v":21836300}]
[null,null,"Jul 2012-Jun 2013",{"$f":"IFERROR(INDEX('LS22. Economic Activity'!$B10:$Z10,MATCH(D$3,'LS22. Economic Activity'!$B$2:$Z$2,0)),\"n/a\")","v":163700},{"$f":"IFERROR(INDEX('LS22. Economic Activity'!$B10:$Z10,MATCH(E$1175,'LS22. Economic Activity'!$B$2:$Z$2,0)),\"n/a\")","v":679000},{"$f":"IFERROR(INDEX('LS22. Economic Activity'!$B10:$Z10,MATCH(F$1175,'LS22. Economic Activity'!$B$2:$Z$2,0)),\"n/a\")","v":21985600}]
[null,null,"Jul 2013-Jun 2014",{"$f":"IFERROR(INDEX('LS22. Economic Activity'!$B11:$Z11,MATCH(D$3,'LS22. Economic Activity'!$B$2:$Z$2,0)),\"n/a\")","v":155300},{"$f":"IFERROR(INDEX('LS22. Economic Activity'!$B11:$Z11,MATCH(E$1175,'LS22. Economic Activity'!$B$2:$Z$2,0)),\"n/a\")","v":669400},{"$f":"IFERROR(INDEX('LS22. Economic Activity'!$B11:$Z11,MATCH(F$1175,'LS22. Economic Activity'!$B$2:$Z$2,0)),\"n/a\")","v":21981400}]
[null,null,"Jul 2014-Jun 2015",{"$f":"IFERROR(INDEX('LS22. Economic Activity'!$B12:$Z12,MATCH(D$3,'LS22. Economic Activity'!$B$2:$Z$2,0)),\"n/a\")","v":163600},{"$f":"IFERROR(INDEX('LS22. Economic Activity'!$B12:$Z12,MATCH(E$1175,'LS22. Economic Activity'!$B$2:$Z$2,0)),\"n/a\")","v":668900},{"$f":"IFERROR(INDEX('LS22. Economic Activity'!$B12:$Z12,MATCH(F$1175,'LS22. Economic Activity'!$B$2:$Z$2,0)),\"n/a\")","v":22102900}]
[null,null,"Jul 2015-Jun 2016",{"$f":"IFERROR(INDEX('LS22. Economic Activity'!$B13:$Z13,MATCH(D$3,'LS22. Economic Activity'!$B$2:$Z$2,0)),\"n/a\")","v":168600},{"$f":"IFERROR(INDEX('LS22. Economic Activity'!$B13:$Z13,MATCH(E$1175,'LS22. Economic Activity'!$B$2:$Z$2,0)),\"n/a\")","v":699800},{"$f":"IFERROR(INDEX('LS22. Economic Activity'!$B13:$Z13,MATCH(F$1175,'LS22. Economic Activity'!$B$2:$Z$2,0)),\"n/a\")","v":22269400}]
[null,null,"Jul 2016-Jun 2017",{"$f":"IFERROR(INDEX('LS22. Economic Activity'!$B14:$Z14,MATCH(D$3,'LS22. Economic Activity'!$B$2:$Z$2,0)),\"n/a\")","v":159100},{"$f":"IFERROR(INDEX('LS22. Economic Activity'!$B14:$Z14,MATCH(E$1175,'LS22. Economic Activity'!$B$2:$Z$2,0)),\"n/a\")","v":700500},{"$f":"IFERROR(INDEX('LS22. Economic Activity'!$B14:$Z14,MATCH(F$1175,'LS22. Economic Activity'!$B$2:$Z$2,0)),\"n/a\")","v":22376400}]
[]
[null,null,"LS22. Economic Activity (% of working age population), 2006/07-16/17"]
[null,null,null,{"$f":"D$3","v":"Blackburn with Darwen, Hyndburn, Rossendale and Ribble Valley"},"Lancashire ","England Minus London"]
[null,null,"Jul 2006-Jun 2007",{"$f":"IFERROR(INDEX('LS22. Economic Activity'!$B18:$Z18,MATCH(D$3,'LS22. Economic Activity'!$B$2:$Z$2,0)),\"n/a\")","v":73},{"$f":"IFERROR(INDEX('LS22. Economic Activity'!$B18:$Z18,MATCH(E$1175,'LS22. Economic Activity'!$B$2:$Z$2,0)),\"n/a\")","v":74.8},{"$f":"IFERROR(INDEX('LS22. Economic Activity'!$B18:$Z18,MATCH(F$1175,'LS22. Economic Activity'!$B$2:$Z$2,0)),\"n/a\")","v":77.400000000000006}]
[null,null,"Jul 2007-Jun 2008",{"$f":"IFERROR(INDEX('LS22. Economic Activity'!$B19:$Z19,MATCH(D$3,'LS22. Economic Activity'!$B$2:$Z$2,0)),\"n/a\")","v":72.900000000000006},{"$f":"IFERROR(INDEX('LS22. Economic Activity'!$B19:$Z19,MATCH(E$1175,'LS22. Economic Activity'!$B$2:$Z$2,0)),\"n/a\")","v":75.7},{"$f":"IFERROR(INDEX('LS22. Economic Activity'!$B19:$Z19,MATCH(F$1175,'LS22. Economic Activity'!$B$2:$Z$2,0)),\"n/a\")","v":77.3}]
[null,null,"Jul 2008-Jun 2009",{"$f":"IFERROR(INDEX('LS22. Economic Activity'!$B20:$Z20,MATCH(D$3,'LS22. Economic Activity'!$B$2:$Z$2,0)),\"n/a\")","v":70.5},{"$f":"IFERROR(INDEX('LS22. Economic Activity'!$B20:$Z20,MATCH(E$1175,'LS22. Economic Activity'!$B$2:$Z$2,0)),\"n/a\")","v":74.400000000000006},{"$f":"IFERROR(INDEX('LS22. Economic Activity'!$B20:$Z20,MATCH(F$1175,'LS22. Economic Activity'!$B$2:$Z$2,0)),\"n/a\")","v":77.5}]
[null,null,"Jul 2009-Jun 2010",{"$f":"IFERROR(INDEX('LS22. Economic Activity'!$B21:$Z21,MATCH(D$3,'LS22. Economic Activity'!$B$2:$Z$2,0)),\"n/a\")","v":72.599999999999994},{"$f":"IFERROR(INDEX('LS22. Economic Activity'!$B21:$Z21,MATCH(E$1175,'LS22. Economic Activity'!$B$2:$Z$2,0)),\"n/a\")","v":74.7},{"$f":"IFERROR(INDEX('LS22. Economic Activity'!$B21:$Z21,MATCH(F$1175,'LS22. Economic Activity'!$B$2:$Z$2,0)),\"n/a\")","v":76.8}]
[null,null,"Jul 2010-Jun 2011",{"$f":"IFERROR(INDEX('LS22. Economic Activity'!$B22:$Z22,MATCH(D$3,'LS22. Economic Activity'!$B$2:$Z$2,0)),\"n/a\")","v":71.3},{"$f":"IFERROR(INDEX('LS22. Economic Activity'!$B22:$Z22,MATCH(E$1175,'LS22. Economic Activity'!$B$2:$Z$2,0)),\"n/a\")","v":75.099999999999994},{"$f":"IFERROR(INDEX('LS22. Economic Activity'!$B22:$Z22,MATCH(F$1175,'LS22. Economic Activity'!$B$2:$Z$2,0)),\"n/a\")","v":76.599999999999994}]
[null,null,"Jul 2011-Jun 2012",{"$f":"IFERROR(INDEX('LS22. Economic Activity'!$B23:$Z23,MATCH(D$3,'LS22. Economic Activity'!$B$2:$Z$2,0)),\"n/a\")","v":76.7},{"$f":"IFERROR(INDEX('LS22. Economic Activity'!$B23:$Z23,MATCH(E$1175,'LS22. Economic Activity'!$B$2:$Z$2,0)),\"n/a\")","v":77.2},{"$f":"IFERROR(INDEX('LS22. Economic Activity'!$B23:$Z23,MATCH(F$1175,'LS22. Economic Activity'!$B$2:$Z$2,0)),\"n/a\")","v":77}]
[null,null,"Jul 2012-Jun 2013",{"$f":"IFERROR(INDEX('LS22. Economic Activity'!$B24:$Z24,MATCH(D$3,'LS22. Economic Activity'!$B$2:$Z$2,0)),\"n/a\")","v":74.2},{"$f":"IFERROR(INDEX('LS22. Economic Activity'!$B24:$Z24,MATCH(E$1175,'LS22. Economic Activity'!$B$2:$Z$2,0)),\"n/a\")","v":74.5},{"$f":"IFERROR(INDEX('LS22. Economic Activity'!$B24:$Z24,MATCH(F$1175,'LS22. Economic Activity'!$B$2:$Z$2,0)),\"n/a\")","v":77.599999999999994}]
[null,null,"Jul 2013-Jun 2014",{"$f":"IFERROR(INDEX('LS22. Economic Activity'!$B25:$Z25,MATCH(D$3,'LS22. Economic Activity'!$B$2:$Z$2,0)),\"n/a\")","v":71},{"$f":"IFERROR(INDEX('LS22. Economic Activity'!$B25:$Z25,MATCH(E$1175,'LS22. Economic Activity'!$B$2:$Z$2,0)),\"n/a\")","v":73.8},{"$f":"IFERROR(INDEX('LS22. Economic Activity'!$B25:$Z25,MATCH(F$1175,'LS22. Economic Activity'!$B$2:$Z$2,0)),\"n/a\")","v":77.5}]
[null,null,"Jul 2014-Jun 2015",{"$f":"IFERROR(INDEX('LS22. Economic Activity'!$B26:$Z26,MATCH(D$3,'LS22. Economic Activity'!$B$2:$Z$2,0)),\"n/a\")","v":74.599999999999994},{"$f":"IFERROR(INDEX('LS22. Economic Activity'!$B26:$Z26,MATCH(E$1175,'LS22. Economic Activity'!$B$2:$Z$2,0)),\"n/a\")","v":73.900000000000006},{"$f":"IFERROR(INDEX('LS22. Economic Activity'!$B26:$Z26,MATCH(F$1175,'LS22. Economic Activity'!$B$2:$Z$2,0)),\"n/a\")","v":77.7}]
[null,null,"Jul 2015-Jun 2016",{"$f":"IFERROR(INDEX('LS22. Economic Activity'!$B27:$Z27,MATCH(D$3,'LS22. Economic Activity'!$B$2:$Z$2,0)),\"n/a\")","v":77.400000000000006},{"$f":"IFERROR(INDEX('LS22. Economic Activity'!$B27:$Z27,MATCH(E$1175,'LS22. Economic Activity'!$B$2:$Z$2,0)),\"n/a\")","v":77.5},{"$f":"IFERROR(INDEX('LS22. Economic Activity'!$B27:$Z27,MATCH(F$1175,'LS22. Economic Activity'!$B$2:$Z$2,0)),\"n/a\")","v":78.099999999999994}]
[null,null,"Jul 2016-Jun 2017",{"$f":"IFERROR(INDEX('LS22. Economic Activity'!$B28:$Z28,MATCH(D$3,'LS22. Economic Activity'!$B$2:$Z$2,0)),\"n/a\")","v":73.3},{"$f":"IFERROR(INDEX('LS22. Economic Activity'!$B28:$Z28,MATCH(E$1175,'LS22. Economic Activity'!$B$2:$Z$2,0)),\"n/a\")","v":77.8},{"$f":"IFERROR(INDEX('LS22. Economic Activity'!$B28:$Z28,MATCH(F$1175,'LS22. Economic Activity'!$B$2:$Z$2,0)),\"n/a\")","v":78.3}]
[]
[null,null,"For details on Economic Activity by health condition, please click here"]
[]
[]
[]
[]
[]
[]
[]
[]
[]
[]
[]
[]
[]
[]
[]
[]
[]
[]
[]
[]
[]
[]
[]
[]
[]
[]
[]
[]
[]
[]
[]
[]
[]
[]
[]
[]
[]
[]
[]
[]
[]
[]
[]
[]
[]
[]
[]
[]
[]
[]
[]
[]
[]
[]
[]
[]
[]
[]
[]
[]
[]
[]
[null,null,"LS25. Workless Households, 2006, 2011, 2016"]
[null,null,null,{"$f":"D$3","v":"Blackburn with Darwen, Hyndburn, Rossendale and Ribble Valley"},"Lancashire ","England Minus London"]
[null,null,2006,{"$f":"IFERROR(INDEX('LS25. Households by Activity'!$B6:$Z6,MATCH(D$3,'LS25. Households by Activity'!$B$2:$Z$2,0)),\"n/a\")","v":25100},{"$f":"IFERROR(INDEX('LS25. Households by Activity'!$B6:$Z6,MATCH(E$1266,'LS25. Households by Activity'!$B$2:$Z$2,0)),\"n/a\")","v":92200},{"$f":"IFERROR(INDEX('LS25. Households by Activity'!$B6:$Z6,MATCH(F$1266,'LS25. Households by Activity'!$B$2:$Z$2,0)),\"n/a\")","v":2358900}]
[null,null,2011,{"$f":"IFERROR(INDEX('LS25. Households by Activity'!$B11:$Z11,MATCH(D$3,'LS25. Households by Activity'!$B$2:$Z$2,0)),\"n/a\")","v":24100},{"$f":"IFERROR(INDEX('LS25. Households by Activity'!$B11:$Z11,MATCH(E$1266,'LS25. Households by Activity'!$B$2:$Z$2,0)),\"n/a\")","v":92900},{"$f":"IFERROR(INDEX('LS25. Households by Activity'!$B11:$Z11,MATCH(F$1266,'LS25. Households by Activity'!$B$2:$Z$2,0)),\"n/a\")","v":2701000}]
[null,null,2016,{"$f":"IFERROR(INDEX('LS25. Households by Activity'!$B16:$Z16,MATCH(D$3,'LS25. Households by Activity'!$B$2:$Z$2,0)),\"n/a\")","v":18100},{"$f":"IFERROR(INDEX('LS25. Households by Activity'!$B16:$Z16,MATCH(E$1266,'LS25. Households by Activity'!$B$2:$Z$2,0)),\"n/a\")","v":77700},{"$f":"IFERROR(INDEX('LS25. Households by Activity'!$B16:$Z16,MATCH(F$1266,'LS25. Households by Activity'!$B$2:$Z$2,0)),\"n/a\")","v":2179900}]
[]
[null,null,"LS25. Workless Households (%), 2006, 2011, 2016"]
[null,null,null,{"$f":"D$3","v":"Blackburn with Darwen, Hyndburn, Rossendale and Ribble Valley"},"Lancashire ","England Minus London"]
[null,null,2006,{"$f":"IFERROR(INDEX('LS25. Households by Activity'!$B21:$Z21,MATCH(D$3,'LS25. Households by Activity'!$B$2:$Z$2,0)),\"n/a\")/100","v":0.22899999999999998},{"$f":"IFERROR(INDEX('LS25. Households by Activity'!$B21:$Z21,MATCH(E$1266,'LS25. Households by Activity'!$B$2:$Z$2,0)),\"n/a\")/100","v":0.19600000000000001},{"$f":"IFERROR(INDEX('LS25. Households by Activity'!$B21:$Z21,MATCH(F$1266,'LS25. Households by Activity'!$B$2:$Z$2,0)),\"n/a\")/100","v":0.16600000000000001}]
[null,null,2011,{"$f":"IFERROR(INDEX('LS25. Households by Activity'!$B26:$Z26,MATCH(D$3,'LS25. Households by Activity'!$B$2:$Z$2,0)),\"n/a\")/100","v":0.20800000000000002},{"$f":"IFERROR(INDEX('LS25. Households by Activity'!$B26:$Z26,MATCH(E$1266,'LS25. Households by Activity'!$B$2:$Z$2,0)),\"n/a\")/100","v":0.193},{"$f":"IFERROR(INDEX('LS25. Households by Activity'!$B26:$Z26,MATCH(F$1266,'LS25. Households by Activity'!$B$2:$Z$2,0)),\"n/a\")/100","v":0.184}]
[null,null,2016,{"$f":"IFERROR(INDEX('LS25. Households by Activity'!$B31:$Z31,MATCH(D$3,'LS25. Households by Activity'!$B$2:$Z$2,0)),\"n/a\")/100","v":0.156},{"$f":"IFERROR(INDEX('LS25. Households by Activity'!$B31:$Z31,MATCH(E$1266,'LS25. Households by Activity'!$B$2:$Z$2,0)),\"n/a\")/100","v":0.16300000000000001},{"$f":"IFERROR(INDEX('LS25. Households by Activity'!$B31:$Z31,MATCH(F$1266,'LS25. Households by Activity'!$B$2:$Z$2,0)),\"n/a\")/100","v":0.15}]
[]
[null,null,"LS25. Households by Activity, 2016"]
[null,null,null,{"$f":"D$3","v":"Blackburn with Darwen, Hyndburn, Rossendale and Ribble Valley"},"Lancashire ","England Minus London"]
[null,null,"Working households",{"$f":"IFERROR(INDEX('LS25. Households by Activity'!$B14:$Z14,MATCH(D$3,'LS25. Households by Activity'!$B$2:$Z$2,0)),\"n/a\")","v":63400},{"$f":"IFERROR(INDEX('LS25. Households by Activity'!$B14:$Z14,MATCH(E$1266,'LS25. Households by Activity'!$B$2:$Z$2,0)),\"n/a\")","v":271400},{"$f":"IFERROR(INDEX('LS25. Households by Activity'!$B14:$Z14,MATCH(F$1266,'LS25. Households by Activity'!$B$2:$Z$2,0)),\"n/a\")","v":8304700}]
[null,null,"Mixed households",{"$f":"IFERROR(INDEX('LS25. Households by Activity'!$B15:$Z15,MATCH(D$3,'LS25. Households by Activity'!$B$2:$Z$2,0)),\"n/a\")","v":34100},{"$f":"IFERROR(INDEX('LS25. Households by Activity'!$B15:$Z15,MATCH(E$1266,'LS25. Households by Activity'!$B$2:$Z$2,0)),\"n/a\")","v":128400},{"$f":"IFERROR(INDEX('LS25. Households by Activity'!$B15:$Z15,MATCH(F$1266,'LS25. Households by Activity'!$B$2:$Z$2,0)),\"n/a\")","v":4077500}]
[null,null,"Workless households",{"$f":"IFERROR(INDEX('LS25. Households by Activity'!$B16:$Z16,MATCH(D$3,'LS25. Households by Activity'!$B$2:$Z$2,0)),\"n/a\")","v":18100},{"$f":"IFERROR(INDEX('LS25. Households by Activity'!$B16:$Z16,MATCH(E$1266,'LS25. Households by Activity'!$B$2:$Z$2,0)),\"n/a\")","v":77700},{"$f":"IFERROR(INDEX('LS25. Households by Activity'!$B16:$Z16,MATCH(F$1266,'LS25. Households by Activity'!$B$2:$Z$2,0)),\"n/a\")","v":2179900}]
[]
[null,null,"LS25. Households by Activity (%), 2016"]
[null,null,null,{"$f":"D$3","v":"Blackburn with Darwen, Hyndburn, Rossendale and Ribble Valley"},"Lancashire ","England Minus London"]
[null,null,"Working households",{"$f":"IFERROR(INDEX('LS25. Households by Activity'!$B29:$Z29,MATCH(D$3,'LS25. Households by Activity'!$B$2:$Z$2,0)),\"n/a\")/100","v":0.54899999999999993},{"$f":"IFERROR(INDEX('LS25. Households by Activity'!$B29:$Z29,MATCH(E$1266,'LS25. Households by Activity'!$B$2:$Z$2,0)),\"n/a\")/100","v":0.56799999999999995},{"$f":"IFERROR(INDEX('LS25. Households by Activity'!$B29:$Z29,MATCH(F$1266,'LS25. Households by Activity'!$B$2:$Z$2,0)),\"n/a\")/100","v":0.56999999999999995}]
[null,null,"Mixed households",{"$f":"IFERROR(INDEX('LS25. Households by Activity'!$B30:$Z30,MATCH(D$3,'LS25. Households by Activity'!$B$2:$Z$2,0)),\"n/a\")/100","v":0.29499999999999998},{"$f":"IFERROR(INDEX('LS25. Households by Activity'!$B30:$Z30,MATCH(E$1266,'LS25. Households by Activity'!$B$2:$Z$2,0)),\"n/a\")/100","v":0.26899999999999996},{"$f":"IFERROR(INDEX('LS25. Households by Activity'!$B30:$Z30,MATCH(F$1266,'LS25. Households by Activity'!$B$2:$Z$2,0)),\"n/a\")/100","v":0.28000000000000003}]
[null,null,"Workless households",{"$f":"IFERROR(INDEX('LS25. Households by Activity'!$B31:$Z31,MATCH(D$3,'LS25. Households by Activity'!$B$2:$Z$2,0)),\"n/a\")/100","v":0.156},{"$f":"IFERROR(INDEX('LS25. Households by Activity'!$B31:$Z31,MATCH(E$1266,'LS25. Households by Activity'!$B$2:$Z$2,0)),\"n/a\")/100","v":0.16300000000000001},{"$f":"IFERROR(INDEX('LS25. Households by Activity'!$B31:$Z31,MATCH(F$1266,'LS25. Households by Activity'!$B$2:$Z$2,0)),\"n/a\")/100","v":0.15}]
[]
[null,null,"For details on the Activity Breakdown of Workless Households, please click here"]
[null,null,"For details on Children in Workless Households, please click here"]
[]
[]
[]
[]
[]
[]
[]
[]
[]
[]
[]
[]
[]
[]
[]
[]
[]
[]
[null,null,"LS27. Resident Occupations, 2017"]
[null,null,null,{"$f":"D$3","v":"Blackburn with Darwen, Hyndburn, Rossendale and Ribble Valley"},"Lancashire ","England Minus London"]
[null,null,"Managers, directors and senior officials",{"$f":"IFERROR(INDEX('LS27. Resident Occupations'!$B26:$Z26,MATCH(D$3,'LS27. Resident Occupations'!$B$2:$Z$2,0)),\"n/a\")","v":17100},{"$f":"IFERROR(INDEX('LS27. Resident Occupations'!$B26:$Z26,MATCH(E$1310,'LS27. Resident Occupations'!$B$2:$Z$2,0)),\"n/a\")","v":67600},{"$f":"IFERROR(INDEX('LS27. Resident Occupations'!$B26:$Z26,MATCH(F$1310,'LS27. Resident Occupations'!$B$2:$Z$2,0)),\"n/a\")","v":2389000}]
[null,null,"Professional occupations",{"$f":"IFERROR(INDEX('LS27. Resident Occupations'!$B27:$Z27,MATCH(D$3,'LS27. Resident Occupations'!$B$2:$Z$2,0)),\"n/a\")","v":23900},{"$f":"IFERROR(INDEX('LS27. Resident Occupations'!$B27:$Z27,MATCH(E$1310,'LS27. Resident Occupations'!$B$2:$Z$2,0)),\"n/a\")","v":117300},{"$f":"IFERROR(INDEX('LS27. Resident Occupations'!$B27:$Z27,MATCH(F$1310,'LS27. Resident Occupations'!$B$2:$Z$2,0)),\"n/a\")","v":4302600}]
[null,null,"Associate professional & tech occupations",{"$f":"IFERROR(INDEX('LS27. Resident Occupations'!$B28:$Z28,MATCH(D$3,'LS27. Resident Occupations'!$B$2:$Z$2,0)),\"n/a\")","v":19000},{"$f":"IFERROR(INDEX('LS27. Resident Occupations'!$B28:$Z28,MATCH(E$1310,'LS27. Resident Occupations'!$B$2:$Z$2,0)),\"n/a\")","v":84900},{"$f":"IFERROR(INDEX('LS27. Resident Occupations'!$B28:$Z28,MATCH(F$1310,'LS27. Resident Occupations'!$B$2:$Z$2,0)),\"n/a\")","v":3074300}]
[null,null,"Administrative and secretarial occupations",{"$f":"IFERROR(INDEX('LS27. Resident Occupations'!$B29:$Z29,MATCH(D$3,'LS27. Resident Occupations'!$B$2:$Z$2,0)),\"n/a\")","v":17800},{"$f":"IFERROR(INDEX('LS27. Resident Occupations'!$B29:$Z29,MATCH(E$1310,'LS27. Resident Occupations'!$B$2:$Z$2,0)),\"n/a\")","v":75900},{"$f":"IFERROR(INDEX('LS27. Resident Occupations'!$B29:$Z29,MATCH(F$1310,'LS27. Resident Occupations'!$B$2:$Z$2,0)),\"n/a\")","v":2310900}]
[null,null,"Skilled trades occupations",{"$f":"IFERROR(INDEX('LS27. Resident Occupations'!$B30:$Z30,MATCH(D$3,'LS27. Resident Occupations'!$B$2:$Z$2,0)),\"n/a\")","v":22700},{"$f":"IFERROR(INDEX('LS27. Resident Occupations'!$B30:$Z30,MATCH(E$1310,'LS27. Resident Occupations'!$B$2:$Z$2,0)),\"n/a\")","v":83000},{"$f":"IFERROR(INDEX('LS27. Resident Occupations'!$B30:$Z30,MATCH(F$1310,'LS27. Resident Occupations'!$B$2:$Z$2,0)),\"n/a\")","v":2391100}]
[null,null,"Caring, leisure and other service occupations",{"$f":"IFERROR(INDEX('LS27. Resident Occupations'!$B31:$Z31,MATCH(D$3,'LS27. Resident Occupations'!$B$2:$Z$2,0)),\"n/a\")","v":17200},{"$f":"IFERROR(INDEX('LS27. Resident Occupations'!$B31:$Z31,MATCH(E$1310,'LS27. Resident Occupations'!$B$2:$Z$2,0)),\"n/a\")","v":80400},{"$f":"IFERROR(INDEX('LS27. Resident Occupations'!$B31:$Z31,MATCH(F$1310,'LS27. Resident Occupations'!$B$2:$Z$2,0)),\"n/a\")","v":2103200}]
[null,null,"Sales and customer service occupations",{"$f":"IFERROR(INDEX('LS27. Resident Occupations'!$B32:$Z32,MATCH(D$3,'LS27. Resident Occupations'!$B$2:$Z$2,0)),\"n/a\")","v":16500},{"$f":"IFERROR(INDEX('LS27. Resident Occupations'!$B32:$Z32,MATCH(E$1310,'LS27. Resident Occupations'!$B$2:$Z$2,0)),\"n/a\")","v":62600},{"$f":"IFERROR(INDEX('LS27. Resident Occupations'!$B32:$Z32,MATCH(F$1310,'LS27. Resident Occupations'!$B$2:$Z$2,0)),\"n/a\")","v":1686600}]
[null,null,"Process, plant and machine operatives",{"$f":"IFERROR(INDEX('LS27. Resident Occupations'!$B33:$Z33,MATCH(D$3,'LS27. Resident Occupations'!$B$2:$Z$2,0)),\"n/a\")","v":10600},{"$f":"IFERROR(INDEX('LS27. Resident Occupations'!$B33:$Z33,MATCH(E$1310,'LS27. Resident Occupations'!$B$2:$Z$2,0)),\"n/a\")","v":50000},{"$f":"IFERROR(INDEX('LS27. Resident Occupations'!$B33:$Z33,MATCH(F$1310,'LS27. Resident Occupations'!$B$2:$Z$2,0)),\"n/a\")","v":1487000}]
[null,null,"Elementary occupations",{"$f":"IFERROR(INDEX('LS27. Resident Occupations'!$B34:$Z34,MATCH(D$3,'LS27. Resident Occupations'!$B$2:$Z$2,0)),\"n/a\")","v":15500},{"$f":"IFERROR(INDEX('LS27. Resident Occupations'!$B34:$Z34,MATCH(E$1310,'LS27. Resident Occupations'!$B$2:$Z$2,0)),\"n/a\")","v":73900},{"$f":"IFERROR(INDEX('LS27. Resident Occupations'!$B34:$Z34,MATCH(F$1310,'LS27. Resident Occupations'!$B$2:$Z$2,0)),\"n/a\")","v":2420100}]
[]
[null,null,"LS27. Resident Occupations (rate), 2017"]
[null,null,null,{"$f":"D$3","v":"Blackburn with Darwen, Hyndburn, Rossendale and Ribble Valley"},"Lancashire ","England Minus London"]
[null,null,"Managers, directors and senior officials",{"$f":"IFERROR(INDEX('LS27. Resident Occupations'!$B60:$Z60,MATCH(D$3,'LS27. Resident Occupations'!$B$2:$Z$2,0)),\"n/a\")","v":10.6},{"$f":"IFERROR(INDEX('LS27. Resident Occupations'!$B60:$Z60,MATCH(E$1310,'LS27. Resident Occupations'!$B$2:$Z$2,0)),\"n/a\")","v":9.6999999999999993},{"$f":"IFERROR(INDEX('LS27. Resident Occupations'!$B60:$Z60,MATCH(F$1310,'LS27. Resident Occupations'!$B$2:$Z$2,0)),\"n/a\")","v":10.7}]
[null,null,"Professional occupations",{"$f":"IFERROR(INDEX('LS27. Resident Occupations'!$B61:$Z61,MATCH(D$3,'LS27. Resident Occupations'!$B$2:$Z$2,0)),\"n/a\")","v":14.8},{"$f":"IFERROR(INDEX('LS27. Resident Occupations'!$B61:$Z61,MATCH(E$1310,'LS27. Resident Occupations'!$B$2:$Z$2,0)),\"n/a\")","v":16.8},{"$f":"IFERROR(INDEX('LS27. Resident Occupations'!$B61:$Z61,MATCH(F$1310,'LS27. Resident Occupations'!$B$2:$Z$2,0)),\"n/a\")","v":19.3}]
[null,null,"Associate professional & tech occupations",{"$f":"IFERROR(INDEX('LS27. Resident Occupations'!$B62:$Z62,MATCH(D$3,'LS27. Resident Occupations'!$B$2:$Z$2,0)),\"n/a\")","v":11.8},{"$f":"IFERROR(INDEX('LS27. Resident Occupations'!$B62:$Z62,MATCH(E$1310,'LS27. Resident Occupations'!$B$2:$Z$2,0)),\"n/a\")","v":12.2},{"$f":"IFERROR(INDEX('LS27. Resident Occupations'!$B62:$Z62,MATCH(F$1310,'LS27. Resident Occupations'!$B$2:$Z$2,0)),\"n/a\")","v":13.8}]
[null,null,"Administrative and secretarial occupations",{"$f":"IFERROR(INDEX('LS27. Resident Occupations'!$B63:$Z63,MATCH(D$3,'LS27. Resident Occupations'!$B$2:$Z$2,0)),\"n/a\")","v":11},{"$f":"IFERROR(INDEX('LS27. Resident Occupations'!$B63:$Z63,MATCH(E$1310,'LS27. Resident Occupations'!$B$2:$Z$2,0)),\"n/a\")","v":10.9},{"$f":"IFERROR(INDEX('LS27. Resident Occupations'!$B63:$Z63,MATCH(F$1310,'LS27. Resident Occupations'!$B$2:$Z$2,0)),\"n/a\")","v":10.4}]
[null,null,"Skilled trades occupations",{"$f":"IFERROR(INDEX('LS27. Resident Occupations'!$B64:$Z64,MATCH(D$3,'LS27. Resident Occupations'!$B$2:$Z$2,0)),\"n/a\")","v":14.1},{"$f":"IFERROR(INDEX('LS27. Resident Occupations'!$B64:$Z64,MATCH(E$1310,'LS27. Resident Occupations'!$B$2:$Z$2,0)),\"n/a\")","v":11.9},{"$f":"IFERROR(INDEX('LS27. Resident Occupations'!$B64:$Z64,MATCH(F$1310,'LS27. Resident Occupations'!$B$2:$Z$2,0)),\"n/a\")","v":10.7}]
[null,null,"Caring, leisure and other service occupations",{"$f":"IFERROR(INDEX('LS27. Resident Occupations'!$B65:$Z65,MATCH(D$3,'LS27. Resident Occupations'!$B$2:$Z$2,0)),\"n/a\")","v":10.7},{"$f":"IFERROR(INDEX('LS27. Resident Occupations'!$B65:$Z65,MATCH(E$1310,'LS27. Resident Occupations'!$B$2:$Z$2,0)),\"n/a\")","v":11.5},{"$f":"IFERROR(INDEX('LS27. Resident Occupations'!$B65:$Z65,MATCH(F$1310,'LS27. Resident Occupations'!$B$2:$Z$2,0)),\"n/a\")","v":9.5}]
[null,null,"Sales and customer service occupations",{"$f":"IFERROR(INDEX('LS27. Resident Occupations'!$B66:$Z66,MATCH(D$3,'LS27. Resident Occupations'!$B$2:$Z$2,0)),\"n/a\")","v":10.199999999999999},{"$f":"IFERROR(INDEX('LS27. Resident Occupations'!$B66:$Z66,MATCH(E$1310,'LS27. Resident Occupations'!$B$2:$Z$2,0)),\"n/a\")","v":9},{"$f":"IFERROR(INDEX('LS27. Resident Occupations'!$B66:$Z66,MATCH(F$1310,'LS27. Resident Occupations'!$B$2:$Z$2,0)),\"n/a\")","v":7.6}]
[null,null,"Process, plant and machine operatives",{"$f":"IFERROR(INDEX('LS27. Resident Occupations'!$B67:$Z67,MATCH(D$3,'LS27. Resident Occupations'!$B$2:$Z$2,0)),\"n/a\")","v":6.6},{"$f":"IFERROR(INDEX('LS27. Resident Occupations'!$B67:$Z67,MATCH(E$1310,'LS27. Resident Occupations'!$B$2:$Z$2,0)),\"n/a\")","v":7.2},{"$f":"IFERROR(INDEX('LS27. Resident Occupations'!$B67:$Z67,MATCH(F$1310,'LS27. Resident Occupations'!$B$2:$Z$2,0)),\"n/a\")","v":6.7}]
[null,null,"Elementary occupations",{"$f":"IFERROR(INDEX('LS27. Resident Occupations'!$B68:$Z68,MATCH(D$3,'LS27. Resident Occupations'!$B$2:$Z$2,0)),\"n/a\")","v":9.6},{"$f":"IFERROR(INDEX('LS27. Resident Occupations'!$B68:$Z68,MATCH(E$1310,'LS27. Resident Occupations'!$B$2:$Z$2,0)),\"n/a\")","v":10.6},{"$f":"IFERROR(INDEX('LS27. Resident Occupations'!$B68:$Z68,MATCH(F$1310,'LS27. Resident Occupations'!$B$2:$Z$2,0)),\"n/a\")","v":10.9}]
[]
[null,null,"For details on Occupations by gender, please click here"]
[]
[]
[]
[]
[]
[]
[]
[]
[]
[]
[]
[]
[]
[]
[]
[]
[]
[]
[]
[]
[]
[]
[]
[]
[]
[null,null,"LS29. Qualifications by NVQ, 2016"]
[null,null,null,{"$f":"D$3","v":"Blackburn with Darwen, Hyndburn, Rossendale and Ribble Valley"},"Lancashire ","England Minus London"]
[null,null,"NVQ4+",{"$f":"IFERROR(INDEX('LS29. Qualifications by NVQ'!$B22:$Z22,MATCH(D$3,'LS29. Qualifications by NVQ'!$B$2:$Z$2,0)),\"n/a\")","v":68400},{"$f":"IFERROR(INDEX('LS29. Qualifications by NVQ'!$B22:$Z22,MATCH(E$1360,'LS29. Qualifications by NVQ'!$B$2:$Z$2,0)),\"n/a\")","v":292700},{"$f":"IFERROR(INDEX('LS29. Qualifications by NVQ'!$B22:$Z22,MATCH(F$1360,'LS29. Qualifications by NVQ'!$B$2:$Z$2,0)),\"n/a\")","v":9942100}]
[null,null,"NVQ3+",{"$f":"IFERROR(INDEX('LS29. Qualifications by NVQ'!$B23:$Z23,MATCH(D$3,'LS29. Qualifications by NVQ'!$B$2:$Z$2,0)),\"n/a\")","v":115700},{"$f":"IFERROR(INDEX('LS29. Qualifications by NVQ'!$B23:$Z23,MATCH(E$1360,'LS29. Qualifications by NVQ'!$B$2:$Z$2,0)),\"n/a\")","v":482900},{"$f":"IFERROR(INDEX('LS29. Qualifications by NVQ'!$B23:$Z23,MATCH(F$1360,'LS29. Qualifications by NVQ'!$B$2:$Z$2,0)),\"n/a\")","v":15589900}]
[null,null,"NVQ2+",{"$f":"IFERROR(INDEX('LS29. Qualifications by NVQ'!$B24:$Z24,MATCH(D$3,'LS29. Qualifications by NVQ'!$B$2:$Z$2,0)),\"n/a\")","v":155300},{"$f":"IFERROR(INDEX('LS29. Qualifications by NVQ'!$B24:$Z24,MATCH(E$1360,'LS29. Qualifications by NVQ'!$B$2:$Z$2,0)),\"n/a\")","v":666600},{"$f":"IFERROR(INDEX('LS29. Qualifications by NVQ'!$B24:$Z24,MATCH(F$1360,'LS29. Qualifications by NVQ'!$B$2:$Z$2,0)),\"n/a\")","v":20932200}]
[null,null,"NVQ1+",{"$f":"IFERROR(INDEX('LS29. Qualifications by NVQ'!$B25:$Z25,MATCH(D$3,'LS29. Qualifications by NVQ'!$B$2:$Z$2,0)),\"n/a\")","v":177600},{"$f":"IFERROR(INDEX('LS29. Qualifications by NVQ'!$B25:$Z25,MATCH(E$1360,'LS29. Qualifications by NVQ'!$B$2:$Z$2,0)),\"n/a\")","v":777700},{"$f":"IFERROR(INDEX('LS29. Qualifications by NVQ'!$B25:$Z25,MATCH(F$1360,'LS29. Qualifications by NVQ'!$B$2:$Z$2,0)),\"n/a\")","v":24356500}]
[null,null,"Trade Apprenticeships",{"$f":"IFERROR(INDEX('LS29. Qualifications by NVQ'!$B26:$Z26,MATCH(D$3,'LS29. Qualifications by NVQ'!$B$2:$Z$2,0)),\"n/a\")","v":11500},{"$f":"IFERROR(INDEX('LS29. Qualifications by NVQ'!$B26:$Z26,MATCH(E$1360,'LS29. Qualifications by NVQ'!$B$2:$Z$2,0)),\"n/a\")","v":34300},{"$f":"IFERROR(INDEX('LS29. Qualifications by NVQ'!$B26:$Z26,MATCH(F$1360,'LS29. Qualifications by NVQ'!$B$2:$Z$2,0)),\"n/a\")","v":949300}]
[null,null,"Other NVQ qualifications",{"$f":"IFERROR(INDEX('LS29. Qualifications by NVQ'!$B27:$Z27,MATCH(D$3,'LS29. Qualifications by NVQ'!$B$2:$Z$2,0)),\"n/a\")","v":12100},{"$f":"IFERROR(INDEX('LS29. Qualifications by NVQ'!$B27:$Z27,MATCH(E$1360,'LS29. Qualifications by NVQ'!$B$2:$Z$2,0)),\"n/a\")","v":46600},{"$f":"IFERROR(INDEX('LS29. Qualifications by NVQ'!$B27:$Z27,MATCH(F$1360,'LS29. Qualifications by NVQ'!$B$2:$Z$2,0)),\"n/a\")","v":1821800}]
[null,null,"No NVQ qualifications",{"$f":"IFERROR(INDEX('LS29. Qualifications by NVQ'!$B28:$Z28,MATCH(D$3,'LS29. Qualifications by NVQ'!$B$2:$Z$2,0)),\"n/a\")","v":28200},{"$f":"IFERROR(INDEX('LS29. Qualifications by NVQ'!$B28:$Z28,MATCH(E$1360,'LS29. Qualifications by NVQ'!$B$2:$Z$2,0)),\"n/a\")","v":74800},{"$f":"IFERROR(INDEX('LS29. Qualifications by NVQ'!$B28:$Z28,MATCH(F$1360,'LS29. Qualifications by NVQ'!$B$2:$Z$2,0)),\"n/a\")","v":2287800}]
[]
[null,null,"LS29. Qualifications by NVQ (rate), 2016"]
[null,null,null,{"$f":"D$3","v":"Blackburn with Darwen, Hyndburn, Rossendale and Ribble Valley"},"Lancashire ","England Minus London"]
[null,null,"NVQ4+",{"$f":"IFERROR(INDEX('LS29. Qualifications by NVQ'!$B50:$Z50,MATCH(D$3,'LS29. Qualifications by NVQ'!$B$2:$Z$2,0)),\"n/a\")","v":31.4},{"$f":"IFERROR(INDEX('LS29. Qualifications by NVQ'!$B50:$Z50,MATCH(E$1360,'LS29. Qualifications by NVQ'!$B$2:$Z$2,0)),\"n/a\")","v":32.6},{"$f":"IFERROR(INDEX('LS29. Qualifications by NVQ'!$B50:$Z50,MATCH(F$1360,'LS29. Qualifications by NVQ'!$B$2:$Z$2,0)),\"n/a\")","v":34.9}]
[null,null,"NVQ3+",{"$f":"IFERROR(INDEX('LS29. Qualifications by NVQ'!$B51:$Z51,MATCH(D$3,'LS29. Qualifications by NVQ'!$B$2:$Z$2,0)),\"n/a\")","v":53.1},{"$f":"IFERROR(INDEX('LS29. Qualifications by NVQ'!$B51:$Z51,MATCH(E$1360,'LS29. Qualifications by NVQ'!$B$2:$Z$2,0)),\"n/a\")","v":53.7},{"$f":"IFERROR(INDEX('LS29. Qualifications by NVQ'!$B51:$Z51,MATCH(F$1360,'LS29. Qualifications by NVQ'!$B$2:$Z$2,0)),\"n/a\")","v":54.8}]
[null,null,"NVQ2+",{"$f":"IFERROR(INDEX('LS29. Qualifications by NVQ'!$B52:$Z52,MATCH(D$3,'LS29. Qualifications by NVQ'!$B$2:$Z$2,0)),\"n/a\")","v":71.2},{"$f":"IFERROR(INDEX('LS29. Qualifications by NVQ'!$B52:$Z52,MATCH(E$1360,'LS29. Qualifications by NVQ'!$B$2:$Z$2,0)),\"n/a\")","v":74.099999999999994},{"$f":"IFERROR(INDEX('LS29. Qualifications by NVQ'!$B52:$Z52,MATCH(F$1360,'LS29. Qualifications by NVQ'!$B$2:$Z$2,0)),\"n/a\")","v":73.5}]
[null,null,"NVQ1+",{"$f":"IFERROR(INDEX('LS29. Qualifications by NVQ'!$B53:$Z53,MATCH(D$3,'LS29. Qualifications by NVQ'!$B$2:$Z$2,0)),\"n/a\")","v":81.5},{"$f":"IFERROR(INDEX('LS29. Qualifications by NVQ'!$B53:$Z53,MATCH(E$1360,'LS29. Qualifications by NVQ'!$B$2:$Z$2,0)),\"n/a\")","v":86.5},{"$f":"IFERROR(INDEX('LS29. Qualifications by NVQ'!$B53:$Z53,MATCH(F$1360,'LS29. Qualifications by NVQ'!$B$2:$Z$2,0)),\"n/a\")","v":85.6}]
[null,null,"Trade Apprenticeships",{"$f":"IFERROR(INDEX('LS29. Qualifications by NVQ'!$B54:$Z54,MATCH(D$3,'LS29. Qualifications by NVQ'!$B$2:$Z$2,0)),\"n/a\")","v":5.3},{"$f":"IFERROR(INDEX('LS29. Qualifications by NVQ'!$B54:$Z54,MATCH(E$1360,'LS29. Qualifications by NVQ'!$B$2:$Z$2,0)),\"n/a\")","v":3.8},{"$f":"IFERROR(INDEX('LS29. Qualifications by NVQ'!$B54:$Z54,MATCH(F$1360,'LS29. Qualifications by NVQ'!$B$2:$Z$2,0)),\"n/a\")","v":3.3}]
[null,null,"Other NVQ qualifications",{"$f":"IFERROR(INDEX('LS29. Qualifications by NVQ'!$B55:$Z55,MATCH(D$3,'LS29. Qualifications by NVQ'!$B$2:$Z$2,0)),\"n/a\")","v":5.6},{"$f":"IFERROR(INDEX('LS29. Qualifications by NVQ'!$B55:$Z55,MATCH(E$1360,'LS29. Qualifications by NVQ'!$B$2:$Z$2,0)),\"n/a\")","v":5.2},{"$f":"IFERROR(INDEX('LS29. Qualifications by NVQ'!$B55:$Z55,MATCH(F$1360,'LS29. Qualifications by NVQ'!$B$2:$Z$2,0)),\"n/a\")","v":6.4}]
[null,null,"No NVQ qualifications",{"$f":"IFERROR(INDEX('LS29. Qualifications by NVQ'!$B56:$Z56,MATCH(D$3,'LS29. Qualifications by NVQ'!$B$2:$Z$2,0)),\"n/a\")","v":12.9},{"$f":"IFERROR(INDEX('LS29. Qualifications by NVQ'!$B56:$Z56,MATCH(E$1360,'LS29. Qualifications by NVQ'!$B$2:$Z$2,0)),\"n/a\")","v":8.3000000000000007},{"$f":"IFERROR(INDEX('LS29. Qualifications by NVQ'!$B56:$Z56,MATCH(F$1360,'LS29. Qualifications by NVQ'!$B$2:$Z$2,0)),\"n/a\")","v":8}]
[]
[null,null,"For details on Qualifications by age and gender, please click here"]
[]
[]
[]
[]
[]
[]
[]
[]
[]
[]
[]
[]
[]
[]
[]
[]
[]
[]
[]
[]
[]
[]
[]
[]
[]
[]
[]
[]
[]
[]
[]
[]
[]
[]
[null,null,"LS31. Qualifications of those Employed, 2016"]
[null,null,null,{"$f":"D$3","v":"Blackburn with Darwen, Hyndburn, Rossendale and Ribble Valley"},"Lancashire ","England Minus London"]
[null,null,"NVQ4+",{"$f":"IFERROR(INDEX('LS31. Employed Qualifications'!$B22:$Z22,MATCH(D$3,'LS31. Employed Qualifications'!$B$2:$Z$2,0)),\"n/a\")","v":58500},{"$f":"IFERROR(INDEX('LS31. Employed Qualifications'!$B22:$Z22,MATCH(E$1415,'LS31. Employed Qualifications'!$B$2:$Z$2,0)),\"n/a\")","v":249500},{"$f":"IFERROR(INDEX('LS31. Employed Qualifications'!$B22:$Z22,MATCH(F$1415,'LS31. Employed Qualifications'!$B$2:$Z$2,0)),\"n/a\")","v":8435400}]
[null,null,"NVQ3+",{"$f":"IFERROR(INDEX('LS31. Employed Qualifications'!$B23:$Z23,MATCH(D$3,'LS31. Employed Qualifications'!$B$2:$Z$2,0)),\"n/a\")","v":35400},{"$f":"IFERROR(INDEX('LS31. Employed Qualifications'!$B23:$Z23,MATCH(E$1415,'LS31. Employed Qualifications'!$B$2:$Z$2,0)),\"n/a\")","v":137700},{"$f":"IFERROR(INDEX('LS31. Employed Qualifications'!$B23:$Z23,MATCH(F$1415,'LS31. Employed Qualifications'!$B$2:$Z$2,0)),\"n/a\")","v":3893700}]
[null,null,"NVQ2+",{"$f":"IFERROR(INDEX('LS31. Employed Qualifications'!$B24:$Z24,MATCH(D$3,'LS31. Employed Qualifications'!$B$2:$Z$2,0)),\"n/a\")","v":21600},{"$f":"IFERROR(INDEX('LS31. Employed Qualifications'!$B24:$Z24,MATCH(E$1415,'LS31. Employed Qualifications'!$B$2:$Z$2,0)),\"n/a\")","v":113500},{"$f":"IFERROR(INDEX('LS31. Employed Qualifications'!$B24:$Z24,MATCH(F$1415,'LS31. Employed Qualifications'!$B$2:$Z$2,0)),\"n/a\")","v":3430400}]
[null,null,"NVQ1+",{"$f":"IFERROR(INDEX('LS31. Employed Qualifications'!$B25:$Z25,MATCH(D$3,'LS31. Employed Qualifications'!$B$2:$Z$2,0)),\"n/a\")","v":12800},{"$f":"IFERROR(INDEX('LS31. Employed Qualifications'!$B25:$Z25,MATCH(E$1415,'LS31. Employed Qualifications'!$B$2:$Z$2,0)),\"n/a\")","v":72400},{"$f":"IFERROR(INDEX('LS31. Employed Qualifications'!$B25:$Z25,MATCH(F$1415,'LS31. Employed Qualifications'!$B$2:$Z$2,0)),\"n/a\")","v":2296900}]
[null,null,"Trade Apprenticeships",{"$f":"IFERROR(INDEX('LS31. Employed Qualifications'!$B26:$Z26,MATCH(D$3,'LS31. Employed Qualifications'!$B$2:$Z$2,0)),\"n/a\")","v":9400},{"$f":"IFERROR(INDEX('LS31. Employed Qualifications'!$B26:$Z26,MATCH(E$1415,'LS31. Employed Qualifications'!$B$2:$Z$2,0)),\"n/a\")","v":27900},{"$f":"IFERROR(INDEX('LS31. Employed Qualifications'!$B26:$Z26,MATCH(F$1415,'LS31. Employed Qualifications'!$B$2:$Z$2,0)),\"n/a\")","v":774800}]
[null,null,"Other NVQ qualifications",{"$f":"IFERROR(INDEX('LS31. Employed Qualifications'!$B27:$Z27,MATCH(D$3,'LS31. Employed Qualifications'!$B$2:$Z$2,0)),\"n/a\")","v":7600},{"$f":"IFERROR(INDEX('LS31. Employed Qualifications'!$B27:$Z27,MATCH(E$1415,'LS31. Employed Qualifications'!$B$2:$Z$2,0)),\"n/a\")","v":32700},{"$f":"IFERROR(INDEX('LS31. Employed Qualifications'!$B27:$Z27,MATCH(F$1415,'LS31. Employed Qualifications'!$B$2:$Z$2,0)),\"n/a\")","v":1354500}]
[null,null,"No NVQ qualifications",{"$f":"IFERROR(INDEX('LS31. Employed Qualifications'!$B28:$Z28,MATCH(D$3,'LS31. Employed Qualifications'!$B$2:$Z$2,0)),\"n/a\")","v":11100},{"$f":"IFERROR(INDEX('LS31. Employed Qualifications'!$B28:$Z28,MATCH(E$1415,'LS31. Employed Qualifications'!$B$2:$Z$2,0)),\"n/a\")","v":28200},{"$f":"IFERROR(INDEX('LS31. Employed Qualifications'!$B28:$Z28,MATCH(F$1415,'LS31. Employed Qualifications'!$B$2:$Z$2,0)),\"n/a\")","v":992600}]
[]
[null,null,"LS31. Qualifications of those Employed (rate), 2016"]
[null,null,null,{"$f":"D$3","v":"Blackburn with Darwen, Hyndburn, Rossendale and Ribble Valley"},"Lancashire ","England Minus London"]
[null,null,"NVQ4+",{"$f":"IFERROR(INDEX('LS31. Employed Qualifications'!$B50:$Z50,MATCH(D$3,'LS31. Employed Qualifications'!$B$2:$Z$2,0)),\"n/a\")","v":37.4},{"$f":"IFERROR(INDEX('LS31. Employed Qualifications'!$B50:$Z50,MATCH(E$1415,'LS31. Employed Qualifications'!$B$2:$Z$2,0)),\"n/a\")","v":37.700000000000003},{"$f":"IFERROR(INDEX('LS31. Employed Qualifications'!$B50:$Z50,MATCH(F$1415,'LS31. Employed Qualifications'!$B$2:$Z$2,0)),\"n/a\")","v":39.799999999999997}]
[null,null,"NVQ3+",{"$f":"IFERROR(INDEX('LS31. Employed Qualifications'!$B51:$Z51,MATCH(D$3,'LS31. Employed Qualifications'!$B$2:$Z$2,0)),\"n/a\")","v":22.6},{"$f":"IFERROR(INDEX('LS31. Employed Qualifications'!$B51:$Z51,MATCH(E$1415,'LS31. Employed Qualifications'!$B$2:$Z$2,0)),\"n/a\")","v":20.8},{"$f":"IFERROR(INDEX('LS31. Employed Qualifications'!$B51:$Z51,MATCH(F$1415,'LS31. Employed Qualifications'!$B$2:$Z$2,0)),\"n/a\")","v":18.399999999999999}]
[null,null,"NVQ2+",{"$f":"IFERROR(INDEX('LS31. Employed Qualifications'!$B52:$Z52,MATCH(D$3,'LS31. Employed Qualifications'!$B$2:$Z$2,0)),\"n/a\")","v":13.8},{"$f":"IFERROR(INDEX('LS31. Employed Qualifications'!$B52:$Z52,MATCH(E$1415,'LS31. Employed Qualifications'!$B$2:$Z$2,0)),\"n/a\")","v":17.100000000000001},{"$f":"IFERROR(INDEX('LS31. Employed Qualifications'!$B52:$Z52,MATCH(F$1415,'LS31. Employed Qualifications'!$B$2:$Z$2,0)),\"n/a\")","v":16.2}]
[null,null,"NVQ1+",{"$f":"IFERROR(INDEX('LS31. Employed Qualifications'!$B53:$Z53,MATCH(D$3,'LS31. Employed Qualifications'!$B$2:$Z$2,0)),\"n/a\")","v":8.1999999999999993},{"$f":"IFERROR(INDEX('LS31. Employed Qualifications'!$B53:$Z53,MATCH(E$1415,'LS31. Employed Qualifications'!$B$2:$Z$2,0)),\"n/a\")","v":10.9},{"$f":"IFERROR(INDEX('LS31. Employed Qualifications'!$B53:$Z53,MATCH(F$1415,'LS31. Employed Qualifications'!$B$2:$Z$2,0)),\"n/a\")","v":10.8}]
[null,null,"Trade Apprenticeships",{"$f":"IFERROR(INDEX('LS31. Employed Qualifications'!$B54:$Z54,MATCH(D$3,'LS31. Employed Qualifications'!$B$2:$Z$2,0)),\"n/a\")","v":6},{"$f":"IFERROR(INDEX('LS31. Employed Qualifications'!$B54:$Z54,MATCH(E$1415,'LS31. Employed Qualifications'!$B$2:$Z$2,0)),\"n/a\")","v":4.2},{"$f":"IFERROR(INDEX('LS31. Employed Qualifications'!$B54:$Z54,MATCH(F$1415,'LS31. Employed Qualifications'!$B$2:$Z$2,0)),\"n/a\")","v":3.7}]
[null,null,"Other NVQ qualifications",{"$f":"IFERROR(INDEX('LS31. Employed Qualifications'!$B55:$Z55,MATCH(D$3,'LS31. Employed Qualifications'!$B$2:$Z$2,0)),\"n/a\")","v":4.9000000000000004},{"$f":"IFERROR(INDEX('LS31. Employed Qualifications'!$B55:$Z55,MATCH(E$1415,'LS31. Employed Qualifications'!$B$2:$Z$2,0)),\"n/a\")","v":4.9000000000000004},{"$f":"IFERROR(INDEX('LS31. Employed Qualifications'!$B55:$Z55,MATCH(F$1415,'LS31. Employed Qualifications'!$B$2:$Z$2,0)),\"n/a\")","v":6.4}]
[null,null,"No NVQ qualifications",{"$f":"IFERROR(INDEX('LS31. Employed Qualifications'!$B56:$Z56,MATCH(D$3,'LS31. Employed Qualifications'!$B$2:$Z$2,0)),\"n/a\")","v":7.1},{"$f":"IFERROR(INDEX('LS31. Employed Qualifications'!$B56:$Z56,MATCH(E$1415,'LS31. Employed Qualifications'!$B$2:$Z$2,0)),\"n/a\")","v":4.3},{"$f":"IFERROR(INDEX('LS31. Employed Qualifications'!$B56:$Z56,MATCH(F$1415,'LS31. Employed Qualifications'!$B$2:$Z$2,0)),\"n/a\")","v":4.7}]
[]
[]
[]
[]
[]
[]
[]
[]
[]
[]
[]
[]
[]
[]
[]
[]
[]
[]
[]
[]
[]
[]
[]
[]
[]
[]
[]
[]
[]
[]
[]
[]
[]
[]
[]
[]
[]
[]
[]
[]
[]
[]
[]
[]
[]
[]
[]
[]
[]
[]
[]
[]
[]
[]
[]
[]
[]
[null,null,"LS35. Workplace Earnings (Full-Time), 2017"]
[null,null,null,"Lancashire ","North West ","England"]
[null,null,"Median",{"$f":"IFERROR(INDEX('LS35. Workplace Earnings'!$B4:$Z4,MATCH(D$1491,'LS35. Workplace Earnings'!$B$2:$Z$2,0)),\"n/a\")","v":25726},{"$f":"IFERROR(INDEX('LS35. Workplace Earnings'!$B4:$Z4,MATCH(E$1491,'LS35. Workplace Earnings'!$B$2:$Z$2,0)),\"n/a\")","v":26746},{"$f":"IFERROR(INDEX('LS35. Workplace Earnings'!$B4:$Z4,MATCH(F$1491,'LS35. Workplace Earnings'!$B$2:$Z$2,0)),\"n/a\")","v":29079}]
[null,null,"Mean",{"$f":"IFERROR(INDEX('LS35. Workplace Earnings'!$B5:$Z5,MATCH(D$1491,'LS35. Workplace Earnings'!$B$2:$Z$2,0)),\"n/a\")","v":30895},{"$f":"IFERROR(INDEX('LS35. Workplace Earnings'!$B5:$Z5,MATCH(E$1491,'LS35. Workplace Earnings'!$B$2:$Z$2,0)),\"n/a\")","v":31771},{"$f":"IFERROR(INDEX('LS35. Workplace Earnings'!$B5:$Z5,MATCH(F$1491,'LS35. Workplace Earnings'!$B$2:$Z$2,0)),\"n/a\")","v":36107}]
[]
[]
[]
[]
[]
[]
[]
[]
[]
[]
[]
[]
[]
[]
[]
[]
[]
[]
[]
[]
[]
[]
[]
[]
[]
[]
[]
[]
[]
[]
[]
[]
[]
[]
[]
[]
[]
[]
[]
[]
[]
[]
[]
[]
[]
[]
[]
[]
[]
[]
[]
[]
[]
[]
[]
[]
[]
[]
[]
[]
[]
[]
[]
[]
[]
[]
[]
[]
[]
[]
[]
[null,null,"LS36. Resident Earnings (Full-Time), 2017"]
[null,null,null,"Lancashire ","North West ","England"]
[null,null,"Median",{"$f":"IFERROR(INDEX('LS36. Resident Earnings'!$B4:$Z4,MATCH(D$1491,'LS36. Resident Earnings'!$B$2:$Z$2,0)),\"n/a\")","v":25821},{"$f":"IFERROR(INDEX('LS36. Resident Earnings'!$B4:$Z4,MATCH(E$1491,'LS36. Resident Earnings'!$B$2:$Z$2,0)),\"n/a\")","v":26662},{"$f":"IFERROR(INDEX('LS36. Resident Earnings'!$B4:$Z4,MATCH(F$1491,'LS36. Resident Earnings'!$B$2:$Z$2,0)),\"n/a\")","v":29085}]
[null,null,"Mean",{"$f":"IFERROR(INDEX('LS36. Resident Earnings'!$B5:$Z5,MATCH(D$1491,'LS36. Resident Earnings'!$B$2:$Z$2,0)),\"n/a\")","v":30666},{"$f":"IFERROR(INDEX('LS36. Resident Earnings'!$B5:$Z5,MATCH(E$1491,'LS36. Resident Earnings'!$B$2:$Z$2,0)),\"n/a\")","v":31640},{"$f":"IFERROR(INDEX('LS36. Resident Earnings'!$B5:$Z5,MATCH(F$1491,'LS36. Resident Earnings'!$B$2:$Z$2,0)),\"n/a\")","v":36118}]
[]
[]
[]
[]
[]
[]
[]
[]
[]
[]
[]
[]
[]
[]
[]
[]
[]
[]
[]
[]
[]
[]
[]
[]
[]
[]
[]
[]
[]
[]
[]
[]
[]
[]
[]
[]
[]
[]
[]
[]
[]
[]
[]
[]
[]
[]
[null,null,"LS34. Travel to Work, destination, 2011"]
[null,null,null,{"$f":"D$3","v":"Blackburn with Darwen, Hyndburn, Rossendale and Ribble Valley"},"Lancashire "]
[null,null,"Home LA ",{"$f":"IFERROR(INDEX('LS34. Travel to Work, location'!$B4:$Z4,MATCH(D$3,'LS34. Travel to Work, location'!$B$2:$Z$2,0)),\"n/a\")","v":65754},{"$f":"IFERROR(INDEX('LS34. Travel to Work, location'!$B4:$Z4,MATCH(E$1616,'LS34. Travel to Work, location'!$B$2:$Z$2,0)),\"n/a\")","v":296037}]
[null,null,"Rest of TTWA",{"$f":"IFERROR(INDEX('LS34. Travel to Work, location'!$B5:$Z5,MATCH(D$3,'LS34. Travel to Work, location'!$B$2:$Z$2,0)),\"n/a\")","v":22955},{"$f":"IFERROR(INDEX('LS34. Travel to Work, location'!$B5:$Z5,MATCH(E$1616,'LS34. Travel to Work, location'!$B$2:$Z$2,0)),\"n/a\")","v":100399}]
[null,null,"TTWA Total",{"$f":"IFERROR(INDEX('LS34. Travel to Work, location'!$B6:$Z6,MATCH(D$3,'LS34. Travel to Work, location'!$B$2:$Z$2,0)),\"n/a\")","v":88709},{"$f":"IFERROR(INDEX('LS34. Travel to Work, location'!$B6:$Z6,MATCH(E$1616,'LS34. Travel to Work, location'!$B$2:$Z$2,0)),\"n/a\")","v":396436}]
[null,null,"Rest of Lancashire",{"$f":"IFERROR(INDEX('LS34. Travel to Work, location'!$B7:$Z7,MATCH(D$3,'LS34. Travel to Work, location'!$B$2:$Z$2,0)),\"n/a\")","v":21008},{"$f":"IFERROR(INDEX('LS34. Travel to Work, location'!$B7:$Z7,MATCH(E$1616,'LS34. Travel to Work, location'!$B$2:$Z$2,0)),\"n/a\")","v":79669}]
[null,null,"Lancashire Total",{"$f":"IFERROR(INDEX('LS34. Travel to Work, location'!$B8:$Z8,MATCH(D$3,'LS34. Travel to Work, location'!$B$2:$Z$2,0)),\"n/a\")","v":109717},{"$f":"IFERROR(INDEX('LS34. Travel to Work, location'!$B8:$Z8,MATCH(E$1616,'LS34. Travel to Work, location'!$B$2:$Z$2,0)),\"n/a\")","v":476105}]
[null,null,"Rest of NW",{"$f":"IFERROR(INDEX('LS34. Travel to Work, location'!$B9:$Z9,MATCH(D$3,'LS34. Travel to Work, location'!$B$2:$Z$2,0)),\"n/a\")","v":17941},{"$f":"IFERROR(INDEX('LS34. Travel to Work, location'!$B9:$Z9,MATCH(E$1616,'LS34. Travel to Work, location'!$B$2:$Z$2,0)),\"n/a\")","v":62531}]
[null,null,"Rest of England",{"$f":"IFERROR(INDEX('LS34. Travel to Work, location'!$B10:$Z10,MATCH(D$3,'LS34. Travel to Work, location'!$B$2:$Z$2,0)),\"n/a\")","v":3926},{"$f":"IFERROR(INDEX('LS34. Travel to Work, location'!$B10:$Z10,MATCH(E$1616,'LS34. Travel to Work, location'!$B$2:$Z$2,0)),\"n/a\")","v":16423}]
[null,null,"Total",{"$f":"IFERROR(INDEX('LS34. Travel to Work, location'!$B11:$Z11,MATCH(D$3,'LS34. Travel to Work, location'!$B$2:$Z$2,0)),\"n/a\")","v":131584},{"$f":"IFERROR(INDEX('LS34. Travel to Work, location'!$B11:$Z11,MATCH(E$1616,'LS34. Travel to Work, location'!$B$2:$Z$2,0)),\"n/a\")","v":555059}]
[]
[null,null,"LS34. Travel to Work, destination (%)"]
[null,null,null,{"$f":"D$3","v":"Blackburn with Darwen, Hyndburn, Rossendale and Ribble Valley"},"Lancashire "]
[null,null,"Home LA ",{"$f":"IFERROR(INDEX('LS34. Travel to Work, location'!$B14:$Z14,MATCH(D$3,'LS34. Travel to Work, location'!$B$2:$Z$2,0)),\"n/a\")","v":0.49971121108949418},{"$f":"IFERROR(INDEX('LS34. Travel to Work, location'!$B14:$Z14,MATCH(E$1616,'LS34. Travel to Work, location'!$B$2:$Z$2,0)),\"n/a\")","v":0.53334330224354531}]
[null,null,"Rest of TTWA",{"$f":"IFERROR(INDEX('LS34. Travel to Work, location'!$B15:$Z15,MATCH(D$3,'LS34. Travel to Work, location'!$B$2:$Z$2,0)),\"n/a\")","v":0.17445130107003892},{"$f":"IFERROR(INDEX('LS34. Travel to Work, location'!$B15:$Z15,MATCH(E$1616,'LS34. Travel to Work, location'!$B$2:$Z$2,0)),\"n/a\")","v":0.1808798704281887}]
[null,null,"TTWA Total",{"$f":"IFERROR(INDEX('LS34. Travel to Work, location'!$B16:$Z16,MATCH(D$3,'LS34. Travel to Work, location'!$B$2:$Z$2,0)),\"n/a\")","v":0.67416251215953304},{"$f":"IFERROR(INDEX('LS34. Travel to Work, location'!$B16:$Z16,MATCH(E$1616,'LS34. Travel to Work, location'!$B$2:$Z$2,0)),\"n/a\")","v":0.71422317267173396}]
[null,null,"Rest of Lancashire",{"$f":"IFERROR(INDEX('LS34. Travel to Work, location'!$B17:$Z17,MATCH(D$3,'LS34. Travel to Work, location'!$B$2:$Z$2,0)),\"n/a\")","v":0.15965466926070038},{"$f":"IFERROR(INDEX('LS34. Travel to Work, location'!$B17:$Z17,MATCH(E$1616,'LS34. Travel to Work, location'!$B$2:$Z$2,0)),\"n/a\")","v":0.14353248933897117}]
[null,null,"Lancashire Total",{"$f":"IFERROR(INDEX('LS34. Travel to Work, location'!$B18:$Z18,MATCH(D$3,'LS34. Travel to Work, location'!$B$2:$Z$2,0)),\"n/a\")","v":0.83381718142023342},{"$f":"IFERROR(INDEX('LS34. Travel to Work, location'!$B18:$Z18,MATCH(E$1616,'LS34. Travel to Work, location'!$B$2:$Z$2,0)),\"n/a\")","v":0.85775566201070519}]
[null,null,"Rest of NW",{"$f":"IFERROR(INDEX('LS34. Travel to Work, location'!$B19:$Z19,MATCH(D$3,'LS34. Travel to Work, location'!$B$2:$Z$2,0)),\"n/a\")","v":0.13634636429961089},{"$f":"IFERROR(INDEX('LS34. Travel to Work, location'!$B19:$Z19,MATCH(E$1616,'LS34. Travel to Work, location'!$B$2:$Z$2,0)),\"n/a\")","v":0.11265649237288289}]
[null,null,"Rest of England",{"$f":"IFERROR(INDEX('LS34. Travel to Work, location'!$B20:$Z20,MATCH(D$3,'LS34. Travel to Work, location'!$B$2:$Z$2,0)),\"n/a\")","v":2.9836454280155644E-2},{"$f":"IFERROR(INDEX('LS34. Travel to Work, location'!$B20:$Z20,MATCH(E$1616,'LS34. Travel to Work, location'!$B$2:$Z$2,0)),\"n/a\")","v":2.9587845616411947E-2}]

{"sheet":"LA Summary","index":3,"n_rows":1634,"n_cols":20,"rows_kept":1634,"cut":false,"hidden":false,"merged":[[10,13,10,14],[10,3,10,4],[10,5,10,6],[10,7,10,8],[1289,2,1289,6],[1288,2,1288,6],[1128,8,1128,12],[1138,9,1138,13],[130,3,130,4],[1287,2,1287,6],[152,2,152,6],[2,3,2,7],[3,3,3,7],[12,3,12,4],[12,5,12,6],[8,7,8,8],[8,3,8,4],[8,5,8,6],[6,7,6,8],[6,3,6,4],[6,5,6,6],[1330,2,1330,6],[1376,2,1376,6],[10,17,10,18],[10,19,10,20],[12,7,12,8],[12,9,12,10],[12,11,12,12],[12,13,12,14],[12,15,12,16],[624,2,624,6],[925,2,925,6],[961,2,961,6],[1199,2,1199,6],[10,15,10,16],[10,9,10,10],[10,11,10,12],[6,15,6,16],[6,17,6,18],[6,19,6,20],[8,9,8,10],[8,11,8,12],[6,13,6,14],[6,9,6,10],[6,11,6,12],[8,13,8,14]]}
["Blackburn with Darwen ",null,"Residents Indicators: Local Authority Summary"]
["Blackpool"]
["Burnley",null,"Summary Statistics for: ","Blackburn with Darwen "]
["Chorley ",null,"Corresponding TTWA:",{"$f":"INDEX('ONS LA Codes'!F4:F17,MATCH(D3,'ONS LA Codes'!E4:E17,0))","v":"Blackburn with Darwen, Hyndburn, Rossendale and Ribble Valley"}]
["Fylde"]
["Hyndburn"]
["Lancaster ",null,"Population","Total Population",null,"Population by Age Band",null,"Population Change by Age",null,"Working Age Population",null,"Population Aged 65+",null,"Components of Population Change",null,"Projection Populations",null,"Population Projections, 16-64",null,"Population Projections, 65+"]
["Pendle "]
["Preston",null,"Labour Market (1)","Resident Employment",null,"Self Employment",null,"Hours Worked Weekly",null,"Non-Permanent Employment",null,"Zero Hour Contracts",null,"Workless Households"]
["Ribble Valley"]
["Rossendale ",null,"Labour Market (2)","Unemployment",null,"Claimant Count",null,"Economic Inactivity",null,"Economic Activity",null,"Travel to Work, Method",null,"Travel to Work, Distance",null,"Travel to Work, Destination"]
["South Ribble "]
["West Lancashire ",null,"Occupations and Qualifications","Resident Occupations",null,"Qualifications by NVQ",null,"Qualifications of those Employed",null,"Workplace Earnings",null,"Resident Earnings"]
["Wrye ",null,"Back to top"]
[]
[]
[]
[]
[]
[]
[]
[]
[]
[]
[]
[]
[]
[]
[]
[]
[]
[]
[]
[]
[]
[]
[]
[]
[]
[]
[]
[]
[]
[]
[]
[]
[]
[]
[]
[]
[]
[]
[]
[]
[]
[]
[]
[]
[null,null,"LS1. Total Population, 2006-16"]
[null,null,null,{"$f":"D$3","v":"Blackburn with Darwen "},{"$f":"D$4","v":"Blackburn with Darwen, Hyndburn, Rossendale and Ribble Valley"},"Lancashire ","England Minus London"]
[null,null,2006,{"$f":"INDEX('LS1. Total Population'!$B4:$Z4,MATCH(D$3,'LS1. Total Population'!$B$2:$Z$2,0))","v":143110},{"$f":"INDEX('LS1. Total Population'!$B4:$Z4,MATCH(E$60,'LS1. Total Population'!$B$2:$Z$2,0))","v":347464},{"$f":"INDEX('LS1. Total Population'!$B4:$Z4,MATCH(F$60,'LS1. Total Population'!$B$2:$Z$2,0))","v":1445983},{"$f":"INDEX('LS1. Total Population'!$B4:$Z4,MATCH(G$60,'LS1. Total Population'!$B$2:$Z$2,0))","v":43367361}]
[null,null,2007,{"$f":"INDEX('LS1. Total Population'!$B5:$Z5,MATCH(D$3,'LS1. Total Population'!$B$2:$Z$2,0))","v":143942},{"$f":"INDEX('LS1. Total Population'!$B5:$Z5,MATCH(E$60,'LS1. Total Population'!$B$2:$Z$2,0))","v":349004},{"$f":"INDEX('LS1. Total Population'!$B5:$Z5,MATCH(F$60,'LS1. Total Population'!$B$2:$Z$2,0))","v":1449418},{"$f":"INDEX('LS1. Total Population'!$B5:$Z5,MATCH(G$60,'LS1. Total Population'!$B$2:$Z$2,0))","v":43687620}]
[null,null,2008,{"$f":"INDEX('LS1. Total Population'!$B6:$Z6,MATCH(D$3,'LS1. Total Population'!$B$2:$Z$2,0))","v":144902},{"$f":"INDEX('LS1. Total Population'!$B6:$Z6,MATCH(E$60,'LS1. Total Population'!$B$2:$Z$2,0))","v":350299},{"$f":"INDEX('LS1. Total Population'!$B6:$Z6,MATCH(F$60,'LS1. Total Population'!$B$2:$Z$2,0))","v":1451175},{"$f":"INDEX('LS1. Total Population'!$B6:$Z6,MATCH(G$60,'LS1. Total Population'!$B$2:$Z$2,0))","v":44003692}]
[null,null,2009,{"$f":"INDEX('LS1. Total Population'!$B7:$Z7,MATCH(D$3,'LS1. Total Population'!$B$2:$Z$2,0))","v":146197},{"$f":"INDEX('LS1. Total Population'!$B7:$Z7,MATCH(E$60,'LS1. Total Population'!$B$2:$Z$2,0))","v":351683},{"$f":"INDEX('LS1. Total Population'!$B7:$Z7,MATCH(F$60,'LS1. Total Population'!$B$2:$Z$2,0))","v":1452916},{"$f":"INDEX('LS1. Total Population'!$B7:$Z7,MATCH(G$60,'LS1. Total Population'!$B$2:$Z$2,0))","v":44253787}]
[null,null,2010,{"$f":"INDEX('LS1. Total Population'!$B8:$Z8,MATCH(D$3,'LS1. Total Population'!$B$2:$Z$2,0))","v":146966},{"$f":"INDEX('LS1. Total Population'!$B8:$Z8,MATCH(E$60,'LS1. Total Population'!$B$2:$Z$2,0))","v":352884},{"$f":"INDEX('LS1. Total Population'!$B8:$Z8,MATCH(F$60,'LS1. Total Population'!$B$2:$Z$2,0))","v":1457298},{"$f":"INDEX('LS1. Total Population'!$B8:$Z8,MATCH(G$60,'LS1. Total Population'!$B$2:$Z$2,0))","v":44580957}]
[null,null,2011,{"$f":"INDEX('LS1. Total Population'!$B9:$Z9,MATCH(D$3,'LS1. Total Population'!$B$2:$Z$2,0))","v":147657},{"$f":"INDEX('LS1. Total Population'!$B9:$Z9,MATCH(E$60,'LS1. Total Population'!$B$2:$Z$2,0))","v":353551},{"$f":"INDEX('LS1. Total Population'!$B9:$Z9,MATCH(F$60,'LS1. Total Population'!$B$2:$Z$2,0))","v":1461295},{"$f":"INDEX('LS1. Total Population'!$B9:$Z9,MATCH(G$60,'LS1. Total Population'!$B$2:$Z$2,0))","v":44902762}]
[null,null,2012,{"$f":"INDEX('LS1. Total Population'!$B10:$Z10,MATCH(D$3,'LS1. Total Population'!$B$2:$Z$2,0))","v":147713},{"$f":"INDEX('LS1. Total Population'!$B10:$Z10,MATCH(E$60,'LS1. Total Population'!$B$2:$Z$2,0))","v":353865},{"$f":"INDEX('LS1. Total Population'!$B10:$Z10,MATCH(F$60,'LS1. Total Population'!$B$2:$Z$2,0))","v":1465668},{"$f":"INDEX('LS1. Total Population'!$B10:$Z10,MATCH(G$60,'LS1. Total Population'!$B$2:$Z$2,0))","v":45185360}]
[null,null,2013,{"$f":"INDEX('LS1. Total Population'!$B11:$Z11,MATCH(D$3,'LS1. Total Population'!$B$2:$Z$2,0))","v":147369},{"$f":"INDEX('LS1. Total Population'!$B11:$Z11,MATCH(E$60,'LS1. Total Population'!$B$2:$Z$2,0))","v":354017},{"$f":"INDEX('LS1. Total Population'!$B11:$Z11,MATCH(F$60,'LS1. Total Population'!$B$2:$Z$2,0))","v":1468846},{"$f":"INDEX('LS1. Total Population'!$B11:$Z11,MATCH(G$60,'LS1. Total Population'!$B$2:$Z$2,0))","v":45449274}]
[null,null,2014,{"$f":"INDEX('LS1. Total Population'!$B12:$Z12,MATCH(D$3,'LS1. Total Population'!$B$2:$Z$2,0))","v":146743},{"$f":"INDEX('LS1. Total Population'!$B12:$Z12,MATCH(E$60,'LS1. Total Population'!$B$2:$Z$2,0))","v":354210},{"$f":"INDEX('LS1. Total Population'!$B12:$Z12,MATCH(F$60,'LS1. Total Population'!$B$2:$Z$2,0))","v":1471979},{"$f":"INDEX('LS1. Total Population'!$B12:$Z12,MATCH(G$60,'LS1. Total Population'!$B$2:$Z$2,0))","v":45777929}]
[null,null,2015,{"$f":"INDEX('LS1. Total Population'!$B13:$Z13,MATCH(D$3,'LS1. Total Population'!$B$2:$Z$2,0))","v":146846},{"$f":"INDEX('LS1. Total Population'!$B13:$Z13,MATCH(E$60,'LS1. Total Population'!$B$2:$Z$2,0))","v":355041},{"$f":"INDEX('LS1. Total Population'!$B13:$Z13,MATCH(F$60,'LS1. Total Population'!$B$2:$Z$2,0))","v":1478115},{"$f":"INDEX('LS1. Total Population'!$B13:$Z13,MATCH(G$60,'LS1. Total Population'!$B$2:$Z$2,0))","v":46112614}]
[null,null,2016,{"$f":"INDEX('LS1. Total Population'!$B14:$Z14,MATCH(D$3,'LS1. Total Population'!$B$2:$Z$2,0))","v":147049},{"$f":"INDEX('LS1. Total Population'!$B14:$Z14,MATCH(E$60,'LS1. Total Population'!$B$2:$Z$2,0))","v":356298},{"$f":"INDEX('LS1. Total Population'!$B14:$Z14,MATCH(F$60,'LS1. Total Population'!$B$2:$Z$2,0))","v":1485042},{"$f":"INDEX('LS1. Total Population'!$B14:$Z14,MATCH(G$60,'LS1. Total Population'!$B$2:$Z$2,0))","v":46480175}]
[null,null,"Change 2006-16",{"$f":"D71-D61","v":3939},8834,{"$f":"F71-F61","v":39059},3112814]
[null,null,"% Change 2006-16",{"$f":"D72/D61","v":2.7524282020823142E-2},{"$f":"E72/E61","v":2.5424216609490478E-2},{"$f":"F72/F61","v":2.701207413918421E-2},7.1777805432984496E-2]
[]
[null,null,"LS1. Index of Population, 2006-16"]
[null,null,null,{"$f":"D$3","v":"Blackburn with Darwen "},{"$f":"D$4","v":"Blackburn with Darwen, Hyndburn, Rossendale and Ribble Valley"},"Lancashire ","England Minus London"]
[null,null,2006,{"$f":"INDEX('LS1. Total Population'!$B20:$Z20,MATCH(D$3,'LS1. Total Population'!$B$2:$Z$2,0))","v":100},{"$f":"INDEX('LS1. Total Population'!$B20:$Z20,MATCH(E$76,'LS1. Total Population'!$B$2:$Z$2,0))","v":100},{"$f":"INDEX('LS1. Total Population'!$B20:$Z20,MATCH(F$76,'LS1. Total Population'!$B$2:$Z$2,0))","v":100},{"$f":"INDEX('LS1. Total Population'!$B20:$Z20,MATCH(G$76,'LS1. Total Population'!$B$2:$Z$2,0))","v":100}]
[null,null,2007,{"$f":"INDEX('LS1. Total Population'!$B21:$Z21,MATCH(D$3,'LS1. Total Population'!$B$2:$Z$2,0))","v":100.58137097337712},{"$f":"INDEX('LS1. Total Population'!$B21:$Z21,MATCH(E$76,'LS1. Total Population'!$B$2:$Z$2,0))","v":100.44321138304974},{"$f":"INDEX('LS1. Total Population'!$B21:$Z21,MATCH(F$76,'LS1. Total Population'!$B$2:$Z$2,0))","v":100.23755466004786},{"$f":"INDEX('LS1. Total Population'!$B21:$Z21,MATCH(G$76,'LS1. Total Population'!$B$2:$Z$2,0))","v":100.73847933702953}]
[null,null,2008,{"$f":"INDEX('LS1. Total Population'!$B22:$Z22,MATCH(D$3,'LS1. Total Population'!$B$2:$Z$2,0))","v":101.25218363496612},{"$f":"INDEX('LS1. Total Population'!$B22:$Z22,MATCH(E$76,'LS1. Total Population'!$B$2:$Z$2,0))","v":100.81591186425069},{"$f":"INDEX('LS1. Total Population'!$B22:$Z22,MATCH(F$76,'LS1. Total Population'!$B$2:$Z$2,0))","v":100.35906369576959},{"$f":"INDEX('LS1. Total Population'!$B22:$Z22,MATCH(G$76,'LS1. Total Population'!$B$2:$Z$2,0))","v":101.46730394777768}]
[null,null,2009,{"$f":"INDEX('LS1. Total Population'!$B23:$Z23,MATCH(D$3,'LS1. Total Population'!$B$2:$Z$2,0))","v":102.15708196492209},{"$f":"INDEX('LS1. Total Population'!$B23:$Z23,MATCH(E$76,'LS1. Total Population'!$B$2:$Z$2,0))","v":101.2142265097967},{"$f":"INDEX('LS1. Total Population'!$B23:$Z23,MATCH(F$76,'LS1. Total Population'!$B$2:$Z$2,0))","v":100.47946621779093},{"$f":"INDEX('LS1. Total Population'!$B23:$Z23,MATCH(G$76,'LS1. Total Population'!$B$2:$Z$2,0))","v":102.04399340785343}]
[null,null,2010,{"$f":"INDEX('LS1. Total Population'!$B24:$Z24,MATCH(D$3,'LS1. Total Population'!$B$2:$Z$2,0))","v":102.69443085738243},{"$f":"INDEX('LS1. Total Population'!$B24:$Z24,MATCH(E$76,'LS1. Total Population'!$B$2:$Z$2,0))","v":101.55987382865564},{"$f":"INDEX('LS1. Total Population'!$B24:$Z24,MATCH(F$76,'LS1. Total Population'!$B$2:$Z$2,0))","v":100.78251265747937},{"$f":"INDEX('LS1. Total Population'!$B24:$Z24,MATCH(G$76,'LS1. Total Population'!$B$2:$Z$2,0))","v":102.79840869265713}]
[null,null,2011,{"$f":"INDEX('LS1. Total Population'!$B25:$Z25,MATCH(D$3,'LS1. Total Population'!$B$2:$Z$2,0))","v":103.17727622108868},{"$f":"INDEX('LS1. Total Population'!$B25:$Z25,MATCH(E$76,'LS1. Total Population'!$B$2:$Z$2,0))","v":101.75183616144406},{"$f":"INDEX('LS1. Total Population'!$B25:$Z25,MATCH(F$76,'LS1. Total Population'!$B$2:$Z$2,0))","v":101.05893361125268},{"$f":"INDEX('LS1. Total Population'!$B25:$Z25,MATCH(G$76,'LS1. Total Population'!$B$2:$Z$2,0))","v":103.54045292264844}]
[null,null,2012,{"$f":"INDEX('LS1. Total Population'!$B26:$Z26,MATCH(D$3,'LS1. Total Population'!$B$2:$Z$2,0))","v":103.21640695968138},{"$f":"INDEX('LS1. Total Population'!$B26:$Z26,MATCH(E$76,'LS1. Total Population'!$B$2:$Z$2,0))","v":101.84220523565031},{"$f":"INDEX('LS1. Total Population'!$B26:$Z26,MATCH(F$76,'LS1. Total Population'!$B$2:$Z$2,0))","v":101.36135763698466},{"$f":"INDEX('LS1. Total Population'!$B26:$Z26,MATCH(G$76,'LS1. Total Population'!$B$2:$Z$2,0))","v":104.19209045254104}]
[null,null,2013,{"$f":"INDEX('LS1. Total Population'!$B27:$Z27,MATCH(D$3,'LS1. Total Population'!$B$2:$Z$2,0))","v":102.97603242261198},{"$f":"INDEX('LS1. Total Population'!$B27:$Z27,MATCH(E$76,'LS1. Total Population'!$B$2:$Z$2,0))","v":101.88595077475652},{"$f":"INDEX('LS1. Total Population'!$B27:$Z27,MATCH(F$76,'LS1. Total Population'!$B$2:$Z$2,0))","v":101.58113892072036},{"$f":"INDEX('LS1. Total Population'!$B27:$Z27,MATCH(G$76,'LS1. Total Population'!$B$2:$Z$2,0))","v":104.80064489052032}]
[null,null,2014,{"$f":"INDEX('LS1. Total Population'!$B28:$Z28,MATCH(D$3,'LS1. Total Population'!$B$2:$Z$2,0))","v":102.53860666620082},{"$f":"INDEX('LS1. Total Population'!$B28:$Z28,MATCH(E$76,'LS1. Total Population'!$B$2:$Z$2,0))","v":101.94149609743744},{"$f":"INDEX('LS1. Total Population'!$B28:$Z28,MATCH(F$76,'LS1. Total Population'!$B$2:$Z$2,0))","v":101.79780813467379},{"$f":"INDEX('LS1. Total Population'!$B28:$Z28,MATCH(G$76,'LS1. Total Population'!$B$2:$Z$2,0))","v":105.55848440950788}]
[null,null,2015,{"$f":"INDEX('LS1. Total Population'!$B29:$Z29,MATCH(D$3,'LS1. Total Population'!$B$2:$Z$2,0))","v":102.6105792746838},{"$f":"INDEX('LS1. Total Population'!$B29:$Z29,MATCH(E$76,'LS1. Total Population'!$B$2:$Z$2,0))","v":102.18065756452468},{"$f":"INDEX('LS1. Total Population'!$B29:$Z29,MATCH(F$76,'LS1. Total Population'!$B$2:$Z$2,0))","v":102.22215613876511},{"$f":"INDEX('LS1. Total Population'!$B29:$Z29,MATCH(G$76,'LS1. Total Population'!$B$2:$Z$2,0))","v":106.33022839457536}]
[null,null,2016,{"$f":"INDEX('LS1. Total Population'!$B30:$Z30,MATCH(D$3,'LS1. Total Population'!$B$2:$Z$2,0))","v":102.75242820208233},{"$f":"INDEX('LS1. Total Population'!$B30:$Z30,MATCH(E$76,'LS1. Total Population'!$B$2:$Z$2,0))","v":102.54242166094905},{"$f":"INDEX('LS1. Total Population'!$B30:$Z30,MATCH(F$76,'LS1. Total Population'!$B$2:$Z$2,0))","v":102.70120741391841},{"$f":"INDEX('LS1. Total Population'!$B30:$Z30,MATCH(G$76,'LS1. Total Population'!$B$2:$Z$2,0))","v":107.17778054329845}]
[]
[]
[]
[]
[]
[]
[]
[]
[]
[]
[]
[]
[]
[]
[]
[]
[]
[]
[]
[]
[]
[]
[]
[]
[]
[]
[]
[]
[]
[]
[]
[]
[]
[]
[]
[]
[]
[]
[]
[]
[]
[]
[null,null,"LS2. Population by Age Band, 2016"]
[null,null,null,{"$f":"D$3","v":"Blackburn with Darwen "},null,{"$f":"D$4","v":"Blackburn with Darwen, Hyndburn, Rossendale and Ribble Valley"},"Lancashire ","England Minus London"]
[null,null,"Aged under 1 year",{"$f":"INDEX('LS2. Population Split'!$B70:$Z70,MATCH(D$3,'LS2. Population Split'!$B$2:$Z$2,0))","v":2200},{"$f":"INDEX('LS2. Population Split'!$B103:$Z103,MATCH(D$3,'LS2. Population Split'!$B$2:$Z$2,0))","v":1.4965986394557823E-2},{"$f":"INDEX('LS2. Population Split'!$B103:$Z103,MATCH(D$4,'LS2. Population Split'!$B$2:$Z$2,0))","v":1.2629806342969408E-2},{"$f":"INDEX('LS2. Population Split'!$B103:$Z103,MATCH(G$131,'LS2. Population Split'!$B$2:$Z$2,0))","v":1.1447811447811448E-2},{"$f":"INDEX('LS2. Population Split'!$B103:$Z103,MATCH(H$131,'LS2. Population Split'!$B$2:$Z$2,0))","v":1.1622153088842131E-2}]
[null,null,"Aged 1 - 4 years",{"$f":"INDEX('LS2. Population Split'!$B71:$Z71,MATCH(D$3,'LS2. Population Split'!$B$2:$Z$2,0))","v":8800},{"$f":"INDEX('LS2. Population Split'!$B104:$Z104,MATCH(D$3,'LS2. Population Split'!$B$2:$Z$2,0))","v":5.9863945578231291E-2},{"$f":"INDEX('LS2. Population Split'!$B104:$Z104,MATCH(D$4,'LS2. Population Split'!$B$2:$Z$2,0))","v":5.2764524277294417E-2},{"$f":"INDEX('LS2. Population Split'!$B104:$Z104,MATCH(G$131,'LS2. Population Split'!$B$2:$Z$2,0))","v":4.7744107744107742E-2},{"$f":"INDEX('LS2. Population Split'!$B104:$Z104,MATCH(H$131,'LS2. Population Split'!$B$2:$Z$2,0))","v":4.8478707062362035E-2}]
[null,null,"Aged 5 - 9 years",{"$f":"INDEX('LS2. Population Split'!$B72:$Z72,MATCH(D$3,'LS2. Population Split'!$B$2:$Z$2,0))","v":11000},{"$f":"INDEX('LS2. Population Split'!$B105:$Z105,MATCH(D$3,'LS2. Population Split'!$B$2:$Z$2,0))","v":7.4829931972789115E-2},{"$f":"INDEX('LS2. Population Split'!$B105:$Z105,MATCH(D$4,'LS2. Population Split'!$B$2:$Z$2,0))","v":6.7920291888857703E-2},{"$f":"INDEX('LS2. Population Split'!$B105:$Z105,MATCH(G$131,'LS2. Population Split'!$B$2:$Z$2,0))","v":6.1010101010101007E-2},{"$f":"INDEX('LS2. Population Split'!$B105:$Z105,MATCH(H$131,'LS2. Population Split'!$B$2:$Z$2,0))","v":6.1286311160451114E-2}]
[null,null,"Aged 10 - 14 years",{"$f":"INDEX('LS2. Population Split'!$B73:$Z73,MATCH(D$3,'LS2. Population Split'!$B$2:$Z$2,0))","v":10300},{"$f":"INDEX('LS2. Population Split'!$B106:$Z106,MATCH(D$3,'LS2. Population Split'!$B$2:$Z$2,0))","v":7.0068027210884357E-2},{"$f":"INDEX('LS2. Population Split'!$B106:$Z106,MATCH(D$4,'LS2. Population Split'!$B$2:$Z$2,0))","v":6.4271681167555425E-2},{"$f":"INDEX('LS2. Population Split'!$B106:$Z106,MATCH(G$131,'LS2. Population Split'!$B$2:$Z$2,0))","v":5.6430976430976429E-2},{"$f":"INDEX('LS2. Population Split'!$B106:$Z106,MATCH(H$131,'LS2. Population Split'!$B$2:$Z$2,0))","v":5.5565595672996244E-2}]
[null,null,"Aged 15 - 19 years",{"$f":"INDEX('LS2. Population Split'!$B74:$Z74,MATCH(D$3,'LS2. Population Split'!$B$2:$Z$2,0))","v":9800},{"$f":"INDEX('LS2. Population Split'!$B107:$Z107,MATCH(D$3,'LS2. Population Split'!$B$2:$Z$2,0))","v":6.6666666666666666E-2},{"$f":"INDEX('LS2. Population Split'!$B107:$Z107,MATCH(D$4,'LS2. Population Split'!$B$2:$Z$2,0))","v":6.1745719898961549E-2},{"$f":"INDEX('LS2. Population Split'!$B107:$Z107,MATCH(G$131,'LS2. Population Split'!$B$2:$Z$2,0))","v":5.9663299663299661E-2},{"$f":"INDEX('LS2. Population Split'!$B107:$Z107,MATCH(H$131,'LS2. Population Split'!$B$2:$Z$2,0))","v":5.8321607910465104E-2}]
[null,null,"Aged 20 - 24 years",{"$f":"INDEX('LS2. Population Split'!$B75:$Z75,MATCH(D$3,'LS2. Population Split'!$B$2:$Z$2,0))","v":9000},{"$f":"INDEX('LS2. Population Split'!$B108:$Z108,MATCH(D$3,'LS2. Population Split'!$B$2:$Z$2,0))","v":6.1224489795918366E-2},{"$f":"INDEX('LS2. Population Split'!$B108:$Z108,MATCH(D$4,'LS2. Population Split'!$B$2:$Z$2,0))","v":5.5290485545888293E-2},{"$f":"INDEX('LS2. Population Split'!$B108:$Z108,MATCH(G$131,'LS2. Population Split'!$B$2:$Z$2,0))","v":6.4309764309764303E-2},{"$f":"INDEX('LS2. Population Split'!$B108:$Z108,MATCH(H$131,'LS2. Population Split'!$B$2:$Z$2,0))","v":6.434567837487791E-2}]
[null,null,"Aged 25 - 29 years",{"$f":"INDEX('LS2. Population Split'!$B76:$Z76,MATCH(D$3,'LS2. Population Split'!$B$2:$Z$2,0))","v":9600},{"$f":"INDEX('LS2. Population Split'!$B109:$Z109,MATCH(D$3,'LS2. Population Split'!$B$2:$Z$2,0))","v":6.5306122448979598E-2},{"$f":"INDEX('LS2. Population Split'!$B109:$Z109,MATCH(D$4,'LS2. Population Split'!$B$2:$Z$2,0))","v":6.1745719898961549E-2},{"$f":"INDEX('LS2. Population Split'!$B109:$Z109,MATCH(G$131,'LS2. Population Split'!$B$2:$Z$2,0))","v":6.1750841750841751E-2},{"$f":"INDEX('LS2. Population Split'!$B109:$Z109,MATCH(H$131,'LS2. Population Split'!$B$2:$Z$2,0))","v":6.4229499873064227E-2}]
[null,null,"Aged 30 - 34 years",{"$f":"INDEX('LS2. Population Split'!$B77:$Z77,MATCH(D$3,'LS2. Population Split'!$B$2:$Z$2,0))","v":10300},{"$f":"INDEX('LS2. Population Split'!$B110:$Z110,MATCH(D$3,'LS2. Population Split'!$B$2:$Z$2,0))","v":7.0068027210884357E-2},{"$f":"INDEX('LS2. Population Split'!$B110:$Z110,MATCH(D$4,'LS2. Population Split'!$B$2:$Z$2,0))","v":6.258770698849285E-2},{"$f":"INDEX('LS2. Population Split'!$B110:$Z110,MATCH(G$131,'LS2. Population Split'!$B$2:$Z$2,0))","v":5.9057239057239058E-2},{"$f":"INDEX('LS2. Population Split'!$B110:$Z110,MATCH(H$131,'LS2. Population Split'!$B$2:$Z$2,0))","v":6.2095257765672263E-2}]
[null,null,"Aged 35 - 39 years",{"$f":"INDEX('LS2. Population Split'!$B78:$Z78,MATCH(D$3,'LS2. Population Split'!$B$2:$Z$2,0))","v":9500},{"$f":"INDEX('LS2. Population Split'!$B111:$Z111,MATCH(D$3,'LS2. Population Split'!$B$2:$Z$2,0))","v":6.4625850340136057E-2},{"$f":"INDEX('LS2. Population Split'!$B111:$Z111,MATCH(D$4,'LS2. Population Split'!$B$2:$Z$2,0))","v":5.9500420993544766E-2},{"$f":"INDEX('LS2. Population Split'!$B111:$Z111,MATCH(G$131,'LS2. Population Split'!$B$2:$Z$2,0))","v":5.5959595959595959E-2},{"$f":"INDEX('LS2. Population Split'!$B111:$Z111,MATCH(H$131,'LS2. Population Split'!$B$2:$Z$2,0))","v":6.0191221208170359E-2}]
[null,null,"Aged 40 - 44 years",{"$f":"INDEX('LS2. Population Split'!$B79:$Z79,MATCH(D$3,'LS2. Population Split'!$B$2:$Z$2,0))","v":9500},{"$f":"INDEX('LS2. Population Split'!$B112:$Z112,MATCH(D$3,'LS2. Population Split'!$B$2:$Z$2,0))","v":6.4625850340136057E-2},{"$f":"INDEX('LS2. Population Split'!$B112:$Z112,MATCH(D$4,'LS2. Population Split'!$B$2:$Z$2,0))","v":6.4271681167555425E-2},{"$f":"INDEX('LS2. Population Split'!$B112:$Z112,MATCH(G$131,'LS2. Population Split'!$B$2:$Z$2,0))","v":6.0673400673400671E-2},{"$f":"INDEX('LS2. Population Split'!$B112:$Z112,MATCH(H$131,'LS2. Population Split'!$B$2:$Z$2,0))","v":6.2430884548689551E-2}]
[null,null,"Aged 45 - 49 years",{"$f":"INDEX('LS2. Population Split'!$B80:$Z80,MATCH(D$3,'LS2. Population Split'!$B$2:$Z$2,0))","v":10400},{"$f":"INDEX('LS2. Population Split'!$B113:$Z113,MATCH(D$3,'LS2. Population Split'!$B$2:$Z$2,0))","v":7.0748299319727898E-2},{"$f":"INDEX('LS2. Population Split'!$B113:$Z113,MATCH(D$4,'LS2. Population Split'!$B$2:$Z$2,0))","v":7.4375526241930959E-2},{"$f":"INDEX('LS2. Population Split'!$B113:$Z113,MATCH(G$131,'LS2. Population Split'!$B$2:$Z$2,0))","v":7.1582491582491581E-2},{"$f":"INDEX('LS2. Population Split'!$B113:$Z113,MATCH(H$131,'LS2. Population Split'!$B$2:$Z$2,0))","v":7.0787130864325018E-2}]
[null,null,"Aged 50 - 54 years",{"$f":"INDEX('LS2. Population Split'!$B81:$Z81,MATCH(D$3,'LS2. Population Split'!$B$2:$Z$2,0))","v":9500},{"$f":"INDEX('LS2. Population Split'!$B114:$Z114,MATCH(D$3,'LS2. Population Split'!$B$2:$Z$2,0))","v":6.4625850340136057E-2},{"$f":"INDEX('LS2. Population Split'!$B114:$Z114,MATCH(D$4,'LS2. Population Split'!$B$2:$Z$2,0))","v":7.1007577883805781E-2},{"$f":"INDEX('LS2. Population Split'!$B114:$Z114,MATCH(G$131,'LS2. Population Split'!$B$2:$Z$2,0))","v":7.2390572390572394E-2},{"$f":"INDEX('LS2. Population Split'!$B114:$Z114,MATCH(H$131,'LS2. Population Split'!$B$2:$Z$2,0))","v":7.1548745487325788E-2}]
[null,null,"Aged 55 - 59 years",{"$f":"INDEX('LS2. Population Split'!$B82:$Z82,MATCH(D$3,'LS2. Population Split'!$B$2:$Z$2,0))","v":8500},{"$f":"INDEX('LS2. Population Split'!$B115:$Z115,MATCH(D$3,'LS2. Population Split'!$B$2:$Z$2,0))","v":5.7823129251700682E-2},{"$f":"INDEX('LS2. Population Split'!$B115:$Z115,MATCH(D$4,'LS2. Population Split'!$B$2:$Z$2,0))","v":6.2868369351669937E-2},{"$f":"INDEX('LS2. Population Split'!$B115:$Z115,MATCH(G$131,'LS2. Population Split'!$B$2:$Z$2,0))","v":6.471380471380471E-2},{"$f":"INDEX('LS2. Population Split'!$B115:$Z115,MATCH(H$131,'LS2. Population Split'!$B$2:$Z$2,0))","v":6.3031140141393535E-2}]
[null,null,"Aged 60 - 64 years",{"$f":"INDEX('LS2. Population Split'!$B83:$Z83,MATCH(D$3,'LS2. Population Split'!$B$2:$Z$2,0))","v":7400},{"$f":"INDEX('LS2. Population Split'!$B116:$Z116,MATCH(D$3,'LS2. Population Split'!$B$2:$Z$2,0))","v":5.0340136054421766E-2},{"$f":"INDEX('LS2. Population Split'!$B116:$Z116,MATCH(D$4,'LS2. Population Split'!$B$2:$Z$2,0))","v":5.5571147909065394E-2},{"$f":"INDEX('LS2. Population Split'!$B116:$Z116,MATCH(G$131,'LS2. Population Split'!$B$2:$Z$2,0))","v":5.7104377104377102E-2},{"$f":"INDEX('LS2. Population Split'!$B116:$Z116,MATCH(H$131,'LS2. Population Split'!$B$2:$Z$2,0))","v":5.5412842457648631E-2}]
[null,null,"Aged 65 - 69 years",{"$f":"INDEX('LS2. Population Split'!$B84:$Z84,MATCH(D$3,'LS2. Population Split'!$B$2:$Z$2,0))","v":7100},{"$f":"INDEX('LS2. Population Split'!$B117:$Z117,MATCH(D$3,'LS2. Population Split'!$B$2:$Z$2,0))","v":4.8299319727891157E-2},{"$f":"INDEX('LS2. Population Split'!$B117:$Z117,MATCH(D$4,'LS2. Population Split'!$B$2:$Z$2,0))","v":5.7255122088127983E-2},{"$f":"INDEX('LS2. Population Split'!$B117:$Z117,MATCH(G$131,'LS2. Population Split'!$B$2:$Z$2,0))","v":6.1481481481481484E-2},{"$f":"INDEX('LS2. Population Split'!$B117:$Z117,MATCH(H$131,'LS2. Population Split'!$B$2:$Z$2,0))","v":5.8446392227227938E-2}]
[null,null,"Aged 70 - 74 years",{"$f":"INDEX('LS2. Population Split'!$B85:$Z85,MATCH(D$3,'LS2. Population Split'!$B$2:$Z$2,0))","v":5000},{"$f":"INDEX('LS2. Population Split'!$B118:$Z118,MATCH(D$3,'LS2. Population Split'!$B$2:$Z$2,0))","v":3.4013605442176874E-2},{"$f":"INDEX('LS2. Population Split'!$B118:$Z118,MATCH(D$4,'LS2. Population Split'!$B$2:$Z$2,0))","v":4.266067920291889E-2},{"$f":"INDEX('LS2. Population Split'!$B118:$Z118,MATCH(G$131,'LS2. Population Split'!$B$2:$Z$2,0))","v":4.7878787878787882E-2},{"$f":"INDEX('LS2. Population Split'!$B118:$Z118,MATCH(H$131,'LS2. Population Split'!$B$2:$Z$2,0))","v":4.6150834118613947E-2}]
[null,null,"Aged 75 - 79 years",{"$f":"INDEX('LS2. Population Split'!$B86:$Z86,MATCH(D$3,'LS2. Population Split'!$B$2:$Z$2,0))","v":3800},{"$f":"INDEX('LS2. Population Split'!$B119:$Z119,MATCH(D$3,'LS2. Population Split'!$B$2:$Z$2,0))","v":2.5850340136054421E-2},{"$f":"INDEX('LS2. Population Split'!$B119:$Z119,MATCH(D$4,'LS2. Population Split'!$B$2:$Z$2,0))","v":3.0592197586303677E-2},{"$f":"INDEX('LS2. Population Split'!$B119:$Z119,MATCH(G$131,'LS2. Population Split'!$B$2:$Z$2,0))","v":3.6094276094276095E-2},{"$f":"INDEX('LS2. Population Split'!$B119:$Z119,MATCH(H$131,'LS2. Population Split'!$B$2:$Z$2,0))","v":3.461043627178885E-2}]
[null,null,"Aged 80 - 84 years",{"$f":"INDEX('LS2. Population Split'!$B87:$Z87,MATCH(D$3,'LS2. Population Split'!$B$2:$Z$2,0))","v":2700},{"$f":"INDEX('LS2. Population Split'!$B120:$Z120,MATCH(D$3,'LS2. Population Split'!$B$2:$Z$2,0))","v":1.8367346938775512E-2},{"$f":"INDEX('LS2. Population Split'!$B120:$Z120,MATCH(D$4,'LS2. Population Split'!$B$2:$Z$2,0))","v":2.2452989054167836E-2},{"$f":"INDEX('LS2. Population Split'!$B120:$Z120,MATCH(G$131,'LS2. Population Split'!$B$2:$Z$2,0))","v":2.6127946127946129E-2},{"$f":"INDEX('LS2. Population Split'!$B120:$Z120,MATCH(H$131,'LS2. Population Split'!$B$2:$Z$2,0))","v":2.5892745728288605E-2}]
[null,null,"Aged 85 and over",{"$f":"INDEX('LS2. Population Split'!$B88:$Z88,MATCH(D$3,'LS2. Population Split'!$B$2:$Z$2,0))","v":2400},{"$f":"INDEX('LS2. Population Split'!$B121:$Z121,MATCH(D$3,'LS2. Population Split'!$B$2:$Z$2,0))","v":1.6326530612244899E-2},{"$f":"INDEX('LS2. Population Split'!$B121:$Z121,MATCH(D$4,'LS2. Population Split'!$B$2:$Z$2,0))","v":2.0769014875105248E-2},{"$f":"INDEX('LS2. Population Split'!$B121:$Z121,MATCH(G$131,'LS2. Population Split'!$B$2:$Z$2,0))","v":2.4713804713804712E-2},{"$f":"INDEX('LS2. Population Split'!$B121:$Z121,MATCH(H$131,'LS2. Population Split'!$B$2:$Z$2,0))","v":2.555496749153403E-2}]
[null,null,"Total",{"$f":"INDEX('LS2. Population Split'!$B89:$Z89,MATCH(D$3,'LS2. Population Split'!$B$2:$Z$2,0))","v":147000},{"$f":"INDEX('LS2. Population Split'!$B122:$Z122,MATCH(D$3,'LS2. Population Split'!$B$2:$Z$2,0))","v":1},{"$f":"INDEX('LS2. Population Split'!$B122:$Z122,MATCH(D$4,'LS2. Population Split'!$B$2:$Z$2,0))","v":1},{"$f":"INDEX('LS2. Population Split'!$B122:$Z122,MATCH(G$131,'LS2. Population Split'!$B$2:$Z$2,0))","v":1},{"$f":"INDEX('LS2. Population Split'!$B122:$Z122,MATCH(H$131,'LS2. Population Split'!$B$2:$Z$2,0))","v":1}]
[]
[null,null,"For details on Population by gender, ethnicity and disability, please click here"]
[]
[]
[]
[]
[]
[]
[]
[]
[]
[]
[]
[]
[]
[]
[]
[]
[]
[]
[]
[]
[]
[]
[]
[]
[]
[]
[]
[]
[]
[]
[]
[]
[]
[]
[]
[]
[]
[]
[]
[]
[]
[]
[]
[]
[]
[]
[]
[]
[]
[null,null,"LS3. Population Change by Age, 2006-2016"]
[null,null,null,{"$f":"D$3","v":"Blackburn with Darwen "},{"$f":"D$4","v":"Blackburn with Darwen, Hyndburn, Rossendale and Ribble Valley"},"Lancashire ","England Minus London"]
[null,null,"0-15",{"$f":"INDEX('LS3. Population Change by Age'!$B61:$AB61,MATCH(D$3,'LS3. Population Change by Age'!$B$2:$AB$2,0))","v":6.2305295950155761E-3},{"$f":"INDEX('LS3. Population Change by Age'!$B61:$AB61,MATCH(E$204,'LS3. Population Change by Age'!$B$2:$AB$2,0))","v":-8.4507042253521118E-3},{"$f":"INDEX('LS3. Population Change by Age'!$B61:$AB61,MATCH(F$204,'LS3. Population Change by Age'!$B$2:$AB$2,0))","v":6.5234075211051418E-3},{"$f":"INDEX('LS3. Population Change by Age'!$B61:$AB61,MATCH(G$204,'LS3. Population Change by Age'!$B$2:$AB$2,0))","v":6.5278209511967666E-2}]
[null,null,"16-19",{"$f":"INDEX('LS3. Population Change by Age'!$B62:$AB62,MATCH(D$3,'LS3. Population Change by Age'!$B$2:$AB$2,0))","v":-5.7692307692307696E-2},{"$f":"INDEX('LS3. Population Change by Age'!$B62:$AB62,MATCH(E$204,'LS3. Population Change by Age'!$B$2:$AB$2,0))","v":-9.8360655737704916E-2},{"$f":"INDEX('LS3. Population Change by Age'!$B62:$AB62,MATCH(F$204,'LS3. Population Change by Age'!$B$2:$AB$2,0))","v":-9.5918367346938774E-2},{"$f":"INDEX('LS3. Population Change by Age'!$B62:$AB62,MATCH(G$204,'LS3. Population Change by Age'!$B$2:$AB$2,0))","v":-4.4651982378854628E-2}]
[null,null,"20-24",{"$f":"INDEX('LS3. Population Change by Age'!$B63:$AB63,MATCH(D$3,'LS3. Population Change by Age'!$B$2:$AB$2,0))","v":-4.2553191489361701E-2},{"$f":"INDEX('LS3. Population Change by Age'!$B63:$AB63,MATCH(E$204,'LS3. Population Change by Age'!$B$2:$AB$2,0))","v":0},{"$f":"INDEX('LS3. Population Change by Age'!$B63:$AB63,MATCH(F$204,'LS3. Population Change by Age'!$B$2:$AB$2,0))","v":2.7987082884822389E-2},{"$f":"INDEX('LS3. Population Change by Age'!$B63:$AB63,MATCH(G$204,'LS3. Population Change by Age'!$B$2:$AB$2,0))","v":7.5479161422561045E-2}]
[null,null,"25-34",{"$f":"INDEX('LS3. Population Change by Age'!$B64:$AB64,MATCH(D$3,'LS3. Population Change by Age'!$B$2:$AB$2,0))","v":1.5306122448979591E-2},{"$f":"INDEX('LS3. Population Change by Age'!$B64:$AB64,MATCH(E$204,'LS3. Population Change by Age'!$B$2:$AB$2,0))","v":3.7470725995316159E-2},{"$f":"INDEX('LS3. Population Change by Age'!$B64:$AB64,MATCH(F$204,'LS3. Population Change by Age'!$B$2:$AB$2,0))","v":6.216696269982238E-2},{"$f":"INDEX('LS3. Population Change by Age'!$B64:$AB64,MATCH(G$204,'LS3. Population Change by Age'!$B$2:$AB$2,0))","v":9.973591054672136E-2}]
[null,null,"35-44",{"$f":"INDEX('LS3. Population Change by Age'!$B65:$AB65,MATCH(D$3,'LS3. Population Change by Age'!$B$2:$AB$2,0))","v":-0.107981220657277},{"$f":"INDEX('LS3. Population Change by Age'!$B65:$AB65,MATCH(E$204,'LS3. Population Change by Age'!$B$2:$AB$2,0))","v":-0.16949152542372881},{"$f":"INDEX('LS3. Population Change by Age'!$B65:$AB65,MATCH(F$204,'LS3. Population Change by Age'!$B$2:$AB$2,0))","v":-0.19178721418572095},{"$f":"INDEX('LS3. Population Change by Age'!$B65:$AB65,MATCH(G$204,'LS3. Population Change by Age'!$B$2:$AB$2,0))","v":-0.12974103707323031}]
[null,null,"45-54",{"$f":"INDEX('LS3. Population Change by Age'!$B66:$AB66,MATCH(D$3,'LS3. Population Change by Age'!$B$2:$AB$2,0))","v":0.14367816091954022},{"$f":"INDEX('LS3. Population Change by Age'!$B66:$AB66,MATCH(E$204,'LS3. Population Change by Age'!$B$2:$AB$2,0))","v":0.14855875831485588},{"$f":"INDEX('LS3. Population Change by Age'!$B66:$AB66,MATCH(F$204,'LS3. Population Change by Age'!$B$2:$AB$2,0))","v":0.13361611876988336},{"$f":"INDEX('LS3. Population Change by Age'!$B66:$AB66,MATCH(G$204,'LS3. Population Change by Age'!$B$2:$AB$2,0))","v":0.17052370842179759}]
[null,null,"55-64",{"$f":"INDEX('LS3. Population Change by Age'!$B67:$AB67,MATCH(D$3,'LS3. Population Change by Age'!$B$2:$AB$2,0))","v":8.9041095890410954E-2},{"$f":"INDEX('LS3. Population Change by Age'!$B67:$AB67,MATCH(E$204,'LS3. Population Change by Age'!$B$2:$AB$2,0))","v":2.9268292682926831E-2},{"$f":"INDEX('LS3. Population Change by Age'!$B67:$AB67,MATCH(F$204,'LS3. Population Change by Age'!$B$2:$AB$2,0))","v":5.5309734513274336E-4},{"$f":"INDEX('LS3. Population Change by Age'!$B67:$AB67,MATCH(G$204,'LS3. Population Change by Age'!$B$2:$AB$2,0))","v":3.6916354321661987E-2}]
[null,null,"65+",{"$f":"INDEX('LS3. Population Change by Age'!$B68:$AB68,MATCH(D$3,'LS3. Population Change by Age'!$B$2:$AB$2,0))","v":0.14754098360655737},{"$f":"INDEX('LS3. Population Change by Age'!$B68:$AB68,MATCH(E$204,'LS3. Population Change by Age'!$B$2:$AB$2,0))","v":0.22574257425742575},{"$f":"INDEX('LS3. Population Change by Age'!$B68:$AB68,MATCH(F$204,'LS3. Population Change by Age'!$B$2:$AB$2,0))","v":0.20504340636626706},{"$f":"INDEX('LS3. Population Change by Age'!$B68:$AB68,MATCH(G$204,'LS3. Population Change by Age'!$B$2:$AB$2,0))","v":0.23442636652365298}]
[]
[]
[]
[]
[]
[]
[]
[]
[]
[]
[]
[]
[]
[]
[]
[]
[]
[]
[]
[]
[]
[]
[]
[]
[]
[]
[]
[]
[]
[]
[]
[]
[]
[]
[]
[]
[]
[]
[]
[]
[]
[null,null,"LS4. Working Age Population, 2006-2016"]
[null,null,null,{"$f":"D$3","v":"Blackburn with Darwen "},{"$f":"D$4","v":"Blackburn with Darwen, Hyndburn, Rossendale and Ribble Valley"},"Lancashire ","England Minus London"]
[null,null,2006,{"$f":"INDEX('LS4. Working Age Population'!$B4:$Z4,MATCH(D$3,'LS4. Working Age Population'!$B$2:$Z$2,0))","v":90500},{"$f":"INDEX('LS4. Working Age Population'!$B4:$Z4,MATCH(E$255,'LS4. Working Age Population'!$B$2:$Z$2,0))","v":220800},{"$f":"INDEX('LS4. Working Age Population'!$B4:$Z4,MATCH(F$255,'LS4. Working Age Population'!$B$2:$Z$2,0))","v":923500},{"$f":"INDEX('LS4. Working Age Population'!$B4:$Z4,MATCH(G$255,'LS4. Working Age Population'!$B$2:$Z$2,0))","v":27886700}]
[null,null,2007,{"$f":"INDEX('LS4. Working Age Population'!$B5:$Z5,MATCH(D$3,'LS4. Working Age Population'!$B$2:$Z$2,0))","v":91400},{"$f":"INDEX('LS4. Working Age Population'!$B5:$Z5,MATCH(E$255,'LS4. Working Age Population'!$B$2:$Z$2,0))","v":222500},{"$f":"INDEX('LS4. Working Age Population'!$B5:$Z5,MATCH(F$255,'LS4. Working Age Population'!$B$2:$Z$2,0))","v":927600},{"$f":"INDEX('LS4. Working Age Population'!$B5:$Z5,MATCH(G$255,'LS4. Working Age Population'!$B$2:$Z$2,0))","v":28142300}]
[null,null,2008,{"$f":"INDEX('LS4. Working Age Population'!$B6:$Z6,MATCH(D$3,'LS4. Working Age Population'!$B$2:$Z$2,0))","v":92200},{"$f":"INDEX('LS4. Working Age Population'!$B6:$Z6,MATCH(E$255,'LS4. Working Age Population'!$B$2:$Z$2,0))","v":223700},{"$f":"INDEX('LS4. Working Age Population'!$B6:$Z6,MATCH(F$255,'LS4. Working Age Population'!$B$2:$Z$2,0))","v":928500},{"$f":"INDEX('LS4. Working Age Population'!$B6:$Z6,MATCH(G$255,'LS4. Working Age Population'!$B$2:$Z$2,0))","v":28325800}]
[null,null,2009,{"$f":"INDEX('LS4. Working Age Population'!$B7:$Z7,MATCH(D$3,'LS4. Working Age Population'!$B$2:$Z$2,0))","v":93100},{"$f":"INDEX('LS4. Working Age Population'!$B7:$Z7,MATCH(E$255,'LS4. Working Age Population'!$B$2:$Z$2,0))","v":224300},{"$f":"INDEX('LS4. Working Age Population'!$B7:$Z7,MATCH(F$255,'LS4. Working Age Population'!$B$2:$Z$2,0))","v":927600},{"$f":"INDEX('LS4. Working Age Population'!$B7:$Z7,MATCH(G$255,'LS4. Working Age Population'!$B$2:$Z$2,0))","v":28413600}]
[null,null,2010,{"$f":"INDEX('LS4. Working Age Population'!$B8:$Z8,MATCH(D$3,'LS4. Working Age Population'!$B$2:$Z$2,0))","v":93700},{"$f":"INDEX('LS4. Working Age Population'!$B8:$Z8,MATCH(E$255,'LS4. Working Age Population'!$B$2:$Z$2,0))","v":224700},{"$f":"INDEX('LS4. Working Age Population'!$B8:$Z8,MATCH(F$255,'LS4. Working Age Population'!$B$2:$Z$2,0))","v":928500},{"$f":"INDEX('LS4. Working Age Population'!$B8:$Z8,MATCH(G$255,'LS4. Working Age Population'!$B$2:$Z$2,0))","v":28559600}]
[null,null,2011,{"$f":"INDEX('LS4. Working Age Population'!$B9:$Z9,MATCH(D$3,'LS4. Working Age Population'!$B$2:$Z$2,0))","v":94200},{"$f":"INDEX('LS4. Working Age Population'!$B9:$Z9,MATCH(E$255,'LS4. Working Age Population'!$B$2:$Z$2,0))","v":224700},{"$f":"INDEX('LS4. Working Age Population'!$B9:$Z9,MATCH(F$255,'LS4. Working Age Population'!$B$2:$Z$2,0))","v":928000},{"$f":"INDEX('LS4. Working Age Population'!$B9:$Z9,MATCH(G$255,'LS4. Working Age Population'!$B$2:$Z$2,0))","v":28683000}]
[null,null,2012,{"$f":"INDEX('LS4. Working Age Population'!$B10:$Z10,MATCH(D$3,'LS4. Working Age Population'!$B$2:$Z$2,0))","v":93600},{"$f":"INDEX('LS4. Working Age Population'!$B10:$Z10,MATCH(E$255,'LS4. Working Age Population'!$B$2:$Z$2,0))","v":222900},{"$f":"INDEX('LS4. Working Age Population'!$B10:$Z10,MATCH(F$255,'LS4. Working Age Population'!$B$2:$Z$2,0))","v":922200},{"$f":"INDEX('LS4. Working Age Population'!$B10:$Z10,MATCH(G$255,'LS4. Working Age Population'!$B$2:$Z$2,0))","v":28603200}]
[null,null,2013,{"$f":"INDEX('LS4. Working Age Population'!$B11:$Z11,MATCH(D$3,'LS4. Working Age Population'!$B$2:$Z$2,0))","v":93000},{"$f":"INDEX('LS4. Working Age Population'!$B11:$Z11,MATCH(E$255,'LS4. Working Age Population'!$B$2:$Z$2,0))","v":221500},{"$f":"INDEX('LS4. Working Age Population'!$B11:$Z11,MATCH(F$255,'LS4. Working Age Population'!$B$2:$Z$2,0))","v":918400},{"$f":"INDEX('LS4. Working Age Population'!$B11:$Z11,MATCH(G$255,'LS4. Working Age Population'!$B$2:$Z$2,0))","v":28595200}]
[null,null,2014,{"$f":"INDEX('LS4. Working Age Population'!$B12:$Z12,MATCH(D$3,'LS4. Working Age Population'!$B$2:$Z$2,0))","v":92200},{"$f":"INDEX('LS4. Working Age Population'!$B12:$Z12,MATCH(E$255,'LS4. Working Age Population'!$B$2:$Z$2,0))","v":220300},{"$f":"INDEX('LS4. Working Age Population'!$B12:$Z12,MATCH(F$255,'LS4. Working Age Population'!$B$2:$Z$2,0))","v":914400},{"$f":"INDEX('LS4. Working Age Population'!$B12:$Z12,MATCH(G$255,'LS4. Working Age Population'!$B$2:$Z$2,0))","v":28651900}]
[null,null,2015,{"$f":"INDEX('LS4. Working Age Population'!$B13:$Z13,MATCH(D$3,'LS4. Working Age Population'!$B$2:$Z$2,0))","v":91800},{"$f":"INDEX('LS4. Working Age Population'!$B13:$Z13,MATCH(E$255,'LS4. Working Age Population'!$B$2:$Z$2,0))","v":219700},{"$f":"INDEX('LS4. Working Age Population'!$B13:$Z13,MATCH(F$255,'LS4. Working Age Population'!$B$2:$Z$2,0))","v":914200},{"$f":"INDEX('LS4. Working Age Population'!$B13:$Z13,MATCH(G$255,'LS4. Working Age Population'!$B$2:$Z$2,0))","v":28761900}]
[null,null,2016,{"$f":"INDEX('LS4. Working Age Population'!$B14:$Z14,MATCH(D$3,'LS4. Working Age Population'!$B$2:$Z$2,0))","v":91700},{"$f":"INDEX('LS4. Working Age Population'!$B14:$Z14,MATCH(E$255,'LS4. Working Age Population'!$B$2:$Z$2,0))","v":219700},{"$f":"INDEX('LS4. Working Age Population'!$B14:$Z14,MATCH(F$255,'LS4. Working Age Population'!$B$2:$Z$2,0))","v":914500},{"$f":"INDEX('LS4. Working Age Population'!$B14:$Z14,MATCH(G$255,'LS4. Working Age Population'!$B$2:$Z$2,0))","v":28885000}]
[null,null,"Change 2006-16",{"$f":"D266-D256","v":1200},-1100,-9000,{"$f":"G266-G256","v":998300}]
[null,null,"% Change 2006-16",{"$f":"D267/D256","v":1.3259668508287293E-2},{"$f":"E267/E256","v":-4.9818840579710141E-3},-9.7455332972387655E-3,{"$f":"G267/G256","v":3.5798427207234987E-2}]
[]
[null,null,"LS4. Index of Working Age Population, 2006-16"]
[null,null,null,{"$f":"D$3","v":"Blackburn with Darwen "},{"$f":"D$4","v":"Blackburn with Darwen, Hyndburn, Rossendale and Ribble Valley"},"Lancashire ","England Minus London"]
[null,null,2006,100,100,100,100]
[null,null,2007,{"$f":"D257/D$256*100","v":100.99447513812154},{"$f":"E257/E$256*100","v":100.76992753623189},100.44396318354087,100.91656596155157]
[null,null,2008,{"$f":"D258/D$256*100","v":101.87845303867404},101.31340579710144,100.54141851651326,101.57458573441819]
[null,null,2009,{"$f":"D259/D$256*100","v":102.87292817679558},101.58514492753623,100.44396318354087,101.88943116252551]
[null,null,2010,{"$f":"D260/D$256*100","v":103.53591160220994},101.76630434782609,100.54141851651326,102.41297822976546]
[null,null,2011,{"$f":"D261/D$256*100","v":104.08839779005525},101.76630434782609,100.48727666486195,102.8554830797477]
[null,null,2012,{"$f":"D262/D$256*100","v":103.42541436464087},100.95108695652173,99.859231185706548,102.56932516217407]
[null,null,2013,{"$f":"D263/D$256*100","v":102.76243093922652},100.31702898550725,99.447753113156466,102.54063765164038]
[null,null,2014,{"$f":"D264/D$256*100","v":101.87845303867404},99.773550724637687,99.014618299945852,102.74396038254795]
[null,null,2015,{"$f":"D265/D$256*100","v":101.4364640883978},99.501811594202891,98.992961559285334,103.13841365238628]
[null,null,2016,{"$f":"D266/D$256*100","v":101.32596685082873},99.501811594202891,99.025446670276125,103.57984272072349]
[]
[]
[]
[]
[]
[]
[]
[]
[]
[]
[]
[]
[]
[]
[]
[]
[]
[]
[]
[]
[]
[]
[]
[]
[]
[]
[null,null,"LS5. Population Aged 65+, 2006-16"]
[null,null,null,{"$f":"D$3","v":"Blackburn with Darwen "},{"$f":"D$4","v":"Blackburn with Darwen, Hyndburn, Rossendale and Ribble Valley"},"Lancashire ","England Minus London"]
[null,null,2006,{"$f":"INDEX('LS5. Population Aged 65+'!$B4:$Z4,MATCH(D$3,'LS5. Population Aged 65+'!$B$2:$Z$2,0))","v":18300},{"$f":"INDEX('LS5. Population Aged 65+'!$B4:$Z4,MATCH(E$310,'LS5. Population Aged 65+'!$B$2:$Z$2,0))","v":50400},{"$f":"INDEX('LS5. Population Aged 65+'!$B4:$Z4,MATCH(F$310,'LS5. Population Aged 65+'!$B$2:$Z$2,0))","v":241800},{"$f":"INDEX('LS5. Population Aged 65+'!$B4:$Z4,MATCH(G$310,'LS5. Population Aged 65+'!$B$2:$Z$2,0))","v":7178800}]
[null,null,2007,{"$f":"INDEX('LS5. Population Aged 65+'!$B5:$Z5,MATCH(D$3,'LS5. Population Aged 65+'!$B$2:$Z$2,0))","v":18300},{"$f":"INDEX('LS5. Population Aged 65+'!$B5:$Z5,MATCH(E$310,'LS5. Population Aged 65+'!$B$2:$Z$2,0))","v":50800},{"$f":"INDEX('LS5. Population Aged 65+'!$B5:$Z5,MATCH(F$310,'LS5. Population Aged 65+'!$B$2:$Z$2,0))","v":243700},{"$f":"INDEX('LS5. Population Aged 65+'!$B5:$Z5,MATCH(G$310,'LS5. Population Aged 65+'!$B$2:$Z$2,0))","v":7251700}]
[null,null,2008,{"$f":"INDEX('LS5. Population Aged 65+'!$B6:$Z6,MATCH(D$3,'LS5. Population Aged 65+'!$B$2:$Z$2,0))","v":18500},{"$f":"INDEX('LS5. Population Aged 65+'!$B6:$Z6,MATCH(E$310,'LS5. Population Aged 65+'!$B$2:$Z$2,0))","v":51500},{"$f":"INDEX('LS5. Population Aged 65+'!$B6:$Z6,MATCH(F$310,'LS5. Population Aged 65+'!$B$2:$Z$2,0))","v":247100},{"$f":"INDEX('LS5. Population Aged 65+'!$B6:$Z6,MATCH(G$310,'LS5. Population Aged 65+'!$B$2:$Z$2,0))","v":7371700}]
[null,null,2009,{"$f":"INDEX('LS5. Population Aged 65+'!$B7:$Z7,MATCH(D$3,'LS5. Population Aged 65+'!$B$2:$Z$2,0))","v":18700},{"$f":"INDEX('LS5. Population Aged 65+'!$B7:$Z7,MATCH(E$310,'LS5. Population Aged 65+'!$B$2:$Z$2,0))","v":52300},{"$f":"INDEX('LS5. Population Aged 65+'!$B7:$Z7,MATCH(F$310,'LS5. Population Aged 65+'!$B$2:$Z$2,0))","v":250700},{"$f":"INDEX('LS5. Population Aged 65+'!$B7:$Z7,MATCH(G$310,'LS5. Population Aged 65+'!$B$2:$Z$2,0))","v":7513000}]
[null,null,2010,{"$f":"INDEX('LS5. Population Aged 65+'!$B8:$Z8,MATCH(D$3,'LS5. Population Aged 65+'!$B$2:$Z$2,0))","v":18900},{"$f":"INDEX('LS5. Population Aged 65+'!$B8:$Z8,MATCH(E$310,'LS5. Population Aged 65+'!$B$2:$Z$2,0))","v":53300},{"$f":"INDEX('LS5. Population Aged 65+'!$B8:$Z8,MATCH(F$310,'LS5. Population Aged 65+'!$B$2:$Z$2,0))","v":255000},{"$f":"INDEX('LS5. Population Aged 65+'!$B8:$Z8,MATCH(G$310,'LS5. Population Aged 65+'!$B$2:$Z$2,0))","v":7666500}]
[null,null,2011,{"$f":"INDEX('LS5. Population Aged 65+'!$B9:$Z9,MATCH(D$3,'LS5. Population Aged 65+'!$B$2:$Z$2,0))","v":19200},{"$f":"INDEX('LS5. Population Aged 65+'!$B9:$Z9,MATCH(E$310,'LS5. Population Aged 65+'!$B$2:$Z$2,0))","v":54300},{"$f":"INDEX('LS5. Population Aged 65+'!$B9:$Z9,MATCH(F$310,'LS5. Population Aged 65+'!$B$2:$Z$2,0))","v":259400},{"$f":"INDEX('LS5. Population Aged 65+'!$B9:$Z9,MATCH(G$310,'LS5. Population Aged 65+'!$B$2:$Z$2,0))","v":7819500}]
[null,null,2012,{"$f":"INDEX('LS5. Population Aged 65+'!$B10:$Z10,MATCH(D$3,'LS5. Population Aged 65+'!$B$2:$Z$2,0))","v":19800},{"$f":"INDEX('LS5. Population Aged 65+'!$B10:$Z10,MATCH(E$310,'LS5. Population Aged 65+'!$B$2:$Z$2,0))","v":56500},{"$f":"INDEX('LS5. Population Aged 65+'!$B10:$Z10,MATCH(F$310,'LS5. Population Aged 65+'!$B$2:$Z$2,0))","v":268800},{"$f":"INDEX('LS5. Population Aged 65+'!$B10:$Z10,MATCH(G$310,'LS5. Population Aged 65+'!$B$2:$Z$2,0))","v":8119100}]
[null,null,2013,{"$f":"INDEX('LS5. Population Aged 65+'!$B11:$Z11,MATCH(D$3,'LS5. Population Aged 65+'!$B$2:$Z$2,0))","v":20200},{"$f":"INDEX('LS5. Population Aged 65+'!$B11:$Z11,MATCH(E$310,'LS5. Population Aged 65+'!$B$2:$Z$2,0))","v":58200},{"$f":"INDEX('LS5. Population Aged 65+'!$B11:$Z11,MATCH(F$310,'LS5. Population Aged 65+'!$B$2:$Z$2,0))","v":275600},{"$f":"INDEX('LS5. Population Aged 65+'!$B11:$Z11,MATCH(G$310,'LS5. Population Aged 65+'!$B$2:$Z$2,0))","v":8344800}]
[null,null,2014,{"$f":"INDEX('LS5. Population Aged 65+'!$B12:$Z12,MATCH(D$3,'LS5. Population Aged 65+'!$B$2:$Z$2,0))","v":20600},{"$f":"INDEX('LS5. Population Aged 65+'!$B12:$Z12,MATCH(E$310,'LS5. Population Aged 65+'!$B$2:$Z$2,0))","v":59700},{"$f":"INDEX('LS5. Population Aged 65+'!$B12:$Z12,MATCH(F$310,'LS5. Population Aged 65+'!$B$2:$Z$2,0))","v":282000},{"$f":"INDEX('LS5. Population Aged 65+'!$B12:$Z12,MATCH(G$310,'LS5. Population Aged 65+'!$B$2:$Z$2,0))","v":8554800}]
[null,null,2015,{"$f":"INDEX('LS5. Population Aged 65+'!$B13:$Z13,MATCH(D$3,'LS5. Population Aged 65+'!$B$2:$Z$2,0))","v":20900},{"$f":"INDEX('LS5. Population Aged 65+'!$B13:$Z13,MATCH(E$310,'LS5. Population Aged 65+'!$B$2:$Z$2,0))","v":60800},{"$f":"INDEX('LS5. Population Aged 65+'!$B13:$Z13,MATCH(F$310,'LS5. Population Aged 65+'!$B$2:$Z$2,0))","v":286700},{"$f":"INDEX('LS5. Population Aged 65+'!$B13:$Z13,MATCH(G$310,'LS5. Population Aged 65+'!$B$2:$Z$2,0))","v":8710200}]
[null,null,2016,{"$f":"INDEX('LS5. Population Aged 65+'!$B14:$Z14,MATCH(D$3,'LS5. Population Aged 65+'!$B$2:$Z$2,0))","v":21100},{"$f":"INDEX('LS5. Population Aged 65+'!$B14:$Z14,MATCH(E$310,'LS5. Population Aged 65+'!$B$2:$Z$2,0))","v":61900},{"$f":"INDEX('LS5. Population Aged 65+'!$B14:$Z14,MATCH(F$310,'LS5. Population Aged 65+'!$B$2:$Z$2,0))","v":291400},{"$f":"INDEX('LS5. Population Aged 65+'!$B14:$Z14,MATCH(G$310,'LS5. Population Aged 65+'!$B$2:$Z$2,0))","v":8861700}]
[null,null,"Change 2006-16",{"$f":"D321-D311","v":2800},11500,49600,1682900]
[null,null,"% Change 2006-16",{"$f":"D322/D311","v":0.15300546448087432},{"$f":"E322/E311","v":0.22817460317460317},0.20512820512820512,0.23442636652365298]
[]
[null,null,"LS5. Index of Population Aged 65+, 2006-16"]
[null,null,null,{"$f":"D$3","v":"Blackburn with Darwen "},{"$f":"D$4","v":"Blackburn with Darwen, Hyndburn, Rossendale and Ribble Valley"},"Lancashire ","England Minus London"]
[null,null,2006,100,100,100,100]
[null,null,2007,{"$f":"D312/D$311*100","v":100},{"$f":"E312/E$311*100","v":100.79365079365078},100.78577336641852,101.01549005404804]
[null,null,2008,{"$f":"D313/D$311*100","v":101.09289617486338},102.18253968253967,102.19189412737799,102.68707862038224]
[null,null,2009,{"$f":"D314/D$311*100","v":102.18579234972678},103.76984126984128,103.68072787427627,104.65537415724076]
[null,null,2010,{"$f":"D315/D$311*100","v":103.27868852459017},105.75396825396825,105.4590570719603,106.7936145316766]
[null,null,2011,{"$f":"D316/D$311*100","v":104.91803278688525},107.73809523809523,107.27874276261373,108.92488995375271]
[null,null,2012,{"$f":"D317/D$311*100","v":108.19672131147541},112.10317460317461,111.16625310173698,113.09828940770046]
[null,null,2013,{"$f":"D318/D$311*100","v":110.38251366120218},115.47619047619047,113.97849462365592,116.2422689028807]
[null,null,2014,{"$f":"D319/D$311*100","v":112.56830601092895},118.45238095238095,116.62531017369726,119.16754889396557]
[null,null,2015,{"$f":"D320/D$311*100","v":114.20765027322403},120.63492063492063,118.56906534325888,121.33225608736838]
[null,null,2016,{"$f":"D321/D$311*100","v":115.30054644808743},122.81746031746033,120.51282051282051,123.44263665236529]
[]
[]
[]
[]
[]
[]
[]
[]
[]
[]
[]
[]
[]
[]
[]
[]
[]
[]
[]
[]
[]
[]
[null,null,"LS6. Components of Population Change, 2016"]
[null,null,null,{"$f":"D$3","v":"Blackburn with Darwen "},{"$f":"D$4","v":"Blackburn with Darwen, Hyndburn, Rossendale and Ribble Valley"},"Lancashire ","England Minus London"]
[null,null,"Long-Term International Migration",{"$f":"IFERROR(INDEX('LS6. Components of Pop Change'!$B5:$Z5,MATCH(D$3,'LS6. Components of Pop Change'!$B$2:$Z$2,0)),\"n/a\")","v":302},{"$f":"IFERROR(INDEX('LS6. Components of Pop Change'!$B5:$Z5,MATCH(E$361,'LS6. Components of Pop Change'!$B$2:$Z$2,0)),\"n/a\")","v":524},{"$f":"IFERROR(INDEX('LS6. Components of Pop Change'!$B5:$Z5,MATCH(F$361,'LS6. Components of Pop Change'!$B$2:$Z$2,0)),\"n/a\")","v":3574},{"$f":"IFERROR(INDEX('LS6. Components of Pop Change'!$B5:$Z5,MATCH(G$361,'LS6. Components of Pop Change'!$B$2:$Z$2,0)),\"n/a\")","v":175538}]
[null,null,"Internal Migration (within UK)",{"$f":"IFERROR(INDEX('LS6. Components of Pop Change'!$B6:$Z6,MATCH(D$3,'LS6. Components of Pop Change'!$B$2:$Z$2,0)),\"n/a\")","v":-1036},{"$f":"IFERROR(INDEX('LS6. Components of Pop Change'!$B6:$Z6,MATCH(E$361,'LS6. Components of Pop Change'!$B$2:$Z$2,0)),\"n/a\")","v":-510},{"$f":"IFERROR(INDEX('LS6. Components of Pop Change'!$B6:$Z6,MATCH(F$361,'LS6. Components of Pop Change'!$B$2:$Z$2,0)),\"n/a\")","v":2146},{"$f":"IFERROR(INDEX('LS6. Components of Pop Change'!$B6:$Z6,MATCH(G$361,'LS6. Components of Pop Change'!$B$2:$Z$2,0)),\"n/a\")","v":81117}]
[]
[null,null,"LS6. Components of Population Change as a % of Total Population, 2016"]
[null,null,null,{"$f":"D$3","v":"Blackburn with Darwen "},{"$f":"D$4","v":"Blackburn with Darwen, Hyndburn, Rossendale and Ribble Valley"},"Lancashire ","England Minus London"]
[null,null,"Long-Term International Migration",{"$f":"IFERROR(INDEX('LS6. Components of Pop Change'!$B10:$Z10,MATCH(D$3,'LS6. Components of Pop Change'!$B$2:$Z$2,0)),\"n/a\")","v":2.0537371896442681E-3},{"$f":"IFERROR(INDEX('LS6. Components of Pop Change'!$B10:$Z10,MATCH(E$361,'LS6. Components of Pop Change'!$B$2:$Z$2,0)),\"n/a\")","v":1.4706790383330808E-3},{"$f":"IFERROR(INDEX('LS6. Components of Pop Change'!$B10:$Z10,MATCH(F$361,'LS6. Components of Pop Change'!$B$2:$Z$2,0)),\"n/a\")","v":2.981319621821191E-3},{"$f":"IFERROR(INDEX('LS6. Components of Pop Change'!$B10:$Z10,MATCH(G$361,'LS6. Components of Pop Change'!$B$2:$Z$2,0)),\"n/a\")","v":3.7766208926709077E-3}]
[null,null,"Internal Migration (within UK)",{"$f":"IFERROR(INDEX('LS6. Components of Pop Change'!$B11:$Z11,MATCH(D$3,'LS6. Components of Pop Change'!$B$2:$Z$2,0)),\"n/a\")","v":-7.0452706240776881E-3},{"$f":"IFERROR(INDEX('LS6. Components of Pop Change'!$B11:$Z11,MATCH(E$361,'LS6. Components of Pop Change'!$B$2:$Z$2,0)),\"n/a\")","v":-1.4313860869272351E-3},{"$f":"IFERROR(INDEX('LS6. Components of Pop Change'!$B11:$Z11,MATCH(F$361,'LS6. Components of Pop Change'!$B$2:$Z$2,0)),\"n/a\")","v":1.7901264433207262E-3},{"$f":"IFERROR(INDEX('LS6. Components of Pop Change'!$B11:$Z11,MATCH(G$361,'LS6. Components of Pop Change'!$B$2:$Z$2,0)),\"n/a\")","v":1.745195666754697E-3}]
[]
[]
[]
[]
[]
[]
[]
[]
[]
[]
[]
[]
[]
[]
[]
[]
[]
[]
[]
[]
[]
[]
[]
[]
[]
[]
[]
[]
[]
[]
[]
[null,null,"LS7. Total Projected Population, 2018-28"]
[null,null,null,{"$f":"D$3","v":"Blackburn with Darwen "},{"$f":"D$4","v":"Blackburn with Darwen, Hyndburn, Rossendale and Ribble Valley"},"Lancashire ","England Minus London"]
[null,null,2018,{"$f":"INDEX('LS7. Population Projections'!$B4:$Z4,MATCH(D$3,'LS7. Population Projections'!$B$2:$Z$2,0))","v":146245},{"$f":"INDEX('LS7. Population Projections'!$B4:$Z4,MATCH(E$401,'LS7. Population Projections'!$B$2:$Z$2,0))","v":355039},{"$f":"INDEX('LS7. Population Projections'!$B4:$Z4,MATCH(F$401,'LS7. Population Projections'!$B$2:$Z$2,0))","v":1485312},{"$f":"INDEX('LS7. Population Projections'!$B4:$Z4,MATCH(G$401,'LS7. Population Projections'!$B$2:$Z$2,0))","v":46980139}]
[null,null,2019,{"$f":"INDEX('LS7. Population Projections'!$B5:$Z5,MATCH(D$3,'LS7. Population Projections'!$B$2:$Z$2,0))","v":146162},{"$f":"INDEX('LS7. Population Projections'!$B5:$Z5,MATCH(E$401,'LS7. Population Projections'!$B$2:$Z$2,0))","v":355396},{"$f":"INDEX('LS7. Population Projections'!$B5:$Z5,MATCH(F$401,'LS7. Population Projections'!$B$2:$Z$2,0))","v":1488534},{"$f":"INDEX('LS7. Population Projections'!$B5:$Z5,MATCH(G$401,'LS7. Population Projections'!$B$2:$Z$2,0))","v":47269814}]
[null,null,2020,{"$f":"INDEX('LS7. Population Projections'!$B6:$Z6,MATCH(D$3,'LS7. Population Projections'!$B$2:$Z$2,0))","v":146082},{"$f":"INDEX('LS7. Population Projections'!$B6:$Z6,MATCH(E$401,'LS7. Population Projections'!$B$2:$Z$2,0))","v":355772},{"$f":"INDEX('LS7. Population Projections'!$B6:$Z6,MATCH(F$401,'LS7. Population Projections'!$B$2:$Z$2,0))","v":1491672},{"$f":"INDEX('LS7. Population Projections'!$B6:$Z6,MATCH(G$401,'LS7. Population Projections'!$B$2:$Z$2,0))","v":47555883}]
[null,null,2021,{"$f":"INDEX('LS7. Population Projections'!$B7:$Z7,MATCH(D$3,'LS7. Population Projections'!$B$2:$Z$2,0))","v":145989},{"$f":"INDEX('LS7. Population Projections'!$B7:$Z7,MATCH(E$401,'LS7. Population Projections'!$B$2:$Z$2,0))","v":356175},{"$f":"INDEX('LS7. Population Projections'!$B7:$Z7,MATCH(F$401,'LS7. Population Projections'!$B$2:$Z$2,0))","v":1494798},{"$f":"INDEX('LS7. Population Projections'!$B7:$Z7,MATCH(G$401,'LS7. Population Projections'!$B$2:$Z$2,0))","v":47837833}]
[null,null,2022,{"$f":"INDEX('LS7. Population Projections'!$B8:$Z8,MATCH(D$3,'LS7. Population Projections'!$B$2:$Z$2,0))","v":145892},{"$f":"INDEX('LS7. Population Projections'!$B8:$Z8,MATCH(E$401,'LS7. Population Projections'!$B$2:$Z$2,0))","v":356518},{"$f":"INDEX('LS7. Population Projections'!$B8:$Z8,MATCH(F$401,'LS7. Population Projections'!$B$2:$Z$2,0))","v":1498017},{"$f":"INDEX('LS7. Population Projections'!$B8:$Z8,MATCH(G$401,'LS7. Population Projections'!$B$2:$Z$2,0))","v":48121588}]
[null,null,2023,{"$f":"INDEX('LS7. Population Projections'!$B9:$Z9,MATCH(D$3,'LS7. Population Projections'!$B$2:$Z$2,0))","v":145789},{"$f":"INDEX('LS7. Population Projections'!$B9:$Z9,MATCH(E$401,'LS7. Population Projections'!$B$2:$Z$2,0))","v":356836},{"$f":"INDEX('LS7. Population Projections'!$B9:$Z9,MATCH(F$401,'LS7. Population Projections'!$B$2:$Z$2,0))","v":1501295},{"$f":"INDEX('LS7. Population Projections'!$B9:$Z9,MATCH(G$401,'LS7. Population Projections'!$B$2:$Z$2,0))","v":48405637}]
[null,null,2024,{"$f":"INDEX('LS7. Population Projections'!$B10:$Z10,MATCH(D$3,'LS7. Population Projections'!$B$2:$Z$2,0))","v":145675},{"$f":"INDEX('LS7. Population Projections'!$B10:$Z10,MATCH(E$401,'LS7. Population Projections'!$B$2:$Z$2,0))","v":357086},{"$f":"INDEX('LS7. Population Projections'!$B10:$Z10,MATCH(F$401,'LS7. Population Projections'!$B$2:$Z$2,0))","v":1504519},{"$f":"INDEX('LS7. Population Projections'!$B10:$Z10,MATCH(G$401,'LS7. Population Projections'!$B$2:$Z$2,0))","v":48688326}]
[null,null,2025,{"$f":"INDEX('LS7. Population Projections'!$B11:$Z11,MATCH(D$3,'LS7. Population Projections'!$B$2:$Z$2,0))","v":145544},{"$f":"INDEX('LS7. Population Projections'!$B11:$Z11,MATCH(E$401,'LS7. Population Projections'!$B$2:$Z$2,0))","v":357266},{"$f":"INDEX('LS7. Population Projections'!$B11:$Z11,MATCH(F$401,'LS7. Population Projections'!$B$2:$Z$2,0))","v":1507703},{"$f":"INDEX('LS7. Population Projections'!$B11:$Z11,MATCH(G$401,'LS7. Population Projections'!$B$2:$Z$2,0))","v":48967834}]
[null,null,2026,{"$f":"INDEX('LS7. Population Projections'!$B12:$Z12,MATCH(D$3,'LS7. Population Projections'!$B$2:$Z$2,0))","v":145398},{"$f":"INDEX('LS7. Population Projections'!$B12:$Z12,MATCH(E$401,'LS7. Population Projections'!$B$2:$Z$2,0))","v":357400},{"$f":"INDEX('LS7. Population Projections'!$B12:$Z12,MATCH(F$401,'LS7. Population Projections'!$B$2:$Z$2,0))","v":1510768},{"$f":"INDEX('LS7. Population Projections'!$B12:$Z12,MATCH(G$401,'LS7. Population Projections'!$B$2:$Z$2,0))","v":49242497}]
[null,null,2027,{"$f":"INDEX('LS7. Population Projections'!$B13:$Z13,MATCH(D$3,'LS7. Population Projections'!$B$2:$Z$2,0))","v":145241},{"$f":"INDEX('LS7. Population Projections'!$B13:$Z13,MATCH(E$401,'LS7. Population Projections'!$B$2:$Z$2,0))","v":357500},{"$f":"INDEX('LS7. Population Projections'!$B13:$Z13,MATCH(F$401,'LS7. Population Projections'!$B$2:$Z$2,0))","v":1513664},{"$f":"INDEX('LS7. Population Projections'!$B13:$Z13,MATCH(G$401,'LS7. Population Projections'!$B$2:$Z$2,0))","v":49511497}]
[null,null,2028,{"$f":"INDEX('LS7. Population Projections'!$B14:$Z14,MATCH(D$3,'LS7. Population Projections'!$B$2:$Z$2,0))","v":145088},{"$f":"INDEX('LS7. Population Projections'!$B14:$Z14,MATCH(E$401,'LS7. Population Projections'!$B$2:$Z$2,0))","v":357586},{"$f":"INDEX('LS7. Population Projections'!$B14:$Z14,MATCH(F$401,'LS7. Population Projections'!$B$2:$Z$2,0))","v":1516364},{"$f":"INDEX('LS7. Population Projections'!$B14:$Z14,MATCH(G$401,'LS7. Population Projections'!$B$2:$Z$2,0))","v":49774372}]
[null,null,"Change 2018-2028",{"$f":"INDEX('LS7. Population Projections'!$B15:$Z15,MATCH(D$3,'LS7. Population Projections'!$B$2:$Z$2,0))","v":-1157},{"$f":"INDEX('LS7. Population Projections'!$B15:$Z15,MATCH(E$401,'LS7. Population Projections'!$B$2:$Z$2,0))","v":2547},{"$f":"INDEX('LS7. Population Projections'!$B15:$Z15,MATCH(F$401,'LS7. Population Projections'!$B$2:$Z$2,0))","v":31052},{"$f":"INDEX('LS7. Population Projections'!$B15:$Z15,MATCH(G$401,'LS7. Population Projections'!$B$2:$Z$2,0))","v":2794233}]
[null,null,"% Change 2018-2028",{"$f":"D413/D402","v":-7.9113815856952374E-3},{"$f":"E413/E402","v":7.1738597731516819E-3},{"$f":"F413/F402","v":2.0906045329196828E-2},{"$f":"G413/G402","v":5.947689937656421E-2}]
[]
[null,null,"LS7. Index of Projected Population, 2018-28"]
[null,null,null,{"$f":"D$3","v":"Blackburn with Darwen "},{"$f":"D$4","v":"Blackburn with Darwen, Hyndburn, Rossendale and Ribble Valley"},"Lancashire ","England Minus London"]
[null,null,2018,{"$f":"INDEX('LS7. Population Projections'!$B20:$Z20,MATCH(D$3,'LS7. Population Projections'!$B$2:$Z$2,0))","v":100},{"$f":"INDEX('LS7. Population Projections'!$B20:$Z20,MATCH(E$401,'LS7. Population Projections'!$B$2:$Z$2,0))","v":100},{"$f":"INDEX('LS7. Population Projections'!$B20:$Z20,MATCH(F$401,'LS7. Population Projections'!$B$2:$Z$2,0))","v":100},{"$f":"INDEX('LS7. Population Projections'!$B20:$Z20,MATCH(G$401,'LS7. Population Projections'!$B$2:$Z$2,0))","v":100}]
[null,null,2019,{"$f":"INDEX('LS7. Population Projections'!$B21:$Z21,MATCH(D$3,'LS7. Population Projections'!$B$2:$Z$2,0))","v":99.943245922937535},{"$f":"INDEX('LS7. Population Projections'!$B21:$Z21,MATCH(E$401,'LS7. Population Projections'!$B$2:$Z$2,0))","v":100.10055233368729},{"$f":"INDEX('LS7. Population Projections'!$B21:$Z21,MATCH(F$401,'LS7. Population Projections'!$B$2:$Z$2,0))","v":100.21692412099277},{"$f":"INDEX('LS7. Population Projections'!$B21:$Z21,MATCH(G$401,'LS7. Population Projections'!$B$2:$Z$2,0))","v":100.61659034257009}]
[null,null,2020,{"$f":"INDEX('LS7. Population Projections'!$B22:$Z22,MATCH(D$3,'LS7. Population Projections'!$B$2:$Z$2,0))","v":99.888543198058059},{"$f":"INDEX('LS7. Population Projections'!$B22:$Z22,MATCH(E$401,'LS7. Population Projections'!$B$2:$Z$2,0))","v":100.20645619213664},{"$f":"INDEX('LS7. Population Projections'!$B22:$Z22,MATCH(F$401,'LS7. Population Projections'!$B$2:$Z$2,0))","v":100.42819286452946},{"$f":"INDEX('LS7. Population Projections'!$B22:$Z22,MATCH(G$401,'LS7. Population Projections'!$B$2:$Z$2,0))","v":101.22550510120882}]
[null,null,2021,{"$f":"INDEX('LS7. Population Projections'!$B23:$Z23,MATCH(D$3,'LS7. Population Projections'!$B$2:$Z$2,0))","v":99.824951280385648},{"$f":"INDEX('LS7. Population Projections'!$B23:$Z23,MATCH(E$401,'LS7. Population Projections'!$B$2:$Z$2,0))","v":100.31996484893209},{"$f":"INDEX('LS7. Population Projections'!$B23:$Z23,MATCH(F$401,'LS7. Population Projections'!$B$2:$Z$2,0))","v":100.63865369700102},{"$f":"INDEX('LS7. Population Projections'!$B23:$Z23,MATCH(G$401,'LS7. Population Projections'!$B$2:$Z$2,0))","v":101.82565232512401}]
[null,null,2022,{"$f":"INDEX('LS7. Population Projections'!$B24:$Z24,MATCH(D$3,'LS7. Population Projections'!$B$2:$Z$2,0))","v":99.75862422646928},{"$f":"INDEX('LS7. Population Projections'!$B24:$Z24,MATCH(E$401,'LS7. Population Projections'!$B$2:$Z$2,0))","v":100.41657395384733},{"$f":"INDEX('LS7. Population Projections'!$B24:$Z24,MATCH(F$401,'LS7. Population Projections'!$B$2:$Z$2,0))","v":100.8553758402275},{"$f":"INDEX('LS7. Population Projections'!$B24:$Z24,MATCH(G$401,'LS7. Population Projections'!$B$2:$Z$2,0))","v":102.42964159812298}]
[null,null,2023,{"$f":"INDEX('LS7. Population Projections'!$B25:$Z25,MATCH(D$3,'LS7. Population Projections'!$B$2:$Z$2,0))","v":99.688194468186936},{"$f":"INDEX('LS7. Population Projections'!$B25:$Z25,MATCH(E$401,'LS7. Population Projections'!$B$2:$Z$2,0))","v":100.50614157881246},{"$f":"INDEX('LS7. Population Projections'!$B25:$Z25,MATCH(F$401,'LS7. Population Projections'!$B$2:$Z$2,0))","v":101.07607021285763},{"$f":"INDEX('LS7. Population Projections'!$B25:$Z25,MATCH(G$401,'LS7. Population Projections'!$B$2:$Z$2,0))","v":103.03425666748241}]
[null,null,2024,{"$f":"INDEX('LS7. Population Projections'!$B26:$Z26,MATCH(D$3,'LS7. Population Projections'!$B$2:$Z$2,0))","v":99.610243085233691},{"$f":"INDEX('LS7. Population Projections'!$B26:$Z26,MATCH(E$401,'LS7. Population Projections'!$B$2:$Z$2,0))","v":100.57655637831337},{"$f":"INDEX('LS7. Population Projections'!$B26:$Z26,MATCH(F$401,'LS7. Population Projections'!$B$2:$Z$2,0))","v":101.29312898569458},{"$f":"INDEX('LS7. Population Projections'!$B26:$Z26,MATCH(G$401,'LS7. Population Projections'!$B$2:$Z$2,0))","v":103.63597689653494}]
[null,null,2025,{"$f":"INDEX('LS7. Population Projections'!$B27:$Z27,MATCH(D$3,'LS7. Population Projections'!$B$2:$Z$2,0))","v":99.520667373243526},{"$f":"INDEX('LS7. Population Projections'!$B27:$Z27,MATCH(E$401,'LS7. Population Projections'!$B$2:$Z$2,0))","v":100.62725503395401},{"$f":"INDEX('LS7. Population Projections'!$B27:$Z27,MATCH(F$401,'LS7. Population Projections'!$B$2:$Z$2,0))","v":101.5074947216477},{"$f":"INDEX('LS7. Population Projections'!$B27:$Z27,MATCH(G$401,'LS7. Population Projections'!$B$2:$Z$2,0))","v":104.23092617925205}]
[null,null,2026,{"$f":"INDEX('LS7. Population Projections'!$B28:$Z28,MATCH(D$3,'LS7. Population Projections'!$B$2:$Z$2,0))","v":99.420834900338477},{"$f":"INDEX('LS7. Population Projections'!$B28:$Z28,MATCH(E$401,'LS7. Population Projections'!$B$2:$Z$2,0))","v":100.6649973664865},{"$f":"INDEX('LS7. Population Projections'!$B28:$Z28,MATCH(F$401,'LS7. Population Projections'!$B$2:$Z$2,0))","v":101.71384867287144},{"$f":"INDEX('LS7. Population Projections'!$B28:$Z28,MATCH(G$401,'LS7. Population Projections'!$B$2:$Z$2,0))","v":104.8155625933759}]
[null,null,2027,{"$f":"INDEX('LS7. Population Projections'!$B29:$Z29,MATCH(D$3,'LS7. Population Projections'!$B$2:$Z$2,0))","v":99.313480802762484},{"$f":"INDEX('LS7. Population Projections'!$B29:$Z29,MATCH(E$401,'LS7. Population Projections'!$B$2:$Z$2,0))","v":100.69316328628686},{"$f":"INDEX('LS7. Population Projections'!$B29:$Z29,MATCH(F$401,'LS7. Population Projections'!$B$2:$Z$2,0))","v":101.90882454326093},{"$f":"INDEX('LS7. Population Projections'!$B29:$Z29,MATCH(G$401,'LS7. Population Projections'!$B$2:$Z$2,0))","v":105.38814497760427}]
[null,null,2028,{"$f":"INDEX('LS7. Population Projections'!$B30:$Z30,MATCH(D$3,'LS7. Population Projections'!$B$2:$Z$2,0))","v":99.208861841430476},{"$f":"INDEX('LS7. Population Projections'!$B30:$Z30,MATCH(E$401,'LS7. Population Projections'!$B$2:$Z$2,0))","v":100.71738597731516},{"$f":"INDEX('LS7. Population Projections'!$B30:$Z30,MATCH(F$401,'LS7. Population Projections'!$B$2:$Z$2,0))","v":102.0906045329197},{"$f":"INDEX('LS7. Population Projections'!$B30:$Z30,MATCH(G$401,'LS7. Population Projections'!$B$2:$Z$2,0))","v":105.94768993765642}]
[]
[]
[]
[]
[]
[]
[]
[]
[]
[]
[]
[]
[]
[]
[]
[]
[]
[]
[]
[]
[]
[]
[]
[]
[]
[]
[]
[]
[]
[]
[]
[]
[null,null,"LS8. Population Projections, 16-64, 2018-28"]
[null,null,null,{"$f":"D$3","v":"Blackburn with Darwen "},{"$f":"D$4","v":"Blackburn with Darwen, Hyndburn, Rossendale and Ribble Valley"},"Lancashire ","England Minus London"]
[null,null,2018,{"$f":"INDEX('LS8. Pop Projections 16-64'!$B4:$Z4,MATCH(D$3,'LS8. Pop Projections 16-64'!$B$2:$Z$2,0))","v":90711},{"$f":"INDEX('LS8. Pop Projections 16-64'!$B4:$Z4,MATCH(E$462,'LS8. Pop Projections 16-64'!$B$2:$Z$2,0))","v":216812},{"$f":"INDEX('LS8. Pop Projections 16-64'!$B4:$Z4,MATCH(F$462,'LS8. Pop Projections 16-64'!$B$2:$Z$2,0))","v":906288},{"$f":"INDEX('LS8. Pop Projections 16-64'!$B4:$Z4,MATCH(G$462,'LS8. Pop Projections 16-64'!$B$2:$Z$2,0))","v":28916187}]
[null,null,2019,{"$f":"INDEX('LS8. Pop Projections 16-64'!$B5:$Z5,MATCH(D$3,'LS8. Pop Projections 16-64'!$B$2:$Z$2,0))","v":90479},{"$f":"INDEX('LS8. Pop Projections 16-64'!$B5:$Z5,MATCH(E$462,'LS8. Pop Projections 16-64'!$B$2:$Z$2,0))","v":216220},{"$f":"INDEX('LS8. Pop Projections 16-64'!$B5:$Z5,MATCH(F$462,'LS8. Pop Projections 16-64'!$B$2:$Z$2,0))","v":903746},{"$f":"INDEX('LS8. Pop Projections 16-64'!$B5:$Z5,MATCH(G$462,'LS8. Pop Projections 16-64'!$B$2:$Z$2,0))","v":28949602}]
[null,null,2020,{"$f":"INDEX('LS8. Pop Projections 16-64'!$B6:$Z6,MATCH(D$3,'LS8. Pop Projections 16-64'!$B$2:$Z$2,0))","v":90101},{"$f":"INDEX('LS8. Pop Projections 16-64'!$B6:$Z6,MATCH(E$462,'LS8. Pop Projections 16-64'!$B$2:$Z$2,0))","v":215514},{"$f":"INDEX('LS8. Pop Projections 16-64'!$B6:$Z6,MATCH(F$462,'LS8. Pop Projections 16-64'!$B$2:$Z$2,0))","v":901615},{"$f":"INDEX('LS8. Pop Projections 16-64'!$B6:$Z6,MATCH(G$462,'LS8. Pop Projections 16-64'!$B$2:$Z$2,0))","v":29003349}]
[null,null,2021,{"$f":"INDEX('LS8. Pop Projections 16-64'!$B7:$Z7,MATCH(D$3,'LS8. Pop Projections 16-64'!$B$2:$Z$2,0))","v":89800},{"$f":"INDEX('LS8. Pop Projections 16-64'!$B7:$Z7,MATCH(E$462,'LS8. Pop Projections 16-64'!$B$2:$Z$2,0))","v":214933},{"$f":"INDEX('LS8. Pop Projections 16-64'!$B7:$Z7,MATCH(F$462,'LS8. Pop Projections 16-64'!$B$2:$Z$2,0))","v":899642},{"$f":"INDEX('LS8. Pop Projections 16-64'!$B7:$Z7,MATCH(G$462,'LS8. Pop Projections 16-64'!$B$2:$Z$2,0))","v":29046808}]
[null,null,2022,{"$f":"INDEX('LS8. Pop Projections 16-64'!$B8:$Z8,MATCH(D$3,'LS8. Pop Projections 16-64'!$B$2:$Z$2,0))","v":89490},{"$f":"INDEX('LS8. Pop Projections 16-64'!$B8:$Z8,MATCH(E$462,'LS8. Pop Projections 16-64'!$B$2:$Z$2,0))","v":214305},{"$f":"INDEX('LS8. Pop Projections 16-64'!$B8:$Z8,MATCH(F$462,'LS8. Pop Projections 16-64'!$B$2:$Z$2,0))","v":897629},{"$f":"INDEX('LS8. Pop Projections 16-64'!$B8:$Z8,MATCH(G$462,'LS8. Pop Projections 16-64'!$B$2:$Z$2,0))","v":29099836}]
[null,null,2023,{"$f":"INDEX('LS8. Pop Projections 16-64'!$B9:$Z9,MATCH(D$3,'LS8. Pop Projections 16-64'!$B$2:$Z$2,0))","v":89231},{"$f":"INDEX('LS8. Pop Projections 16-64'!$B9:$Z9,MATCH(E$462,'LS8. Pop Projections 16-64'!$B$2:$Z$2,0))","v":213795},{"$f":"INDEX('LS8. Pop Projections 16-64'!$B9:$Z9,MATCH(F$462,'LS8. Pop Projections 16-64'!$B$2:$Z$2,0))","v":895671},{"$f":"INDEX('LS8. Pop Projections 16-64'!$B9:$Z9,MATCH(G$462,'LS8. Pop Projections 16-64'!$B$2:$Z$2,0))","v":29147643}]
[null,null,2024,{"$f":"INDEX('LS8. Pop Projections 16-64'!$B10:$Z10,MATCH(D$3,'LS8. Pop Projections 16-64'!$B$2:$Z$2,0))","v":88989},{"$f":"INDEX('LS8. Pop Projections 16-64'!$B10:$Z10,MATCH(E$462,'LS8. Pop Projections 16-64'!$B$2:$Z$2,0))","v":213249},{"$f":"INDEX('LS8. Pop Projections 16-64'!$B10:$Z10,MATCH(F$462,'LS8. Pop Projections 16-64'!$B$2:$Z$2,0))","v":894432},{"$f":"INDEX('LS8. Pop Projections 16-64'!$B10:$Z10,MATCH(G$462,'LS8. Pop Projections 16-64'!$B$2:$Z$2,0))","v":29208351}]
[null,null,2025,{"$f":"INDEX('LS8. Pop Projections 16-64'!$B11:$Z11,MATCH(D$3,'LS8. Pop Projections 16-64'!$B$2:$Z$2,0))","v":88658},{"$f":"INDEX('LS8. Pop Projections 16-64'!$B11:$Z11,MATCH(E$462,'LS8. Pop Projections 16-64'!$B$2:$Z$2,0))","v":212516},{"$f":"INDEX('LS8. Pop Projections 16-64'!$B11:$Z11,MATCH(F$462,'LS8. Pop Projections 16-64'!$B$2:$Z$2,0))","v":892553},{"$f":"INDEX('LS8. Pop Projections 16-64'!$B11:$Z11,MATCH(G$462,'LS8. Pop Projections 16-64'!$B$2:$Z$2,0))","v":29257962}]
[null,null,2026,{"$f":"INDEX('LS8. Pop Projections 16-64'!$B12:$Z12,MATCH(D$3,'LS8. Pop Projections 16-64'!$B$2:$Z$2,0))","v":88229},{"$f":"INDEX('LS8. Pop Projections 16-64'!$B12:$Z12,MATCH(E$462,'LS8. Pop Projections 16-64'!$B$2:$Z$2,0))","v":211718},{"$f":"INDEX('LS8. Pop Projections 16-64'!$B12:$Z12,MATCH(F$462,'LS8. Pop Projections 16-64'!$B$2:$Z$2,0))","v":890260},{"$f":"INDEX('LS8. Pop Projections 16-64'!$B12:$Z12,MATCH(G$462,'LS8. Pop Projections 16-64'!$B$2:$Z$2,0))","v":29294745}]
[null,null,2027,{"$f":"INDEX('LS8. Pop Projections 16-64'!$B13:$Z13,MATCH(D$3,'LS8. Pop Projections 16-64'!$B$2:$Z$2,0))","v":87750},{"$f":"INDEX('LS8. Pop Projections 16-64'!$B13:$Z13,MATCH(E$462,'LS8. Pop Projections 16-64'!$B$2:$Z$2,0))","v":210638},{"$f":"INDEX('LS8. Pop Projections 16-64'!$B13:$Z13,MATCH(F$462,'LS8. Pop Projections 16-64'!$B$2:$Z$2,0))","v":887477},{"$f":"INDEX('LS8. Pop Projections 16-64'!$B13:$Z13,MATCH(G$462,'LS8. Pop Projections 16-64'!$B$2:$Z$2,0))","v":29323462}]
[null,null,2028,{"$f":"INDEX('LS8. Pop Projections 16-64'!$B14:$Z14,MATCH(D$3,'LS8. Pop Projections 16-64'!$B$2:$Z$2,0))","v":87415},{"$f":"INDEX('LS8. Pop Projections 16-64'!$B14:$Z14,MATCH(E$462,'LS8. Pop Projections 16-64'!$B$2:$Z$2,0))","v":209760},{"$f":"INDEX('LS8. Pop Projections 16-64'!$B14:$Z14,MATCH(F$462,'LS8. Pop Projections 16-64'!$B$2:$Z$2,0))","v":884605},{"$f":"INDEX('LS8. Pop Projections 16-64'!$B14:$Z14,MATCH(G$462,'LS8. Pop Projections 16-64'!$B$2:$Z$2,0))","v":29351753}]
[null,null,"Change 2018-2028",{"$f":"INDEX('LS8. Pop Projections 16-64'!$B15:$Z15,MATCH(D$3,'LS8. Pop Projections 16-64'!$B$2:$Z$2,0))","v":-3296},{"$f":"INDEX('LS8. Pop Projections 16-64'!$B15:$Z15,MATCH(E$462,'LS8. Pop Projections 16-64'!$B$2:$Z$2,0))","v":-7052},{"$f":"INDEX('LS8. Pop Projections 16-64'!$B15:$Z15,MATCH(F$462,'LS8. Pop Projections 16-64'!$B$2:$Z$2,0))","v":-21683},{"$f":"INDEX('LS8. Pop Projections 16-64'!$B15:$Z15,MATCH(G$462,'LS8. Pop Projections 16-64'!$B$2:$Z$2,0))","v":435566}]
[null,null,"% Change 2018-2028",{"$f":"D474/D463","v":-3.6335174344897532E-2},{"$f":"E474/E463","v":-3.2525874951570943E-2},{"$f":"F474/F463","v":-2.392506576275974E-2},{"$f":"G474/G463","v":1.5063051017065286E-2}]
[]
[null,null,"LS8. Index of Population Projections, 16-64, 2018-28"]
[null,null,null,{"$f":"D$3","v":"Blackburn with Darwen "},{"$f":"D$4","v":"Blackburn with Darwen, Hyndburn, Rossendale and Ribble Valley"},"Lancashire ","England Minus London"]
[null,null,2018,{"$f":"INDEX('LS8. Pop Projections 16-64'!$B20:$Z20,MATCH(D$3,'LS8. Pop Projections 16-64'!$B$2:$Z$2,0))","v":100},{"$f":"INDEX('LS8. Pop Projections 16-64'!$B20:$Z20,MATCH(E$462,'LS8. Pop Projections 16-64'!$B$2:$Z$2,0))","v":100},{"$f":"INDEX('LS8. Pop Projections 16-64'!$B20:$Z20,MATCH(F$462,'LS8. Pop Projections 16-64'!$B$2:$Z$2,0))","v":100},{"$f":"INDEX('LS8. Pop Projections 16-64'!$B20:$Z20,MATCH(G$462,'LS8. Pop Projections 16-64'!$B$2:$Z$2,0))","v":100}]
[null,null,2019,{"$f":"INDEX('LS8. Pop Projections 16-64'!$B21:$Z21,MATCH(D$3,'LS8. Pop Projections 16-64'!$B$2:$Z$2,0))","v":99.744242704853875},{"$f":"INDEX('LS8. Pop Projections 16-64'!$B21:$Z21,MATCH(E$462,'LS8. Pop Projections 16-64'!$B$2:$Z$2,0))","v":99.726952382709442},{"$f":"INDEX('LS8. Pop Projections 16-64'!$B21:$Z21,MATCH(F$462,'LS8. Pop Projections 16-64'!$B$2:$Z$2,0))","v":99.719515209293291},{"$f":"INDEX('LS8. Pop Projections 16-64'!$B21:$Z21,MATCH(G$462,'LS8. Pop Projections 16-64'!$B$2:$Z$2,0))","v":100.11555811283142}]
[null,null,2020,{"$f":"INDEX('LS8. Pop Projections 16-64'!$B22:$Z22,MATCH(D$3,'LS8. Pop Projections 16-64'!$B$2:$Z$2,0))","v":99.327534698107172},{"$f":"INDEX('LS8. Pop Projections 16-64'!$B22:$Z22,MATCH(E$462,'LS8. Pop Projections 16-64'!$B$2:$Z$2,0))","v":99.401324649927119},{"$f":"INDEX('LS8. Pop Projections 16-64'!$B22:$Z22,MATCH(F$462,'LS8. Pop Projections 16-64'!$B$2:$Z$2,0))","v":99.484380241159542},{"$f":"INDEX('LS8. Pop Projections 16-64'!$B22:$Z22,MATCH(G$462,'LS8. Pop Projections 16-64'!$B$2:$Z$2,0))","v":100.30142978394765}]
[null,null,2021,{"$f":"INDEX('LS8. Pop Projections 16-64'!$B23:$Z23,MATCH(D$3,'LS8. Pop Projections 16-64'!$B$2:$Z$2,0))","v":98.995711655697761},{"$f":"INDEX('LS8. Pop Projections 16-64'!$B23:$Z23,MATCH(E$462,'LS8. Pop Projections 16-64'!$B$2:$Z$2,0))","v":99.133350552552443},{"$f":"INDEX('LS8. Pop Projections 16-64'!$B23:$Z23,MATCH(F$462,'LS8. Pop Projections 16-64'!$B$2:$Z$2,0))","v":99.266679024769161},{"$f":"INDEX('LS8. Pop Projections 16-64'!$B23:$Z23,MATCH(G$462,'LS8. Pop Projections 16-64'!$B$2:$Z$2,0))","v":100.45172276690562}]
[null,null,2022,{"$f":"INDEX('LS8. Pop Projections 16-64'!$B24:$Z24,MATCH(D$3,'LS8. Pop Projections 16-64'!$B$2:$Z$2,0))","v":98.653966994080093},{"$f":"INDEX('LS8. Pop Projections 16-64'!$B24:$Z24,MATCH(E$462,'LS8. Pop Projections 16-64'!$B$2:$Z$2,0))","v":98.843698688264496},{"$f":"INDEX('LS8. Pop Projections 16-64'!$B24:$Z24,MATCH(F$462,'LS8. Pop Projections 16-64'!$B$2:$Z$2,0))","v":99.044564200342506},{"$f":"INDEX('LS8. Pop Projections 16-64'!$B24:$Z24,MATCH(G$462,'LS8. Pop Projections 16-64'!$B$2:$Z$2,0))","v":100.6351079414447}]
[null,null,2023,{"$f":"INDEX('LS8. Pop Projections 16-64'!$B25:$Z25,MATCH(D$3,'LS8. Pop Projections 16-64'!$B$2:$Z$2,0))","v":98.368444841309213},{"$f":"INDEX('LS8. Pop Projections 16-64'!$B25:$Z25,MATCH(E$462,'LS8. Pop Projections 16-64'!$B$2:$Z$2,0))","v":98.608471855801341},{"$f":"INDEX('LS8. Pop Projections 16-64'!$B25:$Z25,MATCH(F$462,'LS8. Pop Projections 16-64'!$B$2:$Z$2,0))","v":98.82851808696573},{"$f":"INDEX('LS8. Pop Projections 16-64'!$B25:$Z25,MATCH(G$462,'LS8. Pop Projections 16-64'!$B$2:$Z$2,0))","v":100.80043748506675}]
[null,null,2024,{"$f":"INDEX('LS8. Pop Projections 16-64'!$B26:$Z26,MATCH(D$3,'LS8. Pop Projections 16-64'!$B$2:$Z$2,0))","v":98.10166352482058},{"$f":"INDEX('LS8. Pop Projections 16-64'!$B26:$Z26,MATCH(E$462,'LS8. Pop Projections 16-64'!$B$2:$Z$2,0))","v":98.356640776340797},{"$f":"INDEX('LS8. Pop Projections 16-64'!$B26:$Z26,MATCH(F$462,'LS8. Pop Projections 16-64'!$B$2:$Z$2,0))","v":98.691806578041422},{"$f":"INDEX('LS8. Pop Projections 16-64'!$B26:$Z26,MATCH(G$462,'LS8. Pop Projections 16-64'!$B$2:$Z$2,0))","v":101.01038217798217}]
[null,null,2025,{"$f":"INDEX('LS8. Pop Projections 16-64'!$B27:$Z27,MATCH(D$3,'LS8. Pop Projections 16-64'!$B$2:$Z$2,0))","v":97.736768418383662},{"$f":"INDEX('LS8. Pop Projections 16-64'!$B27:$Z27,MATCH(E$462,'LS8. Pop Projections 16-64'!$B$2:$Z$2,0))","v":98.018559858310425},{"$f":"INDEX('LS8. Pop Projections 16-64'!$B27:$Z27,MATCH(F$462,'LS8. Pop Projections 16-64'!$B$2:$Z$2,0))","v":98.484477340536344},{"$f":"INDEX('LS8. Pop Projections 16-64'!$B27:$Z27,MATCH(G$462,'LS8. Pop Projections 16-64'!$B$2:$Z$2,0))","v":101.18195044180618}]
[null,null,2026,{"$f":"INDEX('LS8. Pop Projections 16-64'!$B28:$Z28,MATCH(D$3,'LS8. Pop Projections 16-64'!$B$2:$Z$2,0))","v":97.263837902790186},{"$f":"INDEX('LS8. Pop Projections 16-64'!$B28:$Z28,MATCH(E$462,'LS8. Pop Projections 16-64'!$B$2:$Z$2,0))","v":97.650499049868088},{"$f":"INDEX('LS8. Pop Projections 16-64'!$B28:$Z28,MATCH(F$462,'LS8. Pop Projections 16-64'!$B$2:$Z$2,0))","v":98.231467259855592},{"$f":"INDEX('LS8. Pop Projections 16-64'!$B28:$Z28,MATCH(G$462,'LS8. Pop Projections 16-64'!$B$2:$Z$2,0))","v":101.30915601009221}]
[null,null,2027,{"$f":"INDEX('LS8. Pop Projections 16-64'!$B29:$Z29,MATCH(D$3,'LS8. Pop Projections 16-64'!$B$2:$Z$2,0))","v":96.735787280484175},{"$f":"INDEX('LS8. Pop Projections 16-64'!$B29:$Z29,MATCH(E$462,'LS8. Pop Projections 16-64'!$B$2:$Z$2,0))","v":97.152371639946139},{"$f":"INDEX('LS8. Pop Projections 16-64'!$B29:$Z29,MATCH(F$462,'LS8. Pop Projections 16-64'!$B$2:$Z$2,0))","v":97.924390480730182},{"$f":"INDEX('LS8. Pop Projections 16-64'!$B29:$Z29,MATCH(G$462,'LS8. Pop Projections 16-64'!$B$2:$Z$2,0))","v":101.40846716754184}]
[null,null,2028,{"$f":"INDEX('LS8. Pop Projections 16-64'!$B30:$Z30,MATCH(D$3,'LS8. Pop Projections 16-64'!$B$2:$Z$2,0))","v":96.366482565510253},{"$f":"INDEX('LS8. Pop Projections 16-64'!$B30:$Z30,MATCH(E$462,'LS8. Pop Projections 16-64'!$B$2:$Z$2,0))","v":96.747412504842899},{"$f":"INDEX('LS8. Pop Projections 16-64'!$B30:$Z30,MATCH(F$462,'LS8. Pop Projections 16-64'!$B$2:$Z$2,0))","v":97.607493423724023},{"$f":"INDEX('LS8. Pop Projections 16-64'!$B30:$Z30,MATCH(G$462,'LS8. Pop Projections 16-64'!$B$2:$Z$2,0))","v":101.50630510170653}]
[]
[]
[]
[]
[]
[]
[]
[]
[]
[]
[]
[]
[]
[]
[]
[]
[]
[]
[]
[]
[]
[]
[]
[]
[]
[]
[]
[]
[]
[]
[]
[]
[]
[]
[]
[]
[]
[]
[]
[]
[]
[]
[]
[]
[]
[]
[]
[]
[]
[]
[null,null,"LS9. Population Projections, 65+, 2018-28"]
[null,null,null,{"$f":"D$3","v":"Blackburn with Darwen "},{"$f":"D$4","v":"Blackburn with Darwen, Hyndburn, Rossendale and Ribble Valley"},"Lancashire ","England Minus London"]
[null,null,2018,{"$f":"INDEX('LS9. Pop Projections 65+'!$B4:$Z4,MATCH(D$3,'LS9. Pop Projections 65+'!$B$2:$Z$2,0))","v":21786},{"$f":"INDEX('LS9. Pop Projections 65+'!$B4:$Z4,MATCH(E$541,'LS9. Pop Projections 65+'!$B$2:$Z$2,0))","v":63806},{"$f":"INDEX('LS9. Pop Projections 65+'!$B4:$Z4,MATCH(F$541,'LS9. Pop Projections 65+'!$B$2:$Z$2,0))","v":298848},{"$f":"INDEX('LS9. Pop Projections 65+'!$B4:$Z4,MATCH(G$541,'LS9. Pop Projections 65+'!$B$2:$Z$2,0))","v":9187643}]
[null,null,2019,{"$f":"INDEX('LS9. Pop Projections 65+'!$B5:$Z5,MATCH(D$3,'LS9. Pop Projections 65+'!$B$2:$Z$2,0))","v":22041},{"$f":"INDEX('LS9. Pop Projections 65+'!$B5:$Z5,MATCH(E$541,'LS9. Pop Projections 65+'!$B$2:$Z$2,0))","v":64779},{"$f":"INDEX('LS9. Pop Projections 65+'!$B5:$Z5,MATCH(F$541,'LS9. Pop Projections 65+'!$B$2:$Z$2,0))","v":302934},{"$f":"INDEX('LS9. Pop Projections 65+'!$B5:$Z5,MATCH(G$541,'LS9. Pop Projections 65+'!$B$2:$Z$2,0))","v":9351043}]
[null,null,2020,{"$f":"INDEX('LS9. Pop Projections 65+'!$B6:$Z6,MATCH(D$3,'LS9. Pop Projections 65+'!$B$2:$Z$2,0))","v":22442},{"$f":"INDEX('LS9. Pop Projections 65+'!$B6:$Z6,MATCH(E$541,'LS9. Pop Projections 65+'!$B$2:$Z$2,0))","v":65823},{"$f":"INDEX('LS9. Pop Projections 65+'!$B6:$Z6,MATCH(F$541,'LS9. Pop Projections 65+'!$B$2:$Z$2,0))","v":307140},{"$f":"INDEX('LS9. Pop Projections 65+'!$B6:$Z6,MATCH(G$541,'LS9. Pop Projections 65+'!$B$2:$Z$2,0))","v":9506582}]
[null,null,2021,{"$f":"INDEX('LS9. Pop Projections 65+'!$B7:$Z7,MATCH(D$3,'LS9. Pop Projections 65+'!$B$2:$Z$2,0))","v":22794},{"$f":"INDEX('LS9. Pop Projections 65+'!$B7:$Z7,MATCH(E$541,'LS9. Pop Projections 65+'!$B$2:$Z$2,0))","v":66917},{"$f":"INDEX('LS9. Pop Projections 65+'!$B7:$Z7,MATCH(F$541,'LS9. Pop Projections 65+'!$B$2:$Z$2,0))","v":311766},{"$f":"INDEX('LS9. Pop Projections 65+'!$B7:$Z7,MATCH(G$541,'LS9. Pop Projections 65+'!$B$2:$Z$2,0))","v":9675754}]
[null,null,2022,{"$f":"INDEX('LS9. Pop Projections 65+'!$B8:$Z8,MATCH(D$3,'LS9. Pop Projections 65+'!$B$2:$Z$2,0))","v":23174},{"$f":"INDEX('LS9. Pop Projections 65+'!$B8:$Z8,MATCH(E$541,'LS9. Pop Projections 65+'!$B$2:$Z$2,0))","v":68150},{"$f":"INDEX('LS9. Pop Projections 65+'!$B8:$Z8,MATCH(F$541,'LS9. Pop Projections 65+'!$B$2:$Z$2,0))","v":316991},{"$f":"INDEX('LS9. Pop Projections 65+'!$B8:$Z8,MATCH(G$541,'LS9. Pop Projections 65+'!$B$2:$Z$2,0))","v":9859904}]
[null,null,2023,{"$f":"INDEX('LS9. Pop Projections 65+'!$B9:$Z9,MATCH(D$3,'LS9. Pop Projections 65+'!$B$2:$Z$2,0))","v":23542},{"$f":"INDEX('LS9. Pop Projections 65+'!$B9:$Z9,MATCH(E$541,'LS9. Pop Projections 65+'!$B$2:$Z$2,0))","v":69308},{"$f":"INDEX('LS9. Pop Projections 65+'!$B9:$Z9,MATCH(F$541,'LS9. Pop Projections 65+'!$B$2:$Z$2,0))","v":322395},{"$f":"INDEX('LS9. Pop Projections 65+'!$B9:$Z9,MATCH(G$541,'LS9. Pop Projections 65+'!$B$2:$Z$2,0))","v":10059887}]
[null,null,2024,{"$f":"INDEX('LS9. Pop Projections 65+'!$B10:$Z10,MATCH(D$3,'LS9. Pop Projections 65+'!$B$2:$Z$2,0))","v":23967},{"$f":"INDEX('LS9. Pop Projections 65+'!$B10:$Z10,MATCH(E$541,'LS9. Pop Projections 65+'!$B$2:$Z$2,0))","v":70545},{"$f":"INDEX('LS9. Pop Projections 65+'!$B10:$Z10,MATCH(F$541,'LS9. Pop Projections 65+'!$B$2:$Z$2,0))","v":327835},{"$f":"INDEX('LS9. Pop Projections 65+'!$B10:$Z10,MATCH(G$541,'LS9. Pop Projections 65+'!$B$2:$Z$2,0))","v":10266089}]
[null,null,2025,{"$f":"INDEX('LS9. Pop Projections 65+'!$B11:$Z11,MATCH(D$3,'LS9. Pop Projections 65+'!$B$2:$Z$2,0))","v":24433},{"$f":"INDEX('LS9. Pop Projections 65+'!$B11:$Z11,MATCH(E$541,'LS9. Pop Projections 65+'!$B$2:$Z$2,0))","v":71921},{"$f":"INDEX('LS9. Pop Projections 65+'!$B11:$Z11,MATCH(F$541,'LS9. Pop Projections 65+'!$B$2:$Z$2,0))","v":333782},{"$f":"INDEX('LS9. Pop Projections 65+'!$B11:$Z11,MATCH(G$541,'LS9. Pop Projections 65+'!$B$2:$Z$2,0))","v":10478396}]
[null,null,2026,{"$f":"INDEX('LS9. Pop Projections 65+'!$B12:$Z12,MATCH(D$3,'LS9. Pop Projections 65+'!$B$2:$Z$2,0))","v":24955},{"$f":"INDEX('LS9. Pop Projections 65+'!$B12:$Z12,MATCH(E$541,'LS9. Pop Projections 65+'!$B$2:$Z$2,0))","v":73338},{"$f":"INDEX('LS9. Pop Projections 65+'!$B12:$Z12,MATCH(F$541,'LS9. Pop Projections 65+'!$B$2:$Z$2,0))","v":340168},{"$f":"INDEX('LS9. Pop Projections 65+'!$B12:$Z12,MATCH(G$541,'LS9. Pop Projections 65+'!$B$2:$Z$2,0))","v":10709927}]
[null,null,2027,{"$f":"INDEX('LS9. Pop Projections 65+'!$B13:$Z13,MATCH(D$3,'LS9. Pop Projections 65+'!$B$2:$Z$2,0))","v":25487},{"$f":"INDEX('LS9. Pop Projections 65+'!$B13:$Z13,MATCH(E$541,'LS9. Pop Projections 65+'!$B$2:$Z$2,0))","v":74959},{"$f":"INDEX('LS9. Pop Projections 65+'!$B13:$Z13,MATCH(F$541,'LS9. Pop Projections 65+'!$B$2:$Z$2,0))","v":347279},{"$f":"INDEX('LS9. Pop Projections 65+'!$B13:$Z13,MATCH(G$541,'LS9. Pop Projections 65+'!$B$2:$Z$2,0))","v":10956838}]
[null,null,2028,{"$f":"INDEX('LS9. Pop Projections 65+'!$B14:$Z14,MATCH(D$3,'LS9. Pop Projections 65+'!$B$2:$Z$2,0))","v":26002},{"$f":"INDEX('LS9. Pop Projections 65+'!$B14:$Z14,MATCH(E$541,'LS9. Pop Projections 65+'!$B$2:$Z$2,0))","v":76490},{"$f":"INDEX('LS9. Pop Projections 65+'!$B14:$Z14,MATCH(F$541,'LS9. Pop Projections 65+'!$B$2:$Z$2,0))","v":354319},{"$f":"INDEX('LS9. Pop Projections 65+'!$B14:$Z14,MATCH(G$541,'LS9. Pop Projections 65+'!$B$2:$Z$2,0))","v":11209083}]
[null,null,"Change 2018-2028",{"$f":"INDEX('LS9. Pop Projections 65+'!$B15:$Z15,MATCH(D$3,'LS9. Pop Projections 65+'!$B$2:$Z$2,0))","v":4216},{"$f":"INDEX('LS9. Pop Projections 65+'!$B15:$Z15,MATCH(E$541,'LS9. Pop Projections 65+'!$B$2:$Z$2,0))","v":12684},{"$f":"INDEX('LS9. Pop Projections 65+'!$B15:$Z15,MATCH(F$541,'LS9. Pop Projections 65+'!$B$2:$Z$2,0))","v":55471},{"$f":"INDEX('LS9. Pop Projections 65+'!$B15:$Z15,MATCH(G$541,'LS9. Pop Projections 65+'!$B$2:$Z$2,0))","v":2021440}]
[null,null,"% Change 2018-2028",{"$f":"D553/D542","v":0.19351877352428165},{"$f":"E553/E542","v":0.19879008243738833},{"$f":"F553/F542","v":0.18561609915408503},{"$f":"G553/G542","v":0.22001725578584191}]
[]
[null,null,"LS9. Index of Population Projections, 65+, 2018-28"]
[null,null,null,{"$f":"D$3","v":"Blackburn with Darwen "},{"$f":"D$4","v":"Blackburn with Darwen, Hyndburn, Rossendale and Ribble Valley"},"Lancashire ","England Minus London"]
[null,null,2018,{"$f":"INDEX('LS9. Pop Projections 65+'!$B20:$Z20,MATCH(D$3,'LS9. Pop Projections 65+'!$B$2:$Z$2,0))","v":100},{"$f":"INDEX('LS9. Pop Projections 65+'!$B20:$Z20,MATCH(E$541,'LS9. Pop Projections 65+'!$B$2:$Z$2,0))","v":100},{"$f":"INDEX('LS9. Pop Projections 65+'!$B20:$Z20,MATCH(F$541,'LS9. Pop Projections 65+'!$B$2:$Z$2,0))","v":100},{"$f":"INDEX('LS9. Pop Projections 65+'!$B20:$Z20,MATCH(G$541,'LS9. Pop Projections 65+'!$B$2:$Z$2,0))","v":100}]
[null,null,2019,{"$f":"INDEX('LS9. Pop Projections 65+'!$B21:$Z21,MATCH(D$3,'LS9. Pop Projections 65+'!$B$2:$Z$2,0))","v":101.17047645276784},{"$f":"INDEX('LS9. Pop Projections 65+'!$B21:$Z21,MATCH(E$541,'LS9. Pop Projections 65+'!$B$2:$Z$2,0))","v":101.52493495909476},{"$f":"INDEX('LS9. Pop Projections 65+'!$B21:$Z21,MATCH(F$541,'LS9. Pop Projections 65+'!$B$2:$Z$2,0))","v":101.36725024092515},{"$f":"INDEX('LS9. Pop Projections 65+'!$B21:$Z21,MATCH(G$541,'LS9. Pop Projections 65+'!$B$2:$Z$2,0))","v":101.77847572005139}]
[null,null,2020,{"$f":"INDEX('LS9. Pop Projections 65+'!$B22:$Z22,MATCH(D$3,'LS9. Pop Projections 65+'!$B$2:$Z$2,0))","v":103.01110805104194},{"$f":"INDEX('LS9. Pop Projections 65+'!$B22:$Z22,MATCH(E$541,'LS9. Pop Projections 65+'!$B$2:$Z$2,0))","v":103.1611447199323},{"$f":"INDEX('LS9. Pop Projections 65+'!$B22:$Z22,MATCH(F$541,'LS9. Pop Projections 65+'!$B$2:$Z$2,0))","v":102.77465467394795},{"$f":"INDEX('LS9. Pop Projections 65+'!$B22:$Z22,MATCH(G$541,'LS9. Pop Projections 65+'!$B$2:$Z$2,0))","v":103.47139086705917}]
[null,null,2021,{"$f":"INDEX('LS9. Pop Projections 65+'!$B23:$Z23,MATCH(D$3,'LS9. Pop Projections 65+'!$B$2:$Z$2,0))","v":104.6268245662352},{"$f":"INDEX('LS9. Pop Projections 65+'!$B23:$Z23,MATCH(E$541,'LS9. Pop Projections 65+'!$B$2:$Z$2,0))","v":104.87571701720842},{"$f":"INDEX('LS9. Pop Projections 65+'!$B23:$Z23,MATCH(F$541,'LS9. Pop Projections 65+'!$B$2:$Z$2,0))","v":104.32259877931256},{"$f":"INDEX('LS9. Pop Projections 65+'!$B23:$Z23,MATCH(G$541,'LS9. Pop Projections 65+'!$B$2:$Z$2,0))","v":105.31269009908199}]
[null,null,2022,{"$f":"INDEX('LS9. Pop Projections 65+'!$B24:$Z24,MATCH(D$3,'LS9. Pop Projections 65+'!$B$2:$Z$2,0))","v":106.37106398604608},{"$f":"INDEX('LS9. Pop Projections 65+'!$B24:$Z24,MATCH(E$541,'LS9. Pop Projections 65+'!$B$2:$Z$2,0))","v":106.80813716578379},{"$f":"INDEX('LS9. Pop Projections 65+'!$B24:$Z24,MATCH(F$541,'LS9. Pop Projections 65+'!$B$2:$Z$2,0))","v":106.07097922689796},{"$f":"INDEX('LS9. Pop Projections 65+'!$B24:$Z24,MATCH(G$541,'LS9. Pop Projections 65+'!$B$2:$Z$2,0))","v":107.31701264404809}]
[null,null,2023,{"$f":"INDEX('LS9. Pop Projections 65+'!$B25:$Z25,MATCH(D$3,'LS9. Pop Projections 65+'!$B$2:$Z$2,0))","v":108.06022216102085},{"$f":"INDEX('LS9. Pop Projections 65+'!$B25:$Z25,MATCH(E$541,'LS9. Pop Projections 65+'!$B$2:$Z$2,0))","v":108.62301350970127},{"$f":"INDEX('LS9. Pop Projections 65+'!$B25:$Z25,MATCH(F$541,'LS9. Pop Projections 65+'!$B$2:$Z$2,0))","v":107.87925634436235},{"$f":"INDEX('LS9. Pop Projections 65+'!$B25:$Z25,MATCH(G$541,'LS9. Pop Projections 65+'!$B$2:$Z$2,0))","v":109.4936644795624}]
[null,null,2024,{"$f":"INDEX('LS9. Pop Projections 65+'!$B26:$Z26,MATCH(D$3,'LS9. Pop Projections 65+'!$B$2:$Z$2,0))","v":110.01101624896722},{"$f":"INDEX('LS9. Pop Projections 65+'!$B26:$Z26,MATCH(E$541,'LS9. Pop Projections 65+'!$B$2:$Z$2,0))","v":110.56170266119175},{"$f":"INDEX('LS9. Pop Projections 65+'!$B26:$Z26,MATCH(F$541,'LS9. Pop Projections 65+'!$B$2:$Z$2,0))","v":109.69957971945605},{"$f":"INDEX('LS9. Pop Projections 65+'!$B26:$Z26,MATCH(G$541,'LS9. Pop Projections 65+'!$B$2:$Z$2,0))","v":111.73800505744509}]
[null,null,2025,{"$f":"INDEX('LS9. Pop Projections 65+'!$B27:$Z27,MATCH(D$3,'LS9. Pop Projections 65+'!$B$2:$Z$2,0))","v":112.15000459010373},{"$f":"INDEX('LS9. Pop Projections 65+'!$B27:$Z27,MATCH(E$541,'LS9. Pop Projections 65+'!$B$2:$Z$2,0))","v":112.71823966398145},{"$f":"INDEX('LS9. Pop Projections 65+'!$B27:$Z27,MATCH(F$541,'LS9. Pop Projections 65+'!$B$2:$Z$2,0))","v":111.68955455616234},{"$f":"INDEX('LS9. Pop Projections 65+'!$B27:$Z27,MATCH(G$541,'LS9. Pop Projections 65+'!$B$2:$Z$2,0))","v":114.04879358068223}]
[null,null,2026,{"$f":"INDEX('LS9. Pop Projections 65+'!$B28:$Z28,MATCH(D$3,'LS9. Pop Projections 65+'!$B$2:$Z$2,0))","v":114.54603874047552},{"$f":"INDEX('LS9. Pop Projections 65+'!$B28:$Z28,MATCH(E$541,'LS9. Pop Projections 65+'!$B$2:$Z$2,0))","v":114.9390339466508},{"$f":"INDEX('LS9. Pop Projections 65+'!$B28:$Z28,MATCH(F$541,'LS9. Pop Projections 65+'!$B$2:$Z$2,0))","v":113.82642681229254},{"$f":"INDEX('LS9. Pop Projections 65+'!$B28:$Z28,MATCH(G$541,'LS9. Pop Projections 65+'!$B$2:$Z$2,0))","v":116.56881966354156}]
[null,null,2027,{"$f":"INDEX('LS9. Pop Projections 65+'!$B29:$Z29,MATCH(D$3,'LS9. Pop Projections 65+'!$B$2:$Z$2,0))","v":116.98797392821079},{"$f":"INDEX('LS9. Pop Projections 65+'!$B29:$Z29,MATCH(E$541,'LS9. Pop Projections 65+'!$B$2:$Z$2,0))","v":117.47954737798953},{"$f":"INDEX('LS9. Pop Projections 65+'!$B29:$Z29,MATCH(F$541,'LS9. Pop Projections 65+'!$B$2:$Z$2,0))","v":116.20589731234607},{"$f":"INDEX('LS9. Pop Projections 65+'!$B29:$Z29,MATCH(G$541,'LS9. Pop Projections 65+'!$B$2:$Z$2,0))","v":119.25624450144612}]
[null,null,2028,{"$f":"INDEX('LS9. Pop Projections 65+'!$B30:$Z30,MATCH(D$3,'LS9. Pop Projections 65+'!$B$2:$Z$2,0))","v":119.35187735242816},{"$f":"INDEX('LS9. Pop Projections 65+'!$B30:$Z30,MATCH(E$541,'LS9. Pop Projections 65+'!$B$2:$Z$2,0))","v":119.87900824373882},{"$f":"INDEX('LS9. Pop Projections 65+'!$B30:$Z30,MATCH(F$541,'LS9. Pop Projections 65+'!$B$2:$Z$2,0))","v":118.5616099154085},{"$f":"INDEX('LS9. Pop Projections 65+'!$B30:$Z30,MATCH(G$541,'LS9. Pop Projections 65+'!$B$2:$Z$2,0))","v":122.0017255785842}]
[]
[]
[]
[]
[]
[]
[]
[]
[]
[]
[]
[]
[]
[]
[]
[]
[]
[]
[]
[]
[]
[]
[]
[]
[]
[]
[]
[]
[null,null,"LS10. Resident Employment, 2006/07-16/17"]
[null,null,null,{"$f":"D$3","v":"Blackburn with Darwen "},{"$f":"D$4","v":"Blackburn with Darwen, Hyndburn, Rossendale and Ribble Valley"},"Lancashire ","England Minus London"]
[null,null,"Jul 2006-Jun 2007",{"$f":"INDEX('LS10. Resident Employment'!$B4:$Z4,MATCH(D$3,'LS10. Resident Employment'!$B$2:$Z$2,0))","v":60800},{"$f":"INDEX('LS10. Resident Employment'!$B4:$Z4,MATCH(E$598,'LS10. Resident Employment'!$B$2:$Z$2,0))","v":152600},{"$f":"INDEX('LS10. Resident Employment'!$B4:$Z4,MATCH(F$598,'LS10. Resident Employment'!$B$2:$Z$2,0))","v":647100},{"$f":"INDEX('LS10. Resident Employment'!$B4:$Z4,MATCH(G$598,'LS10. Resident Employment'!$B$2:$Z$2,0))","v":20395600}]
[null,null,"Jul 2007-Jun 2008",{"$f":"INDEX('LS10. Resident Employment'!$B5:$Z5,MATCH(D$3,'LS10. Resident Employment'!$B$2:$Z$2,0))","v":60600},{"$f":"INDEX('LS10. Resident Employment'!$B5:$Z5,MATCH(E$598,'LS10. Resident Employment'!$B$2:$Z$2,0))","v":151300},{"$f":"INDEX('LS10. Resident Employment'!$B5:$Z5,MATCH(F$598,'LS10. Resident Employment'!$B$2:$Z$2,0))","v":655700},{"$f":"INDEX('LS10. Resident Employment'!$B5:$Z5,MATCH(G$598,'LS10. Resident Employment'!$B$2:$Z$2,0))","v":20506500}]
[null,null,"Jul 2008-Jun 2009",{"$f":"INDEX('LS10. Resident Employment'!$B6:$Z6,MATCH(D$3,'LS10. Resident Employment'!$B$2:$Z$2,0))","v":58400},{"$f":"INDEX('LS10. Resident Employment'!$B6:$Z6,MATCH(E$598,'LS10. Resident Employment'!$B$2:$Z$2,0))","v":147300},{"$f":"INDEX('LS10. Resident Employment'!$B6:$Z6,MATCH(F$598,'LS10. Resident Employment'!$B$2:$Z$2,0))","v":635200},{"$f":"INDEX('LS10. Resident Employment'!$B6:$Z6,MATCH(G$598,'LS10. Resident Employment'!$B$2:$Z$2,0))","v":20295700}]
[null,null,"Jul 2009-Jun 2010",{"$f":"INDEX('LS10. Resident Employment'!$B7:$Z7,MATCH(D$3,'LS10. Resident Employment'!$B$2:$Z$2,0))","v":60400},{"$f":"INDEX('LS10. Resident Employment'!$B7:$Z7,MATCH(E$598,'LS10. Resident Employment'!$B$2:$Z$2,0))","v":149400},{"$f":"INDEX('LS10. Resident Employment'!$B7:$Z7,MATCH(F$598,'LS10. Resident Employment'!$B$2:$Z$2,0))","v":639800},{"$f":"INDEX('LS10. Resident Employment'!$B7:$Z7,MATCH(G$598,'LS10. Resident Employment'!$B$2:$Z$2,0))","v":20029600}]
[null,null,"Jul 2010-Jun 2011",{"$f":"INDEX('LS10. Resident Employment'!$B8:$Z8,MATCH(D$3,'LS10. Resident Employment'!$B$2:$Z$2,0))","v":57500},{"$f":"INDEX('LS10. Resident Employment'!$B8:$Z8,MATCH(E$598,'LS10. Resident Employment'!$B$2:$Z$2,0))","v":147200},{"$f":"INDEX('LS10. Resident Employment'!$B8:$Z8,MATCH(F$598,'LS10. Resident Employment'!$B$2:$Z$2,0))","v":646500},{"$f":"INDEX('LS10. Resident Employment'!$B8:$Z8,MATCH(G$598,'LS10. Resident Employment'!$B$2:$Z$2,0))","v":20058000}]
[null,null,"Jul 2011-Jun 2012",{"$f":"INDEX('LS10. Resident Employment'!$B9:$Z9,MATCH(D$3,'LS10. Resident Employment'!$B$2:$Z$2,0))","v":57100},{"$f":"INDEX('LS10. Resident Employment'!$B9:$Z9,MATCH(E$598,'LS10. Resident Employment'!$B$2:$Z$2,0))","v":156300},{"$f":"INDEX('LS10. Resident Employment'!$B9:$Z9,MATCH(F$598,'LS10. Resident Employment'!$B$2:$Z$2,0))","v":650400},{"$f":"INDEX('LS10. Resident Employment'!$B9:$Z9,MATCH(G$598,'LS10. Resident Employment'!$B$2:$Z$2,0))","v":20092400}]
[null,null,"Jul 2012-Jun 2013",{"$f":"INDEX('LS10. Resident Employment'!$B10:$Z10,MATCH(D$3,'LS10. Resident Employment'!$B$2:$Z$2,0))","v":59600},{"$f":"INDEX('LS10. Resident Employment'!$B10:$Z10,MATCH(E$598,'LS10. Resident Employment'!$B$2:$Z$2,0))","v":153700},{"$f":"INDEX('LS10. Resident Employment'!$B10:$Z10,MATCH(F$598,'LS10. Resident Employment'!$B$2:$Z$2,0))","v":634400},{"$f":"INDEX('LS10. Resident Employment'!$B10:$Z10,MATCH(G$598,'LS10. Resident Employment'!$B$2:$Z$2,0))","v":20284700}]
[null,null,"Jul 2013-Jun 2014",{"$f":"INDEX('LS10. Resident Employment'!$B11:$Z11,MATCH(D$3,'LS10. Resident Employment'!$B$2:$Z$2,0))","v":57200},{"$f":"INDEX('LS10. Resident Employment'!$B11:$Z11,MATCH(E$598,'LS10. Resident Employment'!$B$2:$Z$2,0))","v":141500},{"$f":"INDEX('LS10. Resident Employment'!$B11:$Z11,MATCH(F$598,'LS10. Resident Employment'!$B$2:$Z$2,0))","v":615900},{"$f":"INDEX('LS10. Resident Employment'!$B11:$Z11,MATCH(G$598,'LS10. Resident Employment'!$B$2:$Z$2,0))","v":20484700}]
[null,null,"Jul 2014-Jun 2015",{"$f":"INDEX('LS10. Resident Employment'!$B12:$Z12,MATCH(D$3,'LS10. Resident Employment'!$B$2:$Z$2,0))","v":59700},{"$f":"INDEX('LS10. Resident Employment'!$B12:$Z12,MATCH(E$598,'LS10. Resident Employment'!$B$2:$Z$2,0))","v":155400},{"$f":"INDEX('LS10. Resident Employment'!$B12:$Z12,MATCH(F$598,'LS10. Resident Employment'!$B$2:$Z$2,0))","v":637300},{"$f":"INDEX('LS10. Resident Employment'!$B12:$Z12,MATCH(G$598,'LS10. Resident Employment'!$B$2:$Z$2,0))","v":20881900}]
[null,null,"Jul 2015-Jun 2016",{"$f":"INDEX('LS10. Resident Employment'!$B13:$Z13,MATCH(D$3,'LS10. Resident Employment'!$B$2:$Z$2,0))","v":59300},{"$f":"INDEX('LS10. Resident Employment'!$B13:$Z13,MATCH(E$598,'LS10. Resident Employment'!$B$2:$Z$2,0))","v":157900},{"$f":"INDEX('LS10. Resident Employment'!$B13:$Z13,MATCH(F$598,'LS10. Resident Employment'!$B$2:$Z$2,0))","v":670100},{"$f":"INDEX('LS10. Resident Employment'!$B13:$Z13,MATCH(G$598,'LS10. Resident Employment'!$B$2:$Z$2,0))","v":21157500}]
[null,null,"Jul 2016-Jun 2017",{"$f":"INDEX('LS10. Resident Employment'!$B14:$Z14,MATCH(D$3,'LS10. Resident Employment'!$B$2:$Z$2,0))","v":58900},{"$f":"INDEX('LS10. Resident Employment'!$B14:$Z14,MATCH(E$598,'LS10. Resident Employment'!$B$2:$Z$2,0))","v":153600},{"$f":"INDEX('LS10. Resident Employment'!$B14:$Z14,MATCH(F$598,'LS10. Resident Employment'!$B$2:$Z$2,0))","v":669700},{"$f":"INDEX('LS10. Resident Employment'!$B14:$Z14,MATCH(G$598,'LS10. Resident Employment'!$B$2:$Z$2,0))","v":21373000}]
[]
[null,null,"LS10. Resident Employment (% of working age population)"]
[null,null,null,{"$f":"D$3","v":"Blackburn with Darwen "},{"$f":"D$4","v":"Blackburn with Darwen, Hyndburn, Rossendale and Ribble Valley"},"Lancashire ","England Minus London"]
[null,null,"Jul 2006-Jun 2007",{"$f":"INDEX('LS10. Resident Employment'!$B18:$Z18,MATCH(D$3,'LS10. Resident Employment'!$B$2:$Z$2,0))","v":65.900000000000006},{"$f":"INDEX('LS10. Resident Employment'!$B18:$Z18,MATCH(E$598,'LS10. Resident Employment'!$B$2:$Z$2,0))","v":69.5},{"$f":"INDEX('LS10. Resident Employment'!$B18:$Z18,MATCH(F$598,'LS10. Resident Employment'!$B$2:$Z$2,0))","v":70.7},{"$f":"INDEX('LS10. Resident Employment'!$B18:$Z18,MATCH(G$598,'LS10. Resident Employment'!$B$2:$Z$2,0))","v":73.5}]
[null,null,"Jul 2007-Jun 2008",{"$f":"INDEX('LS10. Resident Employment'!$B19:$Z19,MATCH(D$3,'LS10. Resident Employment'!$B$2:$Z$2,0))","v":66.2},{"$f":"INDEX('LS10. Resident Employment'!$B19:$Z19,MATCH(E$598,'LS10. Resident Employment'!$B$2:$Z$2,0))","v":67.7},{"$f":"INDEX('LS10. Resident Employment'!$B19:$Z19,MATCH(F$598,'LS10. Resident Employment'!$B$2:$Z$2,0))","v":71.400000000000006},{"$f":"INDEX('LS10. Resident Employment'!$B19:$Z19,MATCH(G$598,'LS10. Resident Employment'!$B$2:$Z$2,0))","v":73.3}]
[null,null,"Jul 2008-Jun 2009",{"$f":"INDEX('LS10. Resident Employment'!$B20:$Z20,MATCH(D$3,'LS10. Resident Employment'!$B$2:$Z$2,0))","v":63.1},{"$f":"INDEX('LS10. Resident Employment'!$B20:$Z20,MATCH(E$598,'LS10. Resident Employment'!$B$2:$Z$2,0))","v":65.5},{"$f":"INDEX('LS10. Resident Employment'!$B20:$Z20,MATCH(F$598,'LS10. Resident Employment'!$B$2:$Z$2,0))","v":69.2},{"$f":"INDEX('LS10. Resident Employment'!$B20:$Z20,MATCH(G$598,'LS10. Resident Employment'!$B$2:$Z$2,0))","v":72.2}]
[null,null,"Jul 2009-Jun 2010",{"$f":"INDEX('LS10. Resident Employment'!$B21:$Z21,MATCH(D$3,'LS10. Resident Employment'!$B$2:$Z$2,0))","v":65.099999999999994},{"$f":"INDEX('LS10. Resident Employment'!$B21:$Z21,MATCH(E$598,'LS10. Resident Employment'!$B$2:$Z$2,0))","v":67},{"$f":"INDEX('LS10. Resident Employment'!$B21:$Z21,MATCH(F$598,'LS10. Resident Employment'!$B$2:$Z$2,0))","v":69.7},{"$f":"INDEX('LS10. Resident Employment'!$B21:$Z21,MATCH(G$598,'LS10. Resident Employment'!$B$2:$Z$2,0))","v":71}]
[null,null,"Jul 2010-Jun 2011",{"$f":"INDEX('LS10. Resident Employment'!$B22:$Z22,MATCH(D$3,'LS10. Resident Employment'!$B$2:$Z$2,0))","v":61.3},{"$f":"INDEX('LS10. Resident Employment'!$B22:$Z22,MATCH(E$598,'LS10. Resident Employment'!$B$2:$Z$2,0))","v":65.8},{"$f":"INDEX('LS10. Resident Employment'!$B22:$Z22,MATCH(F$598,'LS10. Resident Employment'!$B$2:$Z$2,0))","v":70.400000000000006},{"$f":"INDEX('LS10. Resident Employment'!$B22:$Z22,MATCH(G$598,'LS10. Resident Employment'!$B$2:$Z$2,0))","v":70.8}]
[null,null,"Jul 2011-Jun 2012",{"$f":"INDEX('LS10. Resident Employment'!$B23:$Z23,MATCH(D$3,'LS10. Resident Employment'!$B$2:$Z$2,0))","v":61},{"$f":"INDEX('LS10. Resident Employment'!$B23:$Z23,MATCH(E$598,'LS10. Resident Employment'!$B$2:$Z$2,0))","v":70.900000000000006},{"$f":"INDEX('LS10. Resident Employment'!$B23:$Z23,MATCH(F$598,'LS10. Resident Employment'!$B$2:$Z$2,0))","v":71},{"$f":"INDEX('LS10. Resident Employment'!$B23:$Z23,MATCH(G$598,'LS10. Resident Employment'!$B$2:$Z$2,0))","v":70.8}]
[null,null,"Jul 2012-Jun 2013",{"$f":"INDEX('LS10. Resident Employment'!$B24:$Z24,MATCH(D$3,'LS10. Resident Employment'!$B$2:$Z$2,0))","v":64.599999999999994},{"$f":"INDEX('LS10. Resident Employment'!$B24:$Z24,MATCH(E$598,'LS10. Resident Employment'!$B$2:$Z$2,0))","v":69.599999999999994},{"$f":"INDEX('LS10. Resident Employment'!$B24:$Z24,MATCH(F$598,'LS10. Resident Employment'!$B$2:$Z$2,0))","v":69.7},{"$f":"INDEX('LS10. Resident Employment'!$B24:$Z24,MATCH(G$598,'LS10. Resident Employment'!$B$2:$Z$2,0))","v":71.599999999999994}]
[null,null,"Jul 2013-Jun 2014",{"$f":"INDEX('LS10. Resident Employment'!$B25:$Z25,MATCH(D$3,'LS10. Resident Employment'!$B$2:$Z$2,0))","v":62.5},{"$f":"INDEX('LS10. Resident Employment'!$B25:$Z25,MATCH(E$598,'LS10. Resident Employment'!$B$2:$Z$2,0))","v":64.599999999999994},{"$f":"INDEX('LS10. Resident Employment'!$B25:$Z25,MATCH(F$598,'LS10. Resident Employment'!$B$2:$Z$2,0))","v":67.900000000000006},{"$f":"INDEX('LS10. Resident Employment'!$B25:$Z25,MATCH(G$598,'LS10. Resident Employment'!$B$2:$Z$2,0))","v":72.3}]
[null,null,"Jul 2014-Jun 2015",{"$f":"INDEX('LS10. Resident Employment'!$B26:$Z26,MATCH(D$3,'LS10. Resident Employment'!$B$2:$Z$2,0))","v":65.599999999999994},{"$f":"INDEX('LS10. Resident Employment'!$B26:$Z26,MATCH(E$598,'LS10. Resident Employment'!$B$2:$Z$2,0))","v":70.900000000000006},{"$f":"INDEX('LS10. Resident Employment'!$B26:$Z26,MATCH(F$598,'LS10. Resident Employment'!$B$2:$Z$2,0))","v":70.400000000000006},{"$f":"INDEX('LS10. Resident Employment'!$B26:$Z26,MATCH(G$598,'LS10. Resident Employment'!$B$2:$Z$2,0))","v":73.400000000000006}]
[null,null,"Jul 2015-Jun 2016",{"$f":"INDEX('LS10. Resident Employment'!$B27:$Z27,MATCH(D$3,'LS10. Resident Employment'!$B$2:$Z$2,0))","v":65.3},{"$f":"INDEX('LS10. Resident Employment'!$B27:$Z27,MATCH(E$598,'LS10. Resident Employment'!$B$2:$Z$2,0))","v":72.5},{"$f":"INDEX('LS10. Resident Employment'!$B27:$Z27,MATCH(F$598,'LS10. Resident Employment'!$B$2:$Z$2,0))","v":74.2},{"$f":"INDEX('LS10. Resident Employment'!$B27:$Z27,MATCH(G$598,'LS10. Resident Employment'!$B$2:$Z$2,0))","v":74.2}]
[null,null,"Jul 2016-Jun 2017",{"$f":"INDEX('LS10. Resident Employment'!$B28:$Z28,MATCH(D$3,'LS10. Resident Employment'!$B$2:$Z$2,0))","v":64.5},{"$f":"INDEX('LS10. Resident Employment'!$B28:$Z28,MATCH(E$598,'LS10. Resident Employment'!$B$2:$Z$2,0))","v":70.8},{"$f":"INDEX('LS10. Resident Employment'!$B28:$Z28,MATCH(F$598,'LS10. Resident Employment'!$B$2:$Z$2,0))","v":74.400000000000006},{"$f":"INDEX('LS10. Resident Employment'!$B28:$Z28,MATCH(G$598,'LS10. Resident Employment'!$B$2:$Z$2,0))","v":74.8}]
[]
[null,null,"For details on Resident Employment by age, gender and ethnicity, please click here"]
[]
[]
[]
[]
[]
[]
[]
[]
[]
[]
[]
[]
[]
[]
[]
[]
[]
[]
[]
[]
[]
[]
[]
[]
[]
[]
[]
[]
[]
[]
[]
[]
[]
[]
[]
[]
[]
[]
[]
[]
[]
[]
[null,null,"LS12. Self-Employment, 2006/07-16/17"]
[null,null,null,{"$f":"D$3","v":"Blackburn with Darwen "},{"$f":"D$4","v":"Blackburn with Darwen, Hyndburn, Rossendale and Ribble Valley"},"Lancashire ","England Minus London"]
[null,null,"Jul 2006-Jun 2007",{"$f":"IFERROR(INDEX('LS12. Self-Employment'!$B4:$Z4,MATCH(D$3,'LS12. Self-Employment'!$B$2:$Z$2,0)),\"n/a\")","v":7200},{"$f":"IFERROR(INDEX('LS12. Self-Employment'!$B4:$Z4,MATCH(E$669,'LS12. Self-Employment'!$B$2:$Z$2,0)),\"n/a\")","v":16900},{"$f":"IFERROR(INDEX('LS12. Self-Employment'!$B4:$Z4,MATCH(F$669,'LS12. Self-Employment'!$B$2:$Z$2,0)),\"n/a\")","v":72900},{"$f":"IFERROR(INDEX('LS12. Self-Employment'!$B4:$Z4,MATCH(G$669,'LS12. Self-Employment'!$B$2:$Z$2,0)),\"n/a\")","v":2529400}]
[null,null,"Jul 2007-Jun 2008",{"$f":"IFERROR(INDEX('LS12. Self-Employment'!$B5:$Z5,MATCH(D$3,'LS12. Self-Employment'!$B$2:$Z$2,0)),\"n/a\")","v":5400},{"$f":"IFERROR(INDEX('LS12. Self-Employment'!$B5:$Z5,MATCH(E$669,'LS12. Self-Employment'!$B$2:$Z$2,0)),\"n/a\")","v":18100},{"$f":"IFERROR(INDEX('LS12. Self-Employment'!$B5:$Z5,MATCH(F$669,'LS12. Self-Employment'!$B$2:$Z$2,0)),\"n/a\")","v":72300},{"$f":"IFERROR(INDEX('LS12. Self-Employment'!$B5:$Z5,MATCH(G$669,'LS12. Self-Employment'!$B$2:$Z$2,0)),\"n/a\")","v":2545500}]
[null,null,"Jul 2008-Jun 2009",{"$f":"IFERROR(INDEX('LS12. Self-Employment'!$B6:$Z6,MATCH(D$3,'LS12. Self-Employment'!$B$2:$Z$2,0)),\"n/a\")","v":7400},{"$f":"IFERROR(INDEX('LS12. Self-Employment'!$B6:$Z6,MATCH(E$669,'LS12. Self-Employment'!$B$2:$Z$2,0)),\"n/a\")","v":21900},{"$f":"IFERROR(INDEX('LS12. Self-Employment'!$B6:$Z6,MATCH(F$669,'LS12. Self-Employment'!$B$2:$Z$2,0)),\"n/a\")","v":81200},{"$f":"IFERROR(INDEX('LS12. Self-Employment'!$B6:$Z6,MATCH(G$669,'LS12. Self-Employment'!$B$2:$Z$2,0)),\"n/a\")","v":2464300}]
[null,null,"Jul 2009-Jun 2010",{"$f":"IFERROR(INDEX('LS12. Self-Employment'!$B7:$Z7,MATCH(D$3,'LS12. Self-Employment'!$B$2:$Z$2,0)),\"n/a\")","v":6300},{"$f":"IFERROR(INDEX('LS12. Self-Employment'!$B7:$Z7,MATCH(E$669,'LS12. Self-Employment'!$B$2:$Z$2,0)),\"n/a\")","v":18500},{"$f":"IFERROR(INDEX('LS12. Self-Employment'!$B7:$Z7,MATCH(F$669,'LS12. Self-Employment'!$B$2:$Z$2,0)),\"n/a\")","v":76400},{"$f":"IFERROR(INDEX('LS12. Self-Employment'!$B7:$Z7,MATCH(G$669,'LS12. Self-Employment'!$B$2:$Z$2,0)),\"n/a\")","v":2524700}]
[null,null,"Jul 2010-Jun 2011",{"$f":"IFERROR(INDEX('LS12. Self-Employment'!$B8:$Z8,MATCH(D$3,'LS12. Self-Employment'!$B$2:$Z$2,0)),\"n/a\")","v":5900},{"$f":"IFERROR(INDEX('LS12. Self-Employment'!$B8:$Z8,MATCH(E$669,'LS12. Self-Employment'!$B$2:$Z$2,0)),\"n/a\")","v":20500},{"$f":"IFERROR(INDEX('LS12. Self-Employment'!$B8:$Z8,MATCH(F$669,'LS12. Self-Employment'!$B$2:$Z$2,0)),\"n/a\")","v":87000},{"$f":"IFERROR(INDEX('LS12. Self-Employment'!$B8:$Z8,MATCH(G$669,'LS12. Self-Employment'!$B$2:$Z$2,0)),\"n/a\")","v":2559900}]
[null,null,"Jul 2011-Jun 2012",{"$f":"IFERROR(INDEX('LS12. Self-Employment'!$B9:$Z9,MATCH(D$3,'LS12. Self-Employment'!$B$2:$Z$2,0)),\"n/a\")","v":8000},{"$f":"IFERROR(INDEX('LS12. Self-Employment'!$B9:$Z9,MATCH(E$669,'LS12. Self-Employment'!$B$2:$Z$2,0)),\"n/a\")","v":21000},{"$f":"IFERROR(INDEX('LS12. Self-Employment'!$B9:$Z9,MATCH(F$669,'LS12. Self-Employment'!$B$2:$Z$2,0)),\"n/a\")","v":80700},{"$f":"IFERROR(INDEX('LS12. Self-Employment'!$B9:$Z9,MATCH(G$669,'LS12. Self-Employment'!$B$2:$Z$2,0)),\"n/a\")","v":2652000}]
[null,null,"Jul 2012-Jun 2013",{"$f":"IFERROR(INDEX('LS12. Self-Employment'!$B10:$Z10,MATCH(D$3,'LS12. Self-Employment'!$B$2:$Z$2,0)),\"n/a\")","v":7600},{"$f":"IFERROR(INDEX('LS12. Self-Employment'!$B10:$Z10,MATCH(E$669,'LS12. Self-Employment'!$B$2:$Z$2,0)),\"n/a\")","v":20200},{"$f":"IFERROR(INDEX('LS12. Self-Employment'!$B10:$Z10,MATCH(F$669,'LS12. Self-Employment'!$B$2:$Z$2,0)),\"n/a\")","v":82600},{"$f":"IFERROR(INDEX('LS12. Self-Employment'!$B10:$Z10,MATCH(G$669,'LS12. Self-Employment'!$B$2:$Z$2,0)),\"n/a\")","v":2654700}]
[null,null,"Jul 2013-Jun 2014",{"$f":"IFERROR(INDEX('LS12. Self-Employment'!$B11:$Z11,MATCH(D$3,'LS12. Self-Employment'!$B$2:$Z$2,0)),\"n/a\")","v":6500},{"$f":"IFERROR(INDEX('LS12. Self-Employment'!$B11:$Z11,MATCH(E$669,'LS12. Self-Employment'!$B$2:$Z$2,0)),\"n/a\")","v":18800},{"$f":"IFERROR(INDEX('LS12. Self-Employment'!$B11:$Z11,MATCH(F$669,'LS12. Self-Employment'!$B$2:$Z$2,0)),\"n/a\")","v":85500},{"$f":"IFERROR(INDEX('LS12. Self-Employment'!$B11:$Z11,MATCH(G$669,'LS12. Self-Employment'!$B$2:$Z$2,0)),\"n/a\")","v":2759200}]
[null,null,"Jul 2014-Jun 2015",{"$f":"IFERROR(INDEX('LS12. Self-Employment'!$B12:$Z12,MATCH(D$3,'LS12. Self-Employment'!$B$2:$Z$2,0)),\"n/a\")","v":6900},{"$f":"IFERROR(INDEX('LS12. Self-Employment'!$B12:$Z12,MATCH(E$669,'LS12. Self-Employment'!$B$2:$Z$2,0)),\"n/a\")","v":17900},{"$f":"IFERROR(INDEX('LS12. Self-Employment'!$B12:$Z12,MATCH(F$669,'LS12. Self-Employment'!$B$2:$Z$2,0)),\"n/a\")","v":81200},{"$f":"IFERROR(INDEX('LS12. Self-Employment'!$B12:$Z12,MATCH(G$669,'LS12. Self-Employment'!$B$2:$Z$2,0)),\"n/a\")","v":2813900}]
[null,null,"Jul 2015-Jun 2016",{"$f":"IFERROR(INDEX('LS12. Self-Employment'!$B13:$Z13,MATCH(D$3,'LS12. Self-Employment'!$B$2:$Z$2,0)),\"n/a\")","v":7500},{"$f":"IFERROR(INDEX('LS12. Self-Employment'!$B13:$Z13,MATCH(E$669,'LS12. Self-Employment'!$B$2:$Z$2,0)),\"n/a\")","v":23100},{"$f":"IFERROR(INDEX('LS12. Self-Employment'!$B13:$Z13,MATCH(F$669,'LS12. Self-Employment'!$B$2:$Z$2,0)),\"n/a\")","v":90800},{"$f":"IFERROR(INDEX('LS12. Self-Employment'!$B13:$Z13,MATCH(G$669,'LS12. Self-Employment'!$B$2:$Z$2,0)),\"n/a\")","v":2863000}]
[null,null,"Jul 2016-Jun 2017",{"$f":"IFERROR(INDEX('LS12. Self-Employment'!$B14:$Z14,MATCH(D$3,'LS12. Self-Employment'!$B$2:$Z$2,0)),\"n/a\")","v":7100},{"$f":"IFERROR(INDEX('LS12. Self-Employment'!$B14:$Z14,MATCH(E$669,'LS12. Self-Employment'!$B$2:$Z$2,0)),\"n/a\")","v":21300},{"$f":"IFERROR(INDEX('LS12. Self-Employment'!$B14:$Z14,MATCH(F$669,'LS12. Self-Employment'!$B$2:$Z$2,0)),\"n/a\")","v":86400},{"$f":"IFERROR(INDEX('LS12. Self-Employment'!$B14:$Z14,MATCH(G$669,'LS12. Self-Employment'!$B$2:$Z$2,0)),\"n/a\")","v":2960000}]
[]
[null,null,"LS12. Self-Employment (% of working age population)"]
[null,null,null,{"$f":"D$3","v":"Blackburn with Darwen "},{"$f":"D$4","v":"Blackburn with Darwen, Hyndburn, Rossendale and Ribble Valley"},"Lancashire ","England Minus London"]
[null,null,"Jul 2006-Jun 2007",{"$f":"IFERROR(INDEX('LS12. Self-Employment'!$B18:$Z18,MATCH(D$3,'LS12. Self-Employment'!$B$2:$Z$2,0)),\"n/a\")","v":11.8},{"$f":"IFERROR(INDEX('LS12. Self-Employment'!$B18:$Z18,MATCH(E$669,'LS12. Self-Employment'!$B$2:$Z$2,0)),\"n/a\")","v":11.1},{"$f":"IFERROR(INDEX('LS12. Self-Employment'!$B18:$Z18,MATCH(F$669,'LS12. Self-Employment'!$B$2:$Z$2,0)),\"n/a\")","v":11.3},{"$f":"IFERROR(INDEX('LS12. Self-Employment'!$B18:$Z18,MATCH(G$669,'LS12. Self-Employment'!$B$2:$Z$2,0)),\"n/a\")","v":12.4}]
[null,null,"Jul 2007-Jun 2008",{"$f":"IFERROR(INDEX('LS12. Self-Employment'!$B19:$Z19,MATCH(D$3,'LS12. Self-Employment'!$B$2:$Z$2,0)),\"n/a\")","v":8.9},{"$f":"IFERROR(INDEX('LS12. Self-Employment'!$B19:$Z19,MATCH(E$669,'LS12. Self-Employment'!$B$2:$Z$2,0)),\"n/a\")","v":12},{"$f":"IFERROR(INDEX('LS12. Self-Employment'!$B19:$Z19,MATCH(F$669,'LS12. Self-Employment'!$B$2:$Z$2,0)),\"n/a\")","v":11},{"$f":"IFERROR(INDEX('LS12. Self-Employment'!$B19:$Z19,MATCH(G$669,'LS12. Self-Employment'!$B$2:$Z$2,0)),\"n/a\")","v":12.4}]
[null,null,"Jul 2008-Jun 2009",{"$f":"IFERROR(INDEX('LS12. Self-Employment'!$B20:$Z20,MATCH(D$3,'LS12. Self-Employment'!$B$2:$Z$2,0)),\"n/a\")","v":12.7},{"$f":"IFERROR(INDEX('LS12. Self-Employment'!$B20:$Z20,MATCH(E$669,'LS12. Self-Employment'!$B$2:$Z$2,0)),\"n/a\")","v":14.9},{"$f":"IFERROR(INDEX('LS12. Self-Employment'!$B20:$Z20,MATCH(F$669,'LS12. Self-Employment'!$B$2:$Z$2,0)),\"n/a\")","v":12.8},{"$f":"IFERROR(INDEX('LS12. Self-Employment'!$B20:$Z20,MATCH(G$669,'LS12. Self-Employment'!$B$2:$Z$2,0)),\"n/a\")","v":12.1}]
[null,null,"Jul 2009-Jun 2010",{"$f":"IFERROR(INDEX('LS12. Self-Employment'!$B21:$Z21,MATCH(D$3,'LS12. Self-Employment'!$B$2:$Z$2,0)),\"n/a\")","v":10.4},{"$f":"IFERROR(INDEX('LS12. Self-Employment'!$B21:$Z21,MATCH(E$669,'LS12. Self-Employment'!$B$2:$Z$2,0)),\"n/a\")","v":12.4},{"$f":"IFERROR(INDEX('LS12. Self-Employment'!$B21:$Z21,MATCH(F$669,'LS12. Self-Employment'!$B$2:$Z$2,0)),\"n/a\")","v":11.9},{"$f":"IFERROR(INDEX('LS12. Self-Employment'!$B21:$Z21,MATCH(G$669,'LS12. Self-Employment'!$B$2:$Z$2,0)),\"n/a\")","v":12.6}]
[null,null,"Jul 2010-Jun 2011",{"$f":"IFERROR(INDEX('LS12. Self-Employment'!$B22:$Z22,MATCH(D$3,'LS12. Self-Employment'!$B$2:$Z$2,0)),\"n/a\")","v":10.3},{"$f":"IFERROR(INDEX('LS12. Self-Employment'!$B22:$Z22,MATCH(E$669,'LS12. Self-Employment'!$B$2:$Z$2,0)),\"n/a\")","v":14},{"$f":"IFERROR(INDEX('LS12. Self-Employment'!$B22:$Z22,MATCH(F$669,'LS12. Self-Employment'!$B$2:$Z$2,0)),\"n/a\")","v":13.5},{"$f":"IFERROR(INDEX('LS12. Self-Employment'!$B22:$Z22,MATCH(G$669,'LS12. Self-Employment'!$B$2:$Z$2,0)),\"n/a\")","v":12.8}]
[null,null,"Jul 2011-Jun 2012",{"$f":"IFERROR(INDEX('LS12. Self-Employment'!$B23:$Z23,MATCH(D$3,'LS12. Self-Employment'!$B$2:$Z$2,0)),\"n/a\")","v":14.1},{"$f":"IFERROR(INDEX('LS12. Self-Employment'!$B23:$Z23,MATCH(E$669,'LS12. Self-Employment'!$B$2:$Z$2,0)),\"n/a\")","v":13.5},{"$f":"IFERROR(INDEX('LS12. Self-Employment'!$B23:$Z23,MATCH(F$669,'LS12. Self-Employment'!$B$2:$Z$2,0)),\"n/a\")","v":12.4},{"$f":"IFERROR(INDEX('LS12. Self-Employment'!$B23:$Z23,MATCH(G$669,'LS12. Self-Employment'!$B$2:$Z$2,0)),\"n/a\")","v":13.2}]
[null,null,"Jul 2012-Jun 2013",{"$f":"IFERROR(INDEX('LS12. Self-Employment'!$B24:$Z24,MATCH(D$3,'LS12. Self-Employment'!$B$2:$Z$2,0)),\"n/a\")","v":12.7},{"$f":"IFERROR(INDEX('LS12. Self-Employment'!$B24:$Z24,MATCH(E$669,'LS12. Self-Employment'!$B$2:$Z$2,0)),\"n/a\")","v":13.1},{"$f":"IFERROR(INDEX('LS12. Self-Employment'!$B24:$Z24,MATCH(F$669,'LS12. Self-Employment'!$B$2:$Z$2,0)),\"n/a\")","v":13},{"$f":"IFERROR(INDEX('LS12. Self-Employment'!$B24:$Z24,MATCH(G$669,'LS12. Self-Employment'!$B$2:$Z$2,0)),\"n/a\")","v":13.1}]
[null,null,"Jul 2013-Jun 2014",{"$f":"IFERROR(INDEX('LS12. Self-Employment'!$B25:$Z25,MATCH(D$3,'LS12. Self-Employment'!$B$2:$Z$2,0)),\"n/a\")","v":11.3},{"$f":"IFERROR(INDEX('LS12. Self-Employment'!$B25:$Z25,MATCH(E$669,'LS12. Self-Employment'!$B$2:$Z$2,0)),\"n/a\")","v":13.3},{"$f":"IFERROR(INDEX('LS12. Self-Employment'!$B25:$Z25,MATCH(F$669,'LS12. Self-Employment'!$B$2:$Z$2,0)),\"n/a\")","v":13.9},{"$f":"IFERROR(INDEX('LS12. Self-Employment'!$B25:$Z25,MATCH(G$669,'LS12. Self-Employment'!$B$2:$Z$2,0)),\"n/a\")","v":13.5}]
[null,null,"Jul 2014-Jun 2015",{"$f":"IFERROR(INDEX('LS12. Self-Employment'!$B26:$Z26,MATCH(D$3,'LS12. Self-Employment'!$B$2:$Z$2,0)),\"n/a\")","v":11.6},{"$f":"IFERROR(INDEX('LS12. Self-Employment'!$B26:$Z26,MATCH(E$669,'LS12. Self-Employment'!$B$2:$Z$2,0)),\"n/a\")","v":11.5},{"$f":"IFERROR(INDEX('LS12. Self-Employment'!$B26:$Z26,MATCH(F$669,'LS12. Self-Employment'!$B$2:$Z$2,0)),\"n/a\")","v":12.7},{"$f":"IFERROR(INDEX('LS12. Self-Employment'!$B26:$Z26,MATCH(G$669,'LS12. Self-Employment'!$B$2:$Z$2,0)),\"n/a\")","v":13.5}]
[null,null,"Jul 2015-Jun 2016",{"$f":"IFERROR(INDEX('LS12. Self-Employment'!$B27:$Z27,MATCH(D$3,'LS12. Self-Employment'!$B$2:$Z$2,0)),\"n/a\")","v":12.7},{"$f":"IFERROR(INDEX('LS12. Self-Employment'!$B27:$Z27,MATCH(E$669,'LS12. Self-Employment'!$B$2:$Z$2,0)),\"n/a\")","v":14.6},{"$f":"IFERROR(INDEX('LS12. Self-Employment'!$B27:$Z27,MATCH(F$669,'LS12. Self-Employment'!$B$2:$Z$2,0)),\"n/a\")","v":13.5},{"$f":"IFERROR(INDEX('LS12. Self-Employment'!$B27:$Z27,MATCH(G$669,'LS12. Self-Employment'!$B$2:$Z$2,0)),\"n/a\")","v":13.5}]
[null,null,"Jul 2016-Jun 2017",{"$f":"IFERROR(INDEX('LS12. Self-Employment'!$B28:$Z28,MATCH(D$3,'LS12. Self-Employment'!$B$2:$Z$2,0)),\"n/a\")","v":12},{"$f":"IFERROR(INDEX('LS12. Self-Employment'!$B28:$Z28,MATCH(E$669,'LS12. Self-Employment'!$B$2:$Z$2,0)),\"n/a\")","v":13.9},{"$f":"IFERROR(INDEX('LS12. Self-Employment'!$B28:$Z28,MATCH(F$669,'LS12. Self-Employment'!$B$2:$Z$2,0)),\"n/a\")","v":12.9},{"$f":"IFERROR(INDEX('LS12. Self-Employment'!$B28:$Z28,MATCH(G$669,'LS12. Self-Employment'!$B$2:$Z$2,0)),\"n/a\")","v":13.8}]
[]
[]
[]
[]
[]
[]
[]
[]
[]
[]
[]
[]
[]
[]
[]
[]
[]
[]
[]
[]
[]
[]
[]
[]
[]
[]
[]
[null,null,"LS13. Hours Worked Weekly, 2017"]
[null,null,null,{"$f":"D$3","v":"Blackburn with Darwen "},{"$f":"D$4","v":"Blackburn with Darwen, Hyndburn, Rossendale and Ribble Valley"},"Lancashire ","England Minus London"]
[null,null,"Who work under 10 hours",{"$f":"IFERROR(INDEX('LS13. Hours Worked Weekly'!$B4:$Z4,MATCH(D$3,'LS13. Hours Worked Weekly'!$B$2:$Z$2,0)),\"n/a\")","v":2000},{"$f":"IFERROR(INDEX('LS13. Hours Worked Weekly'!$B4:$Z4,MATCH(E$723,'LS13. Hours Worked Weekly'!$B$2:$Z$2,0)),\"n/a\")","v":6900},{"$f":"IFERROR(INDEX('LS13. Hours Worked Weekly'!$B4:$Z4,MATCH(F$723,'LS13. Hours Worked Weekly'!$B$2:$Z$2,0)),\"n/a\")","v":29300},{"$f":"IFERROR(INDEX('LS13. Hours Worked Weekly'!$B4:$Z4,MATCH(G$723,'LS13. Hours Worked Weekly'!$B$2:$Z$2,0)),\"n/a\")","v":798100}]
[null,null,"Who work 10-34 hours",{"$f":"IFERROR(INDEX('LS13. Hours Worked Weekly'!$B5:$Z5,MATCH(D$3,'LS13. Hours Worked Weekly'!$B$2:$Z$2,0)),\"n/a\")","v":17600},{"$f":"IFERROR(INDEX('LS13. Hours Worked Weekly'!$B5:$Z5,MATCH(E$723,'LS13. Hours Worked Weekly'!$B$2:$Z$2,0)),\"n/a\")","v":43500},{"$f":"IFERROR(INDEX('LS13. Hours Worked Weekly'!$B5:$Z5,MATCH(F$723,'LS13. Hours Worked Weekly'!$B$2:$Z$2,0)),\"n/a\")","v":194900},{"$f":"IFERROR(INDEX('LS13. Hours Worked Weekly'!$B5:$Z5,MATCH(G$723,'LS13. Hours Worked Weekly'!$B$2:$Z$2,0)),\"n/a\")","v":6099100}]
[null,null,"Who work 35-44 hours",{"$f":"IFERROR(INDEX('LS13. Hours Worked Weekly'!$B6:$Z6,MATCH(D$3,'LS13. Hours Worked Weekly'!$B$2:$Z$2,0)),\"n/a\")","v":28700},{"$f":"IFERROR(INDEX('LS13. Hours Worked Weekly'!$B6:$Z6,MATCH(E$723,'LS13. Hours Worked Weekly'!$B$2:$Z$2,0)),\"n/a\")","v":73200},{"$f":"IFERROR(INDEX('LS13. Hours Worked Weekly'!$B6:$Z6,MATCH(F$723,'LS13. Hours Worked Weekly'!$B$2:$Z$2,0)),\"n/a\")","v":300700},{"$f":"IFERROR(INDEX('LS13. Hours Worked Weekly'!$B6:$Z6,MATCH(G$723,'LS13. Hours Worked Weekly'!$B$2:$Z$2,0)),\"n/a\")","v":9620200}]
[null,null,"Work 45 hours or more",{"$f":"IFERROR(INDEX('LS13. Hours Worked Weekly'!$B7:$Z7,MATCH(D$3,'LS13. Hours Worked Weekly'!$B$2:$Z$2,0)),\"n/a\")","v":10900},{"$f":"IFERROR(INDEX('LS13. Hours Worked Weekly'!$B7:$Z7,MATCH(E$723,'LS13. Hours Worked Weekly'!$B$2:$Z$2,0)),\"n/a\")","v":35700},{"$f":"IFERROR(INDEX('LS13. Hours Worked Weekly'!$B7:$Z7,MATCH(F$723,'LS13. Hours Worked Weekly'!$B$2:$Z$2,0)),\"n/a\")","v":148300},{"$f":"IFERROR(INDEX('LS13. Hours Worked Weekly'!$B7:$Z7,MATCH(G$723,'LS13. Hours Worked Weekly'!$B$2:$Z$2,0)),\"n/a\")","v":5105200}]
[]
[null,null,"LS13. % of Hours Worked Weekly, 2017"]
[null,null,null,{"$f":"D$3","v":"Blackburn with Darwen "},{"$f":"D$4","v":"Blackburn with Darwen, Hyndburn, Rossendale and Ribble Valley"},"Lancashire ","England Minus London"]
[null,null,"Who work under 10 hours",{"$f":"IFERROR(INDEX('LS13. Hours Worked Weekly'!$B11:$Z11,MATCH(D$3,'LS13. Hours Worked Weekly'!$B$2:$Z$2,0)),\"n/a\")/100","v":3.4000000000000002E-2},{"$f":"IFERROR(INDEX('LS13. Hours Worked Weekly'!$B11:$Z11,MATCH(E$723,'LS13. Hours Worked Weekly'!$B$2:$Z$2,0)),\"n/a\")/100","v":4.4000000000000004E-2},{"$f":"IFERROR(INDEX('LS13. Hours Worked Weekly'!$B11:$Z11,MATCH(F$723,'LS13. Hours Worked Weekly'!$B$2:$Z$2,0)),\"n/a\")/100","v":4.4000000000000004E-2},{"$f":"IFERROR(INDEX('LS13. Hours Worked Weekly'!$B11:$Z11,MATCH(G$723,'LS13. Hours Worked Weekly'!$B$2:$Z$2,0)),\"n/a\")/100","v":3.7000000000000005E-2}]
[null,null,"Who work 10-34 hours",{"$f":"IFERROR(INDEX('LS13. Hours Worked Weekly'!$B12:$Z12,MATCH(D$3,'LS13. Hours Worked Weekly'!$B$2:$Z$2,0)),\"n/a\")/100","v":0.29799999999999999},{"$f":"IFERROR(INDEX('LS13. Hours Worked Weekly'!$B12:$Z12,MATCH(E$723,'LS13. Hours Worked Weekly'!$B$2:$Z$2,0)),\"n/a\")/100","v":0.27300000000000002},{"$f":"IFERROR(INDEX('LS13. Hours Worked Weekly'!$B12:$Z12,MATCH(F$723,'LS13. Hours Worked Weekly'!$B$2:$Z$2,0)),\"n/a\")/100","v":0.28899999999999998},{"$f":"IFERROR(INDEX('LS13. Hours Worked Weekly'!$B12:$Z12,MATCH(G$723,'LS13. Hours Worked Weekly'!$B$2:$Z$2,0)),\"n/a\")/100","v":0.28199999999999997}]
[null,null,"Who work 35-44 hours",{"$f":"IFERROR(INDEX('LS13. Hours Worked Weekly'!$B13:$Z13,MATCH(D$3,'LS13. Hours Worked Weekly'!$B$2:$Z$2,0)),\"n/a\")/100","v":0.48499999999999999},{"$f":"IFERROR(INDEX('LS13. Hours Worked Weekly'!$B13:$Z13,MATCH(E$723,'LS13. Hours Worked Weekly'!$B$2:$Z$2,0)),\"n/a\")/100","v":0.45899999999999996},{"$f":"IFERROR(INDEX('LS13. Hours Worked Weekly'!$B13:$Z13,MATCH(F$723,'LS13. Hours Worked Weekly'!$B$2:$Z$2,0)),\"n/a\")/100","v":0.44700000000000001},{"$f":"IFERROR(INDEX('LS13. Hours Worked Weekly'!$B13:$Z13,MATCH(G$723,'LS13. Hours Worked Weekly'!$B$2:$Z$2,0)),\"n/a\")/100","v":0.44500000000000001}]
[null,null,"Work 45 hours or more",{"$f":"IFERROR(INDEX('LS13. Hours Worked Weekly'!$B14:$Z14,MATCH(D$3,'LS13. Hours Worked Weekly'!$B$2:$Z$2,0)),\"n/a\")/100","v":0.183},{"$f":"IFERROR(INDEX('LS13. Hours Worked Weekly'!$B14:$Z14,MATCH(E$723,'LS13. Hours Worked Weekly'!$B$2:$Z$2,0)),\"n/a\")/100","v":0.22399999999999998},{"$f":"IFERROR(INDEX('LS13. Hours Worked Weekly'!$B14:$Z14,MATCH(F$723,'LS13. Hours Worked Weekly'!$B$2:$Z$2,0)),\"n/a\")/100","v":0.22},{"$f":"IFERROR(INDEX('LS13. Hours Worked Weekly'!$B14:$Z14,MATCH(G$723,'LS13. Hours Worked Weekly'!$B$2:$Z$2,0)),\"n/a\")/100","v":0.23600000000000002}]
[]
[]
[]
[]
[]
[]
[]
[]
[]
[]
[]
[]
[]
[]
[]
[]
[]
[]
[]
[]
[]
[]
[]
[]
[]
[]
[]
[]
[]
[]
[]
[]
[]
[]
[]
[]
[]
[]
[]
[]
[]
[null,null,"LS14. Non-Permanent Employment, 2017"]
[null,null,null,{"$f":"D$3","v":"Blackburn with Darwen "},{"$f":"D$4","v":"Blackburn with Darwen, Hyndburn, Rossendale and Ribble Valley"},"Lancashire ","England Minus London"]
[null,null,"Number in employment",{"$f":"IFERROR(INDEX('LS14. Non-Permanent Employment'!$B4:$Z4,MATCH(D$3,'LS14. Non-Permanent Employment'!$B$2:$Z$2,0)),\"n/a\")","v":2900},{"$f":"IFERROR(INDEX('LS14. Non-Permanent Employment'!$B4:$Z4,MATCH(E$777,'LS14. Non-Permanent Employment'!$B$2:$Z$2,0)),\"n/a\")","v":7000},{"$f":"IFERROR(INDEX('LS14. Non-Permanent Employment'!$B4:$Z4,MATCH(F$777,'LS14. Non-Permanent Employment'!$B$2:$Z$2,0)),\"n/a\")","v":40000},{"$f":"IFERROR(INDEX('LS14. Non-Permanent Employment'!$B4:$Z4,MATCH(G$777,'LS14. Non-Permanent Employment'!$B$2:$Z$2,0)),\"n/a\")","v":1080600}]
[null,null,"Rate in employment",{"$f":"IFERROR(INDEX('LS14. Non-Permanent Employment'!$B5:$Z5,MATCH(D$3,'LS14. Non-Permanent Employment'!$B$2:$Z$2,0)),\"n/a\")/100","v":4.8000000000000001E-2},{"$f":"IFERROR(INDEX('LS14. Non-Permanent Employment'!$B5:$Z5,MATCH(E$777,'LS14. Non-Permanent Employment'!$B$2:$Z$2,0)),\"n/a\")/100","v":4.2999999999999997E-2},{"$f":"IFERROR(INDEX('LS14. Non-Permanent Employment'!$B5:$Z5,MATCH(F$777,'LS14. Non-Permanent Employment'!$B$2:$Z$2,0)),\"n/a\")/100","v":5.7000000000000002E-2},{"$f":"IFERROR(INDEX('LS14. Non-Permanent Employment'!$B5:$Z5,MATCH(G$777,'LS14. Non-Permanent Employment'!$B$2:$Z$2,0)),\"n/a\")/100","v":4.9000000000000002E-2}]
[]
[]
[]
[]
[]
[]
[]
[]
[]
[]
[]
[]
[]
[]
[]
[]
[]
[]
[]
[]
[]
[]
[]
[]
[]
[]
[]
[]
[]
[]
[]
[]
[]
[]
[]
[]
[]
[]
[]
[]
[]
[]
[]
[]
[]
[]
[]
[]
[]
[]
[]
[]
[]
[]
[]
[]
[null,null,"LS15. Zero-Hour Contracts, 2017"]
[null,null,null,"North West ","England Minus London","England"]
[null,null,"Number in employment",{"$f":"INDEX('LS15. Zero-Hour Contracts'!$B4:$X4,MATCH(D$837,'LS15. Zero-Hour Contracts'!$B$2:$X$2,0))","v":67000},{"$f":"INDEX('LS15. Zero-Hour Contracts'!$B4:$X4,MATCH(E$837,'LS15. Zero-Hour Contracts'!$B$2:$X$2,0))","v":640000},{"$f":"INDEX('LS15. Zero-Hour Contracts'!$B4:$X4,MATCH(F$837,'LS15. Zero-Hour Contracts'!$B$2:$X$2,0))","v":758000}]
[null,null,"Rate in employment",{"$f":"INDEX('LS15. Zero-Hour Contracts'!$B5:$X5,MATCH(D$837,'LS15. Zero-Hour Contracts'!$B$2:$X$2,0))/100","v":0.02},"..",{"$f":"INDEX('LS15. Zero-Hour Contracts'!$B5:$X5,MATCH(F$837,'LS15. Zero-Hour Contracts'!$B$2:$X$2,0))/100","v":2.7999999999999997E-2}]
[]
[]
[]
[]
[]
[]
[]
[]
[]
[]
[]
[]
[]
[]
[]
[]
[]
[]
[]
[]
[]
[]
[]
[]
[]
[]
[]
[]
[]
[]
[]
[]
[]
[]
[]
[]
[]
[]
[]
[]
[]
[]
[]
[]
[]
[]
[]
[]
[]
[]
[]
[]
[]
[]
[]
[]
[]
[]
[null,null,"LS16. Unemployment, 2006/07-16/17"]
[null,null,null,{"$f":"D$3","v":"Blackburn with Darwen "},{"$f":"D$4","v":"Blackburn with Darwen, Hyndburn, Rossendale and Ribble Valley"},"Lancashire ","England Minus London"]
[null,null,"Jul 2006-Jun 2007",{"$f":"IFERROR(INDEX('LS16. Unemployment'!$B4:$Z4,MATCH(D$3,'LS16. Unemployment'!$B$2:$Z$2,0)),\"n/a\")","v":4100},{"$f":"IFERROR(INDEX('LS16. Unemployment'!$B4:$Z4,MATCH(E$899,'LS16. Unemployment'!$B$2:$Z$2,0)),\"n/a\")","v":7500},{"$f":"IFERROR(INDEX('LS16. Unemployment'!$B4:$Z4,MATCH(F$899,'LS16. Unemployment'!$B$2:$Z$2,0)),\"n/a\")","v":38300},{"$f":"IFERROR(INDEX('LS16. Unemployment'!$B4:$Z4,MATCH(G$899,'LS16. Unemployment'!$B$2:$Z$2,0)),\"n/a\")","v":1068300}]
[null,null,"Jul 2007-Jun 2008",{"$f":"IFERROR(INDEX('LS16. Unemployment'!$B5:$Z5,MATCH(D$3,'LS16. Unemployment'!$B$2:$Z$2,0)),\"n/a\")","v":4100},{"$f":"IFERROR(INDEX('LS16. Unemployment'!$B5:$Z5,MATCH(E$899,'LS16. Unemployment'!$B$2:$Z$2,0)),\"n/a\")","v":11600},{"$f":"IFERROR(INDEX('LS16. Unemployment'!$B5:$Z5,MATCH(F$899,'LS16. Unemployment'!$B$2:$Z$2,0)),\"n/a\")","v":39900},{"$f":"IFERROR(INDEX('LS16. Unemployment'!$B5:$Z5,MATCH(G$899,'LS16. Unemployment'!$B$2:$Z$2,0)),\"n/a\")","v":1101800}]
[null,null,"Jul 2008-Jun 2009",{"$f":"IFERROR(INDEX('LS16. Unemployment'!$B6:$Z6,MATCH(D$3,'LS16. Unemployment'!$B$2:$Z$2,0)),\"n/a\")","v":5400},{"$f":"IFERROR(INDEX('LS16. Unemployment'!$B6:$Z6,MATCH(E$899,'LS16. Unemployment'!$B$2:$Z$2,0)),\"n/a\")","v":11000},{"$f":"IFERROR(INDEX('LS16. Unemployment'!$B6:$Z6,MATCH(F$899,'LS16. Unemployment'!$B$2:$Z$2,0)),\"n/a\")","v":48500},{"$f":"IFERROR(INDEX('LS16. Unemployment'!$B6:$Z6,MATCH(G$899,'LS16. Unemployment'!$B$2:$Z$2,0)),\"n/a\")","v":1468600}]
[null,null,"Jul 2009-Jun 2010",{"$f":"IFERROR(INDEX('LS16. Unemployment'!$B7:$Z7,MATCH(D$3,'LS16. Unemployment'!$B$2:$Z$2,0)),\"n/a\")","v":5800},{"$f":"IFERROR(INDEX('LS16. Unemployment'!$B7:$Z7,MATCH(E$899,'LS16. Unemployment'!$B$2:$Z$2,0)),\"n/a\")","v":12700},{"$f":"IFERROR(INDEX('LS16. Unemployment'!$B7:$Z7,MATCH(F$899,'LS16. Unemployment'!$B$2:$Z$2,0)),\"n/a\")","v":46500},{"$f":"IFERROR(INDEX('LS16. Unemployment'!$B7:$Z7,MATCH(G$899,'LS16. Unemployment'!$B$2:$Z$2,0)),\"n/a\")","v":1648800}]
[null,null,"Jul 2010-Jun 2011",{"$f":"IFERROR(INDEX('LS16. Unemployment'!$B8:$Z8,MATCH(D$3,'LS16. Unemployment'!$B$2:$Z$2,0)),\"n/a\")","v":6100},{"$f":"IFERROR(INDEX('LS16. Unemployment'!$B8:$Z8,MATCH(E$899,'LS16. Unemployment'!$B$2:$Z$2,0)),\"n/a\")","v":12200},{"$f":"IFERROR(INDEX('LS16. Unemployment'!$B8:$Z8,MATCH(F$899,'LS16. Unemployment'!$B$2:$Z$2,0)),\"n/a\")","v":43000},{"$f":"IFERROR(INDEX('LS16. Unemployment'!$B8:$Z8,MATCH(G$899,'LS16. Unemployment'!$B$2:$Z$2,0)),\"n/a\")","v":1640500}]
[null,null,"Jul 2011-Jun 2012",{"$f":"IFERROR(INDEX('LS16. Unemployment'!$B9:$Z9,MATCH(D$3,'LS16. Unemployment'!$B$2:$Z$2,0)),\"n/a\")","v":6300},{"$f":"IFERROR(INDEX('LS16. Unemployment'!$B9:$Z9,MATCH(E$899,'LS16. Unemployment'!$B$2:$Z$2,0)),\"n/a\")","v":12900},{"$f":"IFERROR(INDEX('LS16. Unemployment'!$B9:$Z9,MATCH(F$899,'LS16. Unemployment'!$B$2:$Z$2,0)),\"n/a\")","v":56800},{"$f":"IFERROR(INDEX('LS16. Unemployment'!$B9:$Z9,MATCH(G$899,'LS16. Unemployment'!$B$2:$Z$2,0)),\"n/a\")","v":1743900}]
[null,null,"Jul 2012-Jun 2013",{"$f":"IFERROR(INDEX('LS16. Unemployment'!$B10:$Z10,MATCH(D$3,'LS16. Unemployment'!$B$2:$Z$2,0)),\"n/a\")","v":5600},{"$f":"IFERROR(INDEX('LS16. Unemployment'!$B10:$Z10,MATCH(E$899,'LS16. Unemployment'!$B$2:$Z$2,0)),\"n/a\")","v":10000},{"$f":"IFERROR(INDEX('LS16. Unemployment'!$B10:$Z10,MATCH(F$899,'LS16. Unemployment'!$B$2:$Z$2,0)),\"n/a\")","v":44600},{"$f":"IFERROR(INDEX('LS16. Unemployment'!$B10:$Z10,MATCH(G$899,'LS16. Unemployment'!$B$2:$Z$2,0)),\"n/a\")","v":1700900}]
[null,null,"Jul 2013-Jun 2014",{"$f":"IFERROR(INDEX('LS16. Unemployment'!$B11:$Z11,MATCH(D$3,'LS16. Unemployment'!$B$2:$Z$2,0)),\"n/a\")","v":4800},{"$f":"IFERROR(INDEX('LS16. Unemployment'!$B11:$Z11,MATCH(E$899,'LS16. Unemployment'!$B$2:$Z$2,0)),\"n/a\")","v":13800},{"$f":"IFERROR(INDEX('LS16. Unemployment'!$B11:$Z11,MATCH(F$899,'LS16. Unemployment'!$B$2:$Z$2,0)),\"n/a\")","v":53500},{"$f":"IFERROR(INDEX('LS16. Unemployment'!$B11:$Z11,MATCH(G$899,'LS16. Unemployment'!$B$2:$Z$2,0)),\"n/a\")","v":1496700}]
[null,null,"Jul 2014-Jun 2015",{"$f":"IFERROR(INDEX('LS16. Unemployment'!$B12:$Z12,MATCH(D$3,'LS16. Unemployment'!$B$2:$Z$2,0)),\"n/a\")","v":4900},{"$f":"IFERROR(INDEX('LS16. Unemployment'!$B12:$Z12,MATCH(E$899,'LS16. Unemployment'!$B$2:$Z$2,0)),\"n/a\")","v":8300},{"$f":"IFERROR(INDEX('LS16. Unemployment'!$B12:$Z12,MATCH(F$899,'LS16. Unemployment'!$B$2:$Z$2,0)),\"n/a\")","v":31500},{"$f":"IFERROR(INDEX('LS16. Unemployment'!$B12:$Z12,MATCH(G$899,'LS16. Unemployment'!$B$2:$Z$2,0)),\"n/a\")","v":1221000}]
[null,null,"Jul 2015-Jun 2016",{"$f":"IFERROR(INDEX('LS16. Unemployment'!$B13:$Z13,MATCH(D$3,'LS16. Unemployment'!$B$2:$Z$2,0)),\"n/a\")","v":4400},{"$f":"IFERROR(INDEX('LS16. Unemployment'!$B13:$Z13,MATCH(E$899,'LS16. Unemployment'!$B$2:$Z$2,0)),\"n/a\")","v":10700},{"$f":"IFERROR(INDEX('LS16. Unemployment'!$B13:$Z13,MATCH(F$899,'LS16. Unemployment'!$B$2:$Z$2,0)),\"n/a\")","v":29700},{"$f":"IFERROR(INDEX('LS16. Unemployment'!$B13:$Z13,MATCH(G$899,'LS16. Unemployment'!$B$2:$Z$2,0)),\"n/a\")","v":1111900}]
[null,null,"Jul 2016-Jun 2017",{"$f":"IFERROR(INDEX('LS16. Unemployment'!$B14:$Z14,MATCH(D$3,'LS16. Unemployment'!$B$2:$Z$2,0)),\"n/a\")","v":3600},{"$f":"IFERROR(INDEX('LS16. Unemployment'!$B14:$Z14,MATCH(E$899,'LS16. Unemployment'!$B$2:$Z$2,0)),\"n/a\")","v":5500},{"$f":"IFERROR(INDEX('LS16. Unemployment'!$B14:$Z14,MATCH(F$899,'LS16. Unemployment'!$B$2:$Z$2,0)),\"n/a\")","v":30800},{"$f":"IFERROR(INDEX('LS16. Unemployment'!$B14:$Z14,MATCH(G$899,'LS16. Unemployment'!$B$2:$Z$2,0)),\"n/a\")","v":1003500}]
[]
[null,null,"LS16. Unemployment (% of working age population), 2006/07-16/17"]
[null,null,null,{"$f":"D$3","v":"Blackburn with Darwen "},{"$f":"D$4","v":"Blackburn with Darwen, Hyndburn, Rossendale and Ribble Valley"},"Lancashire ","England Minus London"]
[null,null,"Jul 2006-Jun 2007",{"$f":"IFERROR(INDEX('LS16. Unemployment'!$B18:$Z18,MATCH(D$3,'LS16. Unemployment'!$B$2:$Z$2,0)),\"n/a\")","v":6.3},{"$f":"IFERROR(INDEX('LS16. Unemployment'!$B18:$Z18,MATCH(E$913,'LS16. Unemployment'!$B$2:$Z$2,0)),\"n/a\")","v":4.7},{"$f":"IFERROR(INDEX('LS16. Unemployment'!$B18:$Z18,MATCH(F$913,'LS16. Unemployment'!$B$2:$Z$2,0)),\"n/a\")","v":5.6},{"$f":"IFERROR(INDEX('LS16. Unemployment'!$B18:$Z18,MATCH(G$913,'LS16. Unemployment'!$B$2:$Z$2,0)),\"n/a\")","v":5}]
[null,null,"Jul 2007-Jun 2008",{"$f":"IFERROR(INDEX('LS16. Unemployment'!$B19:$Z19,MATCH(D$3,'LS16. Unemployment'!$B$2:$Z$2,0)),\"n/a\")","v":6.4},{"$f":"IFERROR(INDEX('LS16. Unemployment'!$B19:$Z19,MATCH(E$913,'LS16. Unemployment'!$B$2:$Z$2,0)),\"n/a\")","v":7.1},{"$f":"IFERROR(INDEX('LS16. Unemployment'!$B19:$Z19,MATCH(F$913,'LS16. Unemployment'!$B$2:$Z$2,0)),\"n/a\")","v":5.7},{"$f":"IFERROR(INDEX('LS16. Unemployment'!$B19:$Z19,MATCH(G$913,'LS16. Unemployment'!$B$2:$Z$2,0)),\"n/a\")","v":5.0999999999999996}]
[null,null,"Jul 2008-Jun 2009",{"$f":"IFERROR(INDEX('LS16. Unemployment'!$B20:$Z20,MATCH(D$3,'LS16. Unemployment'!$B$2:$Z$2,0)),\"n/a\")","v":8.5},{"$f":"IFERROR(INDEX('LS16. Unemployment'!$B20:$Z20,MATCH(E$913,'LS16. Unemployment'!$B$2:$Z$2,0)),\"n/a\")","v":7},{"$f":"IFERROR(INDEX('LS16. Unemployment'!$B20:$Z20,MATCH(F$913,'LS16. Unemployment'!$B$2:$Z$2,0)),\"n/a\")","v":7.1},{"$f":"IFERROR(INDEX('LS16. Unemployment'!$B20:$Z20,MATCH(G$913,'LS16. Unemployment'!$B$2:$Z$2,0)),\"n/a\")","v":6.7}]
[null,null,"Jul 2009-Jun 2010",{"$f":"IFERROR(INDEX('LS16. Unemployment'!$B21:$Z21,MATCH(D$3,'LS16. Unemployment'!$B$2:$Z$2,0)),\"n/a\")","v":8.8000000000000007},{"$f":"IFERROR(INDEX('LS16. Unemployment'!$B21:$Z21,MATCH(E$913,'LS16. Unemployment'!$B$2:$Z$2,0)),\"n/a\")","v":7.8},{"$f":"IFERROR(INDEX('LS16. Unemployment'!$B21:$Z21,MATCH(F$913,'LS16. Unemployment'!$B$2:$Z$2,0)),\"n/a\")","v":6.8},{"$f":"IFERROR(INDEX('LS16. Unemployment'!$B21:$Z21,MATCH(G$913,'LS16. Unemployment'!$B$2:$Z$2,0)),\"n/a\")","v":7.6}]
[null,null,"Jul 2010-Jun 2011",{"$f":"IFERROR(INDEX('LS16. Unemployment'!$B22:$Z22,MATCH(D$3,'LS16. Unemployment'!$B$2:$Z$2,0)),\"n/a\")","v":9.5},{"$f":"IFERROR(INDEX('LS16. Unemployment'!$B22:$Z22,MATCH(E$913,'LS16. Unemployment'!$B$2:$Z$2,0)),\"n/a\")","v":7.6},{"$f":"IFERROR(INDEX('LS16. Unemployment'!$B22:$Z22,MATCH(F$913,'LS16. Unemployment'!$B$2:$Z$2,0)),\"n/a\")","v":6.2},{"$f":"IFERROR(INDEX('LS16. Unemployment'!$B22:$Z22,MATCH(G$913,'LS16. Unemployment'!$B$2:$Z$2,0)),\"n/a\")","v":7.6}]
[null,null,"Jul 2011-Jun 2012",{"$f":"IFERROR(INDEX('LS16. Unemployment'!$B23:$Z23,MATCH(D$3,'LS16. Unemployment'!$B$2:$Z$2,0)),\"n/a\")","v":9.9},{"$f":"IFERROR(INDEX('LS16. Unemployment'!$B23:$Z23,MATCH(E$913,'LS16. Unemployment'!$B$2:$Z$2,0)),\"n/a\")","v":7.6},{"$f":"IFERROR(INDEX('LS16. Unemployment'!$B23:$Z23,MATCH(F$913,'LS16. Unemployment'!$B$2:$Z$2,0)),\"n/a\")","v":8},{"$f":"IFERROR(INDEX('LS16. Unemployment'!$B23:$Z23,MATCH(G$913,'LS16. Unemployment'!$B$2:$Z$2,0)),\"n/a\")","v":8}]
[null,null,"Jul 2012-Jun 2013",{"$f":"IFERROR(INDEX('LS16. Unemployment'!$B24:$Z24,MATCH(D$3,'LS16. Unemployment'!$B$2:$Z$2,0)),\"n/a\")","v":8.6},{"$f":"IFERROR(INDEX('LS16. Unemployment'!$B24:$Z24,MATCH(E$913,'LS16. Unemployment'!$B$2:$Z$2,0)),\"n/a\")","v":6.1},{"$f":"IFERROR(INDEX('LS16. Unemployment'!$B24:$Z24,MATCH(F$913,'LS16. Unemployment'!$B$2:$Z$2,0)),\"n/a\")","v":6.6},{"$f":"IFERROR(INDEX('LS16. Unemployment'!$B24:$Z24,MATCH(G$913,'LS16. Unemployment'!$B$2:$Z$2,0)),\"n/a\")","v":7.7}]
[null,null,"Jul 2013-Jun 2014",{"$f":"IFERROR(INDEX('LS16. Unemployment'!$B25:$Z25,MATCH(D$3,'LS16. Unemployment'!$B$2:$Z$2,0)),\"n/a\")","v":7.8},{"$f":"IFERROR(INDEX('LS16. Unemployment'!$B25:$Z25,MATCH(E$913,'LS16. Unemployment'!$B$2:$Z$2,0)),\"n/a\")","v":8.9},{"$f":"IFERROR(INDEX('LS16. Unemployment'!$B25:$Z25,MATCH(F$913,'LS16. Unemployment'!$B$2:$Z$2,0)),\"n/a\")","v":8},{"$f":"IFERROR(INDEX('LS16. Unemployment'!$B25:$Z25,MATCH(G$913,'LS16. Unemployment'!$B$2:$Z$2,0)),\"n/a\")","v":6.8}]
[null,null,"Jul 2014-Jun 2015",{"$f":"IFERROR(INDEX('LS16. Unemployment'!$B26:$Z26,MATCH(D$3,'LS16. Unemployment'!$B$2:$Z$2,0)),\"n/a\")","v":7.5},{"$f":"IFERROR(INDEX('LS16. Unemployment'!$B26:$Z26,MATCH(E$913,'LS16. Unemployment'!$B$2:$Z$2,0)),\"n/a\")","v":5.0999999999999996},{"$f":"IFERROR(INDEX('LS16. Unemployment'!$B26:$Z26,MATCH(F$913,'LS16. Unemployment'!$B$2:$Z$2,0)),\"n/a\")","v":4.7},{"$f":"IFERROR(INDEX('LS16. Unemployment'!$B26:$Z26,MATCH(G$913,'LS16. Unemployment'!$B$2:$Z$2,0)),\"n/a\")","v":5.5}]
[null,null,"Jul 2015-Jun 2016",{"$f":"IFERROR(INDEX('LS16. Unemployment'!$B27:$Z27,MATCH(D$3,'LS16. Unemployment'!$B$2:$Z$2,0)),\"n/a\")","v":6.8},{"$f":"IFERROR(INDEX('LS16. Unemployment'!$B27:$Z27,MATCH(E$913,'LS16. Unemployment'!$B$2:$Z$2,0)),\"n/a\")","v":6.3},{"$f":"IFERROR(INDEX('LS16. Unemployment'!$B27:$Z27,MATCH(F$913,'LS16. Unemployment'!$B$2:$Z$2,0)),\"n/a\")","v":4.2},{"$f":"IFERROR(INDEX('LS16. Unemployment'!$B27:$Z27,MATCH(G$913,'LS16. Unemployment'!$B$2:$Z$2,0)),\"n/a\")","v":5}]
[null,null,"Jul 2016-Jun 2017",{"$f":"IFERROR(INDEX('LS16. Unemployment'!$B28:$Z28,MATCH(D$3,'LS16. Unemployment'!$B$2:$Z$2,0)),\"n/a\")","v":5.7},{"$f":"IFERROR(INDEX('LS16. Unemployment'!$B28:$Z28,MATCH(E$913,'LS16. Unemployment'!$B$2:$Z$2,0)),\"n/a\")","v":3.5},{"$f":"IFERROR(INDEX('LS16. Unemployment'!$B28:$Z28,MATCH(F$913,'LS16. Unemployment'!$B$2:$Z$2,0)),\"n/a\")","v":4.4000000000000004},{"$f":"IFERROR(INDEX('LS16. Unemployment'!$B28:$Z28,MATCH(G$913,'LS16. Unemployment'!$B$2:$Z$2,0)),\"n/a\")","v":4.5}]
[]
[null,null,"For details on Unemployment by age and gender, please click here"]
[]
[]
[]
[]
[]
[]
[]
[]
[]
[]
[]
[]
[]
[]
[]
[]
[]
[]
[]
[null,null,"LS18. Claimant Count, Nov 2013-Nov 2017"]
[null,null,null,{"$f":"D$3","v":"Blackburn with Darwen "},{"$f":"D$4","v":"Blackburn with Darwen, Hyndburn, Rossendale and Ribble Valley"},"Lancashire ","England Minus London"]
[null,null,"Nov 2013",{"$f":"IFERROR(INDEX('LS18. Claimant Count'!$B4:$Z4,MATCH(D$3,'LS18. Claimant Count'!$B$2:$Z$2,0)),\"n/a\")","v":3460},{"$f":"IFERROR(INDEX('LS18. Claimant Count'!$B4:$Z4,MATCH(E$947,'LS18. Claimant Count'!$B$2:$Z$2,0)),\"n/a\")","v":6380},{"$f":"IFERROR(INDEX('LS18. Claimant Count'!$B4:$Z4,MATCH(F$947,'LS18. Claimant Count'!$B$2:$Z$2,0)),\"n/a\")","v":26210},{"$f":"IFERROR(INDEX('LS18. Claimant Count'!$B4:$Z4,MATCH(G$947,'LS18. Claimant Count'!$B$2:$Z$2,0)),\"n/a\")","v":817645}]
[null,null,"Nov 2014",{"$f":"IFERROR(INDEX('LS18. Claimant Count'!$B5:$Z5,MATCH(D$3,'LS18. Claimant Count'!$B$2:$Z$2,0)),\"n/a\")","v":2485},{"$f":"IFERROR(INDEX('LS18. Claimant Count'!$B5:$Z5,MATCH(E$947,'LS18. Claimant Count'!$B$2:$Z$2,0)),\"n/a\")","v":4435},{"$f":"IFERROR(INDEX('LS18. Claimant Count'!$B5:$Z5,MATCH(F$947,'LS18. Claimant Count'!$B$2:$Z$2,0)),\"n/a\")","v":17995},{"$f":"IFERROR(INDEX('LS18. Claimant Count'!$B5:$Z5,MATCH(G$947,'LS18. Claimant Count'!$B$2:$Z$2,0)),\"n/a\")","v":555135}]
[null,null,"Nov 2015",{"$f":"IFERROR(INDEX('LS18. Claimant Count'!$B6:$Z6,MATCH(D$3,'LS18. Claimant Count'!$B$2:$Z$2,0)),\"n/a\")","v":2445},{"$f":"IFERROR(INDEX('LS18. Claimant Count'!$B6:$Z6,MATCH(E$947,'LS18. Claimant Count'!$B$2:$Z$2,0)),\"n/a\")","v":4575},{"$f":"IFERROR(INDEX('LS18. Claimant Count'!$B6:$Z6,MATCH(F$947,'LS18. Claimant Count'!$B$2:$Z$2,0)),\"n/a\")","v":18110},{"$f":"IFERROR(INDEX('LS18. Claimant Count'!$B6:$Z6,MATCH(G$947,'LS18. Claimant Count'!$B$2:$Z$2,0)),\"n/a\")","v":478435}]
[null,null,"Nov 2016",{"$f":"IFERROR(INDEX('LS18. Claimant Count'!$B7:$Z7,MATCH(D$3,'LS18. Claimant Count'!$B$2:$Z$2,0)),\"n/a\")","v":2465},{"$f":"IFERROR(INDEX('LS18. Claimant Count'!$B7:$Z7,MATCH(E$947,'LS18. Claimant Count'!$B$2:$Z$2,0)),\"n/a\")","v":4775},{"$f":"IFERROR(INDEX('LS18. Claimant Count'!$B7:$Z7,MATCH(F$947,'LS18. Claimant Count'!$B$2:$Z$2,0)),\"n/a\")","v":19440},{"$f":"IFERROR(INDEX('LS18. Claimant Count'!$B7:$Z7,MATCH(G$947,'LS18. Claimant Count'!$B$2:$Z$2,0)),\"n/a\")","v":495560}]
[null,null,"Nov 2017",{"$f":"IFERROR(INDEX('LS18. Claimant Count'!$B8:$Z8,MATCH(D$3,'LS18. Claimant Count'!$B$2:$Z$2,0)),\"n/a\")","v":2665},{"$f":"IFERROR(INDEX('LS18. Claimant Count'!$B8:$Z8,MATCH(E$947,'LS18. Claimant Count'!$B$2:$Z$2,0)),\"n/a\")","v":5090},{"$f":"IFERROR(INDEX('LS18. Claimant Count'!$B8:$Z8,MATCH(F$947,'LS18. Claimant Count'!$B$2:$Z$2,0)),\"n/a\")","v":21505},{"$f":"IFERROR(INDEX('LS18. Claimant Count'!$B8:$Z8,MATCH(G$947,'LS18. Claimant Count'!$B$2:$Z$2,0)),\"n/a\")","v":525290}]
[]
[null,null,"LS18. Claimant Count as % of Working Age Residents, Nov 2013-Nov 2017"]
[null,null,null,{"$f":"D$3","v":"Blackburn with Darwen "},{"$f":"D$4","v":"Blackburn with Darwen, Hyndburn, Rossendale and Ribble Valley"},"Lancashire ","England Minus London"]
[null,null,"Nov 2013",{"$f":"IFERROR(INDEX('LS18. Claimant Count'!$B12:$Z12,MATCH(D$3,'LS18. Claimant Count'!$B$2:$Z$2,0)),\"n/a\")","v":3.7},{"$f":"IFERROR(INDEX('LS18. Claimant Count'!$B12:$Z12,MATCH(E$947,'LS18. Claimant Count'!$B$2:$Z$2,0)),\"n/a\")","v":2.9},{"$f":"IFERROR(INDEX('LS18. Claimant Count'!$B12:$Z12,MATCH(F$947,'LS18. Claimant Count'!$B$2:$Z$2,0)),\"n/a\")","v":2.9},{"$f":"IFERROR(INDEX('LS18. Claimant Count'!$B12:$Z12,MATCH(G$947,'LS18. Claimant Count'!$B$2:$Z$2,0)),\"n/a\")","v":2.9}]
[null,null,"Nov 2014",{"$f":"IFERROR(INDEX('LS18. Claimant Count'!$B13:$Z13,MATCH(D$3,'LS18. Claimant Count'!$B$2:$Z$2,0)),\"n/a\")","v":2.7},{"$f":"IFERROR(INDEX('LS18. Claimant Count'!$B13:$Z13,MATCH(E$947,'LS18. Claimant Count'!$B$2:$Z$2,0)),\"n/a\")","v":2},{"$f":"IFERROR(INDEX('LS18. Claimant Count'!$B13:$Z13,MATCH(F$947,'LS18. Claimant Count'!$B$2:$Z$2,0)),\"n/a\")","v":2},{"$f":"IFERROR(INDEX('LS18. Claimant Count'!$B13:$Z13,MATCH(G$947,'LS18. Claimant Count'!$B$2:$Z$2,0)),\"n/a\")","v":1.9}]
[null,null,"Nov 2015",{"$f":"IFERROR(INDEX('LS18. Claimant Count'!$B14:$Z14,MATCH(D$3,'LS18. Claimant Count'!$B$2:$Z$2,0)),\"n/a\")","v":2.7},{"$f":"IFERROR(INDEX('LS18. Claimant Count'!$B14:$Z14,MATCH(E$947,'LS18. Claimant Count'!$B$2:$Z$2,0)),\"n/a\")","v":2.1},{"$f":"IFERROR(INDEX('LS18. Claimant Count'!$B14:$Z14,MATCH(F$947,'LS18. Claimant Count'!$B$2:$Z$2,0)),\"n/a\")","v":2},{"$f":"IFERROR(INDEX('LS18. Claimant Count'!$B14:$Z14,MATCH(G$947,'LS18. Claimant Count'!$B$2:$Z$2,0)),\"n/a\")","v":1.7}]
[null,null,"Nov 2016",{"$f":"IFERROR(INDEX('LS18. Claimant Count'!$B15:$Z15,MATCH(D$3,'LS18. Claimant Count'!$B$2:$Z$2,0)),\"n/a\")","v":2.7},{"$f":"IFERROR(INDEX('LS18. Claimant Count'!$B15:$Z15,MATCH(E$947,'LS18. Claimant Count'!$B$2:$Z$2,0)),\"n/a\")","v":2.2000000000000002},{"$f":"IFERROR(INDEX('LS18. Claimant Count'!$B15:$Z15,MATCH(F$947,'LS18. Claimant Count'!$B$2:$Z$2,0)),\"n/a\")","v":2.1},{"$f":"IFERROR(INDEX('LS18. Claimant Count'!$B15:$Z15,MATCH(G$947,'LS18. Claimant Count'!$B$2:$Z$2,0)),\"n/a\")","v":1.7}]
[null,null,"Nov 2017",{"$f":"IFERROR(INDEX('LS18. Claimant Count'!$B16:$Z16,MATCH(D$3,'LS18. Claimant Count'!$B$2:$Z$2,0)),\"n/a\")","v":2.9},{"$f":"IFERROR(INDEX('LS18. Claimant Count'!$B16:$Z16,MATCH(E$947,'LS18. Claimant Count'!$B$2:$Z$2,0)),\"n/a\")","v":2.2999999999999998},{"$f":"IFERROR(INDEX('LS18. Claimant Count'!$B16:$Z16,MATCH(F$947,'LS18. Claimant Count'!$B$2:$Z$2,0)),\"n/a\")","v":2.4},{"$f":"IFERROR(INDEX('LS18. Claimant Count'!$B16:$Z16,MATCH(G$947,'LS18. Claimant Count'!$B$2:$Z$2,0)),\"n/a\")","v":1.8}]
[]
[null,null,"For details on Claimant Count by age and gender, please click here"]
[]
[]
[]
[]
[]
[]
[]
[]
[]
[]
[]
[]
[]
[]
[]
[]
[]
[]
[]
[]
[]
[]
[]
[]
[]
[null,null,"LS32. Travel to Work, method, 2011"]
[null,null,null,{"$f":"D$3","v":"Blackburn with Darwen "},{"$f":"D$4","v":"Blackburn with Darwen, Hyndburn, Rossendale and Ribble Valley"},"Lancashire ","England Minus London"]
[null,null,"Work mainly at or from home",{"$f":"IFERROR(INDEX('LS32. Travel to Work, method'!$B4:$Z4,MATCH(D$3,'LS32. Travel to Work, method'!$B$2:$Z$2,0)),\"n/a\")","v":2269},{"$f":"IFERROR(INDEX('LS32. Travel to Work, method'!$B4:$Z4,MATCH(E$989,'LS32. Travel to Work, method'!$B$2:$Z$2,0)),\"n/a\")","v":7339},{"$f":"IFERROR(INDEX('LS32. Travel to Work, method'!$B4:$Z4,MATCH(F$989,'LS32. Travel to Work, method'!$B$2:$Z$2,0)),\"n/a\")","v":31731},{"$f":"IFERROR(INDEX('LS32. Travel to Work, method'!$B4:$Z4,MATCH(G$989,'LS32. Travel to Work, method'!$B$2:$Z$2,0)),\"n/a\")","v":1146889}]
[null,null,"Underground, metro, light rail, tram",{"$f":"IFERROR(INDEX('LS32. Travel to Work, method'!$B5:$Z5,MATCH(D$3,'LS32. Travel to Work, method'!$B$2:$Z$2,0)),\"n/a\")","v":43},{"$f":"IFERROR(INDEX('LS32. Travel to Work, method'!$B5:$Z5,MATCH(E$989,'LS32. Travel to Work, method'!$B$2:$Z$2,0)),\"n/a\")","v":109},{"$f":"IFERROR(INDEX('LS32. Travel to Work, method'!$B5:$Z5,MATCH(F$989,'LS32. Travel to Work, method'!$B$2:$Z$2,0)),\"n/a\")","v":537},{"$f":"IFERROR(INDEX('LS32. Travel to Work, method'!$B5:$Z5,MATCH(G$989,'LS32. Travel to Work, method'!$B$2:$Z$2,0)),\"n/a\")","v":125362}]
[null,null,"Train",{"$f":"IFERROR(INDEX('LS32. Travel to Work, method'!$B6:$Z6,MATCH(D$3,'LS32. Travel to Work, method'!$B$2:$Z$2,0)),\"n/a\")","v":1003},{"$f":"IFERROR(INDEX('LS32. Travel to Work, method'!$B6:$Z6,MATCH(E$989,'LS32. Travel to Work, method'!$B$2:$Z$2,0)),\"n/a\")","v":1851},{"$f":"IFERROR(INDEX('LS32. Travel to Work, method'!$B6:$Z6,MATCH(F$989,'LS32. Travel to Work, method'!$B$2:$Z$2,0)),\"n/a\")","v":10003},{"$f":"IFERROR(INDEX('LS32. Travel to Work, method'!$B6:$Z6,MATCH(G$989,'LS32. Travel to Work, method'!$B$2:$Z$2,0)),\"n/a\")","v":810964}]
[null,null,"Bus, minibus or coach",{"$f":"IFERROR(INDEX('LS32. Travel to Work, method'!$B7:$Z7,MATCH(D$3,'LS32. Travel to Work, method'!$B$2:$Z$2,0)),\"n/a\")","v":3297},{"$f":"IFERROR(INDEX('LS32. Travel to Work, method'!$B7:$Z7,MATCH(E$989,'LS32. Travel to Work, method'!$B$2:$Z$2,0)),\"n/a\")","v":8091},{"$f":"IFERROR(INDEX('LS32. Travel to Work, method'!$B7:$Z7,MATCH(F$989,'LS32. Travel to Work, method'!$B$2:$Z$2,0)),\"n/a\")","v":38976},{"$f":"IFERROR(INDEX('LS32. Travel to Work, method'!$B7:$Z7,MATCH(G$989,'LS32. Travel to Work, method'!$B$2:$Z$2,0)),\"n/a\")","v":1324934}]
[null,null,"Taxi",{"$f":"IFERROR(INDEX('LS32. Travel to Work, method'!$B8:$Z8,MATCH(D$3,'LS32. Travel to Work, method'!$B$2:$Z$2,0)),\"n/a\")","v":1133},{"$f":"IFERROR(INDEX('LS32. Travel to Work, method'!$B8:$Z8,MATCH(E$989,'LS32. Travel to Work, method'!$B$2:$Z$2,0)),\"n/a\")","v":1714},{"$f":"IFERROR(INDEX('LS32. Travel to Work, method'!$B8:$Z8,MATCH(F$989,'LS32. Travel to Work, method'!$B$2:$Z$2,0)),\"n/a\")","v":5160},{"$f":"IFERROR(INDEX('LS32. Travel to Work, method'!$B8:$Z8,MATCH(G$989,'LS32. Travel to Work, method'!$B$2:$Z$2,0)),\"n/a\")","v":111151}]
[null,null,"Motorcycle, scooter or moped",{"$f":"IFERROR(INDEX('LS32. Travel to Work, method'!$B9:$Z9,MATCH(D$3,'LS32. Travel to Work, method'!$B$2:$Z$2,0)),\"n/a\")","v":322},{"$f":"IFERROR(INDEX('LS32. Travel to Work, method'!$B9:$Z9,MATCH(E$989,'LS32. Travel to Work, method'!$B$2:$Z$2,0)),\"n/a\")","v":951},{"$f":"IFERROR(INDEX('LS32. Travel to Work, method'!$B9:$Z9,MATCH(F$989,'LS32. Travel to Work, method'!$B$2:$Z$2,0)),\"n/a\")","v":4683},{"$f":"IFERROR(INDEX('LS32. Travel to Work, method'!$B9:$Z9,MATCH(G$989,'LS32. Travel to Work, method'!$B$2:$Z$2,0)),\"n/a\")","v":160574}]
[null,null,"Driving a car or van",{"$f":"IFERROR(INDEX('LS32. Travel to Work, method'!$B10:$Z10,MATCH(D$3,'LS32. Travel to Work, method'!$B$2:$Z$2,0)),\"n/a\")","v":38582},{"$f":"IFERROR(INDEX('LS32. Travel to Work, method'!$B10:$Z10,MATCH(E$989,'LS32. Travel to Work, method'!$B$2:$Z$2,0)),\"n/a\")","v":106842},{"$f":"IFERROR(INDEX('LS32. Travel to Work, method'!$B10:$Z10,MATCH(F$989,'LS32. Travel to Work, method'!$B$2:$Z$2,0)),\"n/a\")","v":437279},{"$f":"IFERROR(INDEX('LS32. Travel to Work, method'!$B10:$Z10,MATCH(G$989,'LS32. Travel to Work, method'!$B$2:$Z$2,0)),\"n/a\")","v":13225056}]
[null,null,"Passenger in a car or van",{"$f":"IFERROR(INDEX('LS32. Travel to Work, method'!$B11:$Z11,MATCH(D$3,'LS32. Travel to Work, method'!$B$2:$Z$2,0)),\"n/a\")","v":5034},{"$f":"IFERROR(INDEX('LS32. Travel to Work, method'!$B11:$Z11,MATCH(E$989,'LS32. Travel to Work, method'!$B$2:$Z$2,0)),\"n/a\")","v":11016},{"$f":"IFERROR(INDEX('LS32. Travel to Work, method'!$B11:$Z11,MATCH(F$989,'LS32. Travel to Work, method'!$B$2:$Z$2,0)),\"n/a\")","v":44142},{"$f":"IFERROR(INDEX('LS32. Travel to Work, method'!$B11:$Z11,MATCH(G$989,'LS32. Travel to Work, method'!$B$2:$Z$2,0)),\"n/a\")","v":1194894}]
[null,null,"Bicycle",{"$f":"IFERROR(INDEX('LS32. Travel to Work, method'!$B12:$Z12,MATCH(D$3,'LS32. Travel to Work, method'!$B$2:$Z$2,0)),\"n/a\")","v":600},{"$f":"IFERROR(INDEX('LS32. Travel to Work, method'!$B12:$Z12,MATCH(E$989,'LS32. Travel to Work, method'!$B$2:$Z$2,0)),\"n/a\")","v":1637},{"$f":"IFERROR(INDEX('LS32. Travel to Work, method'!$B12:$Z12,MATCH(F$989,'LS32. Travel to Work, method'!$B$2:$Z$2,0)),\"n/a\")","v":14147},{"$f":"IFERROR(INDEX('LS32. Travel to Work, method'!$B12:$Z12,MATCH(G$989,'LS32. Travel to Work, method'!$B$2:$Z$2,0)),\"n/a\")","v":580970}]
[null,null,"On foot",{"$f":"IFERROR(INDEX('LS32. Travel to Work, method'!$B13:$Z13,MATCH(D$3,'LS32. Travel to Work, method'!$B$2:$Z$2,0)),\"n/a\")","v":7874},{"$f":"IFERROR(INDEX('LS32. Travel to Work, method'!$B13:$Z13,MATCH(E$989,'LS32. Travel to Work, method'!$B$2:$Z$2,0)),\"n/a\")","v":17598},{"$f":"IFERROR(INDEX('LS32. Travel to Work, method'!$B13:$Z13,MATCH(F$989,'LS32. Travel to Work, method'!$B$2:$Z$2,0)),\"n/a\")","v":77299},{"$f":"IFERROR(INDEX('LS32. Travel to Work, method'!$B13:$Z13,MATCH(G$989,'LS32. Travel to Work, method'!$B$2:$Z$2,0)),\"n/a\")","v":2348841}]
[null,null,"Other method of travel to work",{"$f":"IFERROR(INDEX('LS32. Travel to Work, method'!$B14:$Z14,MATCH(D$3,'LS32. Travel to Work, method'!$B$2:$Z$2,0)),\"n/a\")","v":366},{"$f":"IFERROR(INDEX('LS32. Travel to Work, method'!$B14:$Z14,MATCH(E$989,'LS32. Travel to Work, method'!$B$2:$Z$2,0)),\"n/a\")","v":889},{"$f":"IFERROR(INDEX('LS32. Travel to Work, method'!$B14:$Z14,MATCH(F$989,'LS32. Travel to Work, method'!$B$2:$Z$2,0)),\"n/a\")","v":4193},{"$f":"IFERROR(INDEX('LS32. Travel to Work, method'!$B14:$Z14,MATCH(G$989,'LS32. Travel to Work, method'!$B$2:$Z$2,0)),\"n/a\")","v":134189}]
[null,null,"Total",{"$f":"IFERROR(INDEX('LS32. Travel to Work, method'!$B15:$Z15,MATCH(D$3,'LS32. Travel to Work, method'!$B$2:$Z$2,0)),\"n/a\")","v":60523},{"$f":"IFERROR(INDEX('LS32. Travel to Work, method'!$B15:$Z15,MATCH(E$989,'LS32. Travel to Work, method'!$B$2:$Z$2,0)),\"n/a\")","v":158037},{"$f":"IFERROR(INDEX('LS32. Travel to Work, method'!$B15:$Z15,MATCH(F$989,'LS32. Travel to Work, method'!$B$2:$Z$2,0)),\"n/a\")","v":668150},{"$f":"IFERROR(INDEX('LS32. Travel to Work, method'!$B15:$Z15,MATCH(G$989,'LS32. Travel to Work, method'!$B$2:$Z$2,0)),\"n/a\")","v":21163824}]
[]
[null,null,"LS32. Travel to Work, method, 2011"]
[null,null,null,{"$f":"D$3","v":"Blackburn with Darwen "},{"$f":"D$4","v":"Blackburn with Darwen, Hyndburn, Rossendale and Ribble Valley"},"Lancashire ","England Minus London"]
[null,null,"Work mainly at or from home",{"$f":"IFERROR(INDEX('LS32. Travel to Work, method'!$B18:$Z18,MATCH(D$3,'LS32. Travel to Work, method'!$B$2:$Z$2,0)),\"n/a\")","v":3.7489879880376054E-2},{"$f":"IFERROR(INDEX('LS32. Travel to Work, method'!$B18:$Z18,MATCH(E$989,'LS32. Travel to Work, method'!$B$2:$Z$2,0)),\"n/a\")","v":4.6438492251814449E-2},{"$f":"IFERROR(INDEX('LS32. Travel to Work, method'!$B18:$Z18,MATCH(F$989,'LS32. Travel to Work, method'!$B$2:$Z$2,0)),\"n/a\")","v":4.7490832896804606E-2},{"$f":"IFERROR(INDEX('LS32. Travel to Work, method'!$B18:$Z18,MATCH(G$989,'LS32. Travel to Work, method'!$B$2:$Z$2,0)),\"n/a\")","v":5.419101009345003E-2}]
[null,null,"Underground, metro, light rail, tram",{"$f":"IFERROR(INDEX('LS32. Travel to Work, method'!$B19:$Z19,MATCH(D$3,'LS32. Travel to Work, method'!$B$2:$Z$2,0)),\"n/a\")","v":7.1047370421162205E-4},{"$f":"IFERROR(INDEX('LS32. Travel to Work, method'!$B19:$Z19,MATCH(E$989,'LS32. Travel to Work, method'!$B$2:$Z$2,0)),\"n/a\")","v":6.8971190290881247E-4},{"$f":"IFERROR(INDEX('LS32. Travel to Work, method'!$B19:$Z19,MATCH(F$989,'LS32. Travel to Work, method'!$B$2:$Z$2,0)),\"n/a\")","v":8.0371174137543969E-4},{"$f":"IFERROR(INDEX('LS32. Travel to Work, method'!$B19:$Z19,MATCH(G$989,'LS32. Travel to Work, method'!$B$2:$Z$2,0)),\"n/a\")","v":5.923409682484602E-3}]
[null,null,"Train",{"$f":"IFERROR(INDEX('LS32. Travel to Work, method'!$B20:$Z20,MATCH(D$3,'LS32. Travel to Work, method'!$B$2:$Z$2,0)),\"n/a\")","v":1.6572212216843185E-2},{"$f":"IFERROR(INDEX('LS32. Travel to Work, method'!$B20:$Z20,MATCH(E$989,'LS32. Travel to Work, method'!$B$2:$Z$2,0)),\"n/a\")","v":1.1712447085176256E-2},{"$f":"IFERROR(INDEX('LS32. Travel to Work, method'!$B20:$Z20,MATCH(F$989,'LS32. Travel to Work, method'!$B$2:$Z$2,0)),\"n/a\")","v":1.497118910424306E-2},{"$f":"IFERROR(INDEX('LS32. Travel to Work, method'!$B20:$Z20,MATCH(G$989,'LS32. Travel to Work, method'!$B$2:$Z$2,0)),\"n/a\")","v":3.8318405974270053E-2}]
[null,null,"Bus, minibus or coach",{"$f":"IFERROR(INDEX('LS32. Travel to Work, method'!$B21:$Z21,MATCH(D$3,'LS32. Travel to Work, method'!$B$2:$Z$2,0)),\"n/a\")","v":5.4475158204319016E-2},{"$f":"IFERROR(INDEX('LS32. Travel to Work, method'!$B21:$Z21,MATCH(E$989,'LS32. Travel to Work, method'!$B$2:$Z$2,0)),\"n/a\")","v":5.1196871618671577E-2},{"$f":"IFERROR(INDEX('LS32. Travel to Work, method'!$B21:$Z21,MATCH(F$989,'LS32. Travel to Work, method'!$B$2:$Z$2,0)),\"n/a\")","v":5.8334206390780512E-2},{"$f":"IFERROR(INDEX('LS32. Travel to Work, method'!$B21:$Z21,MATCH(G$989,'LS32. Travel to Work, method'!$B$2:$Z$2,0)),\"n/a\")","v":6.2603714716206293E-2}]
[null,null,"Taxi",{"$f":"IFERROR(INDEX('LS32. Travel to Work, method'!$B22:$Z22,MATCH(D$3,'LS32. Travel to Work, method'!$B$2:$Z$2,0)),\"n/a\")","v":1.8720155973762042E-2},{"$f":"IFERROR(INDEX('LS32. Travel to Work, method'!$B22:$Z22,MATCH(E$989,'LS32. Travel to Work, method'!$B$2:$Z$2,0)),\"n/a\")","v":1.0845561482437658E-2},{"$f":"IFERROR(INDEX('LS32. Travel to Work, method'!$B22:$Z22,MATCH(F$989,'LS32. Travel to Work, method'!$B$2:$Z$2,0)),\"n/a\")","v":7.7228167327695876E-3},{"$f":"IFERROR(INDEX('LS32. Travel to Work, method'!$B22:$Z22,MATCH(G$989,'LS32. Travel to Work, method'!$B$2:$Z$2,0)),\"n/a\")","v":5.2519336770141352E-3}]
[null,null,"Motorcycle, scooter or moped",{"$f":"IFERROR(INDEX('LS32. Travel to Work, method'!$B23:$Z23,MATCH(D$3,'LS32. Travel to Work, method'!$B$2:$Z$2,0)),\"n/a\")","v":5.3202914594451698E-3},{"$f":"IFERROR(INDEX('LS32. Travel to Work, method'!$B23:$Z23,MATCH(E$989,'LS32. Travel to Work, method'!$B$2:$Z$2,0)),\"n/a\")","v":6.0175781620759698E-3},{"$f":"IFERROR(INDEX('LS32. Travel to Work, method'!$B23:$Z23,MATCH(F$989,'LS32. Travel to Work, method'!$B$2:$Z$2,0)),\"n/a\")","v":7.0089051859612362E-3},{"$f":"IFERROR(INDEX('LS32. Travel to Work, method'!$B23:$Z23,MATCH(G$989,'LS32. Travel to Work, method'!$B$2:$Z$2,0)),\"n/a\")","v":7.5871921822823702E-3}]
[null,null,"Driving a car or van",{"$f":"IFERROR(INDEX('LS32. Travel to Work, method'!$B24:$Z24,MATCH(D$3,'LS32. Travel to Work, method'!$B$2:$Z$2,0)),\"n/a\")","v":0.63747666176494888},{"$f":"IFERROR(INDEX('LS32. Travel to Work, method'!$B24:$Z24,MATCH(E$989,'LS32. Travel to Work, method'!$B$2:$Z$2,0)),\"n/a\")","v":0.67605687275764537},{"$f":"IFERROR(INDEX('LS32. Travel to Work, method'!$B24:$Z24,MATCH(F$989,'LS32. Travel to Work, method'!$B$2:$Z$2,0)),\"n/a\")","v":0.65446232133502957},{"$f":"IFERROR(INDEX('LS32. Travel to Work, method'!$B24:$Z24,MATCH(G$989,'LS32. Travel to Work, method'!$B$2:$Z$2,0)),\"n/a\")","v":0.62488971747260802}]
[null,null,"Passenger in a car or van",{"$f":"IFERROR(INDEX('LS32. Travel to Work, method'!$B25:$Z25,MATCH(D$3,'LS32. Travel to Work, method'!$B$2:$Z$2,0)),\"n/a\")","v":8.317499132561175E-2},{"$f":"IFERROR(INDEX('LS32. Travel to Work, method'!$B25:$Z25,MATCH(E$989,'LS32. Travel to Work, method'!$B$2:$Z$2,0)),\"n/a\")","v":6.9705195618747509E-2},{"$f":"IFERROR(INDEX('LS32. Travel to Work, method'!$B25:$Z25,MATCH(F$989,'LS32. Travel to Work, method'!$B$2:$Z$2,0)),\"n/a\")","v":6.6066003143006813E-2},{"$f":"IFERROR(INDEX('LS32. Travel to Work, method'!$B25:$Z25,MATCH(G$989,'LS32. Travel to Work, method'!$B$2:$Z$2,0)),\"n/a\")","v":5.6459267474535793E-2}]
[null,null,"Bicycle",{"$f":"IFERROR(INDEX('LS32. Travel to Work, method'!$B26:$Z26,MATCH(D$3,'LS32. Travel to Work, method'!$B$2:$Z$2,0)),\"n/a\")","v":9.9135865703947265E-3},{"$f":"IFERROR(INDEX('LS32. Travel to Work, method'!$B26:$Z26,MATCH(E$989,'LS32. Travel to Work, method'!$B$2:$Z$2,0)),\"n/a\")","v":1.0358333807905743E-2},{"$f":"IFERROR(INDEX('LS32. Travel to Work, method'!$B26:$Z26,MATCH(F$989,'LS32. Travel to Work, method'!$B$2:$Z$2,0)),\"n/a\")","v":2.1173389209009952E-2},{"$f":"IFERROR(INDEX('LS32. Travel to Work, method'!$B26:$Z26,MATCH(G$989,'LS32. Travel to Work, method'!$B$2:$Z$2,0)),\"n/a\")","v":2.7451088234337992E-2}]
[null,null,"On foot",{"$f":"IFERROR(INDEX('LS32. Travel to Work, method'!$B27:$Z27,MATCH(D$3,'LS32. Travel to Work, method'!$B$2:$Z$2,0)),\"n/a\")","v":0.13009930109214679},{"$f":"IFERROR(INDEX('LS32. Travel to Work, method'!$B27:$Z27,MATCH(E$989,'LS32. Travel to Work, method'!$B$2:$Z$2,0)),\"n/a\")","v":0.11135367034302093},{"$f":"IFERROR(INDEX('LS32. Travel to Work, method'!$B27:$Z27,MATCH(F$989,'LS32. Travel to Work, method'!$B$2:$Z$2,0)),\"n/a\")","v":0.11569108733068921},{"$f":"IFERROR(INDEX('LS32. Travel to Work, method'!$B27:$Z27,MATCH(G$989,'LS32. Travel to Work, method'!$B$2:$Z$2,0)),\"n/a\")","v":0.11098377117481227}]
[null,null,"Other method of travel to work",{"$f":"IFERROR(INDEX('LS32. Travel to Work, method'!$B28:$Z28,MATCH(D$3,'LS32. Travel to Work, method'!$B$2:$Z$2,0)),\"n/a\")","v":6.047287807940783E-3},{"$f":"IFERROR(INDEX('LS32. Travel to Work, method'!$B28:$Z28,MATCH(E$989,'LS32. Travel to Work, method'!$B$2:$Z$2,0)),\"n/a\")","v":5.625264969595728E-3},{"$f":"IFERROR(INDEX('LS32. Travel to Work, method'!$B28:$Z28,MATCH(F$989,'LS32. Travel to Work, method'!$B$2:$Z$2,0)),\"n/a\")","v":6.2755369303300161E-3},{"$f":"IFERROR(INDEX('LS32. Travel to Work, method'!$B28:$Z28,MATCH(G$989,'LS32. Travel to Work, method'!$B$2:$Z$2,0)),\"n/a\")","v":6.3404893179984864E-3}]
[null,null,"Total",{"$f":"IFERROR(INDEX('LS32. Travel to Work, method'!$B29:$Z29,MATCH(D$3,'LS32. Travel to Work, method'!$B$2:$Z$2,0)),\"n/a\")","v":1},{"$f":"IFERROR(INDEX('LS32. Travel to Work, method'!$B29:$Z29,MATCH(E$989,'LS32. Travel to Work, method'!$B$2:$Z$2,0)),\"n/a\")","v":1},{"$f":"IFERROR(INDEX('LS32. Travel to Work, method'!$B29:$Z29,MATCH(F$989,'LS32. Travel to Work, method'!$B$2:$Z$2,0)),\"n/a\")","v":1},{"$f":"IFERROR(INDEX('LS32. Travel to Work, method'!$B29:$Z29,MATCH(G$989,'LS32. Travel to Work, method'!$B$2:$Z$2,0)),\"n/a\")","v":1}]
[]
[]
[]
[]
[]
[]
[]
[]
[]
[]
[]
[]
[]
[]
[]
[]
[]
[]
[]
[]
[]
[]
[]
[]
[]
[]
[]
[]
[]
[null,null,"LS33. Travel to Work, distance, 2011"]
[null,null,null,{"$f":"D$3","v":"Blackburn with Darwen "},{"$f":"D$4","v":"Blackburn with Darwen, Hyndburn, Rossendale and Ribble Valley"},"Lancashire ","England Minus London"]
[null,null,"Work mainly at or from home",{"$f":"IFERROR(INDEX('LS33. Travel to Work, distance'!$B4:$Z4,MATCH(D$3,'LS33. Travel to Work, distance'!$B$2:$Z$2,0)),\"n/a\")","v":4930},{"$f":"IFERROR(INDEX('LS33. Travel to Work, distance'!$B4:$Z4,MATCH(E$1047,'LS33. Travel to Work, distance'!$B$2:$Z$2,0)),\"n/a\")","v":15152},{"$f":"IFERROR(INDEX('LS33. Travel to Work, distance'!$B4:$Z4,MATCH(F$1047,'LS33. Travel to Work, distance'!$B$2:$Z$2,0)),\"n/a\")","v":64945},{"$f":"IFERROR(INDEX('LS33. Travel to Work, distance'!$B4:$Z4,MATCH(G$1047,'LS33. Travel to Work, distance'!$B$2:$Z$2,0)),\"n/a\")","v":2201167}]
[null,null,"Less than 2km",{"$f":"IFERROR(INDEX('LS33. Travel to Work, distance'!$B5:$Z5,MATCH(D$3,'LS33. Travel to Work, distance'!$B$2:$Z$2,0)),\"n/a\")","v":14083},{"$f":"IFERROR(INDEX('LS33. Travel to Work, distance'!$B5:$Z5,MATCH(E$1047,'LS33. Travel to Work, distance'!$B$2:$Z$2,0)),\"n/a\")","v":30642},{"$f":"IFERROR(INDEX('LS33. Travel to Work, distance'!$B5:$Z5,MATCH(F$1047,'LS33. Travel to Work, distance'!$B$2:$Z$2,0)),\"n/a\")","v":131827},{"$f":"IFERROR(INDEX('LS33. Travel to Work, distance'!$B5:$Z5,MATCH(G$1047,'LS33. Travel to Work, distance'!$B$2:$Z$2,0)),\"n/a\")","v":3695553}]
[null,null,"2km to less than 5km",{"$f":"IFERROR(INDEX('LS33. Travel to Work, distance'!$B6:$Z6,MATCH(D$3,'LS33. Travel to Work, distance'!$B$2:$Z$2,0)),\"n/a\")","v":14124},{"$f":"IFERROR(INDEX('LS33. Travel to Work, distance'!$B6:$Z6,MATCH(E$1047,'LS33. Travel to Work, distance'!$B$2:$Z$2,0)),\"n/a\")","v":29842},{"$f":"IFERROR(INDEX('LS33. Travel to Work, distance'!$B6:$Z6,MATCH(F$1047,'LS33. Travel to Work, distance'!$B$2:$Z$2,0)),\"n/a\")","v":138977},{"$f":"IFERROR(INDEX('LS33. Travel to Work, distance'!$B6:$Z6,MATCH(G$1047,'LS33. Travel to Work, distance'!$B$2:$Z$2,0)),\"n/a\")","v":3911353}]
[null,null,"5km to less than 10km",{"$f":"IFERROR(INDEX('LS33. Travel to Work, distance'!$B7:$Z7,MATCH(D$3,'LS33. Travel to Work, distance'!$B$2:$Z$2,0)),\"n/a\")","v":8256},{"$f":"IFERROR(INDEX('LS33. Travel to Work, distance'!$B7:$Z7,MATCH(E$1047,'LS33. Travel to Work, distance'!$B$2:$Z$2,0)),\"n/a\")","v":25914},{"$f":"IFERROR(INDEX('LS33. Travel to Work, distance'!$B7:$Z7,MATCH(F$1047,'LS33. Travel to Work, distance'!$B$2:$Z$2,0)),\"n/a\")","v":111157},{"$f":"IFERROR(INDEX('LS33. Travel to Work, distance'!$B7:$Z7,MATCH(G$1047,'LS33. Travel to Work, distance'!$B$2:$Z$2,0)),\"n/a\")","v":3438342}]
[null,null,"10km to less than 20km",{"$f":"IFERROR(INDEX('LS33. Travel to Work, distance'!$B8:$Z8,MATCH(D$3,'LS33. Travel to Work, distance'!$B$2:$Z$2,0)),\"n/a\")","v":8609},{"$f":"IFERROR(INDEX('LS33. Travel to Work, distance'!$B8:$Z8,MATCH(E$1047,'LS33. Travel to Work, distance'!$B$2:$Z$2,0)),\"n/a\")","v":25117},{"$f":"IFERROR(INDEX('LS33. Travel to Work, distance'!$B8:$Z8,MATCH(F$1047,'LS33. Travel to Work, distance'!$B$2:$Z$2,0)),\"n/a\")","v":89023},{"$f":"IFERROR(INDEX('LS33. Travel to Work, distance'!$B8:$Z8,MATCH(G$1047,'LS33. Travel to Work, distance'!$B$2:$Z$2,0)),\"n/a\")","v":3052231}]
[null,null,"20km to less than 30km",{"$f":"IFERROR(INDEX('LS33. Travel to Work, distance'!$B9:$Z9,MATCH(D$3,'LS33. Travel to Work, distance'!$B$2:$Z$2,0)),\"n/a\")","v":2796},{"$f":"IFERROR(INDEX('LS33. Travel to Work, distance'!$B9:$Z9,MATCH(E$1047,'LS33. Travel to Work, distance'!$B$2:$Z$2,0)),\"n/a\")","v":9694},{"$f":"IFERROR(INDEX('LS33. Travel to Work, distance'!$B9:$Z9,MATCH(F$1047,'LS33. Travel to Work, distance'!$B$2:$Z$2,0)),\"n/a\")","v":35740},{"$f":"IFERROR(INDEX('LS33. Travel to Work, distance'!$B9:$Z9,MATCH(G$1047,'LS33. Travel to Work, distance'!$B$2:$Z$2,0)),\"n/a\")","v":1285266}]
[null,null,"30km to less than 40km",{"$f":"IFERROR(INDEX('LS33. Travel to Work, distance'!$B10:$Z10,MATCH(D$3,'LS33. Travel to Work, distance'!$B$2:$Z$2,0)),\"n/a\")","v":1634},{"$f":"IFERROR(INDEX('LS33. Travel to Work, distance'!$B10:$Z10,MATCH(E$1047,'LS33. Travel to Work, distance'!$B$2:$Z$2,0)),\"n/a\")","v":4596},{"$f":"IFERROR(INDEX('LS33. Travel to Work, distance'!$B10:$Z10,MATCH(F$1047,'LS33. Travel to Work, distance'!$B$2:$Z$2,0)),\"n/a\")","v":19383},{"$f":"IFERROR(INDEX('LS33. Travel to Work, distance'!$B10:$Z10,MATCH(G$1047,'LS33. Travel to Work, distance'!$B$2:$Z$2,0)),\"n/a\")","v":603895}]
[null,null,"40km to less than 60km",{"$f":"IFERROR(INDEX('LS33. Travel to Work, distance'!$B11:$Z11,MATCH(D$3,'LS33. Travel to Work, distance'!$B$2:$Z$2,0)),\"n/a\")","v":635},{"$f":"IFERROR(INDEX('LS33. Travel to Work, distance'!$B11:$Z11,MATCH(E$1047,'LS33. Travel to Work, distance'!$B$2:$Z$2,0)),\"n/a\")","v":2614},{"$f":"IFERROR(INDEX('LS33. Travel to Work, distance'!$B11:$Z11,MATCH(F$1047,'LS33. Travel to Work, distance'!$B$2:$Z$2,0)),\"n/a\")","v":12528},{"$f":"IFERROR(INDEX('LS33. Travel to Work, distance'!$B11:$Z11,MATCH(G$1047,'LS33. Travel to Work, distance'!$B$2:$Z$2,0)),\"n/a\")","v":558195}]
[null,null,"60km and over",{"$f":"IFERROR(INDEX('LS33. Travel to Work, distance'!$B12:$Z12,MATCH(D$3,'LS33. Travel to Work, distance'!$B$2:$Z$2,0)),\"n/a\")","v":1341},{"$f":"IFERROR(INDEX('LS33. Travel to Work, distance'!$B12:$Z12,MATCH(E$1047,'LS33. Travel to Work, distance'!$B$2:$Z$2,0)),\"n/a\")","v":3151},{"$f":"IFERROR(INDEX('LS33. Travel to Work, distance'!$B12:$Z12,MATCH(F$1047,'LS33. Travel to Work, distance'!$B$2:$Z$2,0)),\"n/a\")","v":15995},{"$f":"IFERROR(INDEX('LS33. Travel to Work, distance'!$B12:$Z12,MATCH(G$1047,'LS33. Travel to Work, distance'!$B$2:$Z$2,0)),\"n/a\")","v":721901}]
[null,null,"Other",{"$f":"IFERROR(INDEX('LS33. Travel to Work, distance'!$B13:$Z13,MATCH(D$3,'LS33. Travel to Work, distance'!$B$2:$Z$2,0)),\"n/a\")","v":4115},{"$f":"IFERROR(INDEX('LS33. Travel to Work, distance'!$B13:$Z13,MATCH(E$1047,'LS33. Travel to Work, distance'!$B$2:$Z$2,0)),\"n/a\")","v":11315},{"$f":"IFERROR(INDEX('LS33. Travel to Work, distance'!$B13:$Z13,MATCH(F$1047,'LS33. Travel to Work, distance'!$B$2:$Z$2,0)),\"n/a\")","v":48575},{"$f":"IFERROR(INDEX('LS33. Travel to Work, distance'!$B13:$Z13,MATCH(G$1047,'LS33. Travel to Work, distance'!$B$2:$Z$2,0)),\"n/a\")","v":1695921}]
[null,null,"All people aged 16 to 74 in employment",{"$f":"IFERROR(INDEX('LS33. Travel to Work, distance'!$B14:$Z14,MATCH(D$3,'LS33. Travel to Work, distance'!$B$2:$Z$2,0)),\"n/a\")","v":60523},{"$f":"IFERROR(INDEX('LS33. Travel to Work, distance'!$B14:$Z14,MATCH(E$1047,'LS33. Travel to Work, distance'!$B$2:$Z$2,0)),\"n/a\")","v":158037},{"$f":"IFERROR(INDEX('LS33. Travel to Work, distance'!$B14:$Z14,MATCH(F$1047,'LS33. Travel to Work, distance'!$B$2:$Z$2,0)),\"n/a\")","v":668150},{"$f":"IFERROR(INDEX('LS33. Travel to Work, distance'!$B14:$Z14,MATCH(G$1047,'LS33. Travel to Work, distance'!$B$2:$Z$2,0)),\"n/a\")","v":21163824}]
[]
[null,null,"LS33. Travel to Work, distance (%)"]
[null,null,null,{"$f":"D$3","v":"Blackburn with Darwen "},{"$f":"D$4","v":"Blackburn with Darwen, Hyndburn, Rossendale and Ribble Valley"},"Lancashire ","England Minus London"]
[null,null,"Work mainly at or from home",{"$f":"IFERROR(INDEX('LS33. Travel to Work, distance'!$B17:$Z17,MATCH(D$3,'LS33. Travel to Work, distance'!$B$2:$Z$2,0)),\"n/a\")","v":8.1456636320076659E-2},{"$f":"IFERROR(INDEX('LS33. Travel to Work, distance'!$B17:$Z17,MATCH(E$1047,'LS33. Travel to Work, distance'!$B$2:$Z$2,0)),\"n/a\")","v":9.587628213646171E-2},{"$f":"IFERROR(INDEX('LS33. Travel to Work, distance'!$B17:$Z17,MATCH(F$1047,'LS33. Travel to Work, distance'!$B$2:$Z$2,0)),\"n/a\")","v":9.7201227269325743E-2},{"$f":"IFERROR(INDEX('LS33. Travel to Work, distance'!$B17:$Z17,MATCH(G$1047,'LS33. Travel to Work, distance'!$B$2:$Z$2,0)),\"n/a\")","v":0.1040061096709177}]
[null,null,"Less than 2km",{"$f":"IFERROR(INDEX('LS33. Travel to Work, distance'!$B18:$Z18,MATCH(D$3,'LS33. Travel to Work, distance'!$B$2:$Z$2,0)),\"n/a\")","v":0.2326883994514482},{"$f":"IFERROR(INDEX('LS33. Travel to Work, distance'!$B18:$Z18,MATCH(E$1047,'LS33. Travel to Work, distance'!$B$2:$Z$2,0)),\"n/a\")","v":0.19389130393515441},{"$f":"IFERROR(INDEX('LS33. Travel to Work, distance'!$B18:$Z18,MATCH(F$1047,'LS33. Travel to Work, distance'!$B$2:$Z$2,0)),\"n/a\")","v":0.19730150415325901},{"$f":"IFERROR(INDEX('LS33. Travel to Work, distance'!$B18:$Z18,MATCH(G$1047,'LS33. Travel to Work, distance'!$B$2:$Z$2,0)),\"n/a\")","v":0.17461650597736969}]
[null,null,"2km to less than 5km",{"$f":"IFERROR(INDEX('LS33. Travel to Work, distance'!$B19:$Z19,MATCH(D$3,'LS33. Travel to Work, distance'!$B$2:$Z$2,0)),\"n/a\")","v":0.23336582786709184},{"$f":"IFERROR(INDEX('LS33. Travel to Work, distance'!$B19:$Z19,MATCH(E$1047,'LS33. Travel to Work, distance'!$B$2:$Z$2,0)),\"n/a\")","v":0.18882919822573194},{"$f":"IFERROR(INDEX('LS33. Travel to Work, distance'!$B19:$Z19,MATCH(F$1047,'LS33. Travel to Work, distance'!$B$2:$Z$2,0)),\"n/a\")","v":0.20800269400583701},{"$f":"IFERROR(INDEX('LS33. Travel to Work, distance'!$B19:$Z19,MATCH(G$1047,'LS33. Travel to Work, distance'!$B$2:$Z$2,0)),\"n/a\")","v":0.18481315096931444}]
[null,null,"5km to less than 10km",{"$f":"IFERROR(INDEX('LS33. Travel to Work, distance'!$B20:$Z20,MATCH(D$3,'LS33. Travel to Work, distance'!$B$2:$Z$2,0)),\"n/a\")","v":0.13641095120863142},{"$f":"IFERROR(INDEX('LS33. Travel to Work, distance'!$B20:$Z20,MATCH(E$1047,'LS33. Travel to Work, distance'!$B$2:$Z$2,0)),\"n/a\")","v":0.16397425919246758},{"$f":"IFERROR(INDEX('LS33. Travel to Work, distance'!$B20:$Z20,MATCH(F$1047,'LS33. Travel to Work, distance'!$B$2:$Z$2,0)),\"n/a\")","v":0.16636533712489709},{"$f":"IFERROR(INDEX('LS33. Travel to Work, distance'!$B20:$Z20,MATCH(G$1047,'LS33. Travel to Work, distance'!$B$2:$Z$2,0)),\"n/a\")","v":0.16246317300691973}]
[null,null,"10km to less than 20km",{"$f":"IFERROR(INDEX('LS33. Travel to Work, distance'!$B21:$Z21,MATCH(D$3,'LS33. Travel to Work, distance'!$B$2:$Z$2,0)),\"n/a\")","v":0.14224344464088032},{"$f":"IFERROR(INDEX('LS33. Travel to Work, distance'!$B21:$Z21,MATCH(E$1047,'LS33. Travel to Work, distance'!$B$2:$Z$2,0)),\"n/a\")","v":0.15893113637945544},{"$f":"IFERROR(INDEX('LS33. Travel to Work, distance'!$B21:$Z21,MATCH(F$1047,'LS33. Travel to Work, distance'!$B$2:$Z$2,0)),\"n/a\")","v":0.13323804534909825},{"$f":"IFERROR(INDEX('LS33. Travel to Work, distance'!$B21:$Z21,MATCH(G$1047,'LS33. Travel to Work, distance'!$B$2:$Z$2,0)),\"n/a\")","v":0.14421925829661028}]
[null,null,"20km to less than 30km",{"$f":"IFERROR(INDEX('LS33. Travel to Work, distance'!$B22:$Z22,MATCH(D$3,'LS33. Travel to Work, distance'!$B$2:$Z$2,0)),\"n/a\")","v":4.6197313418039426E-2},{"$f":"IFERROR(INDEX('LS33. Travel to Work, distance'!$B22:$Z22,MATCH(E$1047,'LS33. Travel to Work, distance'!$B$2:$Z$2,0)),\"n/a\")","v":6.1340065933926866E-2},{"$f":"IFERROR(INDEX('LS33. Travel to Work, distance'!$B22:$Z22,MATCH(F$1047,'LS33. Travel to Work, distance'!$B$2:$Z$2,0)),\"n/a\")","v":5.3490982563795558E-2},{"$f":"IFERROR(INDEX('LS33. Travel to Work, distance'!$B22:$Z22,MATCH(G$1047,'LS33. Travel to Work, distance'!$B$2:$Z$2,0)),\"n/a\")","v":6.0729384254943716E-2}]
[null,null,"30km to less than 40km",{"$f":"IFERROR(INDEX('LS33. Travel to Work, distance'!$B23:$Z23,MATCH(D$3,'LS33. Travel to Work, distance'!$B$2:$Z$2,0)),\"n/a\")","v":2.6998000760041638E-2},{"$f":"IFERROR(INDEX('LS33. Travel to Work, distance'!$B23:$Z23,MATCH(E$1047,'LS33. Travel to Work, distance'!$B$2:$Z$2,0)),\"n/a\")","v":2.908179730063213E-2},{"$f":"IFERROR(INDEX('LS33. Travel to Work, distance'!$B23:$Z23,MATCH(F$1047,'LS33. Travel to Work, distance'!$B$2:$Z$2,0)),\"n/a\")","v":2.9009952854897852E-2},{"$f":"IFERROR(INDEX('LS33. Travel to Work, distance'!$B23:$Z23,MATCH(G$1047,'LS33. Travel to Work, distance'!$B$2:$Z$2,0)),\"n/a\")","v":2.8534304575581426E-2}]
[null,null,"40km to less than 60km",{"$f":"IFERROR(INDEX('LS33. Travel to Work, distance'!$B24:$Z24,MATCH(D$3,'LS33. Travel to Work, distance'!$B$2:$Z$2,0)),\"n/a\")","v":1.0491879120334419E-2},{"$f":"IFERROR(INDEX('LS33. Travel to Work, distance'!$B24:$Z24,MATCH(E$1047,'LS33. Travel to Work, distance'!$B$2:$Z$2,0)),\"n/a\")","v":1.6540430405537945E-2},{"$f":"IFERROR(INDEX('LS33. Travel to Work, distance'!$B24:$Z24,MATCH(F$1047,'LS33. Travel to Work, distance'!$B$2:$Z$2,0)),\"n/a\")","v":1.8750280625608021E-2},{"$f":"IFERROR(INDEX('LS33. Travel to Work, distance'!$B24:$Z24,MATCH(G$1047,'LS33. Travel to Work, distance'!$B$2:$Z$2,0)),\"n/a\")","v":2.637495945912232E-2}]
[null,null,"60km and over",{"$f":"IFERROR(INDEX('LS33. Travel to Work, distance'!$B25:$Z25,MATCH(D$3,'LS33. Travel to Work, distance'!$B$2:$Z$2,0)),\"n/a\")","v":2.2156865984832214E-2},{"$f":"IFERROR(INDEX('LS33. Travel to Work, distance'!$B25:$Z25,MATCH(E$1047,'LS33. Travel to Work, distance'!$B$2:$Z$2,0)),\"n/a\")","v":1.993836886298778E-2},{"$f":"IFERROR(INDEX('LS33. Travel to Work, distance'!$B25:$Z25,MATCH(F$1047,'LS33. Travel to Work, distance'!$B$2:$Z$2,0)),\"n/a\")","v":2.3939235201676269E-2},{"$f":"IFERROR(INDEX('LS33. Travel to Work, distance'!$B25:$Z25,MATCH(G$1047,'LS33. Travel to Work, distance'!$B$2:$Z$2,0)),\"n/a\")","v":3.4110140020064426E-2}]
[null,null,"Other",{"$f":"IFERROR(INDEX('LS33. Travel to Work, distance'!$B26:$Z26,MATCH(D$3,'LS33. Travel to Work, distance'!$B$2:$Z$2,0)),\"n/a\")","v":6.7990681228623825E-2},{"$f":"IFERROR(INDEX('LS33. Travel to Work, distance'!$B26:$Z26,MATCH(E$1047,'LS33. Travel to Work, distance'!$B$2:$Z$2,0)),\"n/a\")","v":7.1597157627644153E-2},{"$f":"IFERROR(INDEX('LS33. Travel to Work, distance'!$B26:$Z26,MATCH(F$1047,'LS33. Travel to Work, distance'!$B$2:$Z$2,0)),\"n/a\")","v":7.2700740851605175E-2},{"$f":"IFERROR(INDEX('LS33. Travel to Work, distance'!$B26:$Z26,MATCH(G$1047,'LS33. Travel to Work, distance'!$B$2:$Z$2,0)),\"n/a\")","v":8.0133013769156269E-2}]
[]
[]
[]
[]
[]
[]
[]
[]
[]
[]
[]
[]
[]
[]
[]
[]
[]
[]
[]
[]
[]
[]
[]
[]
[]
[]
[]
[]
[]
[]
[]
[]
[]
[]
[]
[]
[]
[]
[]
[]
[]
[null,null,"LS20. Economic Inactivity, 2006/07-16/17"]
[null,null,null,{"$f":"D$3","v":"Blackburn with Darwen "},{"$f":"D$4","v":"Blackburn with Darwen, Hyndburn, Rossendale and Ribble Valley"},"Lancashire ","England Minus London"]
[null,null,"Jul 2006-Jun 2007",{"$f":"IFERROR(INDEX('LS20. Economic Inactivity'!$B4:$Z4,MATCH(D$3,'LS20. Economic Inactivity'!$B$2:$Z$2,0)),\"n/a\")","v":27300},{"$f":"IFERROR(INDEX('LS20. Economic Inactivity'!$B4:$Z4,MATCH(E$1114,'LS20. Economic Inactivity'!$B$2:$Z$2,0)),\"n/a\")","v":59300},{"$f":"IFERROR(INDEX('LS20. Economic Inactivity'!$B4:$Z4,MATCH(F$1114,'LS20. Economic Inactivity'!$B$2:$Z$2,0)),\"n/a\")","v":230400},{"$f":"IFERROR(INDEX('LS20. Economic Inactivity'!$B4:$Z4,MATCH(G$1114,'LS20. Economic Inactivity'!$B$2:$Z$2,0)),\"n/a\")","v":6281300}]
[null,null,"Jul 2007-Jun 2008",{"$f":"IFERROR(INDEX('LS20. Economic Inactivity'!$B5:$Z5,MATCH(D$3,'LS20. Economic Inactivity'!$B$2:$Z$2,0)),\"n/a\")","v":26900},{"$f":"IFERROR(INDEX('LS20. Economic Inactivity'!$B5:$Z5,MATCH(E$1114,'LS20. Economic Inactivity'!$B$2:$Z$2,0)),\"n/a\")","v":60700},{"$f":"IFERROR(INDEX('LS20. Economic Inactivity'!$B5:$Z5,MATCH(F$1114,'LS20. Economic Inactivity'!$B$2:$Z$2,0)),\"n/a\")","v":222800},{"$f":"IFERROR(INDEX('LS20. Economic Inactivity'!$B5:$Z5,MATCH(G$1114,'LS20. Economic Inactivity'!$B$2:$Z$2,0)),\"n/a\")","v":6354500}]
[null,null,"Jul 2008-Jun 2009",{"$f":"IFERROR(INDEX('LS20. Economic Inactivity'!$B6:$Z6,MATCH(D$3,'LS20. Economic Inactivity'!$B$2:$Z$2,0)),\"n/a\")","v":28700},{"$f":"IFERROR(INDEX('LS20. Economic Inactivity'!$B6:$Z6,MATCH(E$1114,'LS20. Economic Inactivity'!$B$2:$Z$2,0)),\"n/a\")","v":66400},{"$f":"IFERROR(INDEX('LS20. Economic Inactivity'!$B6:$Z6,MATCH(F$1114,'LS20. Economic Inactivity'!$B$2:$Z$2,0)),\"n/a\")","v":234700},{"$f":"IFERROR(INDEX('LS20. Economic Inactivity'!$B6:$Z6,MATCH(G$1114,'LS20. Economic Inactivity'!$B$2:$Z$2,0)),\"n/a\")","v":6332600}]
[null,null,"Jul 2009-Jun 2010",{"$f":"IFERROR(INDEX('LS20. Economic Inactivity'!$B7:$Z7,MATCH(D$3,'LS20. Economic Inactivity'!$B$2:$Z$2,0)),\"n/a\")","v":26600},{"$f":"IFERROR(INDEX('LS20. Economic Inactivity'!$B7:$Z7,MATCH(E$1114,'LS20. Economic Inactivity'!$B$2:$Z$2,0)),\"n/a\")","v":61000},{"$f":"IFERROR(INDEX('LS20. Economic Inactivity'!$B7:$Z7,MATCH(F$1114,'LS20. Economic Inactivity'!$B$2:$Z$2,0)),\"n/a\")","v":232000},{"$f":"IFERROR(INDEX('LS20. Economic Inactivity'!$B7:$Z7,MATCH(G$1114,'LS20. Economic Inactivity'!$B$2:$Z$2,0)),\"n/a\")","v":6534100}]
[null,null,"Jul 2010-Jun 2011",{"$f":"IFERROR(INDEX('LS20. Economic Inactivity'!$B8:$Z8,MATCH(D$3,'LS20. Economic Inactivity'!$B$2:$Z$2,0)),\"n/a\")","v":30300},{"$f":"IFERROR(INDEX('LS20. Economic Inactivity'!$B8:$Z8,MATCH(E$1114,'LS20. Economic Inactivity'!$B$2:$Z$2,0)),\"n/a\")","v":64200},{"$f":"IFERROR(INDEX('LS20. Economic Inactivity'!$B8:$Z8,MATCH(F$1114,'LS20. Economic Inactivity'!$B$2:$Z$2,0)),\"n/a\")","v":229100},{"$f":"IFERROR(INDEX('LS20. Economic Inactivity'!$B8:$Z8,MATCH(G$1114,'LS20. Economic Inactivity'!$B$2:$Z$2,0)),\"n/a\")","v":6646900}]
[null,null,"Jul 2011-Jun 2012",{"$f":"IFERROR(INDEX('LS20. Economic Inactivity'!$B9:$Z9,MATCH(D$3,'LS20. Economic Inactivity'!$B$2:$Z$2,0)),\"n/a\")","v":30300},{"$f":"IFERROR(INDEX('LS20. Economic Inactivity'!$B9:$Z9,MATCH(E$1114,'LS20. Economic Inactivity'!$B$2:$Z$2,0)),\"n/a\")","v":51300},{"$f":"IFERROR(INDEX('LS20. Economic Inactivity'!$B9:$Z9,MATCH(F$1114,'LS20. Economic Inactivity'!$B$2:$Z$2,0)),\"n/a\")","v":208300},{"$f":"IFERROR(INDEX('LS20. Economic Inactivity'!$B9:$Z9,MATCH(G$1114,'LS20. Economic Inactivity'!$B$2:$Z$2,0)),\"n/a\")","v":6530800}]
[null,null,"Jul 2012-Jun 2013",{"$f":"IFERROR(INDEX('LS20. Economic Inactivity'!$B10:$Z10,MATCH(D$3,'LS20. Economic Inactivity'!$B$2:$Z$2,0)),\"n/a\")","v":27100},{"$f":"IFERROR(INDEX('LS20. Economic Inactivity'!$B10:$Z10,MATCH(E$1114,'LS20. Economic Inactivity'!$B$2:$Z$2,0)),\"n/a\")","v":57000},{"$f":"IFERROR(INDEX('LS20. Economic Inactivity'!$B10:$Z10,MATCH(F$1114,'LS20. Economic Inactivity'!$B$2:$Z$2,0)),\"n/a\")","v":231800},{"$f":"IFERROR(INDEX('LS20. Economic Inactivity'!$B10:$Z10,MATCH(G$1114,'LS20. Economic Inactivity'!$B$2:$Z$2,0)),\"n/a\")","v":6338700}]
[null,null,"Jul 2013-Jun 2014",{"$f":"IFERROR(INDEX('LS20. Economic Inactivity'!$B11:$Z11,MATCH(D$3,'LS20. Economic Inactivity'!$B$2:$Z$2,0)),\"n/a\")","v":29600},{"$f":"IFERROR(INDEX('LS20. Economic Inactivity'!$B11:$Z11,MATCH(E$1114,'LS20. Economic Inactivity'!$B$2:$Z$2,0)),\"n/a\")","v":63600},{"$f":"IFERROR(INDEX('LS20. Economic Inactivity'!$B11:$Z11,MATCH(F$1114,'LS20. Economic Inactivity'!$B$2:$Z$2,0)),\"n/a\")","v":237400},{"$f":"IFERROR(INDEX('LS20. Economic Inactivity'!$B11:$Z11,MATCH(G$1114,'LS20. Economic Inactivity'!$B$2:$Z$2,0)),\"n/a\")","v":6367500}]
[null,null,"Jul 2014-Jun 2015",{"$f":"IFERROR(INDEX('LS20. Economic Inactivity'!$B12:$Z12,MATCH(D$3,'LS20. Economic Inactivity'!$B$2:$Z$2,0)),\"n/a\")","v":26400},{"$f":"IFERROR(INDEX('LS20. Economic Inactivity'!$B12:$Z12,MATCH(E$1114,'LS20. Economic Inactivity'!$B$2:$Z$2,0)),\"n/a\")","v":55600},{"$f":"IFERROR(INDEX('LS20. Economic Inactivity'!$B12:$Z12,MATCH(F$1114,'LS20. Economic Inactivity'!$B$2:$Z$2,0)),\"n/a\")","v":236200},{"$f":"IFERROR(INDEX('LS20. Economic Inactivity'!$B12:$Z12,MATCH(G$1114,'LS20. Economic Inactivity'!$B$2:$Z$2,0)),\"n/a\")","v":6330700}]
[null,null,"Jul 2015-Jun 2016",{"$f":"IFERROR(INDEX('LS20. Economic Inactivity'!$B13:$Z13,MATCH(D$3,'LS20. Economic Inactivity'!$B$2:$Z$2,0)),\"n/a\")","v":27100},{"$f":"IFERROR(INDEX('LS20. Economic Inactivity'!$B13:$Z13,MATCH(E$1114,'LS20. Economic Inactivity'!$B$2:$Z$2,0)),\"n/a\")","v":49300},{"$f":"IFERROR(INDEX('LS20. Economic Inactivity'!$B13:$Z13,MATCH(F$1114,'LS20. Economic Inactivity'!$B$2:$Z$2,0)),\"n/a\")","v":203600},{"$f":"IFERROR(INDEX('LS20. Economic Inactivity'!$B13:$Z13,MATCH(G$1114,'LS20. Economic Inactivity'!$B$2:$Z$2,0)),\"n/a\")","v":6246800}]
[null,null,"Jul 2016-Jun 2017",{"$f":"IFERROR(INDEX('LS20. Economic Inactivity'!$B14:$Z14,MATCH(D$3,'LS20. Economic Inactivity'!$B$2:$Z$2,0)),\"n/a\")","v":28800},{"$f":"IFERROR(INDEX('LS20. Economic Inactivity'!$B14:$Z14,MATCH(E$1114,'LS20. Economic Inactivity'!$B$2:$Z$2,0)),\"n/a\")","v":57800},{"$f":"IFERROR(INDEX('LS20. Economic Inactivity'!$B14:$Z14,MATCH(F$1114,'LS20. Economic Inactivity'!$B$2:$Z$2,0)),\"n/a\")","v":200100},{"$f":"IFERROR(INDEX('LS20. Economic Inactivity'!$B14:$Z14,MATCH(G$1114,'LS20. Economic Inactivity'!$B$2:$Z$2,0)),\"n/a\")","v":6201000}]
[]
[null,null,"LS20. Economic Inactivity (% of working age population), 2006/07-16/17"]
[null,null,null,{"$f":"D$3","v":"Blackburn with Darwen "},{"$f":"D$4","v":"Blackburn with Darwen, Hyndburn, Rossendale and Ribble Valley"},"Lancashire ","England Minus London"]
[null,null,"Jul 2006-Jun 2007",{"$f":"IFERROR(INDEX('LS20. Economic Inactivity'!$B18:$Z18,MATCH(D$3,'LS20. Economic Inactivity'!$B$2:$Z$2,0)),\"n/a\")","v":29.6},{"$f":"IFERROR(INDEX('LS20. Economic Inactivity'!$B18:$Z18,MATCH(E$1114,'LS20. Economic Inactivity'!$B$2:$Z$2,0)),\"n/a\")","v":27},{"$f":"IFERROR(INDEX('LS20. Economic Inactivity'!$B18:$Z18,MATCH(F$1114,'LS20. Economic Inactivity'!$B$2:$Z$2,0)),\"n/a\")","v":25.2},{"$f":"IFERROR(INDEX('LS20. Economic Inactivity'!$B18:$Z18,MATCH(G$1114,'LS20. Economic Inactivity'!$B$2:$Z$2,0)),\"n/a\")","v":22.6},null,"For details on Economic Inactivity by age and gender, please click here"]
[null,null,"Jul 2007-Jun 2008",{"$f":"IFERROR(INDEX('LS20. Economic Inactivity'!$B19:$Z19,MATCH(D$3,'LS20. Economic Inactivity'!$B$2:$Z$2,0)),\"n/a\")","v":29.3},{"$f":"IFERROR(INDEX('LS20. Economic Inactivity'!$B19:$Z19,MATCH(E$1114,'LS20. Economic Inactivity'!$B$2:$Z$2,0)),\"n/a\")","v":27.1},{"$f":"IFERROR(INDEX('LS20. Economic Inactivity'!$B19:$Z19,MATCH(F$1114,'LS20. Economic Inactivity'!$B$2:$Z$2,0)),\"n/a\")","v":24.3},{"$f":"IFERROR(INDEX('LS20. Economic Inactivity'!$B19:$Z19,MATCH(G$1114,'LS20. Economic Inactivity'!$B$2:$Z$2,0)),\"n/a\")","v":22.7}]
[null,null,"Jul 2008-Jun 2009",{"$f":"IFERROR(INDEX('LS20. Economic Inactivity'!$B20:$Z20,MATCH(D$3,'LS20. Economic Inactivity'!$B$2:$Z$2,0)),\"n/a\")","v":31},{"$f":"IFERROR(INDEX('LS20. Economic Inactivity'!$B20:$Z20,MATCH(E$1114,'LS20. Economic Inactivity'!$B$2:$Z$2,0)),\"n/a\")","v":29.5},{"$f":"IFERROR(INDEX('LS20. Economic Inactivity'!$B20:$Z20,MATCH(F$1114,'LS20. Economic Inactivity'!$B$2:$Z$2,0)),\"n/a\")","v":25.6},{"$f":"IFERROR(INDEX('LS20. Economic Inactivity'!$B20:$Z20,MATCH(G$1114,'LS20. Economic Inactivity'!$B$2:$Z$2,0)),\"n/a\")","v":22.5}]
[null,null,"Jul 2009-Jun 2010",{"$f":"IFERROR(INDEX('LS20. Economic Inactivity'!$B21:$Z21,MATCH(D$3,'LS20. Economic Inactivity'!$B$2:$Z$2,0)),\"n/a\")","v":28.6},{"$f":"IFERROR(INDEX('LS20. Economic Inactivity'!$B21:$Z21,MATCH(E$1114,'LS20. Economic Inactivity'!$B$2:$Z$2,0)),\"n/a\")","v":27.4},{"$f":"IFERROR(INDEX('LS20. Economic Inactivity'!$B21:$Z21,MATCH(F$1114,'LS20. Economic Inactivity'!$B$2:$Z$2,0)),\"n/a\")","v":25.3},{"$f":"IFERROR(INDEX('LS20. Economic Inactivity'!$B21:$Z21,MATCH(G$1114,'LS20. Economic Inactivity'!$B$2:$Z$2,0)),\"n/a\")","v":23.2}]
[null,null,"Jul 2010-Jun 2011",{"$f":"IFERROR(INDEX('LS20. Economic Inactivity'!$B22:$Z22,MATCH(D$3,'LS20. Economic Inactivity'!$B$2:$Z$2,0)),\"n/a\")","v":32.299999999999997},{"$f":"IFERROR(INDEX('LS20. Economic Inactivity'!$B22:$Z22,MATCH(E$1114,'LS20. Economic Inactivity'!$B$2:$Z$2,0)),\"n/a\")","v":28.7},{"$f":"IFERROR(INDEX('LS20. Economic Inactivity'!$B22:$Z22,MATCH(F$1114,'LS20. Economic Inactivity'!$B$2:$Z$2,0)),\"n/a\")","v":24.9},{"$f":"IFERROR(INDEX('LS20. Economic Inactivity'!$B22:$Z22,MATCH(G$1114,'LS20. Economic Inactivity'!$B$2:$Z$2,0)),\"n/a\")","v":23.4}]
[null,null,"Jul 2011-Jun 2012",{"$f":"IFERROR(INDEX('LS20. Economic Inactivity'!$B23:$Z23,MATCH(D$3,'LS20. Economic Inactivity'!$B$2:$Z$2,0)),\"n/a\")","v":32.299999999999997},{"$f":"IFERROR(INDEX('LS20. Economic Inactivity'!$B23:$Z23,MATCH(E$1114,'LS20. Economic Inactivity'!$B$2:$Z$2,0)),\"n/a\")","v":23.3},{"$f":"IFERROR(INDEX('LS20. Economic Inactivity'!$B23:$Z23,MATCH(F$1114,'LS20. Economic Inactivity'!$B$2:$Z$2,0)),\"n/a\")","v":22.8},{"$f":"IFERROR(INDEX('LS20. Economic Inactivity'!$B23:$Z23,MATCH(G$1114,'LS20. Economic Inactivity'!$B$2:$Z$2,0)),\"n/a\")","v":23}]
[null,null,"Jul 2012-Jun 2013",{"$f":"IFERROR(INDEX('LS20. Economic Inactivity'!$B24:$Z24,MATCH(D$3,'LS20. Economic Inactivity'!$B$2:$Z$2,0)),\"n/a\")","v":29.4},{"$f":"IFERROR(INDEX('LS20. Economic Inactivity'!$B24:$Z24,MATCH(E$1114,'LS20. Economic Inactivity'!$B$2:$Z$2,0)),\"n/a\")","v":25.8},{"$f":"IFERROR(INDEX('LS20. Economic Inactivity'!$B24:$Z24,MATCH(F$1114,'LS20. Economic Inactivity'!$B$2:$Z$2,0)),\"n/a\")","v":25.5},{"$f":"IFERROR(INDEX('LS20. Economic Inactivity'!$B24:$Z24,MATCH(G$1114,'LS20. Economic Inactivity'!$B$2:$Z$2,0)),\"n/a\")","v":22.4}]
[null,null,"Jul 2013-Jun 2014",{"$f":"IFERROR(INDEX('LS20. Economic Inactivity'!$B25:$Z25,MATCH(D$3,'LS20. Economic Inactivity'!$B$2:$Z$2,0)),\"n/a\")","v":32.299999999999997},{"$f":"IFERROR(INDEX('LS20. Economic Inactivity'!$B25:$Z25,MATCH(E$1114,'LS20. Economic Inactivity'!$B$2:$Z$2,0)),\"n/a\")","v":29},{"$f":"IFERROR(INDEX('LS20. Economic Inactivity'!$B25:$Z25,MATCH(F$1114,'LS20. Economic Inactivity'!$B$2:$Z$2,0)),\"n/a\")","v":26.2},{"$f":"IFERROR(INDEX('LS20. Economic Inactivity'!$B25:$Z25,MATCH(G$1114,'LS20. Economic Inactivity'!$B$2:$Z$2,0)),\"n/a\")","v":22.5}]
[null,null,"Jul 2014-Jun 2015",{"$f":"IFERROR(INDEX('LS20. Economic Inactivity'!$B26:$Z26,MATCH(D$3,'LS20. Economic Inactivity'!$B$2:$Z$2,0)),\"n/a\")","v":29.1},{"$f":"IFERROR(INDEX('LS20. Economic Inactivity'!$B26:$Z26,MATCH(E$1114,'LS20. Economic Inactivity'!$B$2:$Z$2,0)),\"n/a\")","v":25.4},{"$f":"IFERROR(INDEX('LS20. Economic Inactivity'!$B26:$Z26,MATCH(F$1114,'LS20. Economic Inactivity'!$B$2:$Z$2,0)),\"n/a\")","v":26.1},{"$f":"IFERROR(INDEX('LS20. Economic Inactivity'!$B26:$Z26,MATCH(G$1114,'LS20. Economic Inactivity'!$B$2:$Z$2,0)),\"n/a\")","v":22.3}]
[null,null,"Jul 2015-Jun 2016",{"$f":"IFERROR(INDEX('LS20. Economic Inactivity'!$B27:$Z27,MATCH(D$3,'LS20. Economic Inactivity'!$B$2:$Z$2,0)),\"n/a\")","v":29.9},{"$f":"IFERROR(INDEX('LS20. Economic Inactivity'!$B27:$Z27,MATCH(E$1114,'LS20. Economic Inactivity'!$B$2:$Z$2,0)),\"n/a\")","v":22.6},{"$f":"IFERROR(INDEX('LS20. Economic Inactivity'!$B27:$Z27,MATCH(F$1114,'LS20. Economic Inactivity'!$B$2:$Z$2,0)),\"n/a\")","v":22.5},{"$f":"IFERROR(INDEX('LS20. Economic Inactivity'!$B27:$Z27,MATCH(G$1114,'LS20. Economic Inactivity'!$B$2:$Z$2,0)),\"n/a\")","v":21.9}]
[null,null,"Jul 2016-Jun 2017",{"$f":"IFERROR(INDEX('LS20. Economic Inactivity'!$B28:$Z28,MATCH(D$3,'LS20. Economic Inactivity'!$B$2:$Z$2,0)),\"n/a\")","v":31.6},{"$f":"IFERROR(INDEX('LS20. Economic Inactivity'!$B28:$Z28,MATCH(E$1114,'LS20. Economic Inactivity'!$B$2:$Z$2,0)),\"n/a\")","v":26.7},{"$f":"IFERROR(INDEX('LS20. Economic Inactivity'!$B28:$Z28,MATCH(F$1114,'LS20. Economic Inactivity'!$B$2:$Z$2,0)),\"n/a\")","v":22.2},{"$f":"IFERROR(INDEX('LS20. Economic Inactivity'!$B28:$Z28,MATCH(G$1114,'LS20. Economic Inactivity'!$B$2:$Z$2,0)),\"n/a\")","v":21.7}]
[]
[null,null,"LS23. Economic Inactivity by Reason, 2016/17"]
[null,null,null,{"$f":"D$3","v":"Blackburn with Darwen "},{"$f":"D$4","v":"Blackburn with Darwen, Hyndburn, Rossendale and Ribble Valley"},"Lancashire ","England Minus London"]
[null,null,"Student",{"$f":"IFERROR(INDEX('LS23. Reason for Inactivity'!$B14:$Z14,MATCH(D$3,'LS23. Reason for Inactivity'!$B$2:$Z$2,0)),\"n/a\")","v":29},{"$f":"IFERROR(INDEX('LS23. Reason for Inactivity'!$B14:$Z14,MATCH(D$4,'LS23. Reason for Inactivity'!$B$2:$Z$2,0)),\"n/a\")","v":26.5},{"$f":"IFERROR(INDEX('LS23. Reason for Inactivity'!$B14:$Z14,MATCH(F$1142,'LS23. Reason for Inactivity'!$B$2:$Z$2,0)),\"n/a\")","v":25.1},{"$f":"IFERROR(INDEX('LS23. Reason for Inactivity'!$B14:$Z14,MATCH(G$1142,'LS23. Reason for Inactivity'!$B$2:$Z$2,0)),\"n/a\")","v":25.7}]
[null,null,"Looking after family/home",{"$f":"IFERROR(INDEX('LS23. Reason for Inactivity'!$B15:$Z15,MATCH(D$3,'LS23. Reason for Inactivity'!$B$2:$Z$2,0)),\"n/a\")","v":28.3},{"$f":"IFERROR(INDEX('LS23. Reason for Inactivity'!$B15:$Z15,MATCH(D$4,'LS23. Reason for Inactivity'!$B$2:$Z$2,0)),\"n/a\")","v":20.2},{"$f":"IFERROR(INDEX('LS23. Reason for Inactivity'!$B15:$Z15,MATCH(F$1142,'LS23. Reason for Inactivity'!$B$2:$Z$2,0)),\"n/a\")","v":24.1},{"$f":"IFERROR(INDEX('LS23. Reason for Inactivity'!$B15:$Z15,MATCH(G$1142,'LS23. Reason for Inactivity'!$B$2:$Z$2,0)),\"n/a\")","v":24.6}]
[null,null,"Temporary sick",{"$f":"IFERROR(INDEX('LS23. Reason for Inactivity'!$B16:$Z16,MATCH(D$3,'LS23. Reason for Inactivity'!$B$2:$Z$2,0)),\"n/a\")","v":1.5},{"$f":"IFERROR(INDEX('LS23. Reason for Inactivity'!$B16:$Z16,MATCH(D$4,'LS23. Reason for Inactivity'!$B$2:$Z$2,0)),\"n/a\")","v":0.8},{"$f":"IFERROR(INDEX('LS23. Reason for Inactivity'!$B16:$Z16,MATCH(F$1142,'LS23. Reason for Inactivity'!$B$2:$Z$2,0)),\"n/a\")","v":1.6},{"$f":"IFERROR(INDEX('LS23. Reason for Inactivity'!$B16:$Z16,MATCH(G$1142,'LS23. Reason for Inactivity'!$B$2:$Z$2,0)),\"n/a\")","v":1.9}]
[null,null,"Long-term sick",{"$f":"IFERROR(INDEX('LS23. Reason for Inactivity'!$B17:$Z17,MATCH(D$3,'LS23. Reason for Inactivity'!$B$2:$Z$2,0)),\"n/a\")","v":24.5},{"$f":"IFERROR(INDEX('LS23. Reason for Inactivity'!$B17:$Z17,MATCH(D$4,'LS23. Reason for Inactivity'!$B$2:$Z$2,0)),\"n/a\")","v":27.8},{"$f":"IFERROR(INDEX('LS23. Reason for Inactivity'!$B17:$Z17,MATCH(F$1142,'LS23. Reason for Inactivity'!$B$2:$Z$2,0)),\"n/a\")","v":25},{"$f":"IFERROR(INDEX('LS23. Reason for Inactivity'!$B17:$Z17,MATCH(G$1142,'LS23. Reason for Inactivity'!$B$2:$Z$2,0)),\"n/a\")","v":22.1}]
[null,null,"Discouraged",{"$f":"IFERROR(INDEX('LS23. Reason for Inactivity'!$B18:$Z18,MATCH(D$3,'LS23. Reason for Inactivity'!$B$2:$Z$2,0)),\"n/a\")","v":1.4},{"$f":"IFERROR(INDEX('LS23. Reason for Inactivity'!$B18:$Z18,MATCH(D$4,'LS23. Reason for Inactivity'!$B$2:$Z$2,0)),\"n/a\")","v":0.7},{"$f":"IFERROR(INDEX('LS23. Reason for Inactivity'!$B18:$Z18,MATCH(F$1142,'LS23. Reason for Inactivity'!$B$2:$Z$2,0)),\"n/a\")","v":0.8},{"$f":"IFERROR(INDEX('LS23. Reason for Inactivity'!$B18:$Z18,MATCH(G$1142,'LS23. Reason for Inactivity'!$B$2:$Z$2,0)),\"n/a\")","v":0.3}]
[null,null,"Retired",{"$f":"IFERROR(INDEX('LS23. Reason for Inactivity'!$B19:$Z19,MATCH(D$3,'LS23. Reason for Inactivity'!$B$2:$Z$2,0)),\"n/a\")","v":9.4},{"$f":"IFERROR(INDEX('LS23. Reason for Inactivity'!$B19:$Z19,MATCH(D$4,'LS23. Reason for Inactivity'!$B$2:$Z$2,0)),\"n/a\")","v":14.3},{"$f":"IFERROR(INDEX('LS23. Reason for Inactivity'!$B19:$Z19,MATCH(F$1142,'LS23. Reason for Inactivity'!$B$2:$Z$2,0)),\"n/a\")","v":15.6},{"$f":"IFERROR(INDEX('LS23. Reason for Inactivity'!$B19:$Z19,MATCH(G$1142,'LS23. Reason for Inactivity'!$B$2:$Z$2,0)),\"n/a\")","v":14.6}]
[null,null,"Other",{"$f":"IFERROR(INDEX('LS23. Reason for Inactivity'!$B20:$Z20,MATCH(D$3,'LS23. Reason for Inactivity'!$B$2:$Z$2,0)),\"n/a\")","v":5.9},{"$f":"IFERROR(INDEX('LS23. Reason for Inactivity'!$B20:$Z20,MATCH(D$4,'LS23. Reason for Inactivity'!$B$2:$Z$2,0)),\"n/a\")","v":9.8000000000000007},{"$f":"IFERROR(INDEX('LS23. Reason for Inactivity'!$B20:$Z20,MATCH(F$1142,'LS23. Reason for Inactivity'!$B$2:$Z$2,0)),\"n/a\")","v":7.8},{"$f":"IFERROR(INDEX('LS23. Reason for Inactivity'!$B20:$Z20,MATCH(G$1142,'LS23. Reason for Inactivity'!$B$2:$Z$2,0)),\"n/a\")","v":10.8}]
[]
[]
[]
[]
[]
[]
[]
[]
[]
[]
[]
[]
[]
[]
[]
[]
[]
[]
[]
[]
[]
[]
[null,null,"LS22. Economic Activity, 2006/07-16/17"]
[null,null,null,{"$f":"D$3","v":"Blackburn with Darwen "},{"$f":"D$4","v":"Blackburn with Darwen, Hyndburn, Rossendale and Ribble Valley"},"Lancashire ","England Minus London"]
[null,null,"Jul 2006-Jun 2007",{"$f":"IFERROR(INDEX('LS22. Economic Activity'!$B4:$Z4,MATCH(D$3,'LS22. Economic Activity'!$B$2:$Z$2,0)),\"n/a\")","v":64900},{"$f":"IFERROR(INDEX('LS22. Economic Activity'!$B4:$Z4,MATCH(E$1173,'LS22. Economic Activity'!$B$2:$Z$2,0)),\"n/a\")","v":160100},{"$f":"IFERROR(INDEX('LS22. Economic Activity'!$B4:$Z4,MATCH(F$1173,'LS22. Economic Activity'!$B$2:$Z$2,0)),\"n/a\")","v":685400},{"$f":"IFERROR(INDEX('LS22. Economic Activity'!$B4:$Z4,MATCH(G$1173,'LS22. Economic Activity'!$B$2:$Z$2,0)),\"n/a\")","v":21463800}]
[null,null,"Jul 2007-Jun 2008",{"$f":"IFERROR(INDEX('LS22. Economic Activity'!$B5:$Z5,MATCH(D$3,'LS22. Economic Activity'!$B$2:$Z$2,0)),\"n/a\")","v":64800},{"$f":"IFERROR(INDEX('LS22. Economic Activity'!$B5:$Z5,MATCH(E$1173,'LS22. Economic Activity'!$B$2:$Z$2,0)),\"n/a\")","v":162900},{"$f":"IFERROR(INDEX('LS22. Economic Activity'!$B5:$Z5,MATCH(F$1173,'LS22. Economic Activity'!$B$2:$Z$2,0)),\"n/a\")","v":695600},{"$f":"IFERROR(INDEX('LS22. Economic Activity'!$B5:$Z5,MATCH(G$1173,'LS22. Economic Activity'!$B$2:$Z$2,0)),\"n/a\")","v":21608200}]
[null,null,"Jul 2008-Jun 2009",{"$f":"IFERROR(INDEX('LS22. Economic Activity'!$B6:$Z6,MATCH(D$3,'LS22. Economic Activity'!$B$2:$Z$2,0)),\"n/a\")","v":63800},{"$f":"IFERROR(INDEX('LS22. Economic Activity'!$B6:$Z6,MATCH(E$1173,'LS22. Economic Activity'!$B$2:$Z$2,0)),\"n/a\")","v":158300},{"$f":"IFERROR(INDEX('LS22. Economic Activity'!$B6:$Z6,MATCH(F$1173,'LS22. Economic Activity'!$B$2:$Z$2,0)),\"n/a\")","v":683700},{"$f":"IFERROR(INDEX('LS22. Economic Activity'!$B6:$Z6,MATCH(G$1173,'LS22. Economic Activity'!$B$2:$Z$2,0)),\"n/a\")","v":21764200}]
[null,null,"Jul 2009-Jun 2010",{"$f":"IFERROR(INDEX('LS22. Economic Activity'!$B7:$Z7,MATCH(D$3,'LS22. Economic Activity'!$B$2:$Z$2,0)),\"n/a\")","v":66300},{"$f":"IFERROR(INDEX('LS22. Economic Activity'!$B7:$Z7,MATCH(E$1173,'LS22. Economic Activity'!$B$2:$Z$2,0)),\"n/a\")","v":162100},{"$f":"IFERROR(INDEX('LS22. Economic Activity'!$B7:$Z7,MATCH(F$1173,'LS22. Economic Activity'!$B$2:$Z$2,0)),\"n/a\")","v":686300},{"$f":"IFERROR(INDEX('LS22. Economic Activity'!$B7:$Z7,MATCH(G$1173,'LS22. Economic Activity'!$B$2:$Z$2,0)),\"n/a\")","v":21678400}]
[null,null,"Jul 2010-Jun 2011",{"$f":"IFERROR(INDEX('LS22. Economic Activity'!$B8:$Z8,MATCH(D$3,'LS22. Economic Activity'!$B$2:$Z$2,0)),\"n/a\")","v":63600},{"$f":"IFERROR(INDEX('LS22. Economic Activity'!$B8:$Z8,MATCH(E$1173,'LS22. Economic Activity'!$B$2:$Z$2,0)),\"n/a\")","v":159400},{"$f":"IFERROR(INDEX('LS22. Economic Activity'!$B8:$Z8,MATCH(F$1173,'LS22. Economic Activity'!$B$2:$Z$2,0)),\"n/a\")","v":689500},{"$f":"IFERROR(INDEX('LS22. Economic Activity'!$B8:$Z8,MATCH(G$1173,'LS22. Economic Activity'!$B$2:$Z$2,0)),\"n/a\")","v":21698600}]
[null,null,"Jul 2011-Jun 2012",{"$f":"IFERROR(INDEX('LS22. Economic Activity'!$B9:$Z9,MATCH(D$3,'LS22. Economic Activity'!$B$2:$Z$2,0)),\"n/a\")","v":63400},{"$f":"IFERROR(INDEX('LS22. Economic Activity'!$B9:$Z9,MATCH(E$1173,'LS22. Economic Activity'!$B$2:$Z$2,0)),\"n/a\")","v":169200},{"$f":"IFERROR(INDEX('LS22. Economic Activity'!$B9:$Z9,MATCH(F$1173,'LS22. Economic Activity'!$B$2:$Z$2,0)),\"n/a\")","v":707200},{"$f":"IFERROR(INDEX('LS22. Economic Activity'!$B9:$Z9,MATCH(G$1173,'LS22. Economic Activity'!$B$2:$Z$2,0)),\"n/a\")","v":21836300}]
[null,null,"Jul 2012-Jun 2013",{"$f":"IFERROR(INDEX('LS22. Economic Activity'!$B10:$Z10,MATCH(D$3,'LS22. Economic Activity'!$B$2:$Z$2,0)),\"n/a\")","v":65100},{"$f":"IFERROR(INDEX('LS22. Economic Activity'!$B10:$Z10,MATCH(E$1173,'LS22. Economic Activity'!$B$2:$Z$2,0)),\"n/a\")","v":163700},{"$f":"IFERROR(INDEX('LS22. Economic Activity'!$B10:$Z10,MATCH(F$1173,'LS22. Economic Activity'!$B$2:$Z$2,0)),\"n/a\")","v":679000},{"$f":"IFERROR(INDEX('LS22. Economic Activity'!$B10:$Z10,MATCH(G$1173,'LS22. Economic Activity'!$B$2:$Z$2,0)),\"n/a\")","v":21985600}]
[null,null,"Jul 2013-Jun 2014",{"$f":"IFERROR(INDEX('LS22. Economic Activity'!$B11:$Z11,MATCH(D$3,'LS22. Economic Activity'!$B$2:$Z$2,0)),\"n/a\")","v":62000},{"$f":"IFERROR(INDEX('LS22. Economic Activity'!$B11:$Z11,MATCH(E$1173,'LS22. Economic Activity'!$B$2:$Z$2,0)),\"n/a\")","v":155300},{"$f":"IFERROR(INDEX('LS22. Economic Activity'!$B11:$Z11,MATCH(F$1173,'LS22. Economic Activity'!$B$2:$Z$2,0)),\"n/a\")","v":669400},{"$f":"IFERROR(INDEX('LS22. Economic Activity'!$B11:$Z11,MATCH(G$1173,'LS22. Economic Activity'!$B$2:$Z$2,0)),\"n/a\")","v":21981400}]
[null,null,"Jul 2014-Jun 2015",{"$f":"IFERROR(INDEX('LS22. Economic Activity'!$B12:$Z12,MATCH(D$3,'LS22. Economic Activity'!$B$2:$Z$2,0)),\"n/a\")","v":64500},{"$f":"IFERROR(INDEX('LS22. Economic Activity'!$B12:$Z12,MATCH(E$1173,'LS22. Economic Activity'!$B$2:$Z$2,0)),\"n/a\")","v":163600},{"$f":"IFERROR(INDEX('LS22. Economic Activity'!$B12:$Z12,MATCH(F$1173,'LS22. Economic Activity'!$B$2:$Z$2,0)),\"n/a\")","v":668900},{"$f":"IFERROR(INDEX('LS22. Economic Activity'!$B12:$Z12,MATCH(G$1173,'LS22. Economic Activity'!$B$2:$Z$2,0)),\"n/a\")","v":22102900}]
[null,null,"Jul 2015-Jun 2016",{"$f":"IFERROR(INDEX('LS22. Economic Activity'!$B13:$Z13,MATCH(D$3,'LS22. Economic Activity'!$B$2:$Z$2,0)),\"n/a\")","v":63700},{"$f":"IFERROR(INDEX('LS22. Economic Activity'!$B13:$Z13,MATCH(E$1173,'LS22. Economic Activity'!$B$2:$Z$2,0)),\"n/a\")","v":168600},{"$f":"IFERROR(INDEX('LS22. Economic Activity'!$B13:$Z13,MATCH(F$1173,'LS22. Economic Activity'!$B$2:$Z$2,0)),\"n/a\")","v":699800},{"$f":"IFERROR(INDEX('LS22. Economic Activity'!$B13:$Z13,MATCH(G$1173,'LS22. Economic Activity'!$B$2:$Z$2,0)),\"n/a\")","v":22269400}]
[null,null,"Jul 2016-Jun 2017",{"$f":"IFERROR(INDEX('LS22. Economic Activity'!$B14:$Z14,MATCH(D$3,'LS22. Economic Activity'!$B$2:$Z$2,0)),\"n/a\")","v":62500},{"$f":"IFERROR(INDEX('LS22. Economic Activity'!$B14:$Z14,MATCH(E$1173,'LS22. Economic Activity'!$B$2:$Z$2,0)),\"n/a\")","v":159100},{"$f":"IFERROR(INDEX('LS22. Economic Activity'!$B14:$Z14,MATCH(F$1173,'LS22. Economic Activity'!$B$2:$Z$2,0)),\"n/a\")","v":700500},{"$f":"IFERROR(INDEX('LS22. Economic Activity'!$B14:$Z14,MATCH(G$1173,'LS22. Economic Activity'!$B$2:$Z$2,0)),\"n/a\")","v":22376400}]
[]
[null,null,"LS22. Economic Activity (% of working age population), 2006/07-16/17"]
[null,null,null,{"$f":"D$3","v":"Blackburn with Darwen "},{"$f":"D$4","v":"Blackburn with Darwen, Hyndburn, Rossendale and Ribble Valley"},"Lancashire ","England Minus London"]
[null,null,"Jul 2006-Jun 2007",{"$f":"IFERROR(INDEX('LS22. Economic Activity'!$B18:$Z18,MATCH(D$3,'LS22. Economic Activity'!$B$2:$Z$2,0)),\"n/a\")","v":70.400000000000006},{"$f":"IFERROR(INDEX('LS22. Economic Activity'!$B18:$Z18,MATCH(E$1173,'LS22. Economic Activity'!$B$2:$Z$2,0)),\"n/a\")","v":73},{"$f":"IFERROR(INDEX('LS22. Economic Activity'!$B18:$Z18,MATCH(F$1173,'LS22. Economic Activity'!$B$2:$Z$2,0)),\"n/a\")","v":74.8},{"$f":"IFERROR(INDEX('LS22. Economic Activity'!$B18:$Z18,MATCH(G$1173,'LS22. Economic Activity'!$B$2:$Z$2,0)),\"n/a\")","v":77.400000000000006}]
[null,null,"Jul 2007-Jun 2008",{"$f":"IFERROR(INDEX('LS22. Economic Activity'!$B19:$Z19,MATCH(D$3,'LS22. Economic Activity'!$B$2:$Z$2,0)),\"n/a\")","v":70.7},{"$f":"IFERROR(INDEX('LS22. Economic Activity'!$B19:$Z19,MATCH(E$1173,'LS22. Economic Activity'!$B$2:$Z$2,0)),\"n/a\")","v":72.900000000000006},{"$f":"IFERROR(INDEX('LS22. Economic Activity'!$B19:$Z19,MATCH(F$1173,'LS22. Economic Activity'!$B$2:$Z$2,0)),\"n/a\")","v":75.7},{"$f":"IFERROR(INDEX('LS22. Economic Activity'!$B19:$Z19,MATCH(G$1173,'LS22. Economic Activity'!$B$2:$Z$2,0)),\"n/a\")","v":77.3}]
[null,null,"Jul 2008-Jun 2009",{"$f":"IFERROR(INDEX('LS22. Economic Activity'!$B20:$Z20,MATCH(D$3,'LS22. Economic Activity'!$B$2:$Z$2,0)),\"n/a\")","v":69},{"$f":"IFERROR(INDEX('LS22. Economic Activity'!$B20:$Z20,MATCH(E$1173,'LS22. Economic Activity'!$B$2:$Z$2,0)),\"n/a\")","v":70.5},{"$f":"IFERROR(INDEX('LS22. Economic Activity'!$B20:$Z20,MATCH(F$1173,'LS22. Economic Activity'!$B$2:$Z$2,0)),\"n/a\")","v":74.400000000000006},{"$f":"IFERROR(INDEX('LS22. Economic Activity'!$B20:$Z20,MATCH(G$1173,'LS22. Economic Activity'!$B$2:$Z$2,0)),\"n/a\")","v":77.5}]
[null,null,"Jul 2009-Jun 2010",{"$f":"IFERROR(INDEX('LS22. Economic Activity'!$B21:$Z21,MATCH(D$3,'LS22. Economic Activity'!$B$2:$Z$2,0)),\"n/a\")","v":71.400000000000006},{"$f":"IFERROR(INDEX('LS22. Economic Activity'!$B21:$Z21,MATCH(E$1173,'LS22. Economic Activity'!$B$2:$Z$2,0)),\"n/a\")","v":72.599999999999994},{"$f":"IFERROR(INDEX('LS22. Economic Activity'!$B21:$Z21,MATCH(F$1173,'LS22. Economic Activity'!$B$2:$Z$2,0)),\"n/a\")","v":74.7},{"$f":"IFERROR(INDEX('LS22. Economic Activity'!$B21:$Z21,MATCH(G$1173,'LS22. Economic Activity'!$B$2:$Z$2,0)),\"n/a\")","v":76.8}]
[null,null,"Jul 2010-Jun 2011",{"$f":"IFERROR(INDEX('LS22. Economic Activity'!$B22:$Z22,MATCH(D$3,'LS22. Economic Activity'!$B$2:$Z$2,0)),\"n/a\")","v":67.7},{"$f":"IFERROR(INDEX('LS22. Economic Activity'!$B22:$Z22,MATCH(E$1173,'LS22. Economic Activity'!$B$2:$Z$2,0)),\"n/a\")","v":71.3},{"$f":"IFERROR(INDEX('LS22. Economic Activity'!$B22:$Z22,MATCH(F$1173,'LS22. Economic Activity'!$B$2:$Z$2,0)),\"n/a\")","v":75.099999999999994},{"$f":"IFERROR(INDEX('LS22. Economic Activity'!$B22:$Z22,MATCH(G$1173,'LS22. Economic Activity'!$B$2:$Z$2,0)),\"n/a\")","v":76.599999999999994}]
[null,null,"Jul 2011-Jun 2012",{"$f":"IFERROR(INDEX('LS22. Economic Activity'!$B23:$Z23,MATCH(D$3,'LS22. Economic Activity'!$B$2:$Z$2,0)),\"n/a\")","v":67.7},{"$f":"IFERROR(INDEX('LS22. Economic Activity'!$B23:$Z23,MATCH(E$1173,'LS22. Economic Activity'!$B$2:$Z$2,0)),\"n/a\")","v":76.7},{"$f":"IFERROR(INDEX('LS22. Economic Activity'!$B23:$Z23,MATCH(F$1173,'LS22. Economic Activity'!$B$2:$Z$2,0)),\"n/a\")","v":77.2},{"$f":"IFERROR(INDEX('LS22. Economic Activity'!$B23:$Z23,MATCH(G$1173,'LS22. Economic Activity'!$B$2:$Z$2,0)),\"n/a\")","v":77}]
[null,null,"Jul 2012-Jun 2013",{"$f":"IFERROR(INDEX('LS22. Economic Activity'!$B24:$Z24,MATCH(D$3,'LS22. Economic Activity'!$B$2:$Z$2,0)),\"n/a\")","v":70.599999999999994},{"$f":"IFERROR(INDEX('LS22. Economic Activity'!$B24:$Z24,MATCH(E$1173,'LS22. Economic Activity'!$B$2:$Z$2,0)),\"n/a\")","v":74.2},{"$f":"IFERROR(INDEX('LS22. Economic Activity'!$B24:$Z24,MATCH(F$1173,'LS22. Economic Activity'!$B$2:$Z$2,0)),\"n/a\")","v":74.5},{"$f":"IFERROR(INDEX('LS22. Economic Activity'!$B24:$Z24,MATCH(G$1173,'LS22. Economic Activity'!$B$2:$Z$2,0)),\"n/a\")","v":77.599999999999994}]
[null,null,"Jul 2013-Jun 2014",{"$f":"IFERROR(INDEX('LS22. Economic Activity'!$B25:$Z25,MATCH(D$3,'LS22. Economic Activity'!$B$2:$Z$2,0)),\"n/a\")","v":67.7},{"$f":"IFERROR(INDEX('LS22. Economic Activity'!$B25:$Z25,MATCH(E$1173,'LS22. Economic Activity'!$B$2:$Z$2,0)),\"n/a\")","v":71},{"$f":"IFERROR(INDEX('LS22. Economic Activity'!$B25:$Z25,MATCH(F$1173,'LS22. Economic Activity'!$B$2:$Z$2,0)),\"n/a\")","v":73.8},{"$f":"IFERROR(INDEX('LS22. Economic Activity'!$B25:$Z25,MATCH(G$1173,'LS22. Economic Activity'!$B$2:$Z$2,0)),\"n/a\")","v":77.5}]
[null,null,"Jul 2014-Jun 2015",{"$f":"IFERROR(INDEX('LS22. Economic Activity'!$B26:$Z26,MATCH(D$3,'LS22. Economic Activity'!$B$2:$Z$2,0)),\"n/a\")","v":70.900000000000006},{"$f":"IFERROR(INDEX('LS22. Economic Activity'!$B26:$Z26,MATCH(E$1173,'LS22. Economic Activity'!$B$2:$Z$2,0)),\"n/a\")","v":74.599999999999994},{"$f":"IFERROR(INDEX('LS22. Economic Activity'!$B26:$Z26,MATCH(F$1173,'LS22. Economic Activity'!$B$2:$Z$2,0)),\"n/a\")","v":73.900000000000006},{"$f":"IFERROR(INDEX('LS22. Economic Activity'!$B26:$Z26,MATCH(G$1173,'LS22. Economic Activity'!$B$2:$Z$2,0)),\"n/a\")","v":77.7}]
[null,null,"Jul 2015-Jun 2016",{"$f":"IFERROR(INDEX('LS22. Economic Activity'!$B27:$Z27,MATCH(D$3,'LS22. Economic Activity'!$B$2:$Z$2,0)),\"n/a\")","v":70.099999999999994},{"$f":"IFERROR(INDEX('LS22. Economic Activity'!$B27:$Z27,MATCH(E$1173,'LS22. Economic Activity'!$B$2:$Z$2,0)),\"n/a\")","v":77.400000000000006},{"$f":"IFERROR(INDEX('LS22. Economic Activity'!$B27:$Z27,MATCH(F$1173,'LS22. Economic Activity'!$B$2:$Z$2,0)),\"n/a\")","v":77.5},{"$f":"IFERROR(INDEX('LS22. Economic Activity'!$B27:$Z27,MATCH(G$1173,'LS22. Economic Activity'!$B$2:$Z$2,0)),\"n/a\")","v":78.099999999999994}]
[null,null,"Jul 2016-Jun 2017",{"$f":"IFERROR(INDEX('LS22. Economic Activity'!$B28:$Z28,MATCH(D$3,'LS22. Economic Activity'!$B$2:$Z$2,0)),\"n/a\")","v":68.400000000000006},{"$f":"IFERROR(INDEX('LS22. Economic Activity'!$B28:$Z28,MATCH(E$1173,'LS22. Economic Activity'!$B$2:$Z$2,0)),\"n/a\")","v":73.3},{"$f":"IFERROR(INDEX('LS22. Economic Activity'!$B28:$Z28,MATCH(F$1173,'LS22. Economic Activity'!$B$2:$Z$2,0)),\"n/a\")","v":77.8},{"$f":"IFERROR(INDEX('LS22. Economic Activity'!$B28:$Z28,MATCH(G$1173,'LS22. Economic Activity'!$B$2:$Z$2,0)),\"n/a\")","v":78.3}]
[]
[null,null,"For details on Economic Activity by health condition, please click here"]
[]
[]
[]
[]
[]
[]
[]
[]
[]
[]
[]
[]
[]
[]
[]
[]
[]
[]
[]
[]
[]
[]
[]
[]
[]
[]
[]
[]
[]
[]
[]
[]
[]
[]
[]
[]
[]
[]
[]
[]
[]
[]
[]
[]
[]
[]
[]
[]
[]
[]
[]
[]
[]
[]
[]
[]
[]
[]
[]
[]
[]
[]
[null,null,"LS25. Workless Households, 2006, 2011, 2016"]
[null,null,null,{"$f":"D$3","v":"Blackburn with Darwen "},{"$f":"D$4","v":"Blackburn with Darwen, Hyndburn, Rossendale and Ribble Valley"},"Lancashire ","England Minus London"]
[null,null,2006,{"$f":"IFERROR(INDEX('LS25. Households by Activity'!$B6:$Z6,MATCH(D$3,'LS25. Households by Activity'!$B$2:$Z$2,0)),\"n/a\")","v":11200},{"$f":"IFERROR(INDEX('LS25. Households by Activity'!$B6:$Z6,MATCH(E$1264,'LS25. Households by Activity'!$B$2:$Z$2,0)),\"n/a\")","v":25100},{"$f":"IFERROR(INDEX('LS25. Households by Activity'!$B6:$Z6,MATCH(F$1264,'LS25. Households by Activity'!$B$2:$Z$2,0)),\"n/a\")","v":92200},{"$f":"IFERROR(INDEX('LS25. Households by Activity'!$B6:$Z6,MATCH(G$1264,'LS25. Households by Activity'!$B$2:$Z$2,0)),\"n/a\")","v":2358900}]
[null,null,2011,{"$f":"IFERROR(INDEX('LS25. Households by Activity'!$B11:$Z11,MATCH(D$3,'LS25. Households by Activity'!$B$2:$Z$2,0)),\"n/a\")","v":12600},{"$f":"IFERROR(INDEX('LS25. Households by Activity'!$B11:$Z11,MATCH(E$1264,'LS25. Households by Activity'!$B$2:$Z$2,0)),\"n/a\")","v":24100},{"$f":"IFERROR(INDEX('LS25. Households by Activity'!$B11:$Z11,MATCH(F$1264,'LS25. Households by Activity'!$B$2:$Z$2,0)),\"n/a\")","v":92900},{"$f":"IFERROR(INDEX('LS25. Households by Activity'!$B11:$Z11,MATCH(G$1264,'LS25. Households by Activity'!$B$2:$Z$2,0)),\"n/a\")","v":2701000}]
[null,null,2016,{"$f":"IFERROR(INDEX('LS25. Households by Activity'!$B16:$Z16,MATCH(D$3,'LS25. Households by Activity'!$B$2:$Z$2,0)),\"n/a\")","v":7700},{"$f":"IFERROR(INDEX('LS25. Households by Activity'!$B16:$Z16,MATCH(E$1264,'LS25. Households by Activity'!$B$2:$Z$2,0)),\"n/a\")","v":18100},{"$f":"IFERROR(INDEX('LS25. Households by Activity'!$B16:$Z16,MATCH(F$1264,'LS25. Households by Activity'!$B$2:$Z$2,0)),\"n/a\")","v":77700},{"$f":"IFERROR(INDEX('LS25. Households by Activity'!$B16:$Z16,MATCH(G$1264,'LS25. Households by Activity'!$B$2:$Z$2,0)),\"n/a\")","v":2179900}]
[]
[null,null,"LS25. Workless Households (%), 2006, 2011, 2016"]
[null,null,null,{"$f":"D$3","v":"Blackburn with Darwen "},{"$f":"D$4","v":"Blackburn with Darwen, Hyndburn, Rossendale and Ribble Valley"},"Lancashire ","England Minus London"]
[null,null,2006,{"$f":"IFERROR(INDEX('LS25. Households by Activity'!$B21:$Z21,MATCH(D$3,'LS25. Households by Activity'!$B$2:$Z$2,0)),\"n/a\")/100","v":0.24100000000000002},{"$f":"IFERROR(INDEX('LS25. Households by Activity'!$B21:$Z21,MATCH(D$4,'LS25. Households by Activity'!$B$2:$Z$2,0)),\"n/a\")/100","v":0.22899999999999998},{"$f":"IFERROR(INDEX('LS25. Households by Activity'!$B21:$Z21,MATCH(F$1264,'LS25. Households by Activity'!$B$2:$Z$2,0)),\"n/a\")/100","v":0.19600000000000001},{"$f":"IFERROR(INDEX('LS25. Households by Activity'!$B21:$Z21,MATCH(G$1264,'LS25. Households by Activity'!$B$2:$Z$2,0)),\"n/a\")/100","v":0.16600000000000001}]
[null,null,2011,{"$f":"IFERROR(INDEX('LS25. Households by Activity'!$B26:$Z26,MATCH(D$3,'LS25. Households by Activity'!$B$2:$Z$2,0)),\"n/a\")/100","v":0.26700000000000002},{"$f":"IFERROR(INDEX('LS25. Households by Activity'!$B26:$Z26,MATCH(D$4,'LS25. Households by Activity'!$B$2:$Z$2,0)),\"n/a\")/100","v":0.20800000000000002},{"$f":"IFERROR(INDEX('LS25. Households by Activity'!$B26:$Z26,MATCH(F$1264,'LS25. Households by Activity'!$B$2:$Z$2,0)),\"n/a\")/100","v":0.193},{"$f":"IFERROR(INDEX('LS25. Households by Activity'!$B26:$Z26,MATCH(G$1264,'LS25. Households by Activity'!$B$2:$Z$2,0)),\"n/a\")/100","v":0.184}]
[null,null,2016,{"$f":"IFERROR(INDEX('LS25. Households by Activity'!$B31:$Z31,MATCH(D$3,'LS25. Households by Activity'!$B$2:$Z$2,0)),\"n/a\")/100","v":0.17600000000000002},{"$f":"IFERROR(INDEX('LS25. Households by Activity'!$B31:$Z31,MATCH(D$4,'LS25. Households by Activity'!$B$2:$Z$2,0)),\"n/a\")/100","v":0.156},{"$f":"IFERROR(INDEX('LS25. Households by Activity'!$B26:$Z26,MATCH(F$1264,'LS25. Households by Activity'!$B$2:$Z$2,0)),\"n/a\")/100","v":0.193},{"$f":"IFERROR(INDEX('LS25. Households by Activity'!$B26:$Z26,MATCH(G$1264,'LS25. Households by Activity'!$B$2:$Z$2,0)),\"n/a\")/100","v":0.184}]
[]
[]
[null,null,"LS25. Households by Activity, 2016"]
[null,null,null,{"$f":"D$3","v":"Blackburn with Darwen "},{"$f":"D$4","v":"Blackburn with Darwen, Hyndburn, Rossendale and Ribble Valley"},"Lancashire ","England Minus London"]
[null,null,"Working households",{"$f":"IFERROR(INDEX('LS25. Households by Activity'!$B14:$Z14,MATCH(D$3,'LS25. Households by Activity'!$B$2:$Z$2,0)),\"n/a\")","v":20200},{"$f":"IFERROR(INDEX('LS25. Households by Activity'!$B14:$Z14,MATCH(E$1264,'LS25. Households by Activity'!$B$2:$Z$2,0)),\"n/a\")","v":63400},{"$f":"IFERROR(INDEX('LS25. Households by Activity'!$B14:$Z14,MATCH(F$1264,'LS25. Households by Activity'!$B$2:$Z$2,0)),\"n/a\")","v":271400},{"$f":"IFERROR(INDEX('LS25. Households by Activity'!$B14:$Z14,MATCH(G$1264,'LS25. Households by Activity'!$B$2:$Z$2,0)),\"n/a\")","v":8304700}]
[null,null,"Mixed households",{"$f":"IFERROR(INDEX('LS25. Households by Activity'!$B15:$Z15,MATCH(D$3,'LS25. Households by Activity'!$B$2:$Z$2,0)),\"n/a\")","v":15900},{"$f":"IFERROR(INDEX('LS25. Households by Activity'!$B15:$Z15,MATCH(E$1264,'LS25. Households by Activity'!$B$2:$Z$2,0)),\"n/a\")","v":34100},{"$f":"IFERROR(INDEX('LS25. Households by Activity'!$B15:$Z15,MATCH(F$1264,'LS25. Households by Activity'!$B$2:$Z$2,0)),\"n/a\")","v":128400},{"$f":"IFERROR(INDEX('LS25. Households by Activity'!$B15:$Z15,MATCH(G$1264,'LS25. Households by Activity'!$B$2:$Z$2,0)),\"n/a\")","v":4077500}]
[null,null,"Workless households",{"$f":"IFERROR(INDEX('LS25. Households by Activity'!$B16:$Z16,MATCH(D$3,'LS25. Households by Activity'!$B$2:$Z$2,0)),\"n/a\")","v":7700},{"$f":"IFERROR(INDEX('LS25. Households by Activity'!$B16:$Z16,MATCH(E$1264,'LS25. Households by Activity'!$B$2:$Z$2,0)),\"n/a\")","v":18100},{"$f":"IFERROR(INDEX('LS25. Households by Activity'!$B16:$Z16,MATCH(F$1264,'LS25. Households by Activity'!$B$2:$Z$2,0)),\"n/a\")","v":77700},{"$f":"IFERROR(INDEX('LS25. Households by Activity'!$B16:$Z16,MATCH(G$1264,'LS25. Households by Activity'!$B$2:$Z$2,0)),\"n/a\")","v":2179900}]
[]
[null,null,"LS25. Households by Activity (%), 2016"]
[null,null,null,{"$f":"D$3","v":"Blackburn with Darwen "},{"$f":"D$4","v":"Blackburn with Darwen, Hyndburn, Rossendale and Ribble Valley"},"Lancashire ","England Minus London"]
[null,null,"Working households",{"$f":"IFERROR(INDEX('LS25. Households by Activity'!$B29:$Z29,MATCH(D$3,'LS25. Households by Activity'!$B$2:$Z$2,0)),\"n/a\")/100","v":0.46},{"$f":"IFERROR(INDEX('LS25. Households by Activity'!$B29:$Z29,MATCH(D$4,'LS25. Households by Activity'!$B$2:$Z$2,0)),\"n/a\")/100","v":0.54899999999999993},{"$f":"IFERROR(INDEX('LS25. Households by Activity'!$B29:$Z29,MATCH(F$1264,'LS25. Households by Activity'!$B$2:$Z$2,0)),\"n/a\")/100","v":0.56799999999999995},{"$f":"IFERROR(INDEX('LS25. Households by Activity'!$B29:$Z29,MATCH(G$1264,'LS25. Households by Activity'!$B$2:$Z$2,0)),\"n/a\")/100","v":0.56999999999999995}]
[null,null,"Mixed households",{"$f":"IFERROR(INDEX('LS25. Households by Activity'!$B30:$Z30,MATCH(D$3,'LS25. Households by Activity'!$B$2:$Z$2,0)),\"n/a\")/100","v":0.36299999999999999},{"$f":"IFERROR(INDEX('LS25. Households by Activity'!$B30:$Z30,MATCH(D$4,'LS25. Households by Activity'!$B$2:$Z$2,0)),\"n/a\")/100","v":0.29499999999999998},{"$f":"IFERROR(INDEX('LS25. Households by Activity'!$B30:$Z30,MATCH(F$1264,'LS25. Households by Activity'!$B$2:$Z$2,0)),\"n/a\")/100","v":0.26899999999999996},{"$f":"IFERROR(INDEX('LS25. Households by Activity'!$B30:$Z30,MATCH(G$1264,'LS25. Households by Activity'!$B$2:$Z$2,0)),\"n/a\")/100","v":0.28000000000000003}]
[null,null,"Workless households",{"$f":"IFERROR(INDEX('LS25. Households by Activity'!$B31:$Z31,MATCH(D$3,'LS25. Households by Activity'!$B$2:$Z$2,0)),\"n/a\")/100","v":0.17600000000000002},{"$f":"IFERROR(INDEX('LS25. Households by Activity'!$B31:$Z31,MATCH(D$4,'LS25. Households by Activity'!$B$2:$Z$2,0)),\"n/a\")/100","v":0.156},{"$f":"IFERROR(INDEX('LS25. Households by Activity'!$B31:$Z31,MATCH(F$1264,'LS25. Households by Activity'!$B$2:$Z$2,0)),\"n/a\")/100","v":0.16300000000000001},{"$f":"IFERROR(INDEX('LS25. Households by Activity'!$B31:$Z31,MATCH(G$1264,'LS25. Households by Activity'!$B$2:$Z$2,0)),\"n/a\")/100","v":0.15}]
[]
[null,null,"For details on the Activity Breakdown of Workless Households, please click here"]
[null,null,"For details on Children in Workless Households, please click here"]
[]
[]
[]
[]
[]
[]
[]
[]
[]
[]
[]
[]
[]
[]
[]
[]
[]
[null,null,"LS27. Resident Occupations, 2017"]
[null,null,null,{"$f":"D$3","v":"Blackburn with Darwen "},{"$f":"D$4","v":"Blackburn with Darwen, Hyndburn, Rossendale and Ribble Valley"},"Lancashire ","England Minus London"]
[null,null,"Managers, directors and senior officials",{"$f":"IFERROR(INDEX('LS27. Resident Occupations'!$B26:$Z26,MATCH(D$3,'LS27. Resident Occupations'!$B$2:$Z$2,0)),\"n/a\")","v":4700},{"$f":"IFERROR(INDEX('LS27. Resident Occupations'!$B26:$Z26,MATCH(E$1308,'LS27. Resident Occupations'!$B$2:$Z$2,0)),\"n/a\")","v":17100},{"$f":"IFERROR(INDEX('LS27. Resident Occupations'!$B26:$Z26,MATCH(F$1308,'LS27. Resident Occupations'!$B$2:$Z$2,0)),\"n/a\")","v":67600},{"$f":"IFERROR(INDEX('LS27. Resident Occupations'!$B26:$Z26,MATCH(G$1308,'LS27. Resident Occupations'!$B$2:$Z$2,0)),\"n/a\")","v":2389000}]
[null,null,"Professional occupations",{"$f":"IFERROR(INDEX('LS27. Resident Occupations'!$B27:$Z27,MATCH(D$3,'LS27. Resident Occupations'!$B$2:$Z$2,0)),\"n/a\")","v":9500},{"$f":"IFERROR(INDEX('LS27. Resident Occupations'!$B27:$Z27,MATCH(E$1308,'LS27. Resident Occupations'!$B$2:$Z$2,0)),\"n/a\")","v":23900},{"$f":"IFERROR(INDEX('LS27. Resident Occupations'!$B27:$Z27,MATCH(F$1308,'LS27. Resident Occupations'!$B$2:$Z$2,0)),\"n/a\")","v":117300},{"$f":"IFERROR(INDEX('LS27. Resident Occupations'!$B27:$Z27,MATCH(G$1308,'LS27. Resident Occupations'!$B$2:$Z$2,0)),\"n/a\")","v":4302600}]
[null,null,"Associate professional & tech occupations",{"$f":"IFERROR(INDEX('LS27. Resident Occupations'!$B28:$Z28,MATCH(D$3,'LS27. Resident Occupations'!$B$2:$Z$2,0)),\"n/a\")","v":7600},{"$f":"IFERROR(INDEX('LS27. Resident Occupations'!$B28:$Z28,MATCH(E$1308,'LS27. Resident Occupations'!$B$2:$Z$2,0)),\"n/a\")","v":19000},{"$f":"IFERROR(INDEX('LS27. Resident Occupations'!$B28:$Z28,MATCH(F$1308,'LS27. Resident Occupations'!$B$2:$Z$2,0)),\"n/a\")","v":84900},{"$f":"IFERROR(INDEX('LS27. Resident Occupations'!$B28:$Z28,MATCH(G$1308,'LS27. Resident Occupations'!$B$2:$Z$2,0)),\"n/a\")","v":3074300}]
[null,null,"Administrative and secretarial occupations",{"$f":"IFERROR(INDEX('LS27. Resident Occupations'!$B29:$Z29,MATCH(D$3,'LS27. Resident Occupations'!$B$2:$Z$2,0)),\"n/a\")","v":6900},{"$f":"IFERROR(INDEX('LS27. Resident Occupations'!$B29:$Z29,MATCH(E$1308,'LS27. Resident Occupations'!$B$2:$Z$2,0)),\"n/a\")","v":17800},{"$f":"IFERROR(INDEX('LS27. Resident Occupations'!$B29:$Z29,MATCH(F$1308,'LS27. Resident Occupations'!$B$2:$Z$2,0)),\"n/a\")","v":75900},{"$f":"IFERROR(INDEX('LS27. Resident Occupations'!$B29:$Z29,MATCH(G$1308,'LS27. Resident Occupations'!$B$2:$Z$2,0)),\"n/a\")","v":2310900}]
[null,null,"Skilled trades occupations",{"$f":"IFERROR(INDEX('LS27. Resident Occupations'!$B30:$Z30,MATCH(D$3,'LS27. Resident Occupations'!$B$2:$Z$2,0)),\"n/a\")","v":7400},{"$f":"IFERROR(INDEX('LS27. Resident Occupations'!$B30:$Z30,MATCH(E$1308,'LS27. Resident Occupations'!$B$2:$Z$2,0)),\"n/a\")","v":22700},{"$f":"IFERROR(INDEX('LS27. Resident Occupations'!$B30:$Z30,MATCH(F$1308,'LS27. Resident Occupations'!$B$2:$Z$2,0)),\"n/a\")","v":83000},{"$f":"IFERROR(INDEX('LS27. Resident Occupations'!$B30:$Z30,MATCH(G$1308,'LS27. Resident Occupations'!$B$2:$Z$2,0)),\"n/a\")","v":2391100}]
[null,null,"Caring, leisure and other service occupations",{"$f":"IFERROR(INDEX('LS27. Resident Occupations'!$B31:$Z31,MATCH(D$3,'LS27. Resident Occupations'!$B$2:$Z$2,0)),\"n/a\")","v":6300},{"$f":"IFERROR(INDEX('LS27. Resident Occupations'!$B31:$Z31,MATCH(E$1308,'LS27. Resident Occupations'!$B$2:$Z$2,0)),\"n/a\")","v":17200},{"$f":"IFERROR(INDEX('LS27. Resident Occupations'!$B31:$Z31,MATCH(F$1308,'LS27. Resident Occupations'!$B$2:$Z$2,0)),\"n/a\")","v":80400},{"$f":"IFERROR(INDEX('LS27. Resident Occupations'!$B31:$Z31,MATCH(G$1308,'LS27. Resident Occupations'!$B$2:$Z$2,0)),\"n/a\")","v":2103200}]
[null,null,"Sales and customer service occupations",{"$f":"IFERROR(INDEX('LS27. Resident Occupations'!$B32:$Z32,MATCH(D$3,'LS27. Resident Occupations'!$B$2:$Z$2,0)),\"n/a\")","v":6400},{"$f":"IFERROR(INDEX('LS27. Resident Occupations'!$B32:$Z32,MATCH(E$1308,'LS27. Resident Occupations'!$B$2:$Z$2,0)),\"n/a\")","v":16500},{"$f":"IFERROR(INDEX('LS27. Resident Occupations'!$B32:$Z32,MATCH(F$1308,'LS27. Resident Occupations'!$B$2:$Z$2,0)),\"n/a\")","v":62600},{"$f":"IFERROR(INDEX('LS27. Resident Occupations'!$B32:$Z32,MATCH(G$1308,'LS27. Resident Occupations'!$B$2:$Z$2,0)),\"n/a\")","v":1686600}]
[null,null,"Process, plant and machine operatives",{"$f":"IFERROR(INDEX('LS27. Resident Occupations'!$B33:$Z33,MATCH(D$3,'LS27. Resident Occupations'!$B$2:$Z$2,0)),\"n/a\")","v":5600},{"$f":"IFERROR(INDEX('LS27. Resident Occupations'!$B33:$Z33,MATCH(E$1308,'LS27. Resident Occupations'!$B$2:$Z$2,0)),\"n/a\")","v":10600},{"$f":"IFERROR(INDEX('LS27. Resident Occupations'!$B33:$Z33,MATCH(F$1308,'LS27. Resident Occupations'!$B$2:$Z$2,0)),\"n/a\")","v":50000},{"$f":"IFERROR(INDEX('LS27. Resident Occupations'!$B33:$Z33,MATCH(G$1308,'LS27. Resident Occupations'!$B$2:$Z$2,0)),\"n/a\")","v":1487000}]
[null,null,"Elementary occupations",{"$f":"IFERROR(INDEX('LS27. Resident Occupations'!$B34:$Z34,MATCH(D$3,'LS27. Resident Occupations'!$B$2:$Z$2,0)),\"n/a\")","v":6100},{"$f":"IFERROR(INDEX('LS27. Resident Occupations'!$B34:$Z34,MATCH(E$1308,'LS27. Resident Occupations'!$B$2:$Z$2,0)),\"n/a\")","v":15500},{"$f":"IFERROR(INDEX('LS27. Resident Occupations'!$B34:$Z34,MATCH(F$1308,'LS27. Resident Occupations'!$B$2:$Z$2,0)),\"n/a\")","v":73900},{"$f":"IFERROR(INDEX('LS27. Resident Occupations'!$B34:$Z34,MATCH(G$1308,'LS27. Resident Occupations'!$B$2:$Z$2,0)),\"n/a\")","v":2420100}]
[]
[null,null,"LS27. Resident Occupations (rate), 2017"]
[null,null,null,{"$f":"D$3","v":"Blackburn with Darwen "},{"$f":"D$4","v":"Blackburn with Darwen, Hyndburn, Rossendale and Ribble Valley"},"Lancashire ","England Minus London"]
[null,null,"Managers, directors and senior officials",{"$f":"IFERROR(INDEX('LS27. Resident Occupations'!$B60:$Z60,MATCH(D$3,'LS27. Resident Occupations'!$B$2:$Z$2,0)),\"n/a\")","v":7.7},{"$f":"IFERROR(INDEX('LS27. Resident Occupations'!$B60:$Z60,MATCH(E$1308,'LS27. Resident Occupations'!$B$2:$Z$2,0)),\"n/a\")","v":10.6},{"$f":"IFERROR(INDEX('LS27. Resident Occupations'!$B60:$Z60,MATCH(F$1308,'LS27. Resident Occupations'!$B$2:$Z$2,0)),\"n/a\")","v":9.6999999999999993},{"$f":"IFERROR(INDEX('LS27. Resident Occupations'!$B60:$Z60,MATCH(G$1308,'LS27. Resident Occupations'!$B$2:$Z$2,0)),\"n/a\")","v":10.7}]
[null,null,"Professional occupations",{"$f":"IFERROR(INDEX('LS27. Resident Occupations'!$B61:$Z61,MATCH(D$3,'LS27. Resident Occupations'!$B$2:$Z$2,0)),\"n/a\")","v":15.6},{"$f":"IFERROR(INDEX('LS27. Resident Occupations'!$B61:$Z61,MATCH(E$1308,'LS27. Resident Occupations'!$B$2:$Z$2,0)),\"n/a\")","v":14.8},{"$f":"IFERROR(INDEX('LS27. Resident Occupations'!$B61:$Z61,MATCH(F$1308,'LS27. Resident Occupations'!$B$2:$Z$2,0)),\"n/a\")","v":16.8},{"$f":"IFERROR(INDEX('LS27. Resident Occupations'!$B61:$Z61,MATCH(G$1308,'LS27. Resident Occupations'!$B$2:$Z$2,0)),\"n/a\")","v":19.3}]
[null,null,"Associate professional & tech occupations",{"$f":"IFERROR(INDEX('LS27. Resident Occupations'!$B62:$Z62,MATCH(D$3,'LS27. Resident Occupations'!$B$2:$Z$2,0)),\"n/a\")","v":12.5},{"$f":"IFERROR(INDEX('LS27. Resident Occupations'!$B62:$Z62,MATCH(E$1308,'LS27. Resident Occupations'!$B$2:$Z$2,0)),\"n/a\")","v":11.8},{"$f":"IFERROR(INDEX('LS27. Resident Occupations'!$B62:$Z62,MATCH(F$1308,'LS27. Resident Occupations'!$B$2:$Z$2,0)),\"n/a\")","v":12.2},{"$f":"IFERROR(INDEX('LS27. Resident Occupations'!$B62:$Z62,MATCH(G$1308,'LS27. Resident Occupations'!$B$2:$Z$2,0)),\"n/a\")","v":13.8}]
[null,null,"Administrative and secretarial occupations",{"$f":"IFERROR(INDEX('LS27. Resident Occupations'!$B63:$Z63,MATCH(D$3,'LS27. Resident Occupations'!$B$2:$Z$2,0)),\"n/a\")","v":11.4},{"$f":"IFERROR(INDEX('LS27. Resident Occupations'!$B63:$Z63,MATCH(E$1308,'LS27. Resident Occupations'!$B$2:$Z$2,0)),\"n/a\")","v":11},{"$f":"IFERROR(INDEX('LS27. Resident Occupations'!$B63:$Z63,MATCH(F$1308,'LS27. Resident Occupations'!$B$2:$Z$2,0)),\"n/a\")","v":10.9},{"$f":"IFERROR(INDEX('LS27. Resident Occupations'!$B63:$Z63,MATCH(G$1308,'LS27. Resident Occupations'!$B$2:$Z$2,0)),\"n/a\")","v":10.4}]
[null,null,"Skilled trades occupations",{"$f":"IFERROR(INDEX('LS27. Resident Occupations'!$B64:$Z64,MATCH(D$3,'LS27. Resident Occupations'!$B$2:$Z$2,0)),\"n/a\")","v":12.2},{"$f":"IFERROR(INDEX('LS27. Resident Occupations'!$B64:$Z64,MATCH(E$1308,'LS27. Resident Occupations'!$B$2:$Z$2,0)),\"n/a\")","v":14.1},{"$f":"IFERROR(INDEX('LS27. Resident Occupations'!$B64:$Z64,MATCH(F$1308,'LS27. Resident Occupations'!$B$2:$Z$2,0)),\"n/a\")","v":11.9},{"$f":"IFERROR(INDEX('LS27. Resident Occupations'!$B64:$Z64,MATCH(G$1308,'LS27. Resident Occupations'!$B$2:$Z$2,0)),\"n/a\")","v":10.7}]
[null,null,"Caring, leisure and other service occupations",{"$f":"IFERROR(INDEX('LS27. Resident Occupations'!$B65:$Z65,MATCH(D$3,'LS27. Resident Occupations'!$B$2:$Z$2,0)),\"n/a\")","v":10.5},{"$f":"IFERROR(INDEX('LS27. Resident Occupations'!$B65:$Z65,MATCH(E$1308,'LS27. Resident Occupations'!$B$2:$Z$2,0)),\"n/a\")","v":10.7},{"$f":"IFERROR(INDEX('LS27. Resident Occupations'!$B65:$Z65,MATCH(F$1308,'LS27. Resident Occupations'!$B$2:$Z$2,0)),\"n/a\")","v":11.5},{"$f":"IFERROR(INDEX('LS27. Resident Occupations'!$B65:$Z65,MATCH(G$1308,'LS27. Resident Occupations'!$B$2:$Z$2,0)),\"n/a\")","v":9.5}]
[null,null,"Sales and customer service occupations",{"$f":"IFERROR(INDEX('LS27. Resident Occupations'!$B66:$Z66,MATCH(D$3,'LS27. Resident Occupations'!$B$2:$Z$2,0)),\"n/a\")","v":10.6},{"$f":"IFERROR(INDEX('LS27. Resident Occupations'!$B66:$Z66,MATCH(E$1308,'LS27. Resident Occupations'!$B$2:$Z$2,0)),\"n/a\")","v":10.199999999999999},{"$f":"IFERROR(INDEX('LS27. Resident Occupations'!$B66:$Z66,MATCH(F$1308,'LS27. Resident Occupations'!$B$2:$Z$2,0)),\"n/a\")","v":9},{"$f":"IFERROR(INDEX('LS27. Resident Occupations'!$B66:$Z66,MATCH(G$1308,'LS27. Resident Occupations'!$B$2:$Z$2,0)),\"n/a\")","v":7.6}]
[null,null,"Process, plant and machine operatives",{"$f":"IFERROR(INDEX('LS27. Resident Occupations'!$B67:$Z67,MATCH(D$3,'LS27. Resident Occupations'!$B$2:$Z$2,0)),\"n/a\")","v":9.3000000000000007},{"$f":"IFERROR(INDEX('LS27. Resident Occupations'!$B67:$Z67,MATCH(E$1308,'LS27. Resident Occupations'!$B$2:$Z$2,0)),\"n/a\")","v":6.6},{"$f":"IFERROR(INDEX('LS27. Resident Occupations'!$B67:$Z67,MATCH(F$1308,'LS27. Resident Occupations'!$B$2:$Z$2,0)),\"n/a\")","v":7.2},{"$f":"IFERROR(INDEX('LS27. Resident Occupations'!$B67:$Z67,MATCH(G$1308,'LS27. Resident Occupations'!$B$2:$Z$2,0)),\"n/a\")","v":6.7}]
[null,null,"Elementary occupations",{"$f":"IFERROR(INDEX('LS27. Resident Occupations'!$B68:$Z68,MATCH(D$3,'LS27. Resident Occupations'!$B$2:$Z$2,0)),\"n/a\")","v":10},{"$f":"IFERROR(INDEX('LS27. Resident Occupations'!$B68:$Z68,MATCH(E$1308,'LS27. Resident Occupations'!$B$2:$Z$2,0)),\"n/a\")","v":9.6},{"$f":"IFERROR(INDEX('LS27. Resident Occupations'!$B68:$Z68,MATCH(F$1308,'LS27. Resident Occupations'!$B$2:$Z$2,0)),\"n/a\")","v":10.6},{"$f":"IFERROR(INDEX('LS27. Resident Occupations'!$B68:$Z68,MATCH(G$1308,'LS27. Resident Occupations'!$B$2:$Z$2,0)),\"n/a\")","v":10.9}]
[]
[null,null,"For details on Occupations by gender, please click here"]
[]
[]
[]
[]
[]
[]
[]
[]
[]
[]
[]
[]
[]
[]
[]
[]
[]
[]
[]
[]
[]
[]
[]
[]
[]
[null,null,"LS29. Qualifications by NVQ, 2016"]
[null,null,null,{"$f":"D$3","v":"Blackburn with Darwen "},{"$f":"D$4","v":"Blackburn with Darwen, Hyndburn, Rossendale and Ribble Valley"},"Lancashire ","England Minus London"]
[null,null,"NVQ4+",{"$f":"IFERROR(INDEX('LS29. Qualifications by NVQ'!$B22:$Z22,MATCH(D$3,'LS29. Qualifications by NVQ'!$B$2:$Z$2,0)),\"n/a\")","v":25300},{"$f":"IFERROR(INDEX('LS29. Qualifications by NVQ'!$B22:$Z22,MATCH(E$1358,'LS29. Qualifications by NVQ'!$B$2:$Z$2,0)),\"n/a\")","v":68400},{"$f":"IFERROR(INDEX('LS29. Qualifications by NVQ'!$B22:$Z22,MATCH(F$1358,'LS29. Qualifications by NVQ'!$B$2:$Z$2,0)),\"n/a\")","v":292700},{"$f":"IFERROR(INDEX('LS29. Qualifications by NVQ'!$B22:$Z22,MATCH(G$1358,'LS29. Qualifications by NVQ'!$B$2:$Z$2,0)),\"n/a\")","v":9942100}]
[null,null,"NVQ3+",{"$f":"IFERROR(INDEX('LS29. Qualifications by NVQ'!$B23:$Z23,MATCH(D$3,'LS29. Qualifications by NVQ'!$B$2:$Z$2,0)),\"n/a\")","v":41500},{"$f":"IFERROR(INDEX('LS29. Qualifications by NVQ'!$B23:$Z23,MATCH(E$1358,'LS29. Qualifications by NVQ'!$B$2:$Z$2,0)),\"n/a\")","v":115700},{"$f":"IFERROR(INDEX('LS29. Qualifications by NVQ'!$B23:$Z23,MATCH(F$1358,'LS29. Qualifications by NVQ'!$B$2:$Z$2,0)),\"n/a\")","v":482900},{"$f":"IFERROR(INDEX('LS29. Qualifications by NVQ'!$B23:$Z23,MATCH(G$1358,'LS29. Qualifications by NVQ'!$B$2:$Z$2,0)),\"n/a\")","v":15589900}]
[null,null,"NVQ2+",{"$f":"IFERROR(INDEX('LS29. Qualifications by NVQ'!$B24:$Z24,MATCH(D$3,'LS29. Qualifications by NVQ'!$B$2:$Z$2,0)),\"n/a\")","v":60200},{"$f":"IFERROR(INDEX('LS29. Qualifications by NVQ'!$B24:$Z24,MATCH(E$1358,'LS29. Qualifications by NVQ'!$B$2:$Z$2,0)),\"n/a\")","v":155300},{"$f":"IFERROR(INDEX('LS29. Qualifications by NVQ'!$B24:$Z24,MATCH(F$1358,'LS29. Qualifications by NVQ'!$B$2:$Z$2,0)),\"n/a\")","v":666600},{"$f":"IFERROR(INDEX('LS29. Qualifications by NVQ'!$B24:$Z24,MATCH(G$1358,'LS29. Qualifications by NVQ'!$B$2:$Z$2,0)),\"n/a\")","v":20932200}]
[null,null,"NVQ1+",{"$f":"IFERROR(INDEX('LS29. Qualifications by NVQ'!$B25:$Z25,MATCH(D$3,'LS29. Qualifications by NVQ'!$B$2:$Z$2,0)),\"n/a\")","v":71800},{"$f":"IFERROR(INDEX('LS29. Qualifications by NVQ'!$B25:$Z25,MATCH(E$1358,'LS29. Qualifications by NVQ'!$B$2:$Z$2,0)),\"n/a\")","v":177600},{"$f":"IFERROR(INDEX('LS29. Qualifications by NVQ'!$B25:$Z25,MATCH(F$1358,'LS29. Qualifications by NVQ'!$B$2:$Z$2,0)),\"n/a\")","v":777700},{"$f":"IFERROR(INDEX('LS29. Qualifications by NVQ'!$B25:$Z25,MATCH(G$1358,'LS29. Qualifications by NVQ'!$B$2:$Z$2,0)),\"n/a\")","v":24356500}]
[null,null,"Trade Apprenticeships",{"$f":"IFERROR(INDEX('LS29. Qualifications by NVQ'!$B26:$Z26,MATCH(D$3,'LS29. Qualifications by NVQ'!$B$2:$Z$2,0)),\"n/a\")","v":3200},{"$f":"IFERROR(INDEX('LS29. Qualifications by NVQ'!$B26:$Z26,MATCH(E$1358,'LS29. Qualifications by NVQ'!$B$2:$Z$2,0)),\"n/a\")","v":11500},{"$f":"IFERROR(INDEX('LS29. Qualifications by NVQ'!$B26:$Z26,MATCH(F$1358,'LS29. Qualifications by NVQ'!$B$2:$Z$2,0)),\"n/a\")","v":34300},{"$f":"IFERROR(INDEX('LS29. Qualifications by NVQ'!$B26:$Z26,MATCH(G$1358,'LS29. Qualifications by NVQ'!$B$2:$Z$2,0)),\"n/a\")","v":949300}]
[null,null,"Other NVQ qualifications",{"$f":"IFERROR(INDEX('LS29. Qualifications by NVQ'!$B27:$Z27,MATCH(D$3,'LS29. Qualifications by NVQ'!$B$2:$Z$2,0)),\"n/a\")","v":7200},{"$f":"IFERROR(INDEX('LS29. Qualifications by NVQ'!$B27:$Z27,MATCH(E$1358,'LS29. Qualifications by NVQ'!$B$2:$Z$2,0)),\"n/a\")","v":12100},{"$f":"IFERROR(INDEX('LS29. Qualifications by NVQ'!$B27:$Z27,MATCH(F$1358,'LS29. Qualifications by NVQ'!$B$2:$Z$2,0)),\"n/a\")","v":46600},{"$f":"IFERROR(INDEX('LS29. Qualifications by NVQ'!$B27:$Z27,MATCH(G$1358,'LS29. Qualifications by NVQ'!$B$2:$Z$2,0)),\"n/a\")","v":1821800}]
[null,null,"No NVQ qualifications",{"$f":"IFERROR(INDEX('LS29. Qualifications by NVQ'!$B28:$Z28,MATCH(D$3,'LS29. Qualifications by NVQ'!$B$2:$Z$2,0)),\"n/a\")","v":11400},{"$f":"IFERROR(INDEX('LS29. Qualifications by NVQ'!$B28:$Z28,MATCH(E$1358,'LS29. Qualifications by NVQ'!$B$2:$Z$2,0)),\"n/a\")","v":28200},{"$f":"IFERROR(INDEX('LS29. Qualifications by NVQ'!$B28:$Z28,MATCH(F$1358,'LS29. Qualifications by NVQ'!$B$2:$Z$2,0)),\"n/a\")","v":74800},{"$f":"IFERROR(INDEX('LS29. Qualifications by NVQ'!$B28:$Z28,MATCH(G$1358,'LS29. Qualifications by NVQ'!$B$2:$Z$2,0)),\"n/a\")","v":2287800}]
[]
[null,null,"LS29. Qualifications by NVQ (rate), 2016"]
[null,null,null,{"$f":"D$3","v":"Blackburn with Darwen "},{"$f":"D$4","v":"Blackburn with Darwen, Hyndburn, Rossendale and Ribble Valley"},"Lancashire ","England Minus London"]
[null,null,"NVQ4+",{"$f":"IFERROR(INDEX('LS29. Qualifications by NVQ'!$B50:$Z50,MATCH(D$3,'LS29. Qualifications by NVQ'!$B$2:$Z$2,0)),\"n/a\")","v":28},{"$f":"IFERROR(INDEX('LS29. Qualifications by NVQ'!$B50:$Z50,MATCH(E$1358,'LS29. Qualifications by NVQ'!$B$2:$Z$2,0)),\"n/a\")","v":31.4},{"$f":"IFERROR(INDEX('LS29. Qualifications by NVQ'!$B50:$Z50,MATCH(F$1358,'LS29. Qualifications by NVQ'!$B$2:$Z$2,0)),\"n/a\")","v":32.6},{"$f":"IFERROR(INDEX('LS29. Qualifications by NVQ'!$B50:$Z50,MATCH(G$1358,'LS29. Qualifications by NVQ'!$B$2:$Z$2,0)),\"n/a\")","v":34.9}]
[null,null,"NVQ3+",{"$f":"IFERROR(INDEX('LS29. Qualifications by NVQ'!$B51:$Z51,MATCH(D$3,'LS29. Qualifications by NVQ'!$B$2:$Z$2,0)),\"n/a\")","v":46},{"$f":"IFERROR(INDEX('LS29. Qualifications by NVQ'!$B51:$Z51,MATCH(E$1358,'LS29. Qualifications by NVQ'!$B$2:$Z$2,0)),\"n/a\")","v":53.1},{"$f":"IFERROR(INDEX('LS29. Qualifications by NVQ'!$B51:$Z51,MATCH(F$1358,'LS29. Qualifications by NVQ'!$B$2:$Z$2,0)),\"n/a\")","v":53.7},{"$f":"IFERROR(INDEX('LS29. Qualifications by NVQ'!$B51:$Z51,MATCH(G$1358,'LS29. Qualifications by NVQ'!$B$2:$Z$2,0)),\"n/a\")","v":54.8}]
[null,null,"NVQ2+",{"$f":"IFERROR(INDEX('LS29. Qualifications by NVQ'!$B52:$Z52,MATCH(D$3,'LS29. Qualifications by NVQ'!$B$2:$Z$2,0)),\"n/a\")","v":66.599999999999994},{"$f":"IFERROR(INDEX('LS29. Qualifications by NVQ'!$B52:$Z52,MATCH(E$1358,'LS29. Qualifications by NVQ'!$B$2:$Z$2,0)),\"n/a\")","v":71.2},{"$f":"IFERROR(INDEX('LS29. Qualifications by NVQ'!$B52:$Z52,MATCH(F$1358,'LS29. Qualifications by NVQ'!$B$2:$Z$2,0)),\"n/a\")","v":74.099999999999994},{"$f":"IFERROR(INDEX('LS29. Qualifications by NVQ'!$B52:$Z52,MATCH(G$1358,'LS29. Qualifications by NVQ'!$B$2:$Z$2,0)),\"n/a\")","v":73.5}]
[null,null,"NVQ1+",{"$f":"IFERROR(INDEX('LS29. Qualifications by NVQ'!$B53:$Z53,MATCH(D$3,'LS29. Qualifications by NVQ'!$B$2:$Z$2,0)),\"n/a\")","v":79.400000000000006},{"$f":"IFERROR(INDEX('LS29. Qualifications by NVQ'!$B53:$Z53,MATCH(E$1358,'LS29. Qualifications by NVQ'!$B$2:$Z$2,0)),\"n/a\")","v":81.5},{"$f":"IFERROR(INDEX('LS29. Qualifications by NVQ'!$B53:$Z53,MATCH(F$1358,'LS29. Qualifications by NVQ'!$B$2:$Z$2,0)),\"n/a\")","v":86.5},{"$f":"IFERROR(INDEX('LS29. Qualifications by NVQ'!$B53:$Z53,MATCH(G$1358,'LS29. Qualifications by NVQ'!$B$2:$Z$2,0)),\"n/a\")","v":85.6}]
[null,null,"Trade Apprenticeships",{"$f":"IFERROR(INDEX('LS29. Qualifications by NVQ'!$B54:$Z54,MATCH(D$3,'LS29. Qualifications by NVQ'!$B$2:$Z$2,0)),\"n/a\")","v":3.5},{"$f":"IFERROR(INDEX('LS29. Qualifications by NVQ'!$B54:$Z54,MATCH(E$1358,'LS29. Qualifications by NVQ'!$B$2:$Z$2,0)),\"n/a\")","v":5.3},{"$f":"IFERROR(INDEX('LS29. Qualifications by NVQ'!$B54:$Z54,MATCH(F$1358,'LS29. Qualifications by NVQ'!$B$2:$Z$2,0)),\"n/a\")","v":3.8},{"$f":"IFERROR(INDEX('LS29. Qualifications by NVQ'!$B54:$Z54,MATCH(G$1358,'LS29. Qualifications by NVQ'!$B$2:$Z$2,0)),\"n/a\")","v":3.3}]
[null,null,"Other NVQ qualifications",{"$f":"IFERROR(INDEX('LS29. Qualifications by NVQ'!$B55:$Z55,MATCH(D$3,'LS29. Qualifications by NVQ'!$B$2:$Z$2,0)),\"n/a\")","v":7.9},{"$f":"IFERROR(INDEX('LS29. Qualifications by NVQ'!$B55:$Z55,MATCH(E$1358,'LS29. Qualifications by NVQ'!$B$2:$Z$2,0)),\"n/a\")","v":5.6},{"$f":"IFERROR(INDEX('LS29. Qualifications by NVQ'!$B55:$Z55,MATCH(F$1358,'LS29. Qualifications by NVQ'!$B$2:$Z$2,0)),\"n/a\")","v":5.2},{"$f":"IFERROR(INDEX('LS29. Qualifications by NVQ'!$B55:$Z55,MATCH(G$1358,'LS29. Qualifications by NVQ'!$B$2:$Z$2,0)),\"n/a\")","v":6.4}]
[null,null,"No NVQ qualifications",{"$f":"IFERROR(INDEX('LS29. Qualifications by NVQ'!$B56:$Z56,MATCH(D$3,'LS29. Qualifications by NVQ'!$B$2:$Z$2,0)),\"n/a\")","v":12.7},{"$f":"IFERROR(INDEX('LS29. Qualifications by NVQ'!$B56:$Z56,MATCH(E$1358,'LS29. Qualifications by NVQ'!$B$2:$Z$2,0)),\"n/a\")","v":12.9},{"$f":"IFERROR(INDEX('LS29. Qualifications by NVQ'!$B56:$Z56,MATCH(F$1358,'LS29. Qualifications by NVQ'!$B$2:$Z$2,0)),\"n/a\")","v":8.3000000000000007},{"$f":"IFERROR(INDEX('LS29. Qualifications by NVQ'!$B56:$Z56,MATCH(G$1358,'LS29. Qualifications by NVQ'!$B$2:$Z$2,0)),\"n/a\")","v":8}]
[]
[null,null,"For details on Qualifications by age and gender, please click here"]
[]
[]
[]
[]
[]
[]
[]
[]
[]
[]
[]
[]
[]
[]
[]
[]
[]
[]
[]
[]
[]
[]
[]
[]
[]
[]
[]
[]
[]
[]
[]
[]
[]
[]
[null,null,"LS31. Qualifications for those Employed, 2016"]
[null,null,null,{"$f":"D$3","v":"Blackburn with Darwen "},{"$f":"D$4","v":"Blackburn with Darwen, Hyndburn, Rossendale and Ribble Valley"},"Lancashire ","England Minus London"]
[null,null,"NVQ4+",{"$f":"IFERROR(INDEX('LS31. Employed Qualifications'!$B22:$Z22,MATCH(D$3,'LS31. Employed Qualifications'!$B$2:$Z$2,0)),\"n/a\")","v":20600},{"$f":"IFERROR(INDEX('LS31. Employed Qualifications'!$B22:$Z22,MATCH(E$1413,'LS31. Employed Qualifications'!$B$2:$Z$2,0)),\"n/a\")","v":58500},{"$f":"IFERROR(INDEX('LS31. Employed Qualifications'!$B22:$Z22,MATCH(F$1413,'LS31. Employed Qualifications'!$B$2:$Z$2,0)),\"n/a\")","v":249500},{"$f":"IFERROR(INDEX('LS31. Employed Qualifications'!$B22:$Z22,MATCH(G$1413,'LS31. Employed Qualifications'!$B$2:$Z$2,0)),\"n/a\")","v":8435400}]
[null,null,"NVQ3+",{"$f":"IFERROR(INDEX('LS31. Employed Qualifications'!$B23:$Z23,MATCH(D$3,'LS31. Employed Qualifications'!$B$2:$Z$2,0)),\"n/a\")","v":10900},{"$f":"IFERROR(INDEX('LS31. Employed Qualifications'!$B23:$Z23,MATCH(E$1413,'LS31. Employed Qualifications'!$B$2:$Z$2,0)),\"n/a\")","v":35400},{"$f":"IFERROR(INDEX('LS31. Employed Qualifications'!$B23:$Z23,MATCH(F$1413,'LS31. Employed Qualifications'!$B$2:$Z$2,0)),\"n/a\")","v":137700},{"$f":"IFERROR(INDEX('LS31. Employed Qualifications'!$B23:$Z23,MATCH(G$1413,'LS31. Employed Qualifications'!$B$2:$Z$2,0)),\"n/a\")","v":3893700}]
[null,null,"NVQ2+",{"$f":"IFERROR(INDEX('LS31. Employed Qualifications'!$B24:$Z24,MATCH(D$3,'LS31. Employed Qualifications'!$B$2:$Z$2,0)),\"n/a\")","v":10300},{"$f":"IFERROR(INDEX('LS31. Employed Qualifications'!$B24:$Z24,MATCH(E$1413,'LS31. Employed Qualifications'!$B$2:$Z$2,0)),\"n/a\")","v":21600},{"$f":"IFERROR(INDEX('LS31. Employed Qualifications'!$B24:$Z24,MATCH(F$1413,'LS31. Employed Qualifications'!$B$2:$Z$2,0)),\"n/a\")","v":113500},{"$f":"IFERROR(INDEX('LS31. Employed Qualifications'!$B24:$Z24,MATCH(G$1413,'LS31. Employed Qualifications'!$B$2:$Z$2,0)),\"n/a\")","v":3430400}]
[null,null,"NVQ1+",{"$f":"IFERROR(INDEX('LS31. Employed Qualifications'!$B25:$Z25,MATCH(D$3,'LS31. Employed Qualifications'!$B$2:$Z$2,0)),\"n/a\")","v":6700},{"$f":"IFERROR(INDEX('LS31. Employed Qualifications'!$B25:$Z25,MATCH(E$1413,'LS31. Employed Qualifications'!$B$2:$Z$2,0)),\"n/a\")","v":12800},{"$f":"IFERROR(INDEX('LS31. Employed Qualifications'!$B25:$Z25,MATCH(F$1413,'LS31. Employed Qualifications'!$B$2:$Z$2,0)),\"n/a\")","v":72400},{"$f":"IFERROR(INDEX('LS31. Employed Qualifications'!$B25:$Z25,MATCH(G$1413,'LS31. Employed Qualifications'!$B$2:$Z$2,0)),\"n/a\")","v":2296900}]
[null,null,"Trade Apprenticeships",{"$f":"IFERROR(INDEX('LS31. Employed Qualifications'!$B26:$Z26,MATCH(D$3,'LS31. Employed Qualifications'!$B$2:$Z$2,0)),\"n/a\")","v":2300},{"$f":"IFERROR(INDEX('LS31. Employed Qualifications'!$B26:$Z26,MATCH(E$1413,'LS31. Employed Qualifications'!$B$2:$Z$2,0)),\"n/a\")","v":9400},{"$f":"IFERROR(INDEX('LS31. Employed Qualifications'!$B26:$Z26,MATCH(F$1413,'LS31. Employed Qualifications'!$B$2:$Z$2,0)),\"n/a\")","v":27900},{"$f":"IFERROR(INDEX('LS31. Employed Qualifications'!$B26:$Z26,MATCH(G$1413,'LS31. Employed Qualifications'!$B$2:$Z$2,0)),\"n/a\")","v":774800}]
[null,null,"Other NVQ qualifications",{"$f":"IFERROR(INDEX('LS31. Employed Qualifications'!$B27:$Z27,MATCH(D$3,'LS31. Employed Qualifications'!$B$2:$Z$2,0)),\"n/a\")","v":4700},{"$f":"IFERROR(INDEX('LS31. Employed Qualifications'!$B27:$Z27,MATCH(E$1413,'LS31. Employed Qualifications'!$B$2:$Z$2,0)),\"n/a\")","v":7600},{"$f":"IFERROR(INDEX('LS31. Employed Qualifications'!$B27:$Z27,MATCH(F$1413,'LS31. Employed Qualifications'!$B$2:$Z$2,0)),\"n/a\")","v":32700},{"$f":"IFERROR(INDEX('LS31. Employed Qualifications'!$B27:$Z27,MATCH(G$1413,'LS31. Employed Qualifications'!$B$2:$Z$2,0)),\"n/a\")","v":1354500}]
[null,null,"No NVQ qualifications",{"$f":"IFERROR(INDEX('LS31. Employed Qualifications'!$B28:$Z28,MATCH(D$3,'LS31. Employed Qualifications'!$B$2:$Z$2,0)),\"n/a\")","v":3800},{"$f":"IFERROR(INDEX('LS31. Employed Qualifications'!$B28:$Z28,MATCH(E$1413,'LS31. Employed Qualifications'!$B$2:$Z$2,0)),\"n/a\")","v":11100},{"$f":"IFERROR(INDEX('LS31. Employed Qualifications'!$B28:$Z28,MATCH(F$1413,'LS31. Employed Qualifications'!$B$2:$Z$2,0)),\"n/a\")","v":28200},{"$f":"IFERROR(INDEX('LS31. Employed Qualifications'!$B28:$Z28,MATCH(G$1413,'LS31. Employed Qualifications'!$B$2:$Z$2,0)),\"n/a\")","v":992600}]
[]
[null,null,"LS31. Qualifications of those Employed (rate), 2016"]
[null,null,null,{"$f":"D$3","v":"Blackburn with Darwen "},{"$f":"D$4","v":"Blackburn with Darwen, Hyndburn, Rossendale and Ribble Valley"},"Lancashire ","England Minus London"]
[null,null,"NVQ4+",{"$f":"IFERROR(INDEX('LS31. Employed Qualifications'!$B50:$Z50,MATCH(D$3,'LS31. Employed Qualifications'!$B$2:$Z$2,0)),\"n/a\")","v":34.9},{"$f":"IFERROR(INDEX('LS31. Employed Qualifications'!$B50:$Z50,MATCH(E$1413,'LS31. Employed Qualifications'!$B$2:$Z$2,0)),\"n/a\")","v":37.4},{"$f":"IFERROR(INDEX('LS31. Employed Qualifications'!$B50:$Z50,MATCH(F$1413,'LS31. Employed Qualifications'!$B$2:$Z$2,0)),\"n/a\")","v":37.700000000000003},{"$f":"IFERROR(INDEX('LS31. Employed Qualifications'!$B50:$Z50,MATCH(G$1413,'LS31. Employed Qualifications'!$B$2:$Z$2,0)),\"n/a\")","v":39.799999999999997}]
[null,null,"NVQ3+",{"$f":"IFERROR(INDEX('LS31. Employed Qualifications'!$B51:$Z51,MATCH(D$3,'LS31. Employed Qualifications'!$B$2:$Z$2,0)),\"n/a\")","v":18.399999999999999},{"$f":"IFERROR(INDEX('LS31. Employed Qualifications'!$B51:$Z51,MATCH(E$1413,'LS31. Employed Qualifications'!$B$2:$Z$2,0)),\"n/a\")","v":22.6},{"$f":"IFERROR(INDEX('LS31. Employed Qualifications'!$B51:$Z51,MATCH(F$1413,'LS31. Employed Qualifications'!$B$2:$Z$2,0)),\"n/a\")","v":20.8},{"$f":"IFERROR(INDEX('LS31. Employed Qualifications'!$B51:$Z51,MATCH(G$1413,'LS31. Employed Qualifications'!$B$2:$Z$2,0)),\"n/a\")","v":18.399999999999999}]
[null,null,"NVQ2+",{"$f":"IFERROR(INDEX('LS31. Employed Qualifications'!$B52:$Z52,MATCH(D$3,'LS31. Employed Qualifications'!$B$2:$Z$2,0)),\"n/a\")","v":17.3},{"$f":"IFERROR(INDEX('LS31. Employed Qualifications'!$B52:$Z52,MATCH(E$1413,'LS31. Employed Qualifications'!$B$2:$Z$2,0)),\"n/a\")","v":13.8},{"$f":"IFERROR(INDEX('LS31. Employed Qualifications'!$B52:$Z52,MATCH(F$1413,'LS31. Employed Qualifications'!$B$2:$Z$2,0)),\"n/a\")","v":17.100000000000001},{"$f":"IFERROR(INDEX('LS31. Employed Qualifications'!$B52:$Z52,MATCH(G$1413,'LS31. Employed Qualifications'!$B$2:$Z$2,0)),\"n/a\")","v":16.2}]
[null,null,"NVQ1+",{"$f":"IFERROR(INDEX('LS31. Employed Qualifications'!$B53:$Z53,MATCH(D$3,'LS31. Employed Qualifications'!$B$2:$Z$2,0)),\"n/a\")","v":11.3},{"$f":"IFERROR(INDEX('LS31. Employed Qualifications'!$B53:$Z53,MATCH(E$1413,'LS31. Employed Qualifications'!$B$2:$Z$2,0)),\"n/a\")","v":8.1999999999999993},{"$f":"IFERROR(INDEX('LS31. Employed Qualifications'!$B53:$Z53,MATCH(F$1413,'LS31. Employed Qualifications'!$B$2:$Z$2,0)),\"n/a\")","v":10.9},{"$f":"IFERROR(INDEX('LS31. Employed Qualifications'!$B53:$Z53,MATCH(G$1413,'LS31. Employed Qualifications'!$B$2:$Z$2,0)),\"n/a\")","v":10.8}]
[null,null,"Trade Apprenticeships",{"$f":"IFERROR(INDEX('LS31. Employed Qualifications'!$B54:$Z54,MATCH(D$3,'LS31. Employed Qualifications'!$B$2:$Z$2,0)),\"n/a\")","v":3.8},{"$f":"IFERROR(INDEX('LS31. Employed Qualifications'!$B54:$Z54,MATCH(E$1413,'LS31. Employed Qualifications'!$B$2:$Z$2,0)),\"n/a\")","v":6},{"$f":"IFERROR(INDEX('LS31. Employed Qualifications'!$B54:$Z54,MATCH(F$1413,'LS31. Employed Qualifications'!$B$2:$Z$2,0)),\"n/a\")","v":4.2},{"$f":"IFERROR(INDEX('LS31. Employed Qualifications'!$B54:$Z54,MATCH(G$1413,'LS31. Employed Qualifications'!$B$2:$Z$2,0)),\"n/a\")","v":3.7}]
[null,null,"Other NVQ qualifications",{"$f":"IFERROR(INDEX('LS31. Employed Qualifications'!$B55:$Z55,MATCH(D$3,'LS31. Employed Qualifications'!$B$2:$Z$2,0)),\"n/a\")","v":7.9},{"$f":"IFERROR(INDEX('LS31. Employed Qualifications'!$B55:$Z55,MATCH(E$1413,'LS31. Employed Qualifications'!$B$2:$Z$2,0)),\"n/a\")","v":4.9000000000000004},{"$f":"IFERROR(INDEX('LS31. Employed Qualifications'!$B55:$Z55,MATCH(F$1413,'LS31. Employed Qualifications'!$B$2:$Z$2,0)),\"n/a\")","v":4.9000000000000004},{"$f":"IFERROR(INDEX('LS31. Employed Qualifications'!$B55:$Z55,MATCH(G$1413,'LS31. Employed Qualifications'!$B$2:$Z$2,0)),\"n/a\")","v":6.4}]
[null,null,"No NVQ qualifications",{"$f":"IFERROR(INDEX('LS31. Employed Qualifications'!$B56:$Z56,MATCH(D$3,'LS31. Employed Qualifications'!$B$2:$Z$2,0)),\"n/a\")","v":6.3},{"$f":"IFERROR(INDEX('LS31. Employed Qualifications'!$B56:$Z56,MATCH(E$1413,'LS31. Employed Qualifications'!$B$2:$Z$2,0)),\"n/a\")","v":7.1},{"$f":"IFERROR(INDEX('LS31. Employed Qualifications'!$B56:$Z56,MATCH(F$1413,'LS31. Employed Qualifications'!$B$2:$Z$2,0)),\"n/a\")","v":4.3},{"$f":"IFERROR(INDEX('LS31. Employed Qualifications'!$B56:$Z56,MATCH(G$1413,'LS31. Employed Qualifications'!$B$2:$Z$2,0)),\"n/a\")","v":4.7}]
[]
[]
[]
[]
[]
[]
[]
[]
[]
[]
[]
[]
[]
[]
[]
[]
[]
[]
[]
[]
[]
[]
[]
[]
[]
[]
[]
[]
[]
[]
[]
[]
[]
[]
[]
[]
[]
[]
[]
[]
[]
[]
[]
[]
[]
[]
[]
[]
[]
[]
[]
[]
[]
[]
[]
[]
[]
[null,null,"LS35. Workplace Earnings (Full-Time), 2017"]
[null,null,null,{"$f":"D$3","v":"Blackburn with Darwen "},"Lancashire ","North West ","England"]
[null,null,"Median",{"$f":"IFERROR(INDEX('LS35. Workplace Earnings'!$B4:$Z4,MATCH(D$1489,'LS35. Workplace Earnings'!$B$2:$Z$2,0)),\"n/a\")","v":23976},{"$f":"IFERROR(INDEX('LS35. Workplace Earnings'!$B4:$Z4,MATCH(E$1489,'LS35. Workplace Earnings'!$B$2:$Z$2,0)),\"n/a\")","v":25726},{"$f":"IFERROR(INDEX('LS35. Workplace Earnings'!$B4:$Z4,MATCH(F$1489,'LS35. Workplace Earnings'!$B$2:$Z$2,0)),\"n/a\")","v":26746},{"$f":"IFERROR(INDEX('LS35. Workplace Earnings'!$B4:$Z4,MATCH(G$1489,'LS35. Workplace Earnings'!$B$2:$Z$2,0)),\"n/a\")","v":29079}]
[null,null,"Mean",{"$f":"IFERROR(INDEX('LS35. Workplace Earnings'!$B5:$Z5,MATCH(D$1489,'LS35. Workplace Earnings'!$B$2:$Z$2,0)),\"n/a\")","v":33376},{"$f":"IFERROR(INDEX('LS35. Workplace Earnings'!$B5:$Z5,MATCH(E$1489,'LS35. Workplace Earnings'!$B$2:$Z$2,0)),\"n/a\")","v":30895},{"$f":"IFERROR(INDEX('LS35. Workplace Earnings'!$B5:$Z5,MATCH(F$1489,'LS35. Workplace Earnings'!$B$2:$Z$2,0)),\"n/a\")","v":31771},{"$f":"IFERROR(INDEX('LS35. Workplace Earnings'!$B5:$Z5,MATCH(G$1489,'LS35. Workplace Earnings'!$B$2:$Z$2,0)),\"n/a\")","v":36107}]
[]
[]
[]
[]
[]
[]
[]
[]
[]
[]
[]
[]
[]
[]
[]
[]
[]
[]
[]
[]
[]
[]
[]
[]
[]
[]
[]
[]
[]
[]
[]
[]
[]
[]
[]
[]
[]
[]
[]
[]
[]
[]
[]
[]
[]
[]
[]
[]
[]
[]
[]
[]
[]
[]
[]
[]
[]
[]
[]
[]
[]
[]
[]
[]
[]
[]
[]
[]
[]
[]
[]
[null,null,"LS36. Resident Earnings (Full-Time), 2017"]
[null,null,null,{"$f":"D$3","v":"Blackburn with Darwen "},"Lancashire ","North West ","England"]
[null,null,"Median",{"$f":"IFERROR(INDEX('LS36. Resident Earnings'!$B4:$Z4,MATCH(D$1489,'LS36. Resident Earnings'!$B$2:$Z$2,0)),\"n/a\")","v":23203},{"$f":"IFERROR(INDEX('LS36. Resident Earnings'!$B4:$Z4,MATCH(E$1489,'LS36. Resident Earnings'!$B$2:$Z$2,0)),\"n/a\")","v":25821},{"$f":"IFERROR(INDEX('LS36. Resident Earnings'!$B4:$Z4,MATCH(F$1489,'LS36. Resident Earnings'!$B$2:$Z$2,0)),\"n/a\")","v":26662},{"$f":"IFERROR(INDEX('LS36. Resident Earnings'!$B4:$Z4,MATCH(G$1489,'LS36. Resident Earnings'!$B$2:$Z$2,0)),\"n/a\")","v":29085}]
[null,null,"Mean",{"$f":"IFERROR(INDEX('LS36. Resident Earnings'!$B5:$Z5,MATCH(D$1489,'LS36. Resident Earnings'!$B$2:$Z$2,0)),\"n/a\")","v":26648},{"$f":"IFERROR(INDEX('LS36. Resident Earnings'!$B5:$Z5,MATCH(E$1489,'LS36. Resident Earnings'!$B$2:$Z$2,0)),\"n/a\")","v":30666},{"$f":"IFERROR(INDEX('LS36. Resident Earnings'!$B5:$Z5,MATCH(F$1489,'LS36. Resident Earnings'!$B$2:$Z$2,0)),\"n/a\")","v":31640},{"$f":"IFERROR(INDEX('LS36. Resident Earnings'!$B5:$Z5,MATCH(G$1489,'LS36. Resident Earnings'!$B$2:$Z$2,0)),\"n/a\")","v":36118}]
[]
[]
[]
[]
[]
[]
[]
[]
[]
[]
[]
[]
[]
[]
[]
[]
[]
[]
[]
[]
[]
[]
[]
[]
[]
[]
[]
[]
[]
[]
[]
[]
[]
[]
[]
[]
[]
[]
[]
[]
[]
[]
[]
[]
[]
[]
[]
[]
[null,null,"LS34. Travel to Work, destination, 2011"]
[null,null,null,{"$f":"D$3","v":"Blackburn with Darwen "},{"$f":"D$4","v":"Blackburn with Darwen, Hyndburn, Rossendale and Ribble Valley"},"Lancashire "]
[null,null,"Home LA ",{"$f":"IFERROR(INDEX('LS34. Travel to Work, location'!$B4:$Z4,MATCH(D$3,'LS34. Travel to Work, location'!$B$2:$Z$2,0)),\"n/a\")","v":31801},{"$f":"IFERROR(INDEX('LS34. Travel to Work, location'!$B4:$Z4,MATCH(E$1616,'LS34. Travel to Work, location'!$B$2:$Z$2,0)),\"n/a\")","v":65754},{"$f":"IFERROR(INDEX('LS34. Travel to Work, location'!$B4:$Z4,MATCH(F$1616,'LS34. Travel to Work, location'!$B$2:$Z$2,0)),\"n/a\")","v":296037}]
[null,null,"Rest of TTWA",{"$f":"IFERROR(INDEX('LS34. Travel to Work, location'!$B5:$Z5,MATCH(D$3,'LS34. Travel to Work, location'!$B$2:$Z$2,0)),\"n/a\")","v":5941},{"$f":"IFERROR(INDEX('LS34. Travel to Work, location'!$B5:$Z5,MATCH(E$1616,'LS34. Travel to Work, location'!$B$2:$Z$2,0)),\"n/a\")","v":22955},{"$f":"IFERROR(INDEX('LS34. Travel to Work, location'!$B5:$Z5,MATCH(F$1616,'LS34. Travel to Work, location'!$B$2:$Z$2,0)),\"n/a\")","v":100399}]
[null,null,"TTWA Total",{"$f":"IFERROR(INDEX('LS34. Travel to Work, location'!$B6:$Z6,MATCH(D$3,'LS34. Travel to Work, location'!$B$2:$Z$2,0)),\"n/a\")","v":37742},{"$f":"IFERROR(INDEX('LS34. Travel to Work, location'!$B6:$Z6,MATCH(E$1616,'LS34. Travel to Work, location'!$B$2:$Z$2,0)),\"n/a\")","v":88709},{"$f":"IFERROR(INDEX('LS34. Travel to Work, location'!$B6:$Z6,MATCH(F$1616,'LS34. Travel to Work, location'!$B$2:$Z$2,0)),\"n/a\")","v":396436}]
[null,null,"Rest of Lancashire",{"$f":"IFERROR(INDEX('LS34. Travel to Work, location'!$B7:$Z7,MATCH(D$3,'LS34. Travel to Work, location'!$B$2:$Z$2,0)),\"n/a\")","v":7268},{"$f":"IFERROR(INDEX('LS34. Travel to Work, location'!$B7:$Z7,MATCH(E$1616,'LS34. Travel to Work, location'!$B$2:$Z$2,0)),\"n/a\")","v":21008},{"$f":"IFERROR(INDEX('LS34. Travel to Work, location'!$B7:$Z7,MATCH(F$1616,'LS34. Travel to Work, location'!$B$2:$Z$2,0)),\"n/a\")","v":79669}]
[null,null,"Lancashire Total",{"$f":"IFERROR(INDEX('LS34. Travel to Work, location'!$B8:$Z8,MATCH(D$3,'LS34. Travel to Work, location'!$B$2:$Z$2,0)),\"n/a\")","v":45010},{"$f":"IFERROR(INDEX('LS34. Travel to Work, location'!$B8:$Z8,MATCH(E$1616,'LS34. Travel to Work, location'!$B$2:$Z$2,0)),\"n/a\")","v":109717},{"$f":"IFERROR(INDEX('LS34. Travel to Work, location'!$B8:$Z8,MATCH(F$1616,'LS34. Travel to Work, location'!$B$2:$Z$2,0)),\"n/a\")","v":476105}]
[null,null,"Rest of NW",{"$f":"IFERROR(INDEX('LS34. Travel to Work, location'!$B9:$Z9,MATCH(D$3,'LS34. Travel to Work, location'!$B$2:$Z$2,0)),\"n/a\")","v":5131},{"$f":"IFERROR(INDEX('LS34. Travel to Work, location'!$B9:$Z9,MATCH(E$1616,'LS34. Travel to Work, location'!$B$2:$Z$2,0)),\"n/a\")","v":17941},{"$f":"IFERROR(INDEX('LS34. Travel to Work, location'!$B9:$Z9,MATCH(F$1616,'LS34. Travel to Work, location'!$B$2:$Z$2,0)),\"n/a\")","v":62531}]
[null,null,"Rest of England",{"$f":"IFERROR(INDEX('LS34. Travel to Work, location'!$B10:$Z10,MATCH(D$3,'LS34. Travel to Work, location'!$B$2:$Z$2,0)),\"n/a\")","v":1272},{"$f":"IFERROR(INDEX('LS34. Travel to Work, location'!$B10:$Z10,MATCH(E$1616,'LS34. Travel to Work, location'!$B$2:$Z$2,0)),\"n/a\")","v":3926},{"$f":"IFERROR(INDEX('LS34. Travel to Work, location'!$B10:$Z10,MATCH(F$1616,'LS34. Travel to Work, location'!$B$2:$Z$2,0)),\"n/a\")","v":16423}]
[null,null,"Total",{"$f":"IFERROR(INDEX('LS34. Travel to Work, location'!$B11:$Z11,MATCH(D$3,'LS34. Travel to Work, location'!$B$2:$Z$2,0)),\"n/a\")","v":51413},{"$f":"IFERROR(INDEX('LS34. Travel to Work, location'!$B11:$Z11,MATCH(E$1616,'LS34. Travel to Work, location'!$B$2:$Z$2,0)),\"n/a\")","v":131584},{"$f":"IFERROR(INDEX('LS34. Travel to Work, location'!$B11:$Z11,MATCH(F$1616,'LS34. Travel to Work, location'!$B$2:$Z$2,0)),\"n/a\")","v":555059}]
[]
[null,null,"LS34. Travel to Work, destination (%)"]
[null,null,null,{"$f":"D$3","v":"Blackburn with Darwen "},{"$f":"D$4","v":"Blackburn with Darwen, Hyndburn, Rossendale and Ribble Valley"},"Lancashire "]
[null,null,"Home LA ",{"$f":"IFERROR(INDEX('LS34. Travel to Work, location'!$B14:$Z14,MATCH(D$3,'LS34. Travel to Work, location'!$B$2:$Z$2,0)),\"n/a\")","v":0.61854005796199407},{"$f":"IFERROR(INDEX('LS34. Travel to Work, location'!$B14:$Z14,MATCH(E$1616,'LS34. Travel to Work, location'!$B$2:$Z$2,0)),\"n/a\")","v":0.49971121108949418},{"$f":"IFERROR(INDEX('LS34. Travel to Work, location'!$B14:$Z14,MATCH(F$1616,'LS34. Travel to Work, location'!$B$2:$Z$2,0)),\"n/a\")","v":0.53334330224354531}]
[null,null,"Rest of TTWA",{"$f":"IFERROR(INDEX('LS34. Travel to Work, location'!$B15:$Z15,MATCH(D$3,'LS34. Travel to Work, location'!$B$2:$Z$2,0)),\"n/a\")","v":0.11555443175850466},{"$f":"IFERROR(INDEX('LS34. Travel to Work, location'!$B15:$Z15,MATCH(E$1616,'LS34. Travel to Work, location'!$B$2:$Z$2,0)),\"n/a\")","v":0.17445130107003892},{"$f":"IFERROR(INDEX('LS34. Travel to Work, location'!$B15:$Z15,MATCH(F$1616,'LS34. Travel to Work, location'!$B$2:$Z$2,0)),\"n/a\")","v":0.1808798704281887}]
[null,null,"TTWA Total",{"$f":"IFERROR(INDEX('LS34. Travel to Work, location'!$B16:$Z16,MATCH(D$3,'LS34. Travel to Work, location'!$B$2:$Z$2,0)),\"n/a\")","v":0.73409448972049873},{"$f":"IFERROR(INDEX('LS34. Travel to Work, location'!$B16:$Z16,MATCH(E$1616,'LS34. Travel to Work, location'!$B$2:$Z$2,0)),\"n/a\")","v":0.67416251215953304},{"$f":"IFERROR(INDEX('LS34. Travel to Work, location'!$B16:$Z16,MATCH(F$1616,'LS34. Travel to Work, location'!$B$2:$Z$2,0)),\"n/a\")","v":0.71422317267173396}]
[null,null,"Rest of Lancashire",{"$f":"IFERROR(INDEX('LS34. Travel to Work, location'!$B17:$Z17,MATCH(D$3,'LS34. Travel to Work, location'!$B$2:$Z$2,0)),\"n/a\")","v":0.14136502441016863},{"$f":"IFERROR(INDEX('LS34. Travel to Work, location'!$B17:$Z17,MATCH(E$1616,'LS34. Travel to Work, location'!$B$2:$Z$2,0)),\"n/a\")","v":0.15965466926070038},{"$f":"IFERROR(INDEX('LS34. Travel to Work, location'!$B17:$Z17,MATCH(F$1616,'LS34. Travel to Work, location'!$B$2:$Z$2,0)),\"n/a\")","v":0.14353248933897117}]
[null,null,"Lancashire Total",{"$f":"IFERROR(INDEX('LS34. Travel to Work, location'!$B18:$Z18,MATCH(D$3,'LS34. Travel to Work, location'!$B$2:$Z$2,0)),\"n/a\")","v":0.87545951413066736},{"$f":"IFERROR(INDEX('LS34. Travel to Work, location'!$B18:$Z18,MATCH(E$1616,'LS34. Travel to Work, location'!$B$2:$Z$2,0)),\"n/a\")","v":0.83381718142023342},{"$f":"IFERROR(INDEX('LS34. Travel to Work, location'!$B18:$Z18,MATCH(F$1616,'LS34. Travel to Work, location'!$B$2:$Z$2,0)),\"n/a\")","v":0.85775566201070519}]
[null,null,"Rest of NW",{"$f":"IFERROR(INDEX('LS34. Travel to Work, location'!$B19:$Z19,MATCH(D$3,'LS34. Travel to Work, location'!$B$2:$Z$2,0)),\"n/a\")","v":9.9799661564195827E-2},{"$f":"IFERROR(INDEX('LS34. Travel to Work, location'!$B19:$Z19,MATCH(E$1616,'LS34. Travel to Work, location'!$B$2:$Z$2,0)),\"n/a\")","v":0.13634636429961089},{"$f":"IFERROR(INDEX('LS34. Travel to Work, location'!$B19:$Z19,MATCH(F$1616,'LS34. Travel to Work, location'!$B$2:$Z$2,0)),\"n/a\")","v":0.11265649237288289}]
[null,null,"Rest of England",{"$f":"IFERROR(INDEX('LS34. Travel to Work, location'!$B20:$Z20,MATCH(D$3,'LS34. Travel to Work, location'!$B$2:$Z$2,0)),\"n/a\")","v":2.4740824305136834E-2},{"$f":"IFERROR(INDEX('LS34. Travel to Work, location'!$B20:$Z20,MATCH(E$1616,'LS34. Travel to Work, location'!$B$2:$Z$2,0)),\"n/a\")","v":2.9836454280155644E-2},{"$f":"IFERROR(INDEX('LS34. Travel to Work, location'!$B20:$Z20,MATCH(F$1616,'LS34. Travel to Work, location'!$B$2:$Z$2,0)),\"n/a\")","v":2.9587845616411947E-2}]

{"sheet":"ONS LA Codes","index":4,"n_rows":58,"n_cols":6,"rows_kept":58,"cut":false,"hidden":true,"merged":[]}
[null,"ONS CODING"]
[]
["Local Authority ","Nomis Code"]
["Aberdeen City","S12000033",null,null,"Blackburn with Darwen ","Blackburn with Darwen, Hyndburn, Rossendale and Ribble Valley"]
["Aberdeenshire","S12000034",null,null,"Blackpool","Blackpool, Fylde and Wyre"]
["Angus","S12000041",null,null,"Burnley","Burnley and Pendle"]
["Argyll and Bute","S12000035",null,null,"Chorley ","Preston, Chorley and South Ribble "]
["Clackmannanshire","S12000005",null,null,"Fylde","Blackpool, Fylde and Wyre"]
["Dumfries and Galloway","S12000006",null,null,"Hyndburn","Blackburn with Darwen, Hyndburn, Rossendale and Ribble Valley"]
["Dundee City","S12000042",null,null,"Lancaster ","Lancaster and Morecambe "]
["East Ayrshire","S12000008",null,null,"Pendle ","Burnley and Pendle"]
["East Dunbartonshire","S12000045",null,null,"Preston","Preston, Chorley and South Ribble "]
["East Lothian","S12000010",null,null,"Ribble Valley","Blackburn with Darwen, Hyndburn, Rossendale and Ribble Valley"]
["East Renfrewshire","S12000011",null,null,"Rossendale ","Blackburn with Darwen, Hyndburn, Rossendale and Ribble Valley"]
["Edinburgh, City of","S12000036",null,null,"South Ribble ","Preston, Chorley and South Ribble "]
["Eilean Siar","S12000013",null,null,"West Lancashire ","West Lancashire "]
["Falkirk","S12000014",null,null,"Wrye ","Blackpool, Fylde and Wyre"]
["Fife","S12000015"]
["Glasgow City","S12000046"]
["Highland","S12000017"]
["Inverclyde","S12000018"]
["Midlothian","S12000019"]
["Moray","S12000020"]
["North Ayrshire","S12000021"]
["North Lanarkshire","S12000044"]
["Orkney Islands","S12000023"]
["Perth and Kinross","S12000024"]
["Renfrewshire","S12000038"]
["Scottish Borders","S12000026"]
["Shetland Islands","S12000027"]
["South Ayrshire","S12000028"]
["South Lanarkshire","S12000029"]
["Stirling","S12000030"]
["West Dunbartonshire","S12000039"]
["West Lothian","S12000040"]
["SDS Region / Other","ekosgen code"]
["New - South of Scotland (RSA)","SS"]
["Aberdeen and Aberdeenshire (RSA)","AA"]
["Ayrshire (RSA)","AY"]
["Borders (RSA)","BO"]
["Dumfries & Galloway (RSA)","DG"]
["Edinburgh and Lothians (RSA)","EL"]
["Fife (RSA)","FI"]
["Forth Valley (RSA)","FV"]
["Glasgow (RSA)","GL"]
["Highlands and Islands (RSA)","HI"]
["Lanarkshire (RSA)","LR"]
["Tayside (RSA)","TY"]
["West (RSA)","WE"]
["West Lothian (RSA)","WL"]
["Aberdeen and Aberdeenshire City Deal","AACD"]
["Glasgow City Deal","GCD"]
["Edinburgh and South East Scotland City Deal","ESECD"]
["Tayside City Deal","TCD"]
["Inverness and Highlands City Deal","IHCD"]
["Scotland","SC"]
["Great Britain","GB"]
["United Kingdom","UK"]

{"sheet":"LS1. Total Population","index":5,"n_rows":36,"n_cols":26,"rows_kept":36,"cut":false,"hidden":false,"merged":[]}
["LS1. Total Population","Return to Contents",null,"Return to TTWA Summary",null,null,null,null,"Return to LA Summary"]
[null,"Blackburn with Darwen, Hyndburn, Rossendale and Ribble Valley","Blackpool, Fylde and Wyre","Burnley and Pendle","Lancaster and Morecambe ","Preston, Chorley and South Ribble ","West Lancashire ","Preston and South Ribble City Deal","Blackburn with Darwen ","Blackpool","Burnley","Chorley ","Fylde","Hyndburn","Lancaster ","Pendle ","Preston","Ribble Valley","Rossendale ","South Ribble ","West Lancashire ","Wrye ","Lancashire ","North West ","England Minus London","England"]
["Year"]
[2006,347464,326992,176434,136682,348103,110308,{"$f":"SUM(Q4,T4)","v":244296},143110,143733,87646,103807,74824,81491,136682,88788,137784,56664,66199,106512,110308,108435,1445983,6901585,43367361,50965186]
[2007,349004,327424,176075,136235,349960,110720,{"$f":"SUM(Q5,T5)","v":245598},143942,143644,87256,104362,75305,81453,136235,88819,138470,56986,66623,107128,110720,108475,1449418,6929277,43687620,51381093]
[2008,350299,326396,176333,135812,351669,110666,246273,144902,142921,87328,105396,75230,81176,135812,89005,138443,57158,67063,107830,110666,108245,1451175,6958547,44003692,51815853]
[2009,351683,326076,176314,136013,352247,110583,246565,146197,142578,87027,105682,75441,81003,136013,89287,137956,57004,67479,108609,110583,108057,1452916,6986156,44253787,52196381]
[2010,352884,326275,176136,137120,354120,110763,247677,146966,142753,86902,106443,75610,80876,137120,89234,138831,57218,67824,108846,110763,107912,1457298,7019921,44580957,52642452]
[2011,353551,325870,176608,137823,356826,110617,249235,147657,142080,87032,107591,76098,80549,137823,89576,140054,57292,68053,109181,110617,107692,1461295,7055961,44902762,53107169]
[2012,353865,325885,176740,139665,358588,110925,249511,147713,141976,87127,109077,76020,80190,139665,89613,140540,57596,68366,108971,110925,107889,1465668,7084337,45185360,53493729]
[2013,354017,326078,177025,140575,359837,111314,249332,147369,141400,86894,110505,76442,80046,140575,90131,140419,57858,68744,108913,111314,108236,1468846,7103261,45449274,53865817]
[2014,354210,326285,177131,141277,361136,111940,249529,146743,140501,87291,111607,77042,80208,141277,89840,140452,58091,69168,109077,111940,108742,1471979,7132991,45777929,54316618]
[2015,355041,326645,177482,142283,363922,112742,250953,146846,139578,87371,112969,77322,80228,142283,90111,141302,58480,69487,109651,112742,109745,1478115,7173835,46112614,54786327]
[2016,356298,327446,178110,143517,366270,113401,251919,147049,139195,87522,114351,77990,80537,143517,90588,141801,58826,69886,110118,113401,110261,1485042,7219623,46480175,55268067]
["Change 2006-16",{"$f":"B14-B4","v":8834},{"$f":"C14-C4","v":454},1676,6835,18167,3093,{"$f":"H14-H4","v":7623},3939,-4538,-124,10544,3166,-954,6835,1800,4017,2162,3687,3606,3093,1826,39059,318038,3112814,4302881]
["% Change 2006-16",{"$f":"(B14-B4)/B4","v":2.5424216609490478E-2},{"$f":"(C14-C4)/C4","v":1.3884131721876988E-3},9.4993028554586981E-3,5.0006584627090622E-2,5.2188576369637724E-2,2.8039670740109511E-2,{"$f":"(H14-H4)/H4","v":3.1203949307397585E-2},2.7524282020823142E-2,-3.1572429435133199E-2,-1.414782191999635E-3,0.10157311163987015,4.2312626964610286E-2,-1.1706814249426318E-2,5.0006584627090622E-2,2.0273009866198136E-2,2.9154328514196134E-2,3.815473669349146E-2,5.5695705373192947E-2,3.3855340243352863E-2,2.8039670740109511E-2,1.6839581315995757E-2,2.701207413918421E-2,4.6081878293174686E-2,7.1777805432984496E-2,8.4427848453255919E-2]
[]
[]
["Index of popuation change (2006 = 100)"]
[2006,100,100,100,100,100,100,100,100,100,100,100,100,100,100,100,100,100,100,100,100,100,100,100,100,100]
[2007,{"$f":"(B5/B$4)*100","v":100.44321138304974},{"$f":"(C5/C$4)*100","v":100.13211332387337},99.796524479408731,99.672963521165912,100.53346279693078,100.37349965551003,{"$f":"(H5/H$4)*100","v":100.53296001571863},100.58137097337712,99.938079633765383,99.555028181548494,100.53464602579787,100.64284186891905,99.953369083702498,99.672963521165912,100.0349146281029,100.49788074086976,100.56826203586051,100.64049305880754,100.57833859095689,100.37349965551003,100.03688845852355,100.23755466004786,100.40124116416736,100.73847933702953,100.81606098720017]
[2008,{"$f":"(B6/B$4)*100","v":100.81591186425069},99.817732543915454,99.942754797828087,99.363486047906818,101.02440944203298,100.32454581716648,100.80926417133314,101.25218363496612,99.435063624915642,99.637176824954935,101.53072528827536,100.54260665027263,99.613454246481197,99.363486047906818,100.24440239672028,100.47828485165186,100.87180573203445,101.30515566700404,101.237419257924,100.32454581716648,99.824779822013184,100.35906369576959,100.82534664138745,101.46730394777768,101.66911389276594]
[2009,{"$f":"(B7/B$4)*100","v":101.2142265097967},99.719870822527767,99.931985898409607,99.510542719597311,101.19045225120151,100.24930195452733,100.92879130235453,102.15708196492209,99.196426707854144,99.293749857380831,101.80623657364147,100.82460173206458,99.401160864389936,99.510542719597311,100.56201288462405,100.12483307205483,100.6000282366229,101.93356395111708,101.96879224876069,100.24930195452733,99.651404066952551,100.47946621779093,101.22538518325864,102.04399340785343,102.41575690511557]
[2010,{"$f":"(B8/B$4)*100","v":101.55987382865564},99.780728580515728,99.831098314383851,100.32045185174346,101.72851138887053,100.41248141567247,101.38397681501129,102.69443085738243,99.318180236967152,99.151130684800222,102.53932779099675,101.05046509141451,99.245315433606166,100.32045185174346,100.50232013335136,100.75988503744992,100.97769306790907,102.45471985981662,102.19130238846328,100.41248141567247,99.517683404804728,100.78251265747937,101.7146206270009,102.79840869265713,103.29100339200174]
[2011,{"$f":"(B9/B$4)*100","v":101.75183616144406},99.656872339384449,100.09862044730609,100.83478439004405,102.50586751622363,100.28012474163252,102.02172774011855,103.17727622108868,98.849950950721137,99.299454624284053,103.64522623715165,101.70266224740725,98.844044127572374,100.83478439004405,100.88750732080911,101.6475062416536,101.10828744882112,102.80064653544616,102.50582094036353,100.28012474163252,99.314796882925251,101.05893361125268,102.23681951319878,103.54045292264844,104.20283563764488]
[2012,{"$f":"(B10/B$4)*100","v":101.84220523565031},99.6614596075745,100.1734359590555,102.18243806792408,103.01203954002121,100.55934293070312,102.13470543930315,103.21640695968138,98.777594567705393,99.407845195445304,105.0767289296483,101.59841762001496,98.403504681498561,102.18243806792408,100.92917961886741,102.00023224757591,101.64478328391924,103.27346334536776,102.30866005708276,100.55934293070312,99.496472541153693,101.36135763698466,102.64797144424071,104.19209045254104,104.96131418023276]
[2013,{"$f":"(B11/B$4)*100","v":101.88595077475652},99.72048245828644,100.33496945033271,102.84821702930891,103.37084138889927,100.91199187728905,102.06143367062907,102.97603242261198,98.376851523310577,99.142003057755062,106.45235870413363,102.16240778359884,98.226798051318553,102.84821702930891,101.51259179168358,101.91241363293271,102.10715798390513,103.84446894968202,102.25420609884333,100.91199187728905,99.816479918845388,101.58113892072036,102.92216932777036,104.80064489052032,105.69139686844271]
[2014,{"$f":"(B12/B$4)*100","v":101.94149609743744},99.783786759309095,100.39504857340422,103.3618179423772,103.74400680258429,101.47949378104943,102.14207355011953,102.53860666620082,97.751386250895749,99.594961549871073,107.51394414634852,102.96428953277024,98.425593010271072,103.3618179423772,101.18484479884668,101.93636416419905,102.51835380488494,104.48496200848956,102.4081793600721,101.47949378104943,100.28311891916817,101.79780813467379,103.35293994060784,105.55848440950788,106.57592420049247]
[2015,{"$f":"(B13/B$4)*100","v":102.18065756452468},99.893881195870236,100.59398982055612,104.09783292606195,104.54434463362855,102.20654893570729,102.72497298359366,102.6105792746838,97.109223351631144,99.68623782032266,108.82599439344168,103.33850101571689,98.450135597796077,104.09783292606195,101.49006622516556,102.55327178772571,103.20485669913879,104.96684239943201,102.94708577437284,102.20654893570729,101.20809701664592,102.22215613876511,103.94474602573176,106.33022839457536,107.49755136771206]
[2016,{"$f":"(B14/B$4)*100","v":102.54242166094905},100.13884131721878,100.94993028554586,105.00065846270905,105.21885763696378,102.80396707401096,103.12039493073976,102.75242820208233,96.84275705648669,99.858521780800032,110.15731116398702,104.23126269646103,98.829318575057371,105.00065846270905,102.02730098661981,102.91543285141962,103.81547366934916,105.56957053731931,103.38553402433529,102.80396707401096,101.68395813159958,102.70120741391841,104.60818782931747,107.17778054329845,108.44278484532559]
[]
[]
["Source: Mid-Year Population Estimates"]
["Description: Total resident population, all ages"]
["Years: 2006-2016"]
["https://www.nomisweb.co.uk/ "]

{"sheet":"LS2. Population Split","index":6,"n_rows":157,"n_cols":26,"rows_kept":157,"cut":false,"hidden":false,"merged":[]}
["LS2. Total Population by Characteristic",null,"Return to Contents",null,"Return to TTWA Summary",null,null,null,"Return to LA Summary"]
[null,"Blackburn with Darwen, Hyndburn, Rossendale and Ribble Valley","Blackpool, Fylde and Wyre","Burnley and Pendle","Lancaster and Morecambe ","Preston, Chorley and South Ribble ","West Lancashire ","Preston and South Ribble City Deal","Blackburn with Darwen ","Blackpool","Burnley","Chorley ","Fylde","Hyndburn","Lancaster ","Pendle ","Preston","Ribble Valley","Rossendale ","South Ribble ","West Lancashire ","Wrye ","Lancashire ","North West ","England Minus London","England"]
["Total Population, 2006"]
["Aged under 1 year",4700,3200,2400,1400,4300,1200,{"$f":"SUM(Q4,T4)","v":3000},2300,1600,1200,1200,600,1100,1400,1200,1800,500,800,1200,1200,1000,17100,82900,507500,622800]
["Aged 1 - 4 years",18000,12600,8700,5100,15600,4700,{"$f":"SUM(Q5,T5)","v":10900},8500,6100,4300,4600,2500,4200,5100,4400,6400,2200,3000,4500,4700,4000,64800,311300,1938600,2340300]
["Aged 5 - 9 years",23200,17400,11000,7300,19800,6600,13900,10500,7900,5300,5800,3800,5300,7300,5700,7800,3400,4000,6100,6600,5700,85200,403400,2534100,2987100]
["Aged 10 - 14 years",25100,19500,11900,8000,21700,7300,15200,10800,8600,6000,6500,4300,5900,8000,6000,8400,3800,4700,6800,7300,6500,93500,442600,2740600,3182000]
["Aged 15 - 19 years",24400,20300,12700,9800,23500,7300,17200,10400,9100,6400,6400,4300,5600,9800,6200,10100,3700,4600,7100,7300,6900,98000,468900,2837500,3291000]
["Aged 20 - 24 years",19700,16300,10700,13100,26400,6700,21000,9400,8200,5300,5400,3100,4800,13100,5400,15500,2200,3300,5500,6700,5000,92900,467700,2780900,3355300]
["Aged 25 - 29 years",20100,15500,10500,7900,21400,5300,15600,9500,7800,5100,5800,3200,4800,7900,5400,9900,2300,3500,5700,5300,4600,80700,417900,2594500,3344500]
["Aged 30 - 34 years",22600,17300,11000,7700,23300,6200,16200,10100,8500,5400,7000,3700,5300,7700,5600,9300,2900,4300,6900,6200,5200,88200,437300,2744600,3470900]
["Aged 35 - 39 years",26600,23000,12600,9200,26300,7700,18000,11000,10600,6300,8400,5100,6200,9200,6300,9800,4300,5200,8200,7700,7300,105400,512900,3224300,3889400]
["Aged 40 - 44 years",26500,24700,12700,9600,26800,8500,18400,10300,11100,6400,8400,5800,6100,9600,6300,9800,4800,5400,8600,8500,7800,108900,526600,3324900,3917800]
["Aged 45 - 49 years",23600,22700,12100,8900,23700,7800,16200,9200,9800,6100,7500,5500,5300,8900,6000,8700,4300,4800,7500,7800,7500,98800,474200,2980800,3467900]
["Aged 50 - 54 years",21500,20700,11300,7900,21300,7100,14400,8200,8900,5500,6900,4900,4900,7900,5800,7500,3900,4500,6900,7100,6800,89800,422200,2671200,3067000]
["Aged 55 - 59 years",22800,23300,12200,8900,23300,8200,15300,8300,9800,6100,8000,5500,5300,8900,6100,7600,4400,4900,7700,8200,8000,98800,456700,2897500,3272300]
["Aged 60 - 64 years",18200,21000,9400,7600,18800,7000,12300,6300,8500,4700,6400,5100,4400,7600,4700,5900,3800,3700,6400,7000,7300,82000,371100,2411800,2702300]
["Aged 65 - 69 years",14600,18800,7600,6500,15400,5800,10500,5200,7600,3800,4900,4300,3600,6500,3700,5300,3000,2700,5200,5800,6900,68700,316400,1981700,2225000]
["Aged 70 - 74 years",12200,16500,6500,5900,12900,4800,9100,4500,6400,3200,3800,4000,2900,5900,3300,4800,2600,2300,4300,4800,6100,58800,271100,1728000,1939200]
["Aged 75 - 79 years",10100,14300,5500,4900,10300,3500,7500,3700,5400,2700,2900,3700,2500,4900,2800,3900,2000,1900,3600,3500,5200,48600,223400,1456700,1633200]
["Aged 80 - 84 years",7500,10600,4200,3600,7600,2500,5300,2700,4100,2100,2200,2700,1800,3600,2100,2800,1500,1500,2500,2500,3800,36000,162000,1086200,1217100]
["Aged 85 and over",6100,9000,3500,3300,5900,2100,4100,2200,3600,1700,1800,2400,1500,3300,1700,2200,1200,1100,1900,2100,2900,29800,133000,926200,1039900]
["Total",347500,327000,176400,136700,348100,110300,244300,143100,143700,87600,103800,74800,81500,136700,88800,137800,56700,66200,106500,110300,108400,1446000,6901600,43367400,50965200]
[]
["Age Group, 2006"]
["0-14",{"$f":"SUM(B4:B7)","v":71000},{"$f":"SUM(C4:C7)","v":52700},34000,21800,61400,19800,{"$f":"SUM(H4:H7)","v":43000},32100,24200,16800,18100,11200,16500,21800,17300,24400,9900,12500,18600,19800,17200,260600,1240200,7720800,9132200]
["15-19",{"$f":"SUM(B8)","v":24400},{"$f":"SUM(C8)","v":20300},12700,9800,23500,7300,{"$f":"SUM(H8)","v":17200},10400,9100,6400,6400,4300,5600,9800,6200,10100,3700,4600,7100,7300,6900,98000,468900,2837500,3291000]
["20-24",{"$f":"SUM(B9)","v":19700},{"$f":"SUM(C9)","v":16300},10700,13100,26400,6700,{"$f":"SUM(H9)","v":21000},9400,8200,5300,5400,3100,4800,13100,5400,15500,2200,3300,5500,6700,5000,92900,467700,2780900,3355300]
["25-34",{"$f":"SUM(B10:B11)","v":42700},{"$f":"SUM(C10:C11)","v":32800},21500,15600,44700,11500,{"$f":"SUM(H10:H11)","v":31800},19600,16300,10500,12800,6900,10100,15600,11000,19200,5200,7800,12600,11500,9800,168900,{"$f":"SUM(X10:X11)","v":855200},5339100,6815400]
["35-44",{"$f":"SUM(B12:B13)","v":53100},{"$f":"SUM(C12:C13)","v":47700},25300,18800,53100,16200,{"$f":"SUM(H12:H13)","v":36400},21300,21700,12700,16800,10900,12300,18800,12600,19600,9100,10600,16800,16200,15100,214300,1039500,6549200,7807200]
["45-54",{"$f":"SUM(B14:B15)","v":45100},{"$f":"SUM(C14:C15)","v":43400},23400,16800,45000,14900,{"$f":"SUM(H14:H15)","v":30600},17400,18700,11600,14400,10400,10200,16800,11800,16200,8200,9300,14400,14900,14300,188600,896400,5652000,6534900]
["55-64",{"$f":"SUM(B16:B17)","v":41000},{"$f":"SUM(C16:C17)","v":44300},21600,16500,42100,15200,{"$f":"SUM(H16:H17)","v":27600},14600,18300,10800,14400,10600,9700,16500,10800,13500,8200,8600,14100,15200,15300,180800,827800,5309300,5974600]
["65+",{"$f":"SUM(B18:B22)","v":50500},{"$f":"SUM(C18:C22)","v":69200},27300,24200,52100,18700,{"$f":"SUM(H18:H22)","v":36500},18300,27100,13500,15600,17100,12300,24200,13600,19000,10300,9500,17500,18700,24900,241900,1105900,7178800,8054400]
[]
[]
["Total Population, 2011"]
["Aged under 1 year",4600,3400,2500,1600,4500,1100,{"$f":"SUM(Q37,T37)","v":3200},2200,1600,1200,1300,800,1100,1600,1300,1900,500,900,1300,1100,1000,17700,87900,552900,679100]
["Aged 1 - 4 years",19200,13500,9800,5700,17500,4800,12500,9100,6600,4700,5000,2900,4300,5700,5000,7400,2300,3500,5100,4800,4000,70500,345000,2181800,2649600]
["Aged 5 - 9 years",22600,16300,10700,6500,19900,6000,13900,10500,7500,5200,6000,3600,5000,6500,5500,8000,3100,4000,5900,6000,5200,81900,394500,2503200,2990100]
["Aged 10 - 14 years",23100,17700,10400,7600,20300,6600,14200,10300,8000,5000,6100,4000,5000,7600,5300,7900,3800,4000,6300,6600,5700,85700,409700,2611200,3067400]
["Aged 15 - 19 years",23600,19400,11100,10700,22700,7600,16500,10400,8700,5600,6200,4100,5300,10700,5500,9900,3600,4300,6600,7600,6600,95000,453100,2853000,3324300]
["Aged 20 - 24 years",21000,17400,11100,13400,26600,7300,20600,9600,8500,5500,6000,3500,4900,13400,5600,14300,2700,3800,6300,7300,5400,96800,490200,2972700,3596300]
["Aged 25 - 29 years",22700,17100,12100,8000,23300,5500,17000,11000,8600,5800,6300,3600,5300,8000,6300,10700,2500,3900,6300,5500,4800,88600,467000,2820400,3657200]
["Aged 30 - 34 years",21300,16100,11000,7300,21800,5000,15400,9900,7800,5300,6300,3500,5000,7300,5700,9300,2400,4000,6100,5000,4800,82500,431300,2724700,3529200]
["Aged 35 - 39 years",23100,17900,11000,7600,23800,6600,16200,10000,8400,5400,7600,4100,5200,7600,5600,9000,3300,4600,7200,6600,5400,89900,444500,2854900,3522400]
["Aged 40 - 44 years",26600,23100,12400,9200,26500,7900,18100,10800,10400,6200,8400,5300,6100,9200,6200,9700,4400,5400,8400,7900,7400,105800,513700,3271400,3881500]
["Aged 45 - 49 years",25800,25100,12100,9700,26800,8600,18300,9900,11100,6100,8500,6000,5800,9700,6000,9700,4800,5300,8600,8600,8000,108100,523100,3331000,3892100]
["Aged 50 - 54 years",23000,22800,11600,8700,23200,7800,15700,9000,9700,5800,7400,5600,5000,8700,5800,8400,4200,4800,7300,7800,7500,97100,467400,2957800,3422600]
["Aged 55 - 59 years",20700,20300,10500,7800,20600,6900,14000,8000,8500,5200,6700,4900,4600,7800,5300,7200,3800,4400,6800,6900,7000,86900,410600,2628400,3003500]
["Aged 60 - 64 years",21800,23100,11800,8700,22200,7800,14500,7900,9300,5800,7700,5700,5000,8700,6000,7100,4200,4700,7400,7800,8100,95500,438700,2820000,3162300]
["Aged 65 - 69 years",16900,20400,8700,7300,17400,6600,11300,5800,7800,4300,6100,5100,4100,7300,4400,5300,3600,3400,6000,6600,7400,77200,347400,2296100,2557600]
["Aged 70 - 74 years",12800,17200,6700,6000,13900,5300,9400,4600,6600,3400,4500,4100,3100,6000,3300,4600,2700,2400,4800,5300,6500,61900,284600,1820200,2034600]
["Aged 75 - 79 years",10300,14100,5300,5000,10800,4100,7500,3700,5300,2600,3300,3600,2400,5000,2700,3900,2300,2000,3600,4100,5300,49700,228700,1500600,1678300]
["Aged 80 - 84 years",7500,10900,4100,3700,7800,2800,5700,2700,3900,2000,2200,2900,1800,3700,2100,2900,1600,1400,2800,2800,4100,36800,168100,1133400,1265800]
["Aged 85 and over",6800,10100,3900,3600,7200,2400,5000,2400,3800,1900,2200,2700,1600,3600,1900,2600,1500,1400,2400,2400,3600,33900,150500,1069200,1193300]
[{"$f":"A23","v":"Total"},353600,325900,176600,137800,356800,110600,249300,147700,142100,87000,107600,76100,80500,137800,89600,140100,57300,68100,109200,110600,107700,1461300,7056000,44902800,53107200]
[]
["Age Group, 2011"]
["0-14",{"$f":"SUM(B37:B40)","v":69500},{"$f":"SUM(C37:C40)","v":50900},33400,21400,62200,18500,{"$f":"SUM(H37:H40)","v":43800},32100,23700,16100,18400,11300,15400,21400,17100,25200,9700,12400,18600,18500,15900,255800,1237100,7849100,9386200]
["15-19",{"$f":"SUM(B41)","v":23600},{"$f":"SUM(C41)","v":19400},11100,10700,22700,7600,{"$f":"SUM(H41)","v":16500},10400,8700,5600,6200,4100,5300,10700,5500,9900,3600,4300,6600,7600,6600,95000,453100,2853000,3324300]
["20-24",{"$f":"SUM(B42)","v":21000},{"$f":"SUM(C42)","v":17400},11100,13400,26600,7300,{"$f":"SUM(H42)","v":20600},9600,8500,5500,6000,3500,4900,13400,5600,14300,2700,3800,6300,7300,5400,96800,490200,2972700,3596300]
["25-34",{"$f":"SUM(B43:B44)","v":44000},{"$f":"SUM(C43:C44)","v":33200},23100,15300,45100,10500,{"$f":"SUM(H43:H44)","v":32400},20900,16400,11100,12600,7100,10300,15300,12000,20000,4900,7900,12400,10500,9600,171100,{"$f":"SUM(X43:X44)","v":898300},{"$f":"SUM(Y43:Y44)","v":5545100},7186400]
["35-44",{"$f":"SUM(B45:B46)","v":49700},{"$f":"SUM(C45:C46)","v":41000},23400,16800,50300,14500,{"$f":"SUM(H45:H46)","v":34300},20800,18800,11600,16000,9400,11300,16800,11800,18700,7700,10000,15600,14500,12800,195700,958200,6126300,7403900]
["45-54",{"$f":"SUM(B47:B48)","v":48800},{"$f":"SUM(C47:C48)","v":47900},23700,18400,50000,16400,{"$f":"SUM(H47:H48)","v":34000},18900,20800,11900,15900,11600,10800,18400,11800,18100,9000,10100,15900,16400,15500,205200,990500,6288800,7314700]
["55-64",{"$f":"SUM(B49:B50)","v":42500},{"$f":"SUM(C49:C50)","v":43400},22300,16500,42800,14700,{"$f":"SUM(H49:H50)","v":28500},15900,17800,11000,14400,10600,9600,16500,11300,14300,8000,9100,14200,14700,15100,182400,849300,5448400,6165800]
["65+",{"$f":"SUM(B51:B55)","v":54300},{"$f":"SUM(C51:C55)","v":72700},28700,25600,57100,21200,{"$f":"SUM(H51:H55)","v":38900},19200,27400,14200,18300,18400,13000,25600,14400,19300,11700,10600,19600,21200,26900,259500,1179300,7819500,8729600]
[]
[]
["Total Population, 2016"]
["Aged under 1 year",4500,3200,2500,1500,4300,1000,{"$f":"SUM(Q70,T70)","v":3100},2200,1700,1200,1200,600,1000,1500,1300,1900,500,800,1200,1000,900,17000,86700,540200,669100]
["Aged 1 - 4 years",18800,13700,9800,6300,17600,4700,12300,8800,6900,4700,5300,2800,4400,6300,5100,7400,2100,3400,4900,4700,4100,70900,356100,2253300,2759900]
["Aged 5 - 9 years",24200,17700,12100,7600,22600,6300,15800,11000,7900,5900,6800,4100,5300,7600,6300,9200,3300,4500,6600,6300,5600,90600,443200,2848600,3428300]
["Aged 10 - 14 years",22900,17000,10500,7000,20300,6200,14000,10300,7500,5100,6300,3900,4900,7000,5400,7900,3500,4200,6100,6200,5600,83800,402100,2582700,3070300]
["Aged 15 - 19 years",22000,17800,10000,9900,21200,7700,15200,9800,7900,5000,6000,3900,4700,9900,5100,9200,3600,3800,6000,7700,5900,88600,420400,2710800,3179400]
["Aged 20 - 24 years",19700,16600,9800,15200,25500,8600,19700,9000,8100,5100,5700,3100,4700,15200,4700,14300,2500,3500,5400,8600,5400,95500,476600,2990800,3560000]
["Aged 25 - 29 years",22000,17800,11800,9200,24800,6300,17800,9600,8700,5700,7000,3600,5300,9200,6000,11200,2800,4200,6600,6300,5500,91700,492200,2985400,3811600]
["Aged 30 - 34 years",22300,17000,12200,8000,22900,5300,15800,10300,8000,5800,7100,3800,5200,8000,6400,9300,2600,4200,6500,5300,5200,87700,467000,2886200,3749600]
["Aged 35 - 39 years",21200,16400,10900,7500,21800,5200,14900,9500,7400,5200,7000,3800,4700,7500,5600,8700,2800,4200,6200,5200,5300,83100,430700,2797700,3557000]
["Aged 40 - 44 years",22900,18400,10700,7700,23800,6600,15900,9500,8100,5200,8000,4400,5000,7700,5500,8600,3700,4700,7300,6600,5900,90100,442600,2901800,3535300]
["Aged 45 - 49 years",26500,23600,12200,9300,26500,8000,17700,10400,10300,6100,8800,5600,5900,9300,6100,9500,4700,5500,8200,8000,7700,106300,510200,3290200,3883100]
["Aged 50 - 54 years",25300,25400,11800,9700,26600,8600,17800,9500,10900,6000,8700,6200,5600,9700,5900,9300,4900,5300,8500,8600,8300,107500,516400,3325600,3873100]
["Aged 55 - 59 years",22400,23200,11300,8800,22800,7700,15200,8500,9400,5600,7500,5900,4800,8800,5700,8000,4400,4700,7200,7700,7900,96100,457300,2929700,3377700]
["Aged 60 - 64 years",19800,20600,10000,7800,19900,6800,13300,7400,8000,4900,6600,5300,4400,7800,5100,6700,3800,4200,6600,6800,7300,84800,396200,2575600,2931000]
["Aged 65 - 69 years",20400,23000,10900,8500,21100,7500,13500,7100,8600,5300,7500,6000,4700,8500,5500,6400,4200,4400,7100,7500,8400,91300,414700,2716600,3032100]
["Aged 70 - 74 years",15200,19100,7900,6800,16000,6100,10300,5000,6800,3900,5700,5100,3700,6800,4000,4700,3400,3100,5600,6100,7200,71100,317600,2145100,2381300]
["Aged 75 - 79 years",10900,15000,5700,5200,12200,4600,8200,3800,5400,2800,4000,3800,2600,5200,2900,3900,2400,2000,4300,4600,5800,53600,245600,1608700,1796000]
["Aged 80 - 84 years",8000,11100,4000,3900,8600,3300,5900,2700,3900,2000,2600,3000,1900,3900,2100,3000,1900,1500,2900,3300,4200,38800,177600,1203500,1345400]
["Aged 85 and over",7400,10800,4100,3700,7800,2900,5500,2400,3700,2000,2300,3000,1700,3700,2100,2700,1800,1500,2800,2900,4100,36700,166500,1187800,1328100]
[{"$f":"A56","v":"Total"},356300,327400,178100,143500,366300,113400,251900,147000,139200,87500,114400,78000,80500,143500,90600,141800,58800,69900,110100,113400,110300,1485000,7219600,46480200,55268100]
[]
["Age Group, 2016"]
["0-14",{"$f":"SUM(B70:B73)","v":70400},{"$f":"SUM(C70:C73)","v":51600},34900,22400,64800,18200,{"$f":"SUM(H70:H73)","v":45200},32300,24000,16900,19600,11400,15600,22400,18100,26400,9400,12900,18800,18200,16200,262300,1288100,8224800,9927600]
["15-19",{"$f":"SUM(B74)","v":22000},{"$f":"SUM(C74)","v":17800},10000,9900,21200,7700,{"$f":"SUM(H74)","v":15200},9800,7900,5000,6000,3900,4700,9900,5100,9200,3600,3800,6000,7700,5900,88600,420400,2710800,3179400]
["20-24",{"$f":"SUM(B75)","v":19700},{"$f":"SUM(C75)","v":16600},9800,15200,25500,8600,{"$f":"SUM(H75)","v":19700},9000,8100,5100,5700,3100,4700,15200,4700,14300,2500,3500,5400,8600,5400,95500,476600,2990800,3560000]
["25-34",{"$f":"SUM(B76:B77)","v":44300},{"$f":"SUM(C76:C77)","v":34800},24000,17200,47700,11600,{"$f":"SUM(H76:H77)","v":33600},19900,16700,11500,14100,7400,10500,17200,12400,20500,5400,8400,13100,11600,10700,179400,{"$f":"SUM(X76:X77)","v":959200},{"$f":"SUM(Y76:Y77)","v":5871600},7561200]
["35-44",{"$f":"SUM(B78:B79)","v":44100},{"$f":"SUM(C78:C79)","v":34800},21600,15200,45600,11800,{"$f":"SUM(H78:H79)","v":30800},19000,15500,10400,15000,8200,9700,15200,11100,17300,6500,8900,13500,11800,11200,173200,873300,5699500,7092300]
["45-54",{"$f":"SUM(B80:B81)","v":51800},{"$f":"SUM(C80:C81)","v":49000},24000,19000,53100,16600,{"$f":"SUM(H80:H81)","v":35500},19900,21200,12100,17500,11800,11500,19000,12000,18800,9600,10800,16700,16600,16000,213800,1026600,6615800,7756200]
["55-64",{"$f":"SUM(B82:B83)","v":42200},{"$f":"SUM(C82:C83)","v":43800},21300,16600,42700,14500,{"$f":"SUM(H82:H83)","v":28500},15900,17400,10500,14100,11200,9200,16600,10800,14700,8200,8900,13800,14500,15200,180900,853500,5505300,6308700]
["65+",{"$f":"SUM(B84:B88)","v":61900},{"$f":"SUM(C84:C88)","v":79000},32600,28100,65700,24400,{"$f":"SUM(H84:H88)","v":43400},21000,28400,16000,22100,20900,14600,28100,16600,20700,13700,12500,22700,24400,29700,291500,1322000,8861700,9882900]
[]
[]
["Total Population, 2016, %"]
["Aged under 1 year",{"$f":"B70/B$89","v":1.2629806342969408E-2},9.7739767868051317E-3,1.403705783267827E-2,1.0452961672473868E-2,1.173901173901174E-2,8.8183421516754845E-3,{"$f":"H70/H$89","v":1.2306470821754664E-2},1.4965986394557823E-2,1.221264367816092E-2,1.3714285714285714E-2,1.048951048951049E-2,7.6923076923076927E-3,1.2422360248447204E-2,1.0452961672473868E-2,1.434878587196468E-2,1.3399153737658674E-2,8.5034013605442185E-3,1.1444921316165951E-2,1.0899182561307902E-2,8.8183421516754845E-3,8.1595648232094288E-3,1.1447811447811448E-2,1.2008975566513379E-2,1.1622153088842131E-2,1.2106441147786879E-2]
["Aged 1 - 4 years",{"$f":"B71/B$89","v":5.2764524277294417E-2},4.1844838118509468E-2,5.5025266704098824E-2,4.3902439024390241E-2,4.8048048048048048E-2,4.1446208112874777E-2,4.8828900357284634E-2,5.9863945578231291E-2,4.9568965517241381E-2,5.3714285714285714E-2,4.6328671328671328E-2,3.5897435897435895E-2,5.46583850931677E-2,4.3902439024390241E-2,5.6291390728476824E-2,5.2186177715091681E-2,3.5714285714285712E-2,4.8640915593705293E-2,4.4504995458673931E-2,4.1446208112874777E-2,3.7171350861287401E-2,4.7744107744107742E-2,4.9324062274918277E-2,4.8478707062362035E-2,4.9936581861869687E-2]
["Aged 5 - 9 years",{"$f":"B72/B$89","v":6.7920291888857703E-2},5.4062309102015885E-2,6.7939359910162825E-2,5.2961672473867599E-2,6.1698061698061697E-2,5.5555555555555552E-2,6.2723302897975383E-2,7.4829931972789115E-2,5.6752873563218391E-2,6.7428571428571435E-2,5.944055944055944E-2,5.2564102564102565E-2,6.5838509316770183E-2,5.2961672473867599E-2,6.9536423841059597E-2,6.488011283497884E-2,5.6122448979591837E-2,6.4377682403433473E-2,5.9945504087193457E-2,5.5555555555555552E-2,5.0770625566636446E-2,6.1010101010101007E-2,6.1388442572995736E-2,6.1286311160451114E-2,6.2030357475650513E-2]
["Aged 10 - 14 years",{"$f":"B73/B$89","v":6.4271681167555425E-2},{"$f":"C73/C$89","v":5.1924251679902257E-2},5.8955642897248736E-2,4.878048780487805E-2,5.5419055419055417E-2,5.4673721340388004E-2,5.5577610162763004E-2,7.0068027210884357E-2,5.3879310344827583E-2,5.8285714285714288E-2,5.5069930069930072E-2,0.05,6.0869565217391307E-2,4.878048780487805E-2,5.9602649006622516E-2,5.5712270803949221E-2,5.9523809523809521E-2,6.0085836909871244E-2,5.5404178019981834E-2,5.4673721340388004E-2,5.0770625566636446E-2,5.6430976430976429E-2,5.569560640478697E-2,5.5565595672996244E-2,5.5552841512554262E-2]
["Aged 15 - 19 years",{"$f":"B74/B$89","v":6.1745719898961549E-2},5.4367745876603542E-2,5.6148231330713082E-2,6.898954703832752E-2,5.7876057876057874E-2,6.7901234567901231E-2,6.0341405319571259E-2,6.6666666666666666E-2,5.6752873563218391E-2,5.7142857142857141E-2,5.2447552447552448E-2,0.05,5.8385093167701865E-2,6.898954703832752E-2,5.6291390728476824E-2,6.488011283497884E-2,6.1224489795918366E-2,5.4363376251788269E-2,5.4495912806539509E-2,6.7901234567901231E-2,5.3490480507706259E-2,5.9663299663299661E-2,5.8230372873843424E-2,5.8321607910465104E-2,5.7526855455497836E-2]
["Aged 20 - 24 years",{"$f":"B75/B$89","v":5.5290485545888293E-2},5.0702504581551622E-2,5.5025266704098824E-2,0.1059233449477352,6.9615069615069622E-2,7.5837742504409167E-2,7.8205637157602217E-2,6.1224489795918366E-2,5.8189655172413791E-2,5.8285714285714288E-2,4.9825174825174824E-2,3.9743589743589741E-2,5.8385093167701865E-2,0.1059233449477352,5.1876379690949229E-2,0.10084626234132581,4.2517006802721087E-2,5.007153075822604E-2,4.9046321525885561E-2,7.5837742504409167E-2,4.8957388939256573E-2,6.4309764309764303E-2,6.6014737658596043E-2,6.434567837487791E-2,6.4413287230789554E-2]
["Aged 25 - 29 years",{"$f":"B76/B$89","v":6.1745719898961549E-2},5.4367745876603542E-2,6.6254912970241442E-2,6.4111498257839725E-2,6.77040677040677E-2,5.5555555555555552E-2,7.0662961492655815E-2,6.5306122448979598E-2,6.25E-2,6.5142857142857141E-2,6.1188811188811192E-2,4.6153846153846156E-2,6.5838509316770183E-2,6.4111498257839725E-2,6.6225165562913912E-2,7.8984485190409029E-2,4.7619047619047616E-2,6.0085836909871244E-2,5.9945504087193457E-2,5.5555555555555552E-2,4.9864007252946513E-2,6.1750841750841751E-2,6.8175522189594995E-2,6.4229499873064227E-2,6.8965642024965579E-2]
["Aged 30 - 34 years",{"$f":"B77/B$89","v":6.258770698849285E-2},5.1924251679902257E-2,6.8500842223469957E-2,5.5749128919860627E-2,6.2517062517062516E-2,4.6737213403880068E-2,6.2723302897975383E-2,7.0068027210884357E-2,5.7471264367816091E-2,6.6285714285714281E-2,6.2062937062937064E-2,4.8717948717948718E-2,6.4596273291925466E-2,5.5749128919860627E-2,7.0640176600441501E-2,6.5585331452750348E-2,4.4217687074829932E-2,6.0085836909871244E-2,5.9037238873751133E-2,4.6737213403880068E-2,4.71441523118767E-2,5.9057239057239058E-2,6.4685024101058225E-2,6.2095257765672263E-2,6.7843837584429356E-2]
["Aged 35 - 39 years",{"$f":"B78/B$89","v":5.9500420993544766E-2},5.0091631032376301E-2,6.1201572150477258E-2,5.2264808362369339E-2,5.9514059514059511E-2,4.585537918871252E-2,5.9150456530369197E-2,6.4625850340136057E-2,5.3160919540229883E-2,5.9428571428571428E-2,6.1188811188811192E-2,4.8717948717948718E-2,5.8385093167701865E-2,5.2264808362369339E-2,6.1810154525386317E-2,6.1354019746121299E-2,4.7619047619047616E-2,6.0085836909871244E-2,5.6312443233424159E-2,4.585537918871252E-2,4.805077062556664E-2,5.5959595959595959E-2,5.9657044711618375E-2,6.0191221208170359E-2,6.4359006370763611E-2]
["Aged 40 - 44 years",{"$f":"B79/B$89","v":6.4271681167555425E-2},5.6200366524129505E-2,6.0078607523863001E-2,5.3658536585365853E-2,6.4974064974064979E-2,5.8201058201058198E-2,6.3120285827709413E-2,6.4625850340136057E-2,5.8189655172413791E-2,5.9428571428571428E-2,6.9930069930069935E-2,5.6410256410256411E-2,6.2111801242236024E-2,5.3658536585365853E-2,6.0706401766004413E-2,6.0648801128349791E-2,6.2925170068027211E-2,6.7238912732474967E-2,6.630336058128973E-2,5.8201058201058198E-2,5.3490480507706259E-2,6.0673400673400671E-2,6.1305335475649619E-2,6.2430884548689551E-2,6.3966374816575924E-2]
["Aged 45 - 49 years",{"$f":"B80/B$89","v":7.4375526241930959E-2},7.2083078802687842E-2,6.8500842223469957E-2,6.4808362369337985E-2,7.2345072345072342E-2,7.0546737213403876E-2,7.0265978562921799E-2,7.0748299319727898E-2,7.3994252873563218E-2,6.9714285714285715E-2,7.6923076923076927E-2,7.179487179487179E-2,7.3291925465838514E-2,6.4808362369337985E-2,6.7328918322295803E-2,6.6995768688293378E-2,7.9931972789115652E-2,7.8683834048640919E-2,7.4477747502270666E-2,7.0546737213403876E-2,6.980961015412511E-2,7.1582491582491581E-2,7.0668735109978398E-2,7.0787130864325018E-2,7.0259335855583957E-2]
["Aged 50 - 54 years",{"$f":"B81/B$89","v":7.1007577883805781E-2},7.7580940745265725E-2,6.6254912970241442E-2,6.7595818815331013E-2,7.2618072618072613E-2,7.5837742504409167E-2,7.0662961492655815E-2,6.4625850340136057E-2,7.830459770114942E-2,6.8571428571428575E-2,7.6048951048951055E-2,7.9487179487179482E-2,6.9565217391304349E-2,6.7595818815331013E-2,6.5121412803532008E-2,6.5585331452750348E-2,8.3333333333333329E-2,7.5822603719599424E-2,7.7202543142597641E-2,7.5837742504409167E-2,7.5249320036264736E-2,7.2390572390572394E-2,7.1527508449221566E-2,7.1548745487325788E-2,7.0078399655497475E-2]
["Aged 55 - 59 years",{"$f":"B82/B$89","v":6.2868369351669937E-2},7.0861331704337199E-2,6.3447501403705781E-2,6.132404181184669E-2,6.2244062244062245E-2,6.7901234567901231E-2,6.0341405319571259E-2,5.7823129251700682E-2,6.7528735632183909E-2,6.4000000000000001E-2,6.555944055944056E-2,7.5641025641025636E-2,5.9627329192546583E-2,6.132404181184669E-2,6.2913907284768214E-2,5.6417489421720736E-2,7.4829931972789115E-2,6.7238912732474967E-2,6.5395095367847406E-2,6.7901234567901231E-2,7.162284678150499E-2,6.471380471380471E-2,6.3341459360629404E-2,6.3031140141393535E-2,6.1114820303212886E-2]
["Aged 60 - 64 years",{"$f":"B83/B$89","v":5.5571147909065394E-2},6.2919975565058031E-2,5.6148231330713082E-2,5.4355400696864113E-2,5.4327054327054328E-2,5.9964726631393295E-2,5.279872965462485E-2,5.0340136054421766E-2,5.7471264367816091E-2,5.6000000000000001E-2,5.7692307692307696E-2,6.7948717948717943E-2,5.46583850931677E-2,5.4355400696864113E-2,5.6291390728476824E-2,4.7249647390691117E-2,6.4625850340136057E-2,6.0085836909871244E-2,5.9945504087193457E-2,5.9964726631393295E-2,6.6183136899365363E-2,5.7104377104377102E-2,5.4878386614216852E-2,5.5412842457648631E-2,5.3032400245349484E-2]
["Aged 65 - 69 years",{"$f":"B84/B$89","v":5.7255122088127983E-2},7.0250458155161885E-2,6.1201572150477258E-2,5.9233449477351915E-2,5.7603057603057603E-2,6.6137566137566134E-2,5.3592695514092896E-2,4.8299319727891157E-2,6.17816091954023E-2,6.0571428571428575E-2,6.555944055944056E-2,7.6923076923076927E-2,5.8385093167701865E-2,5.9233449477351915E-2,6.0706401766004413E-2,4.5133991537376586E-2,7.1428571428571425E-2,6.2947067238912732E-2,6.4486830154405081E-2,6.6137566137566134E-2,7.6155938349954669E-2,6.1481481481481484E-2,5.7440855449055347E-2,5.8446392227227938E-2,5.4861665228223874E-2]
["Aged 70 - 74 years",{"$f":"B85/B$89","v":4.266067920291889E-2},5.8338423946243126E-2,4.4357102751263332E-2,4.7386759581881537E-2,4.3680043680043683E-2,5.3791887125220456E-2,4.0889241762604209E-2,3.4013605442176874E-2,4.8850574712643681E-2,4.4571428571428574E-2,4.9825174825174824E-2,6.5384615384615388E-2,4.5962732919254658E-2,4.7386759581881537E-2,4.4150110375275942E-2,3.3145275035260928E-2,5.7823129251700682E-2,4.4349070100143065E-2,5.0862851952770211E-2,5.3791887125220456E-2,6.527651858567543E-2,4.7878787878787882E-2,4.3991356861876003E-2,4.6150834118613947E-2,4.3086337326595267E-2]
["Aged 75 - 79 years",{"$f":"B86/B$89","v":3.0592197586303677E-2},4.5815516188149052E-2,3.2004491858506456E-2,3.6236933797909411E-2,3.3306033306033309E-2,4.0564373897707229E-2,3.2552600238189761E-2,2.5850340136054421E-2,3.8793103448275863E-2,3.2000000000000001E-2,3.4965034965034968E-2,4.8717948717948718E-2,3.2298136645962733E-2,3.6236933797909411E-2,3.2008830022075052E-2,2.7503526093088856E-2,4.0816326530612242E-2,2.8612303290414878E-2,3.9055404178019983E-2,4.0564373897707229E-2,5.2583862194016319E-2,3.6094276094276095E-2,3.4018505180342398E-2,3.461043627178885E-2,3.2496141535533159E-2]
["Aged 80 - 84 years",{"$f":"B87/B$89","v":2.2452989054167836E-2},3.39034819792303E-2,2.2459292532285232E-2,2.7177700348432057E-2,2.3478023478023479E-2,2.9100529100529099E-2,2.3421992854307266E-2,1.8367346938775512E-2,2.8017241379310345E-2,2.2857142857142857E-2,2.2727272727272728E-2,3.8461538461538464E-2,2.3602484472049691E-2,2.7177700348432057E-2,2.3178807947019868E-2,2.1156558533145273E-2,3.2312925170068028E-2,2.1459227467811159E-2,2.633969118982743E-2,2.9100529100529099E-2,3.8077969174977334E-2,2.6127946127946129E-2,2.4599700814449555E-2,2.5892745728288605E-2,2.4343156359636027E-2]
["Aged 85 and over",{"$f":"B88/B$89","v":2.0769014875105248E-2},3.2987171655467315E-2,2.3020774845592364E-2,2.5783972125435539E-2,2.1294021294021293E-2,2.5573192239858905E-2,2.1834061135371178E-2,1.6326530612244899E-2,2.6580459770114941E-2,2.2857142857142857E-2,2.0104895104895104E-2,3.8461538461538464E-2,2.1118012422360249E-2,2.5783972125435539E-2,2.3178807947019868E-2,1.9040902679830749E-2,3.0612244897959183E-2,2.1459227467811159E-2,2.5431425976385105E-2,2.5573192239858905E-2,3.7171350861287401E-2,2.4713804713804712E-2,2.3062219513546457E-2,2.555496749153403E-2,2.4030136733486404E-2]
[{"$f":"A89","v":"Total"},{"$f":"B89/B$89","v":1},1,1,1,1,1,1,1,1,1,1,1,1,1,1,1,1,1,1,1,1,1,1,1,1]
[]
["Age Group, 2016, %"]
["0-14",{"$f":"B92/B$89","v":0.19758630367667696},{"$f":"C92/C$89","v":0.15760537568723273},0.19595732734418866,0.15609756097560976,0.1769041769041769,0.16049382716049382,{"$f":"H92/H$89","v":0.1794362842397777},0.21972789115646257,0.17241379310344829,0.19314285714285714,0.17132867132867133,0.14615384615384616,0.1937888198757764,0.15609756097560976,0.19977924944812361,0.18617771509167841,0.1598639455782313,0.18454935622317598,0.17075386012715713,0.16049382716049382,0.14687216681776971,0.17663299663299664,0.17841708681921437,0.17695276698465154,0.17962622199786132]
["15-19",{"$f":"B93/B$89","v":6.1745719898961549E-2},5.4367745876603542E-2,5.6148231330713082E-2,6.898954703832752E-2,5.7876057876057874E-2,6.7901234567901231E-2,{"$f":"H93/H$89","v":6.0341405319571259E-2},6.6666666666666666E-2,5.6752873563218391E-2,5.7142857142857141E-2,5.2447552447552448E-2,0.05,5.8385093167701865E-2,6.898954703832752E-2,5.6291390728476824E-2,6.488011283497884E-2,6.1224489795918366E-2,5.4363376251788269E-2,5.4495912806539509E-2,6.7901234567901231E-2,5.3490480507706259E-2,5.9663299663299661E-2,5.8230372873843424E-2,5.8321607910465104E-2,5.7526855455497836E-2]
["20-24",{"$f":"B94/B$89","v":5.5290485545888293E-2},5.0702504581551622E-2,5.5025266704098824E-2,0.1059233449477352,6.9615069615069622E-2,7.5837742504409167E-2,{"$f":"H94/H$89","v":7.8205637157602217E-2},6.1224489795918366E-2,5.8189655172413791E-2,5.8285714285714288E-2,4.9825174825174824E-2,3.9743589743589741E-2,5.8385093167701865E-2,0.1059233449477352,5.1876379690949229E-2,0.10084626234132581,4.2517006802721087E-2,5.007153075822604E-2,4.9046321525885561E-2,7.5837742504409167E-2,4.8957388939256573E-2,6.4309764309764303E-2,6.6014737658596043E-2,6.434567837487791E-2,6.4413287230789554E-2]
["25-34",{"$f":"B95/B$89","v":0.1243334268874544},0.1062919975565058,0.13475575519371139,0.11986062717770035,0.13022113022113022,0.10229276895943562,{"$f":"H95/H$89","v":0.1333862643906312},0.13537414965986394,0.11997126436781609,0.13142857142857142,0.12325174825174826,9.4871794871794868E-2,0.13043478260869565,0.11986062717770035,0.13686534216335541,0.14456981664315938,9.1836734693877556E-2,0.12017167381974249,0.11898274296094459,0.10229276895943562,9.7008159564823213E-2,0.12080808080808081,0.13286054629065322,0.12632475763873649,0.13680947960939494]
["35-44",{"$f":"B96/B$89","v":0.1237721021611002},0.1062919975565058,0.12128017967434025,0.1059233449477352,0.12448812448812449,0.10405643738977072,{"$f":"H96/H$89","v":0.1222707423580786},0.12925170068027211,0.11135057471264367,0.11885714285714286,0.13111888111888112,0.10512820512820513,0.12049689440993788,0.1059233449477352,0.12251655629139073,0.12200282087447109,0.11054421768707483,0.12732474964234622,0.1226158038147139,0.10405643738977072,0.10154125113327289,0.11663299663299663,0.12096238018726799,0.12262210575685992,0.12832538118733952]
["45-54",{"$f":"B97/B$89","v":0.14538310412573674},0.14966401954795358,0.13475575519371139,0.13240418118466898,0.14496314496314497,0.14638447971781304,{"$f":"H97/H$89","v":0.1409289400555776},0.13537414965986394,0.15229885057471265,0.13828571428571429,0.15297202797202797,0.15128205128205127,0.14285714285714285,0.13240418118466898,0.13245033112582782,0.13258110014104371,0.16326530612244897,0.15450643776824036,0.15168029064486829,0.14638447971781304,0.14505893019038985,0.14397306397306397,0.14219624355919996,0.14233587635165082,0.14033773551108145]
["55-64",{"$f":"B98/B$89","v":0.11843951726073533},0.13378130726939524,0.11959573273441887,0.1156794425087108,0.11657111657111657,0.12786596119929453,{"$f":"H98/H$89","v":0.11314013497419612},0.10816326530612246,0.125,0.12,0.12325174825174826,0.14358974358974358,0.11428571428571428,0.1156794425087108,0.11920529801324503,0.10366713681241185,0.13945578231292516,0.12732474964234622,0.12534059945504086,0.12786596119929453,0.13780598368087035,0.12181818181818181,0.11821984597484625,0.11844398259904217,0.11414722054856237]
["65+",{"$f":"B99/B$89","v":0.17373000280662362},0.24129505192425169,0.18304323413812465,0.19581881533101045,0.17936117936117937,0.21516754850088182,{"$f":"H99/H$89","v":0.1722905915045653},0.14285714285714285,0.20402298850574713,0.18285714285714286,0.19318181818181818,0.26794871794871794,0.1813664596273292,0.19581881533101045,0.18322295805739514,0.14598025387870239,0.23299319727891157,0.17882689556509299,0.2061762034514078,0.21516754850088182,0.26926563916591117,0.1962962962962963,0.18311263781926976,0.19065537583745337,0.17881743718347473]
[]
[]
["Population by Gender, 2011, %"]
["0-14",0.49551218362157518,0.49078321310994788,0.49392510246476895,0.49271514872802524,0.49929287137903733,0.48660946552499534,0.49840623374973703,0.49937775843426341,0.49394734006250224,0.49372729142387056,0.50124616312931236,0.48919092191306579,0.49413313135577436,0.49271514872802524,0.49411621848368437,0.50600489418269268,0.49100737769013703,0.49275963712331511,0.48862129715396213,0.48660946552499534,0.48791503795539676,0.49369914491331418,0.4932238151493506,0.49314850901486496,0.49397276731245188]
["15-19",0.50448781637842477,0.50921678689005212,0.50607489753523105,0.50728485127197476,0.50070712862096267,0.5133905344750046,0.50159376625026297,0.50062224156573654,0.50605265993749771,0.50627270857612938,0.49875383687068764,0.51080907808693421,0.50586686864422559,0.50728485127197476,0.50588378151631563,0.49399510581730738,0.50899262230986297,0.50724036287668484,0.51137870284603792,0.5133905344750046,0.5120849620446033,0.50630085508668576,0.50677618485064946,0.50685149098513504,0.50602723268754812]
[]
[]
["Population by Ethnicity, 2011, %"]
["White",0.82799999999999996,0.97400000000000009,0.83599999999999997,0.95599999999999996,0.90400000000000003,0.98099999999999998,0.87599999999999989,0.69200000000000006,0.96700000000000008,0.87400000000000011,0.96900000000000008,0.97499999999999998,0.877,0.95599999999999996,0.79900000000000004,0.80200000000000005,0.97900000000000009,0.93799999999999994,0.97099999999999997,0.98099999999999998,0.98199999999999998,0.90400000000000003,0.85400000000000009,0.90200000000000002,0.90099999999999991]
["Mixed/multiple ethnic groups",0.01,0.01,1.1000000000000001E-2,0.01,1.4999999999999999E-2,8.0000000000000002E-3,1.8000000000000002E-2,1.2E-2,1.2E-2,1.1000000000000001E-2,9.0000000000000011E-3,0.01,9.0000000000000011E-3,0.01,1.1000000000000001E-2,2.4E-2,6.0000000000000001E-3,9.0000000000000011E-3,1.1000000000000001E-2,8.0000000000000002E-3,6.0000000000000001E-3,1.1000000000000001E-2,2.3E-2,1.6E-2,1.8000000000000002E-2]
["Asian/Asian British",0.155,1.3000000000000001E-2,0.14899999999999999,2.7000000000000003E-2,7.0000000000000007E-2,8.0000000000000002E-3,9.4E-2,0.28100000000000003,1.6E-2,0.11,1.6E-2,1.1000000000000001E-2,0.11199999999999999,2.7000000000000003E-2,0.188,0.155,1.3000000000000001E-2,0.05,1.4999999999999999E-2,8.0000000000000002E-3,9.0000000000000011E-3,7.9000000000000001E-2,7.8E-2,6.2E-2,5.9000000000000004E-2]
["Black/African/Caribbean/Black British",4.0000000000000001E-3,2E-3,2E-3,5.0000000000000001E-3,6.9999999999999993E-3,2E-3,8.0000000000000002E-3,6.0000000000000001E-3,2E-3,2E-3,4.0000000000000001E-3,2E-3,1E-3,5.0000000000000001E-3,1E-3,1.2E-2,2E-3,2E-3,2E-3,2E-3,1E-3,4.0000000000000001E-3,3.5000000000000003E-2,1.3999999999999999E-2,1.7000000000000001E-2]
["Other ethnic group",4.0000000000000001E-3,2E-3,2E-3,2E-3,4.0000000000000001E-3,1E-3,5.0000000000000001E-3,8.0000000000000002E-3,2E-3,3.0000000000000001E-3,2E-3,2E-3,2E-3,2E-3,2E-3,8.0000000000000002E-3,1E-3,1E-3,1E-3,1E-3,1E-3,3.0000000000000001E-3,0.01,6.0000000000000001E-3,6.0000000000000001E-3]
[]
[]
["Population by Disability, 2011, %"]
["Day-to-day activities not limited",0.80061527663392174,0.75890051632362832,0.78293137538170421,0.80540560072267386,0.81802342220002577,0.79999096535212544,0.81897945510493098,0.79767304680349038,0.7442649491429979,0.77478491597652166,0.81579954271849187,0.78136673838721171,0.78258230733024503,0.80540560072267386,0.79085990251755134,0.81822655882227069,0.83291325351816847,0.80127092465652672,0.81994736697323423,0.79999096535212544,0.76240150720656341,0.79383568817154981,0.79767878769917433,0.8172236301759771,0.82357757580595781]
["Day-to-day activities limited a little",9.8602750348817131E-2,0.11900015664785868,0.10733042133351463,0.10244625112917796,9.3714051636579934E-2,9.8712562677869625E-2,9.3432935219992061E-2,9.6807219521455837E-2,0.12025481293773976,0.10931667030404668,9.4367971629881947E-2,0.11502567419512388,0.10404538360542027,0.10244625112917796,0.1053973080534812,9.1867448395885939E-2,9.5743191206329209E-2,9.843782177635256E-2,9.5445500976553549E-2,9.8712562677869625E-2,0.12014032612831674,0.10338265704606703,9.965149768645909E-2,9.6829500263333881E-2,9.3321313013681156E-2]
["Day-to-day activities limited a lot",0.10078197301726115,0.12209932702851298,0.10973820328478112,9.2148148148148146E-2,8.826252616339425E-2,0.10129647197000496,8.7587609675076922E-2,0.10551973367505374,0.13548023791926231,0.11589841371943164,8.9832485651626146E-2,0.10360758741766438,0.11337230906433472,9.2148148148148146E-2,0.10374278942896749,8.9905992781843344E-2,7.1343555275502346E-2,0.10029125356712071,8.460713205021228E-2,0.10129647197000496,0.11745816666511986,0.1027816547823831,0.10266971461436659,8.594686956068906E-2,8.3101111180361079E-2]
[]
[]
["Source: Mid-Year Population Estimates and 2011 Census"]
["Description: Population by age group, gender, ethnicity and disability"]
["Years: 2006, 2011 and 2016"]
["http://nomisweb.co.uk/ "]

{"sheet":"LS3. Population Change by Age","index":7,"n_rows":74,"n_cols":28,"rows_kept":74,"cut":false,"hidden":false,"merged":[]}
["LS3. Population Change by Age",null,"Return to Contents",null,"Return to TTWA Summary",null,null,null,"Return to LA Summary"]
[null,"Blackburn with Darwen, Hyndburn, Rossendale and Ribble Valley","Blackpool, Fylde and Wyre","Burnley and Pendle","Lancaster and Morecambe ","Preston, Chorley and South Ribble ","West Lancashire ","Preston and South Ribble City Deal","Blackburn with Darwen ","Blackpool","Burnley","Chorley ","Fylde","Hyndburn","Lancaster ","Pendle ","Preston","Ribble Valley","Rossendale ","South Ribble ","West Lancashire ","Wrye ","Lancashire ","North West ","England Minus London","England",{"$f":"#REF!","v":{"$error":"#REF!"}},{"$f":"#REF!","v":{"$error":"#REF!"}}]
["Change 2006-16",null,null,null,null,null,null,null,null,null,null,null,null,null,null,null,null,null,null,null,null,null,null,null,null,null,{"$f":"#REF!","v":{"$error":"#REF!"}},{"$f":"#REF!","v":{"$error":"#REF!"}}]
["Aged under 1 year",-200,0,100,100,0,-200,{"$f":"SUM(Q4,T4)","v":100},-100,100,0,0,0,-100,100,100,100,0,0,0,-200,-100,-100,3800,32700,46300]
["Aged 1 - 4 years",800,1100,1100,1200,2000,0,{"$f":"SUM(Q5,T5)","v":1400},300,800,400,700,300,200,1200,700,1000,-100,400,400,0,100,6100,44800,314700,419600]
["Aged 5 - 9 years",1000,300,1100,300,2800,-300,1900,500,0,600,1000,300,0,300,600,1400,-100,500,500,-300,-100,5400,39800,314500,441200]
["Aged 10 - 14 years",-2200,-2500,-1400,-1000,-1400,-1100,-1200,-500,-1100,-900,-200,-400,-1000,-1000,-600,-500,-300,-500,-700,-1100,-900,-9700,-40500,-157900,-111700]
["Aged 15 - 19 years",-2400,-2500,-2700,100,-2300,400,-2000,-600,-1200,-1400,-400,-400,-900,100,-1100,-900,-100,-800,-1100,400,-1000,-9400,-48500,-126700,-111600]
["Aged 20 - 24 years",0,300,-900,2100,-900,1900,-1300,-400,-100,-200,300,0,-100,2100,-700,-1200,300,200,-100,1900,400,2600,8900,209900,204700]
["Aged 25 - 29 years",1900,2300,1300,1300,3400,1000,2200,100,900,600,1200,400,500,1300,600,1300,500,700,900,1000,900,11000,74300,390900,467100]
["Aged 30 - 34 years",-300,-300,1200,300,-400,-900,-400,200,-500,400,100,100,-100,300,800,0,-300,-100,-400,-900,0,-500,29700,141600,278700]
["Aged 35 - 39 years",-5400,-6600,-1700,-1700,-4500,-2500,-3100,-1500,-3200,-1100,-1400,-1300,-1500,-1700,-700,-1100,-1500,-1000,-2000,-2500,-2000,-22300,-82200,-426600,-332400]
["Aged 40 - 44 years",-3600,-6300,-2000,-1900,-3000,-1900,-2500,-800,-3000,-1200,-400,-1400,-1100,-1900,-800,-1200,-1100,-700,-1300,-1900,-1900,-18800,-84000,-423100,-382500]
["Aged 45 - 49 years",2900,900,100,400,2800,200,1500,1200,500,0,1300,100,600,400,100,800,400,700,700,200,200,7500,36000,309400,415200]
["Aged 50 - 54 years",3800,4700,500,1800,5300,1500,3400,1300,2000,500,1800,1300,700,1800,100,1800,1000,800,1600,1500,1500,17700,94200,654400,806100]
["Aged 55 - 59 years",-400,-100,-900,-100,-500,-500,-100,200,-400,-500,-500,400,-500,-100,-400,400,0,-200,-500,-500,-100,-2700,600,32200,105400]
["Aged 60 - 64 years",1600,-400,600,200,1100,-200,1000,1100,-500,200,200,200,0,200,400,800,0,500,200,-200,0,2800,25100,163800,228700]
["Aged 65 - 69 years",5800,4200,3300,2000,5700,1700,3000,1900,1000,1500,2600,1700,1100,2000,1800,1100,1200,1700,1900,1700,1500,22600,98300,734900,807100]
["Aged 70 - 74 years",3000,2600,1400,900,3100,1300,1200,500,400,700,1900,1100,800,900,700,-100,800,800,1300,1300,1100,12300,46500,417100,442100]
["Aged 75 - 79 years",800,700,200,300,1900,1100,700,100,0,100,1100,100,100,300,100,0,400,100,700,1100,600,5000,22200,152000,162800]
["Aged 80 - 84 years",500,500,-200,300,1000,800,600,0,-200,-100,400,300,100,300,0,200,400,0,400,800,400,2800,15600,117300,128300]
["Aged 85 and over",1300,1800,600,400,1900,800,1400,200,100,300,500,600,200,400,400,500,600,400,900,800,1200,6900,33500,261600,288200]
["Total",8800,400,1700,6800,18200,3100,7600,3900,-4500,-100,10600,3200,-1000,6800,1800,4000,2100,3700,3600,3100,1900,39000,318000,3112800,4302900]
[]
[]
["% Change 2006-16"]
["Aged under 1 year",-4.2553191489361701E-2,0,4.1666666666666664E-2,7.1428571428571425E-2,0,-0.16666666666666666,3.3333333333333333E-2,-4.3478260869565216E-2,6.25E-2,0,0,0,-9.0909090909090912E-2,7.1428571428571425E-2,8.3333333333333329E-2,5.5555555555555552E-2,0,0,0,-0.16666666666666666,-0.1,-5.8479532163742687E-3,4.5838359469240045E-2,6.4433497536945813E-2,7.4341682723185615E-2]
["Aged 1 - 4 years",4.4444444444444446E-2,8.7301587301587297E-2,0.12643678160919541,0.23529411764705882,0.12820512820512819,0,0.12844036697247707,3.5294117647058823E-2,0.13114754098360656,9.3023255813953487E-2,0.15217391304347827,0.12,4.7619047619047616E-2,0.23529411764705882,0.15909090909090909,0.15625,-4.5454545454545456E-2,0.13333333333333333,8.8888888888888892E-2,0,2.5000000000000001E-2,9.4135802469135804E-2,0.14391262447799549,0.1623336428350356,0.17929325300175192]
["Aged 5 - 9 years",4.3103448275862072E-2,1.7241379310344827E-2,0.1,4.1095890410958902E-2,0.14141414141414141,-4.5454545454545456E-2,0.1366906474820144,4.7619047619047616E-2,0,0.11320754716981132,0.17241379310344829,7.8947368421052627E-2,0,4.1095890410958902E-2,0.10526315789473684,0.17948717948717949,-2.9411764705882353E-2,0.125,8.1967213114754092E-2,-4.5454545454545456E-2,-1.7543859649122806E-2,6.3380281690140844E-2,9.8661378284581061E-2,0.12410717809084093,0.14770178433932576]
["Aged 10 - 14 years",-8.7649402390438252E-2,-0.12820512820512819,-0.11764705882352941,-0.125,-6.4516129032258063E-2,-0.15068493150684931,-7.8947368421052627E-2,-4.6296296296296294E-2,-0.12790697674418605,-0.15,-3.0769230769230771E-2,-9.3023255813953487E-2,-0.16949152542372881,-0.125,-0.1,-5.9523809523809521E-2,-7.8947368421052627E-2,-0.10638297872340426,-0.10294117647058823,-0.15068493150684931,-0.13846153846153847,-0.10374331550802139,-9.1504744690465434E-2,-5.7615120776472302E-2,-3.5103708359522312E-2]
["Aged 15 - 19 years",-9.8360655737704916E-2,-0.12315270935960591,-0.2125984251968504,1.020408163265306E-2,-9.7872340425531917E-2,5.4794520547945202E-2,-0.11627906976744186,-5.7692307692307696E-2,-0.13186813186813187,-0.21875,-6.25E-2,-9.3023255813953487E-2,-0.16071428571428573,1.020408163265306E-2,-0.17741935483870969,-8.9108910891089105E-2,-2.7027027027027029E-2,-0.17391304347826086,-0.15492957746478872,5.4794520547945202E-2,-0.14492753623188406,-9.5918367346938774E-2,-0.10343356792493069,-4.4651982378854628E-2,-3.3910665451230629E-2]
["Aged 20 - 24 years",0,1.8404907975460124E-2,-8.4112149532710276E-2,0.16030534351145037,-3.4090909090909088E-2,0.28358208955223879,-6.1904761904761907E-2,-4.2553191489361701E-2,-1.2195121951219513E-2,-3.7735849056603772E-2,5.5555555555555552E-2,0,-2.0833333333333332E-2,0.16030534351145037,-0.12962962962962962,-7.7419354838709681E-2,0.13636363636363635,6.0606060606060608E-2,-1.8181818181818181E-2,0.28358208955223879,0.08,2.7987082884822389E-2,1.9029292281376953E-2,7.5479161422561045E-2,6.1007957559681698E-2]
["Aged 25 - 29 years",9.4527363184079602E-2,0.14838709677419354,0.12380952380952381,0.16455696202531644,0.15887850467289719,0.18867924528301888,0.14102564102564102,1.0526315789473684E-2,0.11538461538461539,0.11764705882352941,0.20689655172413793,0.125,0.10416666666666667,0.16455696202531644,0.1111111111111111,0.13131313131313133,0.21739130434782608,0.2,0.15789473684210525,0.18867924528301888,0.19565217391304349,0.13630731102850063,0.17779373055754966,0.1506648679899788,0.13966213185827478]
["Aged 30 - 34 years",-1.3274336283185841E-2,-1.7341040462427744E-2,0.10909090909090909,3.896103896103896E-2,-1.7167381974248927E-2,-0.14516129032258066,-2.4691358024691357E-2,1.9801980198019802E-2,-5.8823529411764705E-2,7.407407407407407E-2,1.4285714285714285E-2,2.7027027027027029E-2,-1.8867924528301886E-2,3.896103896103896E-2,0.14285714285714285,0,-0.10344827586206896,-2.3255813953488372E-2,-5.7971014492753624E-2,-0.14516129032258066,0,-5.6689342403628117E-3,6.7916761948319235E-2,5.1592217445165053E-2,8.0296176784119391E-2]
["Aged 35 - 39 years",-0.20300751879699247,-0.28695652173913044,-0.13492063492063491,-0.18478260869565216,-0.17110266159695817,-0.32467532467532467,-0.17222222222222222,-0.13636363636363635,-0.30188679245283018,-0.17460317460317459,-0.16666666666666666,-0.25490196078431371,-0.24193548387096775,-0.18478260869565216,-0.1111111111111111,-0.11224489795918367,-0.34883720930232559,-0.19230769230769232,-0.24390243902439024,-0.32467532467532467,-0.27397260273972601,-0.21157495256166983,-0.16026515890037044,-0.13230778773687313,-8.5463053427263846E-2]
["Aged 40 - 44 years",-0.13584905660377358,-0.25506072874493929,-0.15748031496062992,-0.19791666666666666,-0.11194029850746269,-0.22352941176470589,-0.1358695652173913,-7.7669902912621352E-2,-0.27027027027027029,-0.1875,-4.7619047619047616E-2,-0.2413793103448276,-0.18032786885245902,-0.19791666666666666,-0.12698412698412698,-0.12244897959183673,-0.22916666666666666,-0.12962962962962962,-0.15116279069767441,-0.22352941176470589,-0.24358974358974358,-0.17263544536271808,-0.15951386251424232,-0.12725194742699028,-9.7631323702077694E-2]
["Aged 45 - 49 years",0.1228813559322034,3.9647577092511016E-2,8.2644628099173556E-3,4.49438202247191E-2,0.11814345991561181,2.564102564102564E-2,9.2592592592592587E-2,0.13043478260869565,5.1020408163265307E-2,0,0.17333333333333334,1.8181818181818181E-2,0.11320754716981132,4.49438202247191E-2,1.6666666666666666E-2,9.1954022988505746E-2,9.3023255813953487E-2,0.14583333333333334,9.3333333333333338E-2,2.564102564102564E-2,2.6666666666666668E-2,7.5910931174089064E-2,7.5917334458034585E-2,0.10379763821792808,0.11972663571613945]
["Aged 50 - 54 years",0.17674418604651163,0.22705314009661837,4.4247787610619468E-2,0.22784810126582278,0.24882629107981222,0.21126760563380281,0.2361111111111111,0.15853658536585366,0.2247191011235955,9.0909090909090912E-2,0.2608695652173913,0.26530612244897961,0.14285714285714285,0.22784810126582278,1.7241379310344827E-2,0.24,0.25641025641025639,0.17777777777777778,0.2318840579710145,0.21126760563380281,0.22058823529411764,0.19710467706013363,0.22311700615821886,0.24498352800239592,0.2628301271600913]
["Aged 55 - 59 years",-1.7543859649122806E-2,-4.2918454935622317E-3,-7.3770491803278687E-2,-1.1235955056179775E-2,-2.1459227467811159E-2,-6.097560975609756E-2,-6.5359477124183009E-3,2.4096385542168676E-2,-4.0816326530612242E-2,-8.1967213114754092E-2,-6.25E-2,7.2727272727272724E-2,-9.4339622641509441E-2,-1.1235955056179775E-2,-6.5573770491803282E-2,5.2631578947368418E-2,0,-4.0816326530612242E-2,-6.4935064935064929E-2,-6.097560975609756E-2,-1.2500000000000001E-2,-2.7327935222672066E-2,1.3137727173199037E-3,1.1113028472821397E-2,3.2209760718760506E-2]
["Aged 60 - 64 years",8.7912087912087919E-2,-1.9047619047619049E-2,6.3829787234042548E-2,2.6315789473684209E-2,5.8510638297872342E-2,-2.8571428571428571E-2,8.1300813008130079E-2,0.17460317460317459,-5.8823529411764705E-2,4.2553191489361701E-2,3.125E-2,3.9215686274509803E-2,0,2.6315789473684209E-2,8.5106382978723402E-2,0.13559322033898305,0,0.13513513513513514,3.125E-2,-2.8571428571428571E-2,0,3.4146341463414637E-2,6.7636755591484771E-2,6.7916079276888627E-2,8.4631610109906372E-2]
["Aged 65 - 69 years",0.39726027397260272,0.22340425531914893,0.43421052631578949,0.30769230769230771,0.37012987012987014,0.29310344827586204,0.2857142857142857,0.36538461538461536,0.13157894736842105,0.39473684210526316,0.53061224489795922,0.39534883720930231,0.30555555555555558,0.30769230769230771,0.48648648648648651,0.20754716981132076,0.4,0.62962962962962965,0.36538461538461536,0.29310344827586204,0.21739130434782608,0.32896652110625912,0.31068268015170669,0.3708432154211031,0.36274157303370785]
["Aged 70 - 74 years",0.24590163934426229,0.15757575757575756,0.2153846153846154,0.15254237288135594,0.24031007751937986,0.27083333333333331,0.13186813186813187,0.1111111111111111,6.25E-2,0.21875,0.5,0.27500000000000002,0.27586206896551724,0.15254237288135594,0.21212121212121213,-2.0833333333333332E-2,0.30769230769230771,0.34782608695652173,0.30232558139534882,0.27083333333333331,0.18032786885245902,0.20918367346938777,0.17152342309111029,0.24137731481481481,0.22798061056105612]
["Aged 75 - 79 years",7.9207920792079209E-2,4.8951048951048952E-2,3.6363636363636362E-2,6.1224489795918366E-2,0.18446601941747573,0.31428571428571428,9.3333333333333338E-2,2.7027027027027029E-2,0,3.7037037037037035E-2,0.37931034482758619,2.7027027027027029E-2,0.04,6.1224489795918366E-2,3.5714285714285712E-2,0,0.2,5.2631578947368418E-2,0.19444444444444445,0.31428571428571428,0.11538461538461539,0.102880658436214,9.9373321396598033E-2,0.10434543831948925,9.9681606661768313E-2]
["Aged 80 - 84 years",6.6666666666666666E-2,4.716981132075472E-2,-4.7619047619047616E-2,8.3333333333333329E-2,0.13157894736842105,0.32,0.11320754716981132,0,-4.878048780487805E-2,-4.7619047619047616E-2,0.18181818181818182,0.1111111111111111,5.5555555555555552E-2,8.3333333333333329E-2,0,7.1428571428571425E-2,0.26666666666666666,0,0.16,0.32,0.10526315789473684,7.7777777777777779E-2,9.6296296296296297E-2,0.10799116184864666,0.10541450990058335]
["Aged 85 and over",0.21311475409836064,0.2,0.17142857142857143,0.12121212121212122,0.32203389830508472,0.38095238095238093,0.34146341463414637,9.0909090909090912E-2,2.7777777777777776E-2,0.17647058823529413,0.27777777777777779,0.25,0.13333333333333333,0.12121212121212122,0.23529411764705882,0.22727272727272727,0.5,0.36363636363636365,0.47368421052631576,0.38095238095238093,0.41379310344827586,0.23154362416107382,0.25187969924812031,0.28244439645864822,0.27714203288777767]
["Total",2.5323741007194246E-2,1.2232415902140672E-3,9.6371882086167798E-3,4.9743964886613021E-2,5.2283826486641767E-2,2.8105167724388033E-2,3.1109291854277528E-2,2.7253668763102725E-2,-3.1315240083507306E-2,-1.1415525114155251E-3,0.10211946050096339,4.2780748663101602E-2,-1.2269938650306749E-2,4.9743964886613021E-2,2.0270270270270271E-2,2.9027576197387519E-2,3.7037037037037035E-2,5.5891238670694864E-2,3.3802816901408447E-2,2.8105167724388033E-2,1.7527675276752766E-2,2.6970954356846474E-2,4.6076272168772456E-2,7.177741806057085E-2,8.4428198064561699E-2]
[]
[]
["Age Group Change 2006-16"]
["0-14",{"$f":"SUM(B4:B7)","v":-600},{"$f":"SUM(C4:C7)","v":-1100},900,600,3400,-1600,{"$f":"SUM(Q50,T50)","v":2200},{"$f":"SUM(I4:I7)","v":200},-200,100,1500,200,-900,600,800,2000,-500,400,200,-1600,-1000,1700,47900,504000,795400,{"$f":"IF(SUM(AA4:AA19)=0,\"..\",SUM(AA4:AA19))","v":".."},{"$f":"IF(SUM(AB4:AB19)=0,\"..\",SUM(AB4:AB19))","v":".."}]
["15-19",{"$f":"B8","v":-2400},{"$f":"C8","v":-2500},-2700,100,-2300,400,-2000,-600,-1200,-1400,-400,-400,-900,100,-1100,-900,-100,-800,-1100,400,-1000,-9400,-48500,-126700,-111600,{"$f":"IF(SUM(AA20:AA23)=0,\"..\",SUM(AA20:AA23))","v":".."},{"$f":"IF(SUM(AB20:AB23)=0,\"..\",SUM(AB20:AB23))","v":".."}]
["20-24",{"$f":"B9","v":0},{"$f":"C9","v":300},-900,2100,-900,1900,-1300,-400,-100,-200,300,0,-100,2100,-700,-1200,300,200,-100,1900,400,2600,8900,209900,204700,{"$f":"IF(SUM(AA24:AA28)=0,\"..\",SUM(AA24:AA28))","v":".."},{"$f":"IF(SUM(AB24:AB28)=0,\"..\",SUM(AB24:AB28))","v":".."}]
["25-34",{"$f":"SUM(B10:B11)","v":1600},{"$f":"SUM(C10:C11)","v":2000},2500,1600,3000,100,1800,300,400,1000,1300,500,400,1600,1400,1300,200,600,500,100,900,10500,104000,532500,745800,{"$f":"IF(SUM(AA29:AA38)=0,\"..\",SUM(AA29:AA38))","v":".."},{"$f":"IF(SUM(AB29:AB38)=0,\"..\",SUM(AB29:AB38))","v":".."}]
["35-44",{"$f":"SUM(B12:B13)","v":-9000},{"$f":"SUM(C12:C13)","v":-12900},-3700,-3600,-7500,-4400,-5600,-2300,-6200,-2300,-1800,-2700,-2600,-3600,-1500,-2300,-2600,-1700,-3300,-4400,-3900,-41100,-166200,-849700,-714900,{"$f":"IF(SUM(AA39:AA46)=0,\"..\",SUM(AA39:AA46))","v":".."},{"$f":"IF(SUM(AB39:AB46)=0,\"..\",SUM(AB39:AB46))","v":".."}]
["45-54",{"$f":"SUM(B14:B15)","v":6700},{"$f":"SUM(C14:C15)","v":5600},600,2200,8100,1700,4900,2500,2500,500,3100,1400,1300,2200,200,2600,1400,1500,2300,1700,1700,25200,130200,963800,1221300,{"$f":"IF(SUM(#REF!)=0,\"..\",SUM(#REF!))","v":{"$error":"#REF!"}},{"$f":"IF(SUM(#REF!)=0,\"..\",SUM(#REF!))","v":{"$error":"#REF!"}}]
["55-64",{"$f":"SUM(B16:B17)","v":1200},{"$f":"SUM(C16:C17)","v":-500},-300,100,600,-700,900,1300,-900,-300,-300,600,-500,100,0,1200,0,300,-300,-700,-100,100,25700,196000,334100,{"$f":"IF(SUM(#REF!)=0,\"..\",SUM(#REF!))","v":{"$error":"#REF!"}},{"$f":"IF(SUM(#REF!)=0,\"..\",SUM(#REF!))","v":{"$error":"#REF!"}}]
["65+",{"$f":"SUM(B18:B22)","v":11400},{"$f":"SUM(C18:C22)","v":9800},5300,3900,13600,5700,6900,2700,1300,2500,6500,3800,2300,3900,3000,1700,3400,3000,5200,5700,4800,49600,216100,1682900,1828500,{"$f":"IF(SUM(#REF!)=0,\"..\",SUM(#REF!))","v":{"$error":"#REF!"}},{"$f":"IF(SUM(#REF!)=0,\"..\",SUM(#REF!))","v":{"$error":"#REF!"}}]
[]
[]
["% Age Group Change 2006-2016"]
["0-15",-8.4507042253521118E-3,-2.0872865275142316E-2,2.6470588235294117E-2,2.7522935779816515E-2,5.5374592833876218E-2,-8.0808080808080815E-2,5.1162790697674418E-2,6.2305295950155761E-3,-8.2644628099173556E-3,5.9523809523809521E-3,8.2872928176795577E-2,1.7857142857142856E-2,-5.4545454545454543E-2,2.7522935779816515E-2,4.6242774566473986E-2,8.1967213114754092E-2,-5.0505050505050504E-2,3.2000000000000001E-2,1.0752688172043012E-2,-8.0808080808080815E-2,-5.8139534883720929E-2,6.5234075211051418E-3,3.8622802773746169E-2,6.5278209511967666E-2,8.7098399071417615E-2,{"$f":"IFERROR(AA50/SUM(AA$50:AA$57),\"..\")","v":".."},".."]
["16-19",-9.8360655737704916E-2,-0.12315270935960591,-0.2125984251968504,1.020408163265306E-2,-9.7872340425531917E-2,5.4794520547945202E-2,-0.11627906976744186,-5.7692307692307696E-2,-0.13186813186813187,-0.21875,-6.25E-2,-9.3023255813953487E-2,-0.16071428571428573,1.020408163265306E-2,-0.17741935483870969,-8.9108910891089105E-2,-2.7027027027027029E-2,-0.17391304347826086,-0.15492957746478872,5.4794520547945202E-2,-0.14492753623188406,-9.5918367346938774E-2,-0.10343356792493069,-4.4651982378854628E-2,-3.3910665451230629E-2,"..",".."]
["20-24",0,1.8404907975460124E-2,-8.4112149532710276E-2,0.16030534351145037,-3.4090909090909088E-2,0.28358208955223879,-6.1904761904761907E-2,-4.2553191489361701E-2,-1.2195121951219513E-2,-3.7735849056603772E-2,5.5555555555555552E-2,0,-2.0833333333333332E-2,0.16030534351145037,-0.12962962962962962,-7.7419354838709681E-2,0.13636363636363635,6.0606060606060608E-2,-1.8181818181818181E-2,0.28358208955223879,0.08,2.7987082884822389E-2,1.9029292281376953E-2,7.5479161422561045E-2,6.1007957559681698E-2,"..",".."]
["25-34",3.7470725995316159E-2,6.097560975609756E-2,0.11627906976744186,0.10256410256410256,6.7114093959731544E-2,8.6956521739130436E-3,5.6603773584905662E-2,1.5306122448979591E-2,2.4539877300613498E-2,9.5238095238095233E-2,0.1015625,7.2463768115942032E-2,3.9603960396039604E-2,0.10256410256410256,0.12727272727272726,6.7708333333333329E-2,3.8461538461538464E-2,7.6923076923076927E-2,3.968253968253968E-2,8.6956521739130436E-3,9.1836734693877556E-2,6.216696269982238E-2,0.12160898035547241,9.973591054672136E-2,0.10942864688793028,"..",".."]
["35-44",-0.16949152542372881,-0.27044025157232704,-0.14624505928853754,-0.19148936170212766,-0.14124293785310735,-0.27160493827160492,-0.15384615384615385,-0.107981220657277,-0.2857142857142857,-0.18110236220472442,-0.10714285714285714,-0.24770642201834864,-0.21138211382113822,-0.19148936170212766,-0.11904761904761904,-0.11734693877551021,-0.2857142857142857,-0.16037735849056603,-0.19642857142857142,-0.27160493827160492,-0.25827814569536423,-0.19178721418572095,-0.15988455988455988,-0.12974103707323031,-9.156932062711344E-2,"..",".."]
["45-54",0.14855875831485588,0.12903225806451613,2.564102564102564E-2,0.13095238095238096,0.18,0.11409395973154363,0.16013071895424835,0.14367816091954022,0.13368983957219252,4.3103448275862072E-2,0.21527777777777779,0.13461538461538461,0.12745098039215685,0.13095238095238096,1.6949152542372881E-2,0.16049382716049382,0.17073170731707318,0.16129032258064516,0.15972222222222221,0.11409395973154363,0.11888111888111888,0.13361611876988336,0.14524765729585007,0.17052370842179759,0.18688885828398291,"..",".."]
["55-64",2.9268292682926831E-2,-1.1286681715575621E-2,-1.3888888888888888E-2,6.0606060606060606E-3,1.4251781472684086E-2,-4.6052631578947366E-2,3.2608695652173912E-2,8.9041095890410954E-2,-4.9180327868852458E-2,-2.7777777777777776E-2,-2.0833333333333332E-2,5.6603773584905662E-2,-5.1546391752577317E-2,6.0606060606060606E-3,0,8.8888888888888892E-2,0,3.4883720930232558E-2,-2.1276595744680851E-2,-4.6052631578947366E-2,-6.5359477124183009E-3,5.5309734513274336E-4,3.1046146412176855E-2,3.6916354321661987E-2,5.592006159408161E-2,"..",".."]
["65+",0.22574257425742575,0.1416184971098266,0.19413919413919414,0.16115702479338842,0.26103646833013433,0.30481283422459893,0.18904109589041096,0.14754098360655737,4.797047970479705E-2,0.18518518518518517,0.41666666666666669,0.22222222222222221,0.18699186991869918,0.16115702479338842,0.22058823529411764,8.9473684210526316E-2,0.3300970873786408,0.31578947368421051,0.29714285714285715,0.30481283422459893,0.19277108433734941,0.20504340636626706,0.19540645627995298,0.23442636652365298,0.22701877234803336,"..",".."]
[]
[]
["Source: Mid-Year Population Estimates"]
["Description: Change in population by age groups between 2006 and 2016"]
["Year: 2006-2016"]
["http://nomisweb.co.uk/ "]

{"sheet":"LS4. Working Age Population","index":8,"n_rows":22,"n_cols":26,"rows_kept":22,"cut":false,"hidden":false,"merged":[]}
["LS4. Working Age Population","Return to Contents",null,"Return to TTWA Summary",null,null,null,null,"Return to LA Summary"]
[null,"Blackburn with Darwen, Hyndburn, Rossendale and Ribble Valley","Blackpool, Fylde and Wyre","Burnley and Pendle","Lancaster and Morecambe ","Preston, Chorley and South Ribble ","West Lancashire ","Preston and South Ribble City Deal","Blackburn with Darwen ","Blackpool","Burnley","Chorley ","Fylde","Hyndburn","Lancaster ","Pendle ","Preston","Ribble Valley","Rossendale ","South Ribble ","West Lancashire ","Wrye ","Lancashire ","North West ","England Minus London","England"]
["Year"]
[2006,220800,200700,112600,89000,230100,70300,{"$f":"SUM(Q4,T4)","v":161400},90500,90400,56100,68700,45400,51500,89000,56500,92500,35600,43100,68900,70300,64900,923500,4459200,27886700,33107800]
[2007,222500,201600,112900,88600,231600,70500,{"$f":"SUM(Q5,T5)","v":162600},91400,90800,56100,69000,45800,51800,88600,56800,93200,35800,43500,69400,70500,65000,927600,4489300,28142300,33440400]
[2008,223700,200700,113200,88200,232400,70400,162800,92200,90300,56200,69500,45700,51800,88200,57000,93000,35800,43900,69800,70400,64700,928500,4510600,28325800,33713000]
[2009,224300,200200,113000,88200,231900,70100,162500,93100,90000,55900,69400,45800,51600,88200,57100,92500,35500,44200,70000,70100,64400,927600,4523000,28413600,33892200]
[2010,224700,199700,112500,89100,232400,70000,162800,93700,90000,55600,69500,45700,51400,89100,56900,93000,35400,44300,69800,70000,64100,928500,4538600,28559600,34118000]
[2011,224700,198600,112400,89400,233200,69600,163400,94200,89300,55700,69800,45500,51100,89400,56800,93800,35100,44300,69600,69600,63700,928000,4552800,28683000,34347400]
[2012,222900,196500,111200,90200,232300,69100,162400,93600,88400,55000,69900,44900,50400,90200,56200,93800,34900,43900,68600,69100,63200,922200,4531800,28603200,34307000]
[2013,221500,195500,110500,90400,231500,69000,161300,93000,87700,54500,70200,44800,49900,90400,56000,93300,34900,43700,68000,69000,63000,918400,4516100,28595200,34351400]
[2014,220300,194400,109600,90400,230700,69100,160500,92200,86700,54300,70300,44800,49700,90400,55300,92800,34800,43700,67700,69100,62900,914400,4509800,28651900,34475400]
[2015,219700,193600,109100,91000,231300,69400,160600,91800,85800,53900,70700,44700,49400,91000,55200,93100,34900,43600,67500,69400,63100,914200,4519200,28761900,34669600]
[2016,219700,193300,108600,91500,231700,69600,160500,91700,85400,53600,71200,44800,49300,91500,55000,93200,35000,43600,67300,69600,63200,914500,4530400,28885000,34856100]
["Change 2006-16",{"$f":"B14-B4","v":-1100},{"$f":"C14-C4","v":-7400},-4000,2500,1600,-700,{"$f":"H14-H4","v":-900},1200,-5000,-2500,2500,-600,-2200,2500,-1500,700,-600,500,-1600,-700,-1700,-9000,71200,998300,1748300]
["% Change 2006-16",{"$f":"B15/B4","v":-4.9818840579710141E-3},{"$f":"C15/C4","v":-3.687095166915795E-2},-3.5523978685612786E-2,2.8089887640449437E-2,6.9534984789222081E-3,-9.9573257467994308E-3,{"$f":"H15/H4","v":-5.5762081784386614E-3},1.3259668508287293E-2,-5.5309734513274339E-2,-4.4563279857397504E-2,3.6390101892285295E-2,-1.3215859030837005E-2,-4.2718446601941747E-2,2.8089887640449437E-2,-2.6548672566371681E-2,7.5675675675675675E-3,-1.6853932584269662E-2,1.1600928074245939E-2,-2.3222060957910014E-2,-9.9573257467994308E-3,-2.6194144838212634E-2,-9.7455332972387655E-3,1.5966989594546108E-2,3.5798427207234987E-2,5.2806287340143407E-2]
[]
[]
["Source: Mid-Year Population Estimates"]
["Description: Total working age population (16-64 years)"]
["Year: 2006-2016"]
["http://nomisweb.co.uk/ "]

{"sheet":"LS5. Population Aged 65+","index":9,"n_rows":22,"n_cols":26,"rows_kept":22,"cut":false,"hidden":false,"merged":[]}
["LS5. Population Aged 65+","Return to Contents",null,"Return to TTWA Summary",null,null,null,null,"Return to LA Summary"]
[null,"Blackburn with Darwen, Hyndburn, Rossendale and Ribble Valley","Blackpool, Fylde and Wyre","Burnley and Pendle","Lancaster and Morecambe ","Preston, Chorley and South Ribble ","West Lancashire ","Preston and South Ribble City Deal","Blackburn with Darwen ","Blackpool","Burnley","Chorley ","Fylde","Hyndburn","Lancaster ","Pendle ","Preston","Ribble Valley","Rossendale ","South Ribble ","West Lancashire ","Wrye ","Lancashire ","North West ","England Minus London","England"]
["Year"]
[2006,50400,69300,27200,24200,52100,18700,{"$f":"SUM(Q4,T4)","v":36500},18300,27200,13500,15600,17200,12300,24200,13600,19000,10200,9600,17500,18700,24900,241800,1105900,7178800,8054500]
[2007,50800,69500,27300,24300,52700,19100,36800,18300,26900,13600,16000,17300,12400,24300,13700,19000,10400,9800,17800,19100,25300,243700,1112900,7251700,8125200]
[2008,51500,70200,27500,24600,53700,19500,37300,18500,26900,13700,16400,17600,12400,24600,13900,19100,10700,9900,18200,19500,25700,247100,1126200,7371700,8250000]
[2009,52300,70900,27900,24800,54700,20100,37700,18700,27000,13800,16900,17800,12500,24800,14000,19100,11000,10100,18600,20100,26000,250700,1142800,7513000,8400300]
[2010,53300,71700,28300,25200,56000,20600,38500,18900,27200,14000,17600,18100,12700,25200,14300,19300,11300,10400,19200,20600,26400,255000,1160700,7666500,8563600]
[2011,54300,72700,28700,25500,57200,21100,39000,19200,27400,14200,18200,18500,12900,25500,14500,19400,11700,10600,19600,21100,26800,259400,1179300,7819500,8729700]
[2012,56500,74600,29800,26400,59600,22000,40300,19800,27900,14800,19300,19100,13400,26400,15000,19800,12100,11100,20500,22000,27600,268800,1221700,8119100,9056500]
[2013,58200,75900,30700,26900,61400,22700,41300,20200,28200,15100,20100,19600,13800,26900,15500,20100,12600,11600,21200,22700,28100,275600,1252600,8344800,9305200]
[2014,59700,77300,31400,27400,63000,23200,42000,20600,28500,15600,20900,20100,14100,27400,15800,20300,13000,12000,21700,23200,28700,282000,1280800,8554800,9537700]
[2015,60800,78100,32000,27700,64400,23800,42800,20900,28400,15800,21600,20400,14300,27700,16100,20500,13300,12300,22300,23800,29200,286700,1301500,8710200,9711600]
[2016,61900,79000,32600,28100,65600,24300,43400,21100,28500,16000,22200,20900,14600,28100,16500,20700,13600,12600,22700,24300,29600,291400,1322000,8861700,9882800]
["Change 2006-16",{"$f":"B14-B4","v":11500},{"$f":"C14-C4","v":9700},5400,3900,13500,5600,6900,2800,1300,2500,6600,3700,2300,3900,2900,1700,3400,3000,5200,5600,4700,49600,216100,1682900,1828300]
["% Change 2006-16",{"$f":"B15/B4","v":0.22817460317460317},{"$f":"C15/C4","v":0.13997113997113997},0.19852941176470587,0.16115702479338842,0.25911708253358923,0.29946524064171121,0.18904109589041096,0.15300546448087432,4.779411764705882E-2,0.18518518518518517,0.42307692307692307,0.21511627906976744,0.18699186991869918,0.16115702479338842,0.21323529411764705,8.9473684210526316E-2,0.33333333333333331,0.3125,0.29714285714285715,0.29946524064171121,0.18875502008032127,0.20512820512820512,0.19540645627995298,0.23442636652365298,0.22699112297473462]
[]
[]
["Source: Mid-Year Population Estimates"]
["Description: Total population aged 65 years or above"]
["Year: 2006-2016"]
["http://nomisweb.co.uk/ "]

{"sheet":"LS6. Components of Pop Change","index":10,"n_rows":17,"n_cols":26,"rows_kept":17,"cut":false,"hidden":false,"merged":[]}
["LS6. Components of Population Change","Return to Contents",null,"Return to TTWA Summary",null,null,null,null,"Return to LA Summary"]
[null,"Blackburn with Darwen, Hyndburn, Rossendale and Ribble Valley","Blackpool, Fylde and Wyre","Burnley and Pendle","Lancaster and Morecambe ","Preston, Chorley and South Ribble ","West Lancashire ","Preston and South Ribble City Deal","Blackburn with Darwen ","Blackpool","Burnley","Chorley ","Fylde","Hyndburn","Lancaster ","Pendle ","Preston","Ribble Valley","Rossendale ","South Ribble ","West Lancashire ","Wrye ","Lancashire ","North West ","England Minus London","England"]
["Net Change (2016)"]
["Total population",356298,327446,178110,143517,366270,113401,{"$f":"SUM(Q4,T4)","v":251919},147049,139195,87522,114351,77990,80537,143517,90588,141801,58826,69886,110118,113401,110261,1198798,7219623,46480175,55268067]
["Population change due to net long-term international migration",524,304,585,1327,867,329,{"$f":"SUM(Q5,T5)","v":743},302,60,98,124,67,113,1327,487,689,40,69,54,329,177,3574,22976,175538,301617]
["Population change due to net internal migration",-510,1568,-740,-122,106,559,{"$f":"SUM(Q6,T6)","v":-862},-1036,-249,-270,968,978,-48,-122,-470,-1012,424,150,150,559,839,2146,5617,81117,-12185]
[]
[]
["Net Change % (2016)"]
["Population change due to net long-term international migration (% of total)",1.4706790383330808E-3,9.2839735406754088E-4,3.2844871147043962E-3,9.2462913801152485E-3,2.3671062331067244E-3,2.9012089840477597E-3,2.9493607072114451E-3,2.0537371896442681E-3,4.3104996587521106E-4,1.1197184707844884E-3,1.0843805476121765E-3,8.5908449801256573E-4,1.4030818133280356E-3,9.2462913801152485E-3,5.3759879895791934E-3,4.8589220104230573E-3,6.7997144119946967E-4,9.8732221045702995E-4,4.9038304364409089E-4,2.9012089840477597E-3,1.6052820126790071E-3,2.981319621821191E-3,3.1824376425195608E-3,3.7766208926709077E-3,5.4573466446727727E-3]
["Population change due to net internal migration (% of total)",-1.4313860869272351E-3,4.7885758262431058E-3,-4.1547358374038517E-3,-8.5007351045520742E-4,2.894039915909029E-4,4.9294097935644304E-3,-3.4217347639519053E-3,-7.0452706240776881E-3,-1.7888573583821259E-3,-3.0849386439980803E-3,8.4651642749079582E-3,1.2540069239646108E-2,-5.9599935433403276E-4,-8.5007351045520742E-4,-5.1883251644809468E-3,-7.136762082072764E-3,7.2076972767143779E-3,2.1463526314283261E-3,1.3621751212335859E-3,4.9294097935644304E-3,7.6092181278965363E-3,1.7901264433207262E-3,7.7801846439904136E-4,1.745195666754697E-3,-2.2047089144623062E-4]
[]
[]
["Source: ONS, Local Area Migration Indicators"]
["Description: Net change (inflow minus outflow) of long-term international migration and internal migration within the UK, and as a percentage of total population"]
["Year: 2016"]
["https://www.ons.gov.uk/peoplepopulationandcommunity/populationandmigration/migrationwithintheuk/datasets/localareamigrationindicatorsunitedkingdom"]

{"sheet":"LS7. Population Projections","index":11,"n_rows":36,"n_cols":26,"rows_kept":36,"cut":false,"hidden":false,"merged":[]}
["LS7. Total Projected Population ",null,"Return to Contents",null,"Return to TTWA Summary",null,null,null,"Return to LA Summary"]
[null,"Blackburn with Darwen, Hyndburn, Rossendale and Ribble Valley","Blackpool, Fylde and Wyre","Burnley and Pendle","Lancaster and Morecambe ","Preston, Chorley and South Ribble ","West Lancashire ","Preston and South Ribble City Deal","Blackburn with Darwen ","Blackpool","Burnley","Chorley ","Fylde","Hyndburn","Lancaster ","Pendle ","Preston","Ribble Valley","Rossendale ","South Ribble ","West Lancashire ","Wrye ","Lancashire ","North West ","England Minus London","England"]
["Year"]
[2018,355039,327657,177747,144477,367606,112785,{"$f":"SUM(Q4,T4)","v":251513},146245,139444,87285,116093,78311,79730,144477,90461,141879,58701,70364,109634,112785,109903,1485312,7247840,46980139,56061460]
[2019,355396,328224,177952,144945,369071,112944,251861,146162,139300,87329,117211,78666,79665,144945,90623,142007,58865,70705,109854,112944,110258,1488534,7275839,47269814,56466327]
[2020,355772,328851,178134,145364,370453,113097,252155,146082,139180,87369,118298,79035,79604,145364,90765,142077,59043,71044,110078,113097,110636,1491672,7303095,47555883,56862331]
[2021,356175,329537,178299,145738,371798,113252,252426,145989,139078,87400,119371,79428,79552,145738,90900,142116,59264,71370,110310,113252,111030,1494798,7329671,47837833,57248364]
[2022,356518,330244,178465,146209,373150,113429,252741,145892,139005,87424,120410,79818,79494,146209,91041,142195,59455,71678,110546,113429,111421,1498017,7356400,48121588,57633848]
[2023,356836,330937,178602,146807,374478,113634,253097,145789,138942,87442,121382,80189,79434,146807,91160,142343,59633,71980,110754,113634,111806,1501295,7382990,48405637,58017208]
[2024,357086,331553,178700,147505,375818,113855,253507,145675,138885,87443,122311,80515,79361,147505,91257,142549,59794,72257,110958,113855,112154,1504519,7409125,48688326,58396289]
[2025,357266,332185,178767,148269,377123,114093,253932,145544,138852,87436,123191,80841,79279,148269,91331,142807,59938,72505,111125,114093,112492,1507703,7434623,48967834,58769461]
[2026,357400,332799,178820,149023,378399,114327,254365,145398,138830,87419,124034,81159,79193,149023,91401,143084,60069,72740,111281,114327,112810,1510768,7459367,49242497,59135245]
[2027,357500,333391,178835,149765,379612,114561,254786,145241,138819,87396,124826,81453,79108,149765,91439,143371,60198,72953,111415,114561,113119,1513664,7483297,49511497,59493430]
[2028,357586,333999,178839,150411,380743,114786,255162,145088,138827,87374,125581,81742,79025,150411,91465,143621,60313,73160,111541,114786,113430,1516364,7506513,49774372,59844386]
["Change 2018-2028",{"$f":"B14-B4","v":2547},{"$f":"C14-C4","v":6342},1092,5934,13137,2001,{"$f":"H14-H4","v":3649},-1157,-617,89,9488,3431,-705,5934,1004,1742,1612,2796,1907,2001,3527,31052,258673,2794233,3782926]
["% Change 2018-2028",{"$f":"B15/B4","v":7.1738597731516819E-3},{"$f":"C15/C4","v":1.9355606625220886E-2},6.1435636044490198E-3,4.1072281401191887E-2,3.5736631066957555E-2,1.7741720973533714E-2,{"$f":"H15/H4","v":1.4508196395414948E-2},-7.9113815856952374E-3,-4.424715297897364E-3,1.0196482786274848E-3,8.1727580474274933E-2,4.3812491220901278E-2,-8.8423429073121781E-3,4.1072281401191887E-2,1.1098705519505644E-2,1.2278067931124409E-2,2.746120168310591E-2,3.9736228753339778E-2,1.7394239013444734E-2,1.7741720973533714E-2,3.209193561595225E-2,2.0906045329196828E-2,3.5689667542329856E-2,5.947689937656421E-2,6.7478192683529822E-2]
[]
[]
["Indexed (2018 = 100)"]
[{"$f":"A4","v":2018},{"$f":"IF(B4=\"..\",\"..\",100)","v":100},100,100,100,100,100,{"$f":"IF(H4=\"..\",\"..\",100)","v":100},100,100,100,100,100,100,100,100,100,100,100,100,100,100,100,100,100,100]
[2019,{"$f":"IFERROR(B$20*(B5/B$4),\"\")","v":100.10055233368729},100.17304681419898,100.11533246693334,100.32392699183954,100.39852450721696,100.14097619364277,{"$f":"IFERROR(H$20*(H5/H$4),\"\")","v":100.13836262936707},99.943245922937535,99.896732738590401,100.05040957781979,100.9630210262462,100.45332073399651,99.918474852627611,100.32392699183954,100.1790826986215,100.09021772073385,100.27938195260728,100.48462281848674,100.20066767608589,100.14097619364277,100.32301211067943,100.21692412099277,100.38630819664893,{"$f":"IFERROR(Y$20*(Y5/Y$4),\"..\")","v":100.61659034257009},100.72218418856733]
[2020,{"$f":"IFERROR(B$20*(B6/B$4),\"\")","v":100.20645619213664},100.36440546058836,100.21772519367416,100.61393855077279,100.77447049286465,100.27663253092167,{"$f":"IFERROR(H$20*(H6/H$4),\"\")","v":100.25525519555649},99.888543198058059,99.810676687415736,100.09623646674686,101.89933932278433,100.92451890539004,99.841966637401228,100.61393855077279,100.33605642210455,100.1395555367602,100.58261358409568,100.96640327440167,100.40498385537333,100.27663253092167,100.66695176655777,100.42819286452946,100.76236506324643,101.22550510120882,101.42855894227513]
[2021,{"$f":"IFERROR(B$20*(B7/B$4),\"\")","v":100.31996484893209},100.57377074196492,100.31055376462051,100.87280328356762,101.14035135443926,100.41406215365518,{"$f":"IFERROR(H$20*(H7/H$4),\"\")","v":100.3630031052073},99.824951280385648,99.737529043917277,100.13175230566536,102.82359832203491,101.42636411232138,99.77674651950332,100.87280328356762,100.48529200428915,100.16704374854631,100.95909780071889,101.42970837360015,100.6165970410639,100.41406215365518,101.02544971474845,100.63865369700102,101.12903982427868,101.82565232512401,102.1171478587964]
[2022,{"$f":"IFERROR(B$20*(B8/B$4),\"\")","v":100.41657395384733},100.78954516460811,100.40394493296651,101.19880673048304,101.50813642867635,100.57099791638959,{"$f":"IFERROR(H$20*(H8/H$4),\"\")","v":100.48824514041024},99.75862422646928,99.685178279452686,100.1592484390216,103.7185704564444,101.92437843981051,99.704001003386438,101.19880673048304,100.64116027901527,100.22272499806174,101.2844755625969,101.86743220965266,100.83185872995604,100.57099791638959,101.38121798313058,100.8553758402275,101.4978255590631,102.42964159812298,102.80475749293723]
[2023,{"$f":"IFERROR(B$20*(B9/B$4),\"\")","v":100.50614157881246},101.00104682640689,100.48102077672196,101.61271344227801,101.86939277378497,100.75275967548876,{"$f":"IFERROR(H$20*(H9/H$4),\"\")","v":100.62978851987769},99.688194468186936,99.63999885258599,100.17987053903879,104.55583023954932,102.3981305308322,99.628747021196546,101.61271344227801,100.7727086810891,100.32703923766026,101.58770719408527,102.29662895798988,101.02158089643724,100.75275967548876,101.73152689189557,101.07607021285763,101.8646934810923,103.03425666748241,103.48857842803238]
[2024,{"$f":"IFERROR(B$20*(B10/B$4),\"\")","v":100.57655637831337},101.18904830356135,100.53615532189011,102.09583532326944,102.23391348345783,100.94870771822495,{"$f":"IFERROR(H$20*(H10/H$4),\"\")","v":100.7928019625228},99.610243085233691,99.59912222827802,100.18101621126196,105.35605075241401,102.81441943022054,99.537188009532173,102.09583532326944,100.8799372105106,100.47223338196632,101.86197850121803,102.69029617417998,101.20765455971687,100.94870771822495,102.04816974968836,101.29312898569458,102.22528367072121,103.63597689653494,104.16476666858124]
[2025,{"$f":"IFERROR(B$20*(B11/B$4),\"\")","v":100.62725503395401},101.38193293596657,100.57384934766831,102.62463921593057,102.58891312981835,101.15972868732544,{"$f":"IFERROR(H$20*(H11/H$4),\"\")","v":100.96177931160616},99.520667373243526,99.575456814204983,100.17299650569973,106.11406372477239,103.23070832960887,99.434340900539326,102.62463921593057,100.96174041852291,100.65407847532053,102.10728948399517,103.04274913307943,101.35997956838207,101.15972868732544,102.35571367478596,101.5074947216477,102.57708503498975,104.23092617925205,104.83041469130487]
[2026,{"$f":"IFERROR(B$20*(B12/B$4),\"\")","v":100.6649973664865},101.5693240187147,100.60366700985108,103.14652159167204,102.93602389514862,101.36720308551671,{"$f":"IFERROR(H$20*(H12/H$4),\"\")","v":101.13393741078991},99.420834900338477,99.559679871489621,100.15352007790572,106.84020569715659,103.63678155048461,99.326476859400486,103.14652159167204,101.0391218315075,100.84931526159615,102.33045433638269,103.37672673526235,101.50227119324298,101.36720308551671,102.64505973449315,101.71384867287144,102.9184832998521,104.8155625933759,105.4828843201729]
[2027,{"$f":"IFERROR(B$20*(B13/B$4),\"\")","v":100.69316328628686},101.75000076299301,100.6121059708462,103.66009814710992,103.26599674651663,101.57467748370794,{"$f":"IFERROR(H$20*(H13/H$4),\"\")","v":101.30132438482305},99.313480802762484,99.551791400131947,100.12716961677263,107.52241737227912,104.01220773582256,99.219867051298124,103.66009814710992,101.08112888427057,101.05160030730411,102.55021209178719,103.67943834915583,101.62449605049528,101.57467748370794,102.92621675477467,101.90882454326093,103.24865063246429,105.38814497760427,106.12179918254002]
[2028,{"$f":"IFERROR(B$20*(B14/B$4),\"\")","v":100.71738597731516},101.93556066252209,100.61435636044492,104.10722814011919,103.57366310669576,101.77417209735337,{"$f":"IFERROR(H$20*(H14/H$4),\"\")","v":101.45081963954151},99.208861841430476,99.557528470210272,100.10196482786276,108.17275804742749,104.38124912209013,99.115765709268771,104.10722814011919,101.10987055195055,101.22780679311245,102.7461201683106,103.97362287533399,101.73942390134447,101.77417209735337,103.20919356159521,102.0906045329197,103.56896675423299,105.94768993765642,106.74781926835297]
[]
[]
["Source: Mid-Year Population Estimates"]
["Description: Total population projections and index of population projections"]
["Year: 2018-2028"]
["http://nomisweb.co.uk/ "]

{"sheet":"LS8. Pop Projections 16-64","index":12,"n_rows":36,"n_cols":26,"rows_kept":36,"cut":false,"hidden":false,"merged":[]}
["LS8. Population Projections 16-64",null,"Return to Contents",null,"Return to TTWA Summary",null,null,null,"Return to LA Summary"]
[null,"Blackburn with Darwen, Hyndburn, Rossendale and Ribble Valley","Blackpool, Fylde and Wyre","Burnley and Pendle","Lancaster and Morecambe ","Preston, Chorley and South Ribble ","West Lancashire ","Preston and South Ribble City Deal","Blackburn with Darwen ","Blackpool","Burnley","Chorley ","Fylde","Hyndburn","Lancaster ","Pendle ","Preston","Ribble Valley","Rossendale ","South Ribble ","West Lancashire ","Wrye ","Lancashire ","North West ","England Minus London","England"]
["Year"]
[2018,216812,191968,107675,91180,230377,68275,{"$f":"SUM(Q4,T4)","v":158950},90711,85079,53133,71427,44474,48372,91180,54542,92620,34452,43278,66330,68275,62415,906288,4506950,28916187,35079439]
[2019,216220,191366,107232,90966,229956,68004,158316,90479,84710,52899,71640,44321,48132,90966,54334,92321,34375,43234,65995,68004,62336,903746,4502388,28949602,35176905]
[2020,215514,190779,106902,90651,230009,67762,157942,90101,84354,52706,72066,44232,47930,90651,54196,92076,34293,43189,65866,67762,62193,901615,4500837,29003349,35289700]
[2021,214933,190441,106642,90405,229692,67529,157266,89800,83990,52547,72426,44239,47681,90405,54095,91706,34232,43220,65560,67529,62212,899642,4498058,29046808,35387554]
[2022,214305,189833,106338,90267,229650,67234,156878,89490,83607,52375,72772,44095,47452,90267,53963,91455,34108,43256,65423,67234,62132,897629,4496121,29099836,35495817]
[2023,213795,189251,105932,90284,229498,66912,156511,89231,83247,52166,72987,44014,47266,90284,53766,91314,34012,43285,65197,66912,61990,895671,4493616,29147643,35598018]
[2024,213249,188706,105761,90434,229520,66763,156269,88989,82879,52044,73251,43925,47064,90434,53717,91245,33899,43296,65024,66763,61902,894432,4492767,29208351,35711733]
[2025,212516,187903,105586,90508,229551,66490,156092,88658,82563,51920,73460,43714,46819,90508,53665,91233,33790,43249,64859,66490,61625,892553,4489441,29257962,35808812]
[2026,211718,187075,105331,90625,229326,66185,155727,88229,82198,51738,73599,43511,46614,90625,53593,91187,33657,43218,64540,66185,61366,890260,4483978,29294745,35891570]
[2027,210638,186098,105000,90789,229078,65874,155313,87750,81701,51573,73765,43308,46311,90789,53427,91078,33422,43155,64235,65874,61089,887477,4477208,29323462,35965576]
[2028,209760,185214,104628,90945,228503,65553,154690,87415,81355,51360,73813,43027,46061,90945,53268,90845,33194,43091,63845,65553,60833,884605,4472213,29351753,36041895]
["Change 2018-2028",{"$f":"B14-B4","v":-7052},{"$f":"C14-C4","v":-6754},-3047,-235,-1874,-2722,{"$f":"H14-H4","v":-4260},-3296,-3724,-1773,2386,-1447,-2311,-235,-1274,-1775,-1258,-187,-2485,-2722,-1582,-21683,-34737,435566,962456]
["% Change 2018-2028",{"$f":"B15/B4","v":-3.2525874951570943E-2},{"$f":"C15/C4","v":-3.5182947157859641E-2},-2.8298119340608312E-2,-2.5773195876288659E-3,-8.1344925925765157E-3,-3.9868180153789817E-2,{"$f":"H15/H4","v":-2.6800880780119534E-2},-3.6335174344897532E-2,-4.3771083346066594E-2,-3.3369092654282652E-2,3.3404734904167892E-2,-3.2535863650672306E-2,-4.7775572645332012E-2,-2.5773195876288659E-3,-2.3358146015914343E-2,-1.9164327359101705E-2,-3.6514570997329618E-2,-4.3209020749572528E-3,-3.7464194180612094E-2,-3.9868180153789817E-2,-2.5346471200833134E-2,-2.392506576275974E-2,-7.7074296364503707E-3,1.5063051017065286E-2,2.7436470691563797E-2]
[]
[]
["Indexed (2018 = 100)"]
[{"$f":"A4","v":2018},{"$f":"IF(B4=\"..\",\"..\",100)","v":100},100,100,100,100,100,{"$f":"IF(H4=\"..\",\"..\",100)","v":100},100,100,100,100,100,100,100,100,100,100,100,100,100,100,100,100,100,100]
[2019,{"$f":"IFERROR(B$20*(B5/B$4),\"\")","v":99.726952382709442},99.68640606767795,99.588576735546781,99.765299407764857,99.81725606288822,99.603075796411559,{"$f":"IFERROR(H$20*(H5/H$4),\"\")","v":99.601132431582258},99.744242704853875,99.566285452344289,99.559595731466317,100.29820656054433,99.655978774115212,99.503845199702312,99.765299407764857,99.618642514025893,99.677175556035408,99.776500638569615,99.898331715883359,99.494949494949495,99.603075796411559,99.873427861892168,99.719515209293291,99.898778553123506,{"$f":"IFERROR(Y$20*(Y5/Y$4),\"..\")","v":100.11555811283142},100.27784366791042]
[2020,{"$f":"IFERROR(B$20*(B6/B$4),\"\")","v":99.401324649927119},99.380625937656276,99.282098908753198,99.419828909848647,99.840261831693269,99.248626876601975,{"$f":"IFERROR(H$20*(H6/H$4),\"\")","v":99.3658383139352},99.327534698107172,99.147850821001654,99.196356313402205,100.894619681633,99.455861851868505,99.086248242785075,99.419828909848647,99.36562648967768,99.41265385445908,99.538488331591779,99.794352788945886,99.300467360168852,99.248626876601975,99.644316270127376,99.484380241159542,99.864365036221841,100.30142978394765,100.5993852980374]
[2021,{"$f":"IFERROR(B$20*(B7/B$4),\"\")","v":99.133350552552443},99.204554925820958,99.04063153006733,99.150032901952173,99.702661289972525,98.907359941413404,{"$f":"IFERROR(H$20*(H7/H$4),\"\")","v":98.940547341931435},98.995711655697761,98.720013164235596,98.897107259142146,101.39863076987695,99.471601385078927,98.571487637476224,99.150032901952173,99.180448095046017,99.013172101058089,99.361430395913146,99.865982716391699,98.839137645107797,98.907359941413404,99.674757670431788,99.266679024769161,99.802704711612066,100.45172276690562,100.8783350269655]
[2022,{"$f":"IFERROR(B$20*(B8/B$4),\"\")","v":98.843698688264496},98.887835472578772,98.758300441142325,98.998683921912701,99.684430303372295,98.475283778835589,{"$f":"IFERROR(H$20*(H8/H$4),\"\")","v":98.696445423089017},98.653966994080093,98.269843322088875,98.573391301074665,101.8830414269114,99.147816701893248,98.098073265525514,98.998683921912701,98.938432767408599,98.742172316994171,99.001509346336931,99.949165857941679,98.632594602743865,98.475283778835589,99.546583353360575,99.044564200342506,99.759726644404751,100.6351079414447,101.18695740829835]
[2023,{"$f":"IFERROR(B$20*(B9/B$4),\"\")","v":98.608471855801341},98.584659943323885,98.381239842117481,99.017328361482782,99.618451494723871,98.00366166239472,{"$f":"IFERROR(H$20*(H9/H$4),\"\")","v":98.465555206039639},98.368444841309213,97.846707178034535,98.18003877063218,102.18404804905707,98.965687817601307,97.713553295294801,99.017328361482782,98.577243225404274,98.58993737853595,98.722860791826307,100.01617449974583,98.291873963515755,98.00366166239472,99.31907394055915,98.82851808696573,99.704145819234739,100.80043748506675,101.47829901156629]
[2024,{"$f":"IFERROR(B$20*(B10/B$4),\"\")","v":98.356640776340797},98.300758459743292,98.22242860459717,99.181838122395263,99.62800105913351,97.785426583668993,{"$f":"IFERROR(H$20*(H10/H$4),\"\")","v":98.313306071091532},98.10166352482058,97.414168008556757,97.95042628874711,102.55365618043596,98.7655708953546,97.295956338377579,99.181838122395263,98.487404202266148,98.515439429928747,98.394868222454434,100.04159157077498,98.031056837026981,97.785426583668993,99.178082191780831,98.691806578041422,99.685308246153156,101.01038217798217,101.80246326060119]
[2025,{"$f":"IFERROR(B$20*(B11/B$4),\"\")","v":98.018559858310425},97.882459576596105,98.05990248432785,99.262996271112087,99.641457263528906,97.38557305016478,{"$f":"IFERROR(H$20*(H11/H$4),\"\")","v":98.20195029883611},97.736768418383662,97.042748504331271,97.71704966781472,102.84626261777758,98.291136394297794,96.789464979740345,99.262996271112087,98.392064830772625,98.502483264953582,98.078486009520489,99.932991358195849,97.782300618121511,97.38557305016478,98.734278618921735,98.484477340536344,99.611511110618039,101.18195044180618,102.07920371816665]
[2026,{"$f":"IFERROR(B$20*(B12/B$4),\"\")","v":97.650499049868088},97.451137689614924,97.823078709078246,99.391313884623827,99.543791263884856,96.938850238008058,{"$f":"IFERROR(H$20*(H12/H$4),\"\")","v":97.972318339100354},97.263837902790186,96.613735469387279,97.374513014510754,103.04086689907177,97.834689931195754,96.365666087819406,99.391313884623827,98.260056470243114,98.452817965882105,97.692441657958895,99.861361430750037,97.3013719282376,96.938850238008058,98.319314267403669,98.231467259855592,99.490298317043681,101.30915601009221,102.31511969162335]
[2027,{"$f":"IFERROR(B$20*(B13/B$4),\"\")","v":97.152371639946139},96.942198699783305,97.515672161597394,99.571177889888133,99.436141628721614,96.483339436103989,{"$f":"IFERROR(H$20*(H13/H$4),\"\")","v":97.711859075180868},96.735787280484175,96.029572514956683,97.063971543108806,103.27327201198426,97.378243468093714,95.739270652443565,99.571177889888133,97.955703861244544,98.335132800690999,97.010333217229771,99.715790933037567,96.841549826624458,96.483339436103989,97.875510694544573,97.924390480730182,99.340085867382598,101.40846716754184,102.52608657738227]
[2028,{"$f":"IFERROR(B$20*(B14/B$4),\"\")","v":96.747412504842899},96.48170528421403,97.170188065939172,99.742268041237111,99.186550740742348,96.013181984621028,{"$f":"IFERROR(H$20*(H14/H$4),\"\")","v":97.319911921988052},96.366482565510253,95.62289166539334,96.663090734571739,103.3404734904168,96.746413634932765,95.222442735466799,99.742268041237111,97.664185398408563,98.083567264089837,96.348542900267049,99.567909792504267,96.253580581938792,96.013181984621028,97.465352879916693,97.607493423724023,99.229257036354966,101.50630510170653,102.74364706915637]
[]
[]
["Source: Mid-Year Population Estimates"]
["Description: Working age population projections and index of population projections"]
["Year: 2018-2028"]
["http://nomisweb.co.uk/ "]

{"sheet":"LS9. Pop Projections 65+","index":13,"n_rows":36,"n_cols":26,"rows_kept":36,"cut":false,"hidden":false,"merged":[]}
["LS9. Population Projections 65+",null,"Return to Contents",null,"Return to TTWA Summary",null,null,null,"Return to LA Summary"]
[null,"Blackburn with Darwen, Hyndburn, Rossendale and Ribble Valley","Blackpool, Fylde and Wyre","Burnley and Pendle","Lancaster and Morecambe ","Preston, Chorley and South Ribble ","West Lancashire ","Preston and South Ribble City Deal","Blackburn with Darwen ","Blackpool","Burnley","Chorley ","Fylde","Hyndburn","Lancaster ","Pendle ","Preston","Ribble Valley","Rossendale ","South Ribble ","West Lancashire ","Wrye ","Lancashire ","North West ","England Minus London","England"]
["Year"]
[2018,63806,80120,33361,28809,67869,24883,{"$f":"SUM(Q4,T4)","v":44737},21786,28728,16332,23133,21419,14945,28809,17029,21282,14036,13040,23455,24883,29973,298848,1361963,9187643,10245961]
[2019,64779,80873,33802,29162,69114,25204,45385,22041,28792,16535,23729,21800,15138,29162,17268,21502,14262,13339,23883,25204,30280,302934,1382456,9351043,10430675]
[2020,65823,81798,34250,29571,70149,25549,45948,22442,28963,16732,24201,22154,15277,29571,17519,21729,14506,13598,24219,25549,30681,307140,1401881,9506582,10608821]
[2021,66917,82843,34732,29957,71427,25890,46717,22794,29255,16957,24709,22551,15530,29957,17775,22057,14769,13824,24660,25890,31037,311766,1423979,9675754,10803369]
[2022,68150,84047,35315,30388,72767,26323,47482,23174,29519,17195,25285,23055,15778,30388,18120,22430,15099,14099,25052,26323,31473,316991,1448868,9859904,11014326]
[2023,69308,85311,35950,30862,74160,26804,48259,23542,29832,17513,25901,23490,16003,30862,18437,22761,15401,14362,25498,26804,31989,322395,1475464,10059887,11243507]
[2024,70545,86588,36508,31413,75570,27212,49088,23967,30210,17765,26482,23928,16215,31413,18744,23141,15692,14670,25947,27212,32450,327835,1503051,10266089,11481052]
[2025,71921,88090,37054,32023,77016,27677,49945,24433,30581,18007,27072,24468,16502,32023,19047,23567,15990,14996,26378,27677,33041,333782,1531731,10478396,11727225]
[2026,73338,89685,37702,32607,78668,28169,50936,24955,31010,18338,27731,25031,16753,32607,19364,24045,16314,15315,26891,28169,33644,340168,1563318,10709927,11994067]
[2027,74959,91490,38333,33299,80480,28718,52067,25487,31580,18588,28413,25627,17083,33299,19745,24620,16717,15671,27447,28718,34283,347279,1597733,10956838,12278010]
[2028,76490,93260,39023,33931,82361,29254,53213,26002,32114,18927,29147,26234,17377,33931,20096,25181,17085,16026,28032,29254,34912,354319,1631666,11209083,12569772]
["Change 2018-2028",{"$f":"B14-B4","v":12684},{"$f":"C14-C4","v":13140},5662,5122,14492,4371,{"$f":"H14-H4","v":8476},4216,3386,2595,6014,4815,2432,5122,3067,3899,3049,2986,4577,4371,4939,55471,269703,2021440,2323811]
["% Change 2018-2028",{"$f":"B15/B4","v":0.19879008243738833},{"$f":"C15/C4","v":0.16400399400898652},0.16971913311951081,0.17779166232774479,0.21352900440554598,0.17566209862154886,{"$f":"H15/H4","v":0.18946286071931512},0.19351877352428165,0.11786410470620996,0.15889052167523879,0.25997492759261659,0.22480041085017974,0.1627300100368016,0.17779166232774479,0.18010452757061482,0.18320646555774833,0.21722713023653462,0.2289877300613497,0.19513962907695587,0.17566209862154886,0.16478163680645916,0.18561609915408503,0.19802520332784371,0.22001725578584191,0.22680263959622723]
[]
[]
["Indexed (2018 = 100)"]
[{"$f":"A4","v":2018},{"$f":"IF(B4=\"..\",\"..\",100)","v":100},100,100,100,100,100,{"$f":"IF(H4=\"..\",\"..\",100)","v":100},100,100,100,100,100,100,100,100,100,100,100,100,100,100,100,100,100,100]
[2019,{"$f":"IFERROR(B$20*(B5/B$4),\"\")","v":101.52493495909476},100.93984023964053,101.32190282065885,101.22531153458989,101.83441630199354,101.2900373749146,{"$f":"IFERROR(H$20*(H5/H$4),\"\")","v":101.44846547600422},101.17047645276784,100.22277917014759,101.24295860886603,102.57640600008646,101.7787945282226,101.29140180662428,101.22531153458989,101.40348816724412,101.0337374306926,101.61014534055286,102.29294478527606,101.82477083777445,101.2900373749146,101.02425516298001,101.36725024092515,101.50466642632729,{"$f":"IFERROR(Y$20*(Y5/Y$4),\"..\")","v":101.77847572005139},101.80279819530837]
[2020,{"$f":"IFERROR(B$20*(B6/B$4),\"\")","v":103.1611447199323},102.09435846230654,102.66478822577261,102.6450067687181,103.35941298678337,102.67652614234618,{"$f":"IFERROR(H$20*(H6/H$4),\"\")","v":102.70693162259428},103.01110805104194,100.81801726538569,102.44917952485918,104.61678122163143,103.43153275129558,102.22147875543659,102.6450067687181,102.87744435962183,102.10036650690724,103.34853234539756,104.27914110429448,103.25730121509274,102.67652614234618,102.36212591332199,102.77465467394795,102.93091662548836,103.47139086705917,103.54149308200569]
[2021,{"$f":"IFERROR(B$20*(B7/B$4),\"\")","v":104.87571701720842},103.39865202196705,104.10958904109589,103.98486584053595,105.24245237148035,104.04693967769158,{"$f":"IFERROR(H$20*(H7/H$4),\"\")","v":104.42586673223506},104.6268245662352,101.83444722918406,103.82684300759246,106.8127782821078,105.28502731219945,103.91435262629642,103.98486584053595,104.38076222913853,103.64157503993985,105.22228555143916,106.01226993865032,105.13749733532296,104.04693967769158,103.54986154205451,104.32259877931256,104.55342766286601,105.31269009908199,105.44027056124847]
[2022,{"$f":"IFERROR(B$20*(B8/B$4),\"\")","v":106.80813716578379},104.90139790314528,105.85713857498276,105.48092609948282,107.21684421458988,105.78708355101875,{"$f":"IFERROR(H$20*(H8/H$4),\"\")","v":106.13586069696224},106.37106398604608,102.75341130604288,105.28410482488366,109.30272770501016,107.63807834165928,105.57377049180327,105.48092609948282,106.40671795172941,105.39422986561414,107.57338273012253,108.12116564417178,106.80878277552762,105.78708355101875,105.00450405364828,106.07097922689796,106.38086350363409,107.31701264404809,107.49919895264095]
[2023,{"$f":"IFERROR(B$20*(B9/B$4),\"\")","v":108.62301350970127},106.47903145282076,107.76055873624892,107.12624527057517,109.26932767537463,107.72013020937989,{"$f":"IFERROR(H$20*(H9/H$4),\"\")","v":107.87267809643023},108.06022216102085,103.84294068504596,107.23120254714671,111.96559028228073,109.66898548018116,107.07929073268652,107.12624527057517,108.2682482823419,106.9495348181562,109.72499287546309,110.13803680981596,108.71029631208697,107.72013020937989,106.72605344810329,107.87925634436235,108.33363314568751,109.4936644795624,109.73599255355356]
[2024,{"$f":"IFERROR(B$20*(B10/B$4),\"\")","v":110.56170266119175},108.07289066400398,109.43317046851114,109.03884202853276,111.34685939088538,109.35980388216855,{"$f":"IFERROR(H$20*(H10/H$4),\"\")","v":109.72573037977513},110.01101624896722,105.15873015873017,108.77418564780798,114.47715384947909,111.71389887483076,108.49782535965207,109.03884202853276,110.07105525867638,108.73508128935249,111.79823311484753,112.5,110.62460029844384,109.35980388216855,108.26410436059119,109.69957971945605,110.35916541051409,111.73800505744509,112.05441832152201]
[2025,{"$f":"IFERROR(B$20*(B11/B$4),\"\")","v":112.71823966398145},109.94757863205191,111.06981205599354,111.15623589850394,113.47743446934535,111.22854961218502,{"$f":"IFERROR(H$20*(H11/H$4),\"\")","v":111.64137067751525},112.15000459010373,106.45015316067948,110.25593926034777,117.02762287641033,114.23502497782343,110.41820006691201,111.15623589850394,111.85037289329966,110.73677285969363,113.92134511256768,114.99999999999999,112.46216158601578,111.22854961218502,110.23587895772862,111.68955455616234,112.46494948834879,114.04879358068223,114.45705288161842]
[2026,{"$f":"IFERROR(B$20*(B12/B$4),\"\")","v":114.9390339466508},111.93834248627059,113.0121998741045,113.18338019368947,115.91153545801471,113.2058031587831,{"$f":"IFERROR(H$20*(H12/H$4),\"\")","v":113.85653932986119},114.54603874047552,107.94346978557505,112.28263531716875,119.87636709462673,116.86353237779541,112.09769153563064,113.18338019368947,113.71190322391216,112.98280236819849,116.22969506982047,117.44631901840489,114.64932850138563,113.2058031587831,112.24768958729523,113.82642681229254,114.78417548788036,116.56881966354156,117.06141571298193]
[2027,{"$f":"IFERROR(B$20*(B13/B$4),\"\")","v":117.47954737798953},114.19121318022964,114.9036299871107,115.58540733798466,118.58138472645831,115.412128762609,{"$f":"IFERROR(H$20*(H13/H$4),\"\")","v":116.38464805418334},116.98797392821079,109.92759676970203,113.81337252020573,122.82453637660484,119.64610859517251,114.30578788892606,115.58540733798466,115.9492630219038,115.68461610750869,119.10088344257623,120.17638036809817,117.01982519718609,115.412128762609,114.37960831414939,116.20589731234607,117.31104295784833,119.25624450144612,119.83268333736581]
[2028,{"$f":"IFERROR(B$20*(B14/B$4),\"\")","v":119.87900824373882},116.40039940089866,116.97191331195107,117.77916623277449,121.35290044055461,117.56620986215489,{"$f":"IFERROR(H$20*(H14/H$4),\"\")","v":118.94628607193152},119.35187735242816,111.78641047062099,115.88905216752387,125.99749275926166,122.48004108501797,116.27300100368016,117.77916623277449,118.01045275706147,118.32064655577483,121.72271302365347,122.89877300613496,119.51396290769559,117.56620986215489,116.47816368064592,118.5616099154085,119.80252033278438,122.0017255785842,122.68026395962272]
[]
[]
["Source: Mid-Year Population Estimates"]
["Description: Total population projections and index of population projections"]
["Year: 2018-2028"]
["http://nomisweb.co.uk/ "]

{"sheet":"LS10. Resident Employment","index":14,"n_rows":34,"n_cols":26,"rows_kept":34,"cut":false,"hidden":false,"merged":[]}
["LS10. Resident Employment","Return to Contents",null,"Return to TTWA Summary",null,null,null,null,"Return to LA Summary"]
[null,"Blackburn with Darwen, Hyndburn, Rossendale and Ribble Valley","Blackpool, Fylde and Wyre","Burnley and Pendle","Lancaster and Morecambe ","Preston, Chorley and South Ribble ","West Lancashire ","Preston and South Ribble City Deal","Blackburn with Darwen ","Blackpool","Burnley","Chorley ","Fylde","Hyndburn","Lancaster ","Pendle ","Preston","Ribble Valley","Rossendale ","South Ribble ","West Lancashire ","Wrye ","Lancashire ","North West ","England Minus London","England"]
["Number"]
["Jul 2006-Jun 2007",152600,140700,73300,65900,164900,49800,{"$f":"SUM(Q4,T4)","v":113400},60800,58400,36500,51500,34300,35100,65900,36800,60300,28200,28500,53100,49800,48100,647100,3137100,20395600,23971000]
["Jul 2007-Jun 2008",151300,140700,77100,60600,172200,53900,121400,60600,58600,37000,50800,35600,32300,60600,40100,63600,28000,30300,57800,53900,46400,655700,3133800,20506500,24185000]
["Jul 2008-Jun 2009",147300,138600,73800,62900,164100,48500,112900,58400,61900,34400,51200,33300,33200,62900,39400,59400,26000,29600,53500,48500,43400,635200,3089900,20295700,23962700]
["Jul 2009-Jun 2010",149400,139500,77400,63800,159500,50100,111700,60400,59200,37100,47800,33200,35300,63800,40300,58900,26800,27000,52800,50100,47000,639800,3068100,20029600,23738100]
["Jul 2010-Jun 2011",147200,137800,78300,63200,166800,53000,115100,57500,58000,40100,51700,34600,34100,63200,38300,60000,27400,28200,55100,53000,45300,646500,3088200,20058000,23811500]
["Jul 2011-Jun 2012",156300,135100,76700,62300,171300,48700,118400,57100,58700,40500,53000,32800,38300,62300,36200,63500,29400,31500,54900,48700,43600,650400,3090700,20092400,23895500]
["Jul 2012-Jun 2013",153700,134700,70500,58100,168400,49100,116000,59600,57700,35400,52400,33900,34700,58100,35100,63700,28000,31300,52300,49100,43100,634400,3103400,20284700,24201800]
["Jul 2013-Jun 2014",141500,132300,67500,60400,167400,46800,113700,57200,55400,33200,53800,31500,32800,60400,34300,64900,23300,28200,48800,46800,45300,615900,3076600,20484700,24556000]
["Jul 2014-Jun 2015",155400,134700,73200,60700,164800,48500,110600,59700,55700,35000,54200,31700,35200,60700,38200,62300,25900,34600,48300,48500,47300,637300,3143700,20881900,25095000]
["Jul 2015-Jun 2016",157900,138300,79600,67000,177400,50000,123700,59300,59400,40200,53600,34400,36600,67000,39400,64400,29900,32100,59300,50000,44600,670100,3212200,21157500,25494700]
["Jul 2016-Jun 2017",153600,136900,83000,71100,176600,48500,123700,58900,58800,43500,53000,34100,34500,71100,39500,66800,28800,31300,56900,48500,43900,669700,3241800,21373000,25811100]
[]
[]
["Rate"]
[{"$f":"A4","v":"Jul 2006-Jun 2007"},69.5,71.900000000000006,65.7,75.099999999999994,71.5,70.2,69.900000000000006,65.900000000000006,66.599999999999994,66.2,75.400000000000006,76.400000000000006,70.8,75.099999999999994,65.3,66.400000000000006,82.6,65.5,74.400000000000006,70.2,76.099999999999994,70.7,70.599999999999994,73.5,72.7]
[{"$f":"A5","v":"Jul 2007-Jun 2008"},67.7,71.7,69.3,69.400000000000006,74.900000000000006,76.900000000000006,75.400000000000006,66.2,67,67.099999999999994,73.8,80.2,61.1,69.400000000000006,71.400000000000006,69.7,82.4,67.3,82.8,76.900000000000006,72.2,71.400000000000006,70.099999999999994,73.3,72.7]
["Jul 2008-Jun 2009",65.5,70.8,66.3,72,71.599999999999994,69.2,69.900000000000006,63.1,71,63.3,75.8,74.400000000000006,63.9,72,69,65.099999999999994,76.099999999999994,64.3,76,69.2,68.2,69.2,68.900000000000006,72.2,71.5]
["Jul 2009-Jun 2010",67,71.2,68.900000000000006,72.2,69.599999999999994,72,69.099999999999994,65.099999999999994,67.7,67.7,71,73.400000000000006,69.8,72.2,70.099999999999994,63.8,76.400000000000006,60.2,76.099999999999994,72,74.599999999999994,69.7,68.2,71,70.400000000000006]
["Jul 2010-Jun 2011",65.8,70.099999999999994,71.5,72.7,71.8,76,70,61.3,66.7,75.099999999999994,76.400000000000006,75.8,67.900000000000006,72.7,68.099999999999994,65.099999999999994,78.900000000000006,63.1,76.099999999999994,76,70.7,70.400000000000006,68.400000000000006,70.8,70.2]
["Jul 2011-Jun 2012",70.900000000000006,69,68.599999999999994,71.2,74.099999999999994,70.900000000000006,71.8,61,68.099999999999994,73.8,79.900000000000006,73.900000000000006,77.2,71.2,63.6,67.400000000000006,84.7,74,77.5,70.900000000000006,67,71,68.5,70.8,70.2]
["Jul 2012-Jun 2013",69.599999999999994,69.599999999999994,63.9,65.5,73.099999999999994,73,71.2,64.599999999999994,67.5,64.3,77.8,78.2,70.099999999999994,65.5,63.4,68.3,77.400000000000006,73.5,75.099999999999994,73,66.5,69.7,69.099999999999994,71.599999999999994,71.099999999999994]
["Jul 2013-Jun 2014",64.599999999999994,69.400000000000006,61.9,67.400000000000006,72.900000000000006,67.900000000000006,71,62.5,66,61.6,77.3,74.2,65,67.400000000000006,62.3,70.7,69.599999999999994,65.099999999999994,71.3,67.900000000000006,70.7,67.900000000000006,68.7,72.3,72]
["Jul 2014-Jun 2015",70.900000000000006,70.599999999999994,67,67.099999999999994,72.7,70.7,69.8,65.599999999999994,66.599999999999994,64.3,79.5,72.900000000000006,71.099999999999994,67.099999999999994,69.599999999999994,68.599999999999994,75.900000000000006,77.5,71.400000000000006,70.7,74.5,70.400000000000006,70.099999999999994,73.400000000000006,73.2]
["Jul 2015-Jun 2016",72.5,73.3,74,76,76.7,71.5,76,65.3,71.8,74.5,78.2,81.5,74.2,76,73.400000000000006,69.2,86.4,74.3,85.2,71.5,69.900000000000006,74.2,71.599999999999994,74.2,74]
["Jul 2016-Jun 2017",70.8,72.900000000000006,76.900000000000006,78.400000000000006,77.099999999999994,71,76.5,64.5,71,80.7,78.7,79.8,70.400000000000006,78.400000000000006,73.099999999999994,72.3,84.3,73.900000000000006,82.1,71,70.8,74.400000000000006,72.400000000000006,74.8,74.599999999999994]
[]
[]
["Source: Annual Population Survey"]
["Description: Resident employment, 16-64 working age population"]
["Years: July-June 2007 to July-June 2017"]
["http://nomisweb.co.uk/ "]

{"sheet":"LS11. Resident Employment Split","index":15,"n_rows":110,"n_cols":26,"rows_kept":110,"cut":false,"hidden":false,"merged":[]}
["LS11. Resident Employment by Age, Gender and Ethnicity",null,null,null,"Return to Contents",null,"Return to TTWA Summary",null,"Return to LA Summary"]
[null,"Blackburn with Darwen, Hyndburn, Rossendale and Ribble Valley","Blackpool, Fylde and Wyre","Burnley and Pendle","Lancaster and Morecambe ","Preston, Chorley and South Ribble ","West Lancashire ","Preston and South Ribble City Deal","Blackburn with Darwen ","Blackpool","Burnley","Chorley ","Fylde","Hyndburn","Lancaster ","Pendle ","Preston","Ribble Valley","Rossendale ","South Ribble ","West Lancashire ","Wrye ","Lancashire ","North West ","England Minus London","England"]
["Number (2007)"]
["Aged 16-19",6100,8400,6300,1400,9000,3900,{"$f":"SUM(Q4,T4)","v":6800},2800,2800,2800,2300,2400,1300,1400,3500,4000,"..",1300,2800,3900,3300,35100,154200,1045400,1139600]
["Aged 20-24",14300,13000,8400,6200,15300,2200,13100,5700,6700,1500,2200,2700,4100,6200,6900,8300,2600,1900,4800,2200,3700,59400,318900,1922000,2272800]
["Aged 25-34",35100,26500,16900,13700,33900,9300,24800,15900,12000,10100,9100,3700,10900,13700,6800,15900,3300,4900,8900,9300,10800,135400,677400,4255300,5383800]
["Aged 35-49",61000,55300,29800,23300,64800,22400,41000,21800,21000,16000,23700,16600,11300,23300,13900,21800,14600,13300,19200,22400,17800,256500,1219900,7920900,9243900]
["Aged 50-64",36200,37500,11900,21400,41900,12000,27600,14500,15800,6100,14200,9000,7500,21400,5800,10200,7000,7200,17400,12000,12600,160700,766800,5252000,5930800]
["Aged 65+",3000,2300,900,900,6100,"..",5100,700,600,"..",1000,"..","..",900,700,2800,1600,"..",2300,"..",1300,14100,57000,467500,542700]
["Male (aged 16-64)",81500,73800,40500,37100,87900,25900,{"$f":"SUM(Q10,T10)","v":60500},33600,30800,20000,27500,17600,17900,37100,20500,33900,14700,15200,26600,25900,25400,346700,1664300,10958200,12927900]
["Female (aged 16-64)",71100,66900,32800,28800,76900,23900,53000,27200,27600,16500,24000,16700,17200,28800,16300,26400,13400,13300,26600,23900,22600,300400,1472800,9437300,11043000]
["White (aged 16-64)",138500,137400,66800,63400,146900,47800,96100,49800,56600,34600,50800,33200,31900,63400,32200,46000,28200,28500,50100,47800,47600,600800,2954600,19144500,21652800]
["Ethnic minority (aged 16-64)",13500,3300,6400,2500,18000,2000,17300,10900,1700,1900,700,"..",2600,2500,4600,14200,"..","..",3000,2000,"..",45700,181800,1241800,2302200]
["Mixed ethnic group (aged 16-64)","..",500,"..","..","..","..","..","..","..","..","..","..","..","..","..","..","..","..","..","..","..",1400,11700,110000,171900]
["Indians (aged 16-64)",5600,"..","..","..",8400,"..",8400,5600,"..","..","..","..","..","..","..",5800,"..","..","..","..","..",14700,42000,342200,562800]
["Pakistanis/Bangladeshis (aged 16-64)",6300,"..",6200,"..",2800,"..",2800,3700,"..",1900,"..","..",2600,"..",4400,2800,"..","..","..","..","..",15500,47300,220700,333800]
["Black or black British (aged 16-64)","..","..","..","..",1200,"..",1200,"..","..","..","..","..","..","..","..",1200,"..","..","..","..","..",2900,30200,243500,593000]
["All other ethnic group (aged 16-64)",1400,2400,"..","..",5300,"..",4800,1400,1000,"..","..","..","..","..","..",4300,"..","..","..","..","..",11200,50600,325400,640700]
[]
["Number (2012)"]
["Aged 16-19",7600,5600,"..",4000,6600,2800,{"$f":"SUM(Q21,T21)","v":4000},2800,2800,"..",2500,1600,2900,4000,"..",2800,1200,"..",1200,2800,1100,28000,117700,794700,860900]
["Aged 20-24",14000,11600,7000,5800,17600,4400,12700,5000,5400,4300,5000,"..",5600,5800,2600,6300,1600,1800,6400,4400,5100,60500,288000,1833400,2157200]
["Aged 25-34",30400,28200,17100,12100,37700,7900,26600,14100,11400,9200,11100,8000,7800,12100,7900,17900,4500,4000,8700,7900,8800,133500,693900,4304200,5538300]
["Aged 35-49",61600,52600,30500,24600,64500,18300,43400,21100,24000,17100,21000,13700,11500,24600,13400,23200,13600,15400,20200,18300,14900,252100,1173300,7683100,9102100]
["Aged 50-64",42600,37200,20700,15900,44900,15200,31500,14100,15100,9900,13400,8300,10500,15900,10800,13200,8600,9500,18300,15200,13800,176500,817800,5476900,6237000]
["Aged 65+",4900,6800,1400,900,6400,2300,4600,1000,1700,"..",1800,1500,"..",900,"..",1800,1300,"..",2800,2300,3600,22600,82900,663900,758900]
["Male (aged 16-64)",82100,70600,40400,32500,88500,23700,60700,31600,31900,21100,27800,16900,20600,32500,19300,32900,14800,15000,27800,23700,21700,337700,1625300,10677100,12769500]
["Female (aged 16-64)",74200,64500,36300,29900,82900,25000,57600,25400,26700,19400,25200,15800,17700,29900,16900,30500,14600,16500,27100,25000,21900,312800,1465400,9415300,11126000]
["White (aged 16-64)",141800,131400,69800,60600,154600,48700,102700,45600,56000,36500,51900,32000,36200,60600,33300,49100,29000,31000,53600,48700,43300,606900,2857500,18506600,21028700]
["Ethnic minority (aged 16-64)",14400,3700,6900,1800,16700,"..",15600,11500,2600,4000,1100,"..",2200,1800,2900,14400,"..","..",1300,"..","..",43500,232200,1576000,2849200]
["Mixed ethnic group (aged 16-64)",1000,600,"..","..",1000,"..","..",500,600,"..","..","..","..","..","..","..","..","..","..","..","..",2600,21800,152200,234600]
["Indians (aged 16-64)",5400,"..","..","..",6300,"..",6300,5000,"..","..","..","..","..","..","..",5800,"..","..","..","..","..",12400,45200,425200,717900]
["Pakistanis/Bangladeshis (aged 16-64)",6300,"..",5400,"..","..","..","..",4600,"..",2500,"..","..",1800,"..",2900,"..","..","..","..","..","..",13100,65200,309800,472900]
["Black or black British (aged 16-64)","..","..","..","..",2000,"..",1700,"..","..","..","..","..","..","..","..",1300,"..","..","..","..","..",5100,46900,299800,643600]
["All other ethnic group (aged 16-64)",1400,2300,"..","..",6300,"..",5800,1000,1200,"..","..","..","..","..","..",5800,"..","..","..","..","..",10400,53200,389100,780200]
[]
["Number (2017)"]
["Aged 16-19",4900,4600,3400,1900,9500,3100,{"$f":"SUM(Q38,T38)","v":8200},2000,2200,"..","..","..","..",1900,2300,3900,"..","..",4300,3100,"..",27400,110200,781800,858200]
["Aged 20-24",14500,8500,10900,7100,22200,3400,18700,4700,5500,6000,3500,"..",3800,7100,4900,10700,3600,2400,8000,3400,1800,66500,317700,1983300,2359100]
["Aged 25-34",35200,29500,16500,18400,39600,7600,23500,14600,14700,8200,16100,7600,9100,18400,8300,11800,4200,7300,11700,7600,7200,146800,763900,4817700,6202700]
["Aged 35-49",55500,44900,29600,25400,59200,19600,43400,19900,18100,15300,15800,10900,11700,25400,14300,23900,11600,12400,19500,19600,16000,234300,1135200,7512300,9156800]
["Aged 50-64",43500,49400,22600,18300,46100,14700,29900,17900,18400,12900,16200,13300,8700,18300,9600,16500,8800,8200,13400,14700,17700,194600,914800,6277900,7234400]
["Aged 65+",7500,5100,4000,3600,3200,4300,1800,1600,1300,1700,"..",1600,3100,3600,2300,"..",1800,"..",1800,4300,2300,27700,111600,872700,1007100]
["Male (aged 16-64)",80600,71600,44100,37600,93500,25900,68700,31600,31100,23500,24800,18000,18700,37600,20600,37900,14600,15700,30800,25900,22500,353200,1704200,11289500,13718400]
["Female (aged 16-64)",73000,65300,38900,33500,83100,22600,55000,27300,27700,20000,28200,16100,15800,33500,19000,28900,14200,15600,26100,22600,21500,316400,1537600,10083400,12092800]
["White (aged 16-64)",132600,133300,75700,69400,159000,46800,107000,42300,57900,41100,52000,33600,30200,69400,34600,51400,28800,31300,55600,46800,41800,616900,2938800,19404600,22270300]
["Ethnic minority (aged 16-64)",20900,3500,7300,"..",17700,1700,16700,16500,900,2300,"..","..",4300,"..",4900,15400,"..","..",1300,1700,2100,52700,302400,1960700,3529600]
["Mixed ethnic group (aged 16-64)","..",2300,"..","..",2400,"..",2400,"..","..","..","..","..","..","..","..","..","..","..","..","..",1700,6200,28100,205000,332100]
["Indians (aged 16-64)",8400,"..","..","..",6500,"..",6500,8400,"..","..","..","..","..","..","..",6200,"..","..","..","..","..",15000,55000,475200,787900]
["Pakistanis/Bangladeshis (aged 16-64)",8700,"..",6000,"..",1100,"..",1100,5400,"..","..","..","..",3400,"..",4900,1100,"..","..","..","..","..",16000,93100,411500,600900]
["Black or black British (aged 16-64)",600,700,"..","..",4200,"..",3700,600,"..","..","..","..","..","..","..",3700,"..","..","..","..","..",6100,58200,404900,878200]
["All other ethnic group (aged 16-64)",2800,"..","..","..",3400,"..",2900,1800,"..","..","..","..","..","..","..",2200,"..","..","..","..","..",9400,68000,464100,930500]
[]
[]
["Rate (2007)"]
[{"$f":"A4","v":"Aged 16-19"},38.299999999999997,51,44.8,23.2,54.6,47.6,51.5,40.9,40.299999999999997,54.2,66.3,42,27.4,23.2,39.299999999999997,51.3,"..",39,51.8,47.6,82.3,45.5,41.6,46.9,44]
["Aged 20-24",64.8,68,63.8,62.7,60.9,81.2,58.8,64.599999999999994,64.3,40.1,77,73.3,70.7,62.7,73.5,51.6,82.4,44.3,77.599999999999994,81.2,71.7,64.5,68.5,69.900000000000006,68.400000000000006]
["Aged 25-34",80.900000000000006,82.7,73.400000000000006,86.3,83.6,80.7,84.4,73.8,76.099999999999994,72.5,81.599999999999994,100,87.6,86.3,74.900000000000006,80.7,82.7,92.8,92,80.7,85.9,81.400000000000006,79.900000000000006,80.599999999999994,79.7]
["Aged 35-49",78.2,84.8,80.599999999999994,90.5,82.8,83.3,79.900000000000006,74.900000000000006,74.8,84.3,88.4,94.4,77.599999999999994,90.5,76.599999999999994,77.900000000000006,92.1,71.8,82.2,83.3,90.4,82.5,80.900000000000006,83.3,82.1]
["Aged 50-64",60.1,59.6,49,70.3,59.8,55.5,60.1,56.4,59.9,46,59.3,62.6,62,70.3,52.6,53.2,69.3,58.6,65,55.5,57.4,59.7,61.4,65.8,65.599999999999994]
["Aged 65+",6,3.6,3.1,3.1,12.9,8.1,14.1,4.2,2.4,"..",8.9,"..","..",3.1,4.4000000000000004,14.2,17.899999999999999,"..",14,8.1,5,6.1,5.4,6.8,7]
["Male (aged 16-64)",74.2,75.3,72.400000000000006,86.7,77.599999999999994,76.2,75.5,73.900000000000006,69.8,72.400000000000006,82.4,79.099999999999994,70.400000000000006,86.7,72.3,73.8,84.2,71.5,77.900000000000006,76.2,80.3,76.400000000000006,75.599999999999994,79.599999999999994,79.099999999999994]
["Female (aged 16-64)",64.8,68.400000000000006,59.1,64.099999999999994,65.7,64.7,64.400000000000006,58.2,63.3,60,68.8,73.7,71.3,64.099999999999994,58.2,58.8,80.8,59.8,71.099999999999994,64.7,71.8,65,65.7,67.5,66.5]
["White (aged 16-64)",74.099999999999994,72,69.599999999999994,75.099999999999994,74,70,72.900000000000006,71.3,66.400000000000006,69.400000000000006,76,76.400000000000006,75.099999999999994,75.099999999999994,69.7,71.400000000000006,82.6,70.599999999999994,74.400000000000006,70,76.7,72.8,72,74.599999999999994,74.5]
["Ethnic minority (aged 16-64)",42.8,66.400000000000006,41.9,74.099999999999994,56.4,74.599999999999994,56.8,49,71.2,35.799999999999997,48.7,76.599999999999994,42.4,74.099999999999994,45,54.1,"..","..",74,74.599999999999994,"..",50.9,53.7,60,59.3]
["Mixed ethnic group (aged 16-64)",57.5,60.1,"..","..","..","..","..",57.5,100,"..","..","..","..","..","..","..","..","..","..","..","..",54.2,53.8,65.5,64.2]
["Indians (aged 16-64)",53.2,42,"..","..",80.099999999999994,"..",80.099999999999994,53.2,80,"..","..","..","..","..","..",78.599999999999994,"..","..",83.8,"..","..",63.4,67.3,68.3,67.8]
["Pakistanis/Bangladeshis (aged 16-64)",35.5,"..",45,"..",34.6,"..",34.6,43.7,"..",43,"..","..",42.4,"..",45.9,36.200000000000003,"..","..","..","..","..",38.299999999999997,41.5,44,44.2]
["Black or black British (aged 16-64)","..","..","..","..",56.9,"..",62.5,"..","..","..","..","..","..","..","..",62.5,"..","..","..","..","..",71.2,58.3,67.3,63.8]
["All other ethnic group (aged 16-64)",47.6,87.2,"..","..",49.3,"..",49.5,47.6,74.3,"..","..","..","..","..","..",47.7,"..","..","..","..","..",57.5,57,60.4,58.4]
[]
["Rate (2012)"]
[{"$f":"A21","v":"Aged 16-19"},40.200000000000003,41.7,22.4,44.4,32.5,41.5,27,32.5,43.1,"..",48.3,48.7,62,44.4,37.1,25.8,44.4,"..",30.1,41.5,32.1,37.5,32.9,35.700000000000003,33.1]
["Aged 20-24",68.099999999999994,57.3,59.6,70.2,60.2,68.099999999999994,53.6,59.6,55.5,80.099999999999994,87.6,"..",93.4,70.2,42,41.9,80.099999999999994,42.6,73.7,68.099999999999994,64,62.6,59,62.4,60.8]
["Aged 25-34",70.7,78.400000000000006,75.2,71.7,88.6,86.7,87.4,68,76.3,82,91.8,85.6,69.3,71.7,68.5,89.1,100,61.5,83.9,86.7,75.400000000000006,78.400000000000006,77.3,78,77.400000000000006]
["Aged 35-49",83.3,83.8,80,94.8,86.1,82.4,85.8,71.3,79.900000000000006,85.7,86.8,91.5,82.4,94.8,73.7,84.2,95,95.6,87.8,82.4,83.9,84.6,80.400000000000006,82.3,81.5]
["Aged 50-64",66.599999999999994,58.6,62.8,57.6,69.8,63.4,69.8,53.5,60.3,62.2,70,59,76.3,57.6,63.3,64.2,75.8,75.5,74.400000000000006,63.4,56.6,63.9,62.5,65.599999999999994,65.400000000000006]
["Aged 65+",9.6,10.1,5.3,3.4,10.6,10,11.5,4.8,6.5,"..",8.9,7.6,9.3000000000000007,3.4,"..",9.3000000000000007,14.8,15.7,13.6,10,16.600000000000001,9,7.2,8.6999999999999993,8.9]
["Male (aged 16-64)",74.099999999999994,73.3,72.900000000000006,75.3,77,70.2,74.7,67.7,73.7,77.099999999999994,82.5,77.400000000000006,81.7,75.3,68.8,69.900000000000006,86.7,68.900000000000006,81.400000000000006,70.2,70,74.3,72.599999999999994,75.8,75.599999999999994]
["Female (aged 16-64)",67.599999999999994,64.900000000000006,64.400000000000006,67.099999999999994,71.2,71.599999999999994,68.900000000000006,54.2,62.4,70.5,77.2,70.5,72.5,67.099999999999994,58.5,65,82.8,79.400000000000006,73.900000000000006,71.599999999999994,64.3,67.8,64.5,65.900000000000006,65]
["White (aged 16-64)",74,68.7,70.8,73.400000000000006,76.2,70.900000000000006,74.599999999999994,65.900000000000006,67.5,73.900000000000006,79.5,73.5,78.3,73.400000000000006,67.8,72.099999999999994,84.5,73.8,77.099999999999994,70.900000000000006,66.8,72.599999999999994,70,72.099999999999994,72.2]
["Ethnic minority (aged 16-64)",50.2,86.1,52,38.9,58.9,"..",57.2,46.9,81.599999999999994,72.900000000000006,100,"..",62.5,38.9,37.1,55.2,"..","..",100,"..","..",54.9,54.3,58.7,58.7]
["Mixed ethnic group (aged 16-64)",82.4,89.2,"..","..",42.1,"..","..",72.5,89.2,"..","..","..","..","..","..","..","..","..","..","..","..",60.4,56.3,62.2,60.7]
["Indians (aged 16-64)",56.8,100,"..","..",49.1,"..",49.1,55.1,100,"..","..","..","..","..","..",47.4,"..","..","..","..","..",53.1,63.5,69.099999999999994,68.7]
["Pakistanis/Bangladeshis (aged 16-64)",42.4,"..",49.9,"..",74.099999999999994,"..",74.099999999999994,38.5,"..",71.7,"..","..",57.6,"..",39.299999999999997,74.099999999999994,"..","..","..","..","..",47.2,47.7,47,48.4]
["Black or black British (aged 16-64)",49.9,69.400000000000006,75.099999999999994,"..",84.2,"..",82.3,49.9,69.400000000000006,75.099999999999994,"..","..","..","..","..",77,"..","..","..","..","..",73,57.1,60.4,57.8]
["All other ethnic group (aged 16-64)",57.8,91.7,"..","..",67.8,"..",65.7,49.4,85.5,"..","..","..","..","..","..",65.7,"..","..","..","..","..",61.2,53.8,58.1,58.7]
[]
["Rate (2017)"]
[{"$f":"A38","v":"Aged 16-19"},29.4,28.1,40.299999999999997,49.3,55.6,44.9,56,22.8,32.799999999999997,"..","..","..","..",49.3,70.900000000000006,50.4,"..","..",62.2,44.9,"..",39.6,33.5,37,34.6]
["Aged 20-24",64.599999999999994,66.599999999999994,100,58.4,77.5,49.1,81.400000000000006,57.6,70.5,100,61.6,"..",59.4,58.4,100,78,100,56.1,86.6,49.1,57.5,71,67.900000000000006,67.7,67.099999999999994]
["Aged 25-34",84.4,82.5,72.7,82.1,85.5,82.2,84.4,74.599999999999994,79.5,84.5,87.3,87.9,94.5,82.1,63.8,75.3,100,87.5,95.9,82.2,83.3,82.4,80.099999999999994,82.6,82.1]
["Aged 35-49",81.2,86.1,86.6,98.1,84.8,86.5,83.4,75.5,78,93.4,88.8,89.6,77.5,98.1,80.3,76.400000000000006,95.7,83,94.1,86.5,94.8,85.8,83.4,84.8,84.4]
["Aged 50-64",64.099999999999994,69.900000000000006,71.2,69.3,68.7,65.599999999999994,67.5,62.1,68.5,77.599999999999994,70.900000000000006,75.7,61.3,69.3,64.2,68.8,67.3,69.099999999999994,66.099999999999994,65.599999999999994,67.5,68,66.8,71,71]
["Aged 65+",10.6,6.6,13.9,14.6,5.6,19.5,7.4,6.3,4.2,11.8,"..",8.1999999999999993,19.600000000000001,14.6,16.100000000000001,"..",10.1,8.4,9.1999999999999993,19.5,8.3000000000000007,9.9,8.6999999999999993,10.1,10.5]
["Male (aged 16-64)",74.8,75.900000000000006,82.1,84.5,82.1,77.099999999999994,84.3,69.599999999999994,74.400000000000006,88.4,76.599999999999994,82.9,77,84.5,75.8,80.8,86.8,73.7,89.1,77.099999999999994,73.099999999999994,78.900000000000006,76.599999999999994,79.5,79.7]
["Female (aged 16-64)",66.900000000000006,69.900000000000006,71.7,72.5,72.2,65.099999999999994,68.599999999999994,59.5,67.400000000000006,73.2,80.599999999999994,76.5,63.9,72.5,70.3,63.5,81.8,74.099999999999994,75.099999999999994,65.099999999999994,68.599999999999994,69.900000000000006,68.2,70.099999999999994,69.599999999999994]
["White (aged 16-64)",76.099999999999994,73,84.1,81,79.5,70.7,79.2,70.099999999999994,71,83.9,80.3,79.5,78.400000000000006,81,84.4,75.3,84.3,75.900000000000006,83.2,70.7,71.099999999999994,77.2,74.2,76.2,76.599999999999994]
["Ethnic minority (aged 16-64)",49.1,69.8,40.5,33.299999999999997,60.6,81.7,62.7,53.5,66.5,48.4,"..","..",41.2,33.299999999999997,37.6,63.8,"..","..",52.5,81.7,66.2,51.8,58.5,63.2,64.3]
["Mixed ethnic group (aged 16-64)",22.6,74.8,"..","..",100,"..",100,31.2,"..","..","..","..","..","..","..",100,"..","..","..","..",72.5,77,64,65,65.599999999999994]
["Indians (aged 16-64)",60.1,"..","..","..",55.5,"..",55.5,60.1,"..","..","..","..","..","..","..",55.6,"..","..","..","..","..",58.1,66.400000000000006,72.3,72.8]
["Pakistanis/Bangladeshis (aged 16-64)",41.3,"..",36.799999999999997,"..",32.799999999999997,"..",32.799999999999997,45,"..","..","..","..",36.6,"..",39,32.799999999999997,"..","..","..","..","..",39,53.6,54.2,54.5]
["Black or black British (aged 16-64)",59.2,62.2,"..","..",66.8,"..",88.8,59.2,100,"..","..","..","..","..","..",88.8,"..","..","..","..","..",56.9,59.7,67.2,67.900000000000006]
["All other ethnic group (aged 16-64)",56.4,62.3,100,"..",64.5,"..",60.4,63,62.3,100,"..","..","..","..","..",69,"..","..","..","..","..",58.6,57,60.2,61.8]
[]
[]
["Source: Annual Population Survey"]
["Description: Resident employment and rate, by age and gender"]
["Years: July-June 2007 to July-June 2017"]
["http://nomisweb.co.uk/ "]

{"sheet":"LS12. Self-Employment","index":16,"n_rows":34,"n_cols":26,"rows_kept":34,"cut":false,"hidden":false,"merged":[]}
["LS12. Self-Employment","Return to Contents",null,"Return to TTWA Summary",null,null,null,null,"Return to LA Summary"]
[null,"Blackburn with Darwen, Hyndburn, Rossendale and Ribble Valley","Blackpool, Fylde and Wyre","Burnley and Pendle","Lancaster and Morecambe ","Preston, Chorley and South Ribble ","West Lancashire ","Preston and South Ribble City Deal","Blackburn with Darwen ","Blackpool","Burnley","Chorley ","Fylde","Hyndburn","Lancaster ","Pendle ","Preston","Ribble Valley","Rossendale ","South Ribble ","West Lancashire ","Wrye ","Lancashire ","North West ","England Minus London","England"]
["Number"]
["Jul 2006-Jun 2007",16900,19100,7500,7600,17400,4400,{"$f":"SUM(Q4,T4)","v":10400},7200,8400,3300,7100,3600,2900,7600,4200,3900,5100,1800,6500,4400,7100,72900,343100,2529400,3057200]
["Jul 2007-Jun 2008",18100,17300,9300,8000,13800,5700,8300,5400,6400,3700,5500,4100,6000,8000,5600,3000,3500,3200,5300,5700,6800,72300,340800,2545500,3099000]
["Jul 2008-Jun 2009",21900,18700,12300,10000,13800,4400,8500,7400,6300,6000,5300,5300,5700,10000,6300,4400,4800,4000,4100,4400,7100,81200,351700,2464300,3025700]
["Jul 2009-Jun 2010",18500,19100,11700,7200,14000,6000,10200,6300,7000,7500,3800,4600,4200,7200,4300,4600,4000,4000,5600,6000,7500,76400,360200,2524700,3099400]
["Jul 2010-Jun 2011",20500,19700,11500,9300,18600,7400,10500,5900,6900,5600,8200,5200,3900,9300,5900,5300,6800,4000,5200,7400,7600,87000,363200,2559900,3137300]
["Jul 2011-Jun 2012",21000,20500,9100,5700,17500,7000,10800,8000,7100,2900,6700,5200,5100,5700,6200,5000,5400,2500,5800,7000,8100,80700,371700,2652000,3303200]
["Jul 2012-Jun 2013",20200,19500,8600,7400,20400,6600,12800,7600,6300,3200,7600,5100,5900,7400,5400,6300,2900,3800,6500,6600,8100,82600,379100,2654700,3309300]
["Jul 2013-Jun 2014",18800,19700,9800,7200,23400,6700,14400,6500,6900,3000,8900,4900,4700,7200,6800,6600,5100,2500,7800,6700,7800,85500,398000,2759200,3464600]
["Jul 2014-Jun 2015",17900,20900,7400,8000,22900,4000,14200,6900,8500,2800,8700,5200,3900,8000,4600,8200,3200,3900,6000,4000,7200,81200,397000,2813900,3550400]
["Jul 2015-Jun 2016",23100,20800,9100,4900,22900,10000,12900,7500,9300,2800,9900,4800,4500,4900,6300,10100,5900,5200,2800,10000,6600,90800,409400,2863000,3654800]
["Jul 2016-Jun 2017",21300,21900,8600,6700,18500,9400,11800,7100,8000,5300,6600,4400,4600,6700,3300,7800,5900,3800,4000,9400,9400,86400,407600,2960000,3777900]
[]
[]
["Rate"]
[{"$f":"A4","v":"Jul 2006-Jun 2007"},11.1,13.6,10.199999999999999,11.5,10.6,8.8000000000000007,9.1,11.8,14.4,9.1,13.8,10.5,8.3000000000000007,11.5,11.3,6.4,17.899999999999999,6.4,12.2,8.8000000000000007,14.9,11.3,10.9,12.4,12.8]
[{"$f":"A5","v":"Jul 2007-Jun 2008"},12,12.3,12,13.3,8,10.7,6.9,8.9,10.9,9.9,10.8,11.4,18.600000000000001,13.3,14,4.8,12.6,10.6,9.1999999999999993,10.7,14.7,11,10.9,12.4,12.8]
["Jul 2008-Jun 2009",14.9,13.5,16.7,15.9,8.4,9.1999999999999993,7.5,12.7,10.199999999999999,17.5,10.4,16,17.3,15.9,16,7.4,18.399999999999999,13.5,7.7,9.1999999999999993,16.3,12.8,11.4,12.1,12.6]
["Jul 2009-Jun 2010",12.4,13.7,15.1,11.3,8.6999999999999993,12,9.1,10.4,11.8,20.100000000000001,8,14,11.9,11.3,10.6,7.8,14.9,15,10.5,12,15.9,11.9,11.7,12.6,13.1]
["Jul 2010-Jun 2011",14,14.3,14.7,14.6,11.2,13.9,9.1,10.3,11.9,14.1,15.8,15.1,11.3,14.6,15.3,8.8000000000000007,24.7,14.1,9.4,13.9,16.8,13.5,11.8,12.8,13.2]
["Jul 2011-Jun 2012",13.5,15.2,11.9,9.1,10.199999999999999,14.3,9.1,14.1,12.1,7.1,12.7,15.9,13.4,9.1,17.2,7.8,18.399999999999999,7.9,10.5,14.3,18.7,12.4,12,13.2,13.8]
["Jul 2012-Jun 2013",13.1,14.5,12.1,12.7,12.1,13.4,11,12.7,10.9,9,14.5,15,16.899999999999999,12.7,15.3,9.9,10.3,12.3,12.3,13.4,18.8,13,12.2,13.1,13.7]
["Jul 2013-Jun 2014",13.3,14.9,14.5,11.8,14,14.4,12.7,11.3,12.5,9.1,16.600000000000001,15.7,14.4,11.8,19.7,10.199999999999999,21.8,8.8000000000000007,16.100000000000001,14.4,17.3,13.9,12.9,13.5,14.1]
["Jul 2014-Jun 2015",11.5,15.5,10.199999999999999,13.2,13.9,8.3000000000000007,12.8,11.6,15.2,8.1,16,16.399999999999999,11.1,13.2,12,13.1,12.5,11.3,12.4,8.3000000000000007,15.2,12.7,12.6,13.5,14.1]
["Jul 2015-Jun 2016",14.6,15,11.4,7.3,12.9,20.100000000000001,10.5,12.7,15.6,6.9,18.600000000000001,14.1,12.2,7.3,16,15.7,19.8,16.100000000000001,4.8,20.100000000000001,14.9,13.5,12.7,13.5,14.3]
["Jul 2016-Jun 2017",13.9,16,10.3,9.5,10.5,19.399999999999999,9.6,12,13.7,12.2,12.6,12.9,13.2,9.5,8.3000000000000007,11.7,20.399999999999999,12,7.1,19.399999999999999,21.4,12.9,12.6,13.8,14.6]
[]
[]
["Source: Annual Population Survey"]
["Description: Self-employment number and rate, 16-64 working age population"]
["Years: July-June 2007 to July-June 2017"]
["http://nomisweb.co.uk/ "]

{"sheet":"LS13. Hours Worked Weekly","index":17,"n_rows":20,"n_cols":26,"rows_kept":20,"cut":false,"hidden":false,"merged":[]}
["LS13. Hours Worked Weekly","Return to Contents",null,"Return to TTWA Summary",null,null,null,null,"Return to LA Summary"]
[null,"Blackburn with Darwen, Hyndburn, Rossendale and Ribble Valley","Blackpool, Fylde and Wyre","Burnley and Pendle","Lancaster and Morecambe ","Preston, Chorley and South Ribble ","West Lancashire ","Preston and South Ribble City Deal","Blackburn with Darwen ","Blackpool","Burnley","Chorley ","Fylde","Hyndburn","Lancaster ","Pendle ","Preston","Ribble Valley","Rossendale ","South Ribble ","West Lancashire ","Wrye ","Lancashire ","North West ","England Minus London","England"]
["Number in Employment (2017)"]
["Who work under 10 hours",6900,5000,2800,5400,7200,1900,{"$f":"SUM(Q4,T4)","v":5500},2000,1100,"..",1700,2600,1500,5400,1800,3900,3100,"..",1600,1900,1300,29300,107900,798100,914500]
["Who work 10-34 hours",43500,47700,20800,22700,47600,12400,{"$f":"SUM(Q5,T5)","v":32600},17600,18500,11300,15000,12500,7600,22700,9600,18800,9900,8400,13800,12400,16700,194900,911800,6099100,7134600]
["Who work 35-44 hours",73200,57200,46000,25900,75600,22900,{"$f":"SUM(Q6,T6)","v":52500},28700,25800,26300,23100,11600,20900,25900,19700,24100,9500,14200,28400,22900,19800,300700,1534700,9620200,11642700]
["Work 45 hours or more",35700,28300,16700,18200,38600,10800,{"$f":"SUM(Q7,T7)","v":29500},10900,12400,6100,9100,8100,7200,18200,10700,16600,8200,9500,12900,10800,7900,148300,693000,5105200,6359400]
[]
[]
["% in Employment (2017)"]
["Who work under 10 hours",4.4000000000000004,3.6,3.3,7.5,4.3,4,4.5,3.4,1.9,"..",3.6,7.4,3.9,7.5,4.4000000000000004,6.1,10.1,"..",2.8,4,2.9,4.4000000000000004,3.3,3.7,3.5]
["Who work 10-34 hours",27.3,34.5,24.1,31.5,28.2,25.9,27.2,29.8,32,25.3,30.7,35.9,20.6,31.5,22.9,29.7,32.200000000000003,25.9,24.3,25.9,36.5,28.9,28.1,28.2,27.4]
["Who work 35-44 hours",45.9,41.4,53.2,35.799999999999997,44.7,47.7,43.7,48.5,44.6,58.9,47.2,33.4,56.1,35.799999999999997,47.1,38.1,31,43.7,50.1,47.7,43.4,44.7,47.3,44.5,44.7]
["Work 45 hours or more",22.4,20.5,19.399999999999999,25.2,22.8,22.4,24.6,18.3,21.4,13.6,18.600000000000001,23.2,19.399999999999999,25.2,25.5,26.1,26.8,29.2,22.8,22.4,17.2,22,21.3,23.6,24.4]
[]
[]
["Source: Annual Population Survey"]
["Description: Number and percentage of all in employment by number of hours worked weekly"]
["Years: July-June 2017"]
["http://nomisweb.co.uk/ "]

{"sheet":"LS14. Non-Permanent Employment","index":18,"n_rows":11,"n_cols":26,"rows_kept":11,"cut":false,"hidden":false,"merged":[]}
["LS14. Non-Permanent Employment",null,"Return to Contents",null,"Return to TTWA Summary",null,null,null,"Return to LA Summary"]
[null,"Blackburn with Darwen, Hyndburn, Rossendale and Ribble Valley","Blackpool, Fylde and Wyre","Burnley and Pendle","Lancaster and Morecambe ","Preston, Chorley and South Ribble ","West Lancashire ","Preston and South Ribble City Deal","Blackburn with Darwen ","Blackpool","Burnley","Chorley ","Fylde","Hyndburn","Lancaster ","Pendle ","Preston","Ribble Valley","Rossendale ","South Ribble ","West Lancashire ","Wrye ","Lancashire ","North West ","England Minus London","England"]
[2017]
["Number in employment",7000,8500,4300,8200,9800,2200,{"$f":"SUM(Q4,T4)","v":8000},2900,4700,2800,1800,2700,1600,8200,1500,5200,"..","..",2800,2200,"..",40000,183600,1080600,1333100]
["% in employment",4.3,6,5,10.9,5.5,4.2,6.3,4.8,7.9,6.2,3.4,7.4,4.3,10.9,3.7,7.7,"..","..",4.8,4.2,"..",5.7,5.5,4.9000000000000004,5]
[]
[]
["Source: Annual Population Survey"]
["Description: Number and percentage in employment who are in non-permanent employment"]
["Years: July-June 2017"]
["http://nomisweb.co.uk/ "]

{"sheet":"LS15. Zero-Hour Contracts","index":19,"n_rows":11,"n_cols":7,"rows_kept":11,"cut":false,"hidden":false,"merged":[]}
["LS15. Zero-Hour Contracts","Return to Contents",null,"Return to TTWA Summary",null,null,"Return to LA Summary"]
[null,"North West ","England Minus London","England"]
[2017]
["Number in employment",67000,640000,758000]
["% in employment",2,"..",2.8]
[]
[]
["Source: Labour Force Survey"]
["Description: Number and percentage in employment who are on zero-hour contracts"]
["Years: April-June 2017"]
["https://www.ons.gov.uk/employmentandlabourmarket/peopleinwork/earningsandworkinghours/datasets/zerohourssummarydatatables"]

{"sheet":"LS16. Unemployment","index":20,"n_rows":34,"n_cols":26,"rows_kept":34,"cut":false,"hidden":false,"merged":[]}
["LS16. Unemployment","Return to Contents",null,"Return to TTWA Summary",null,null,null,null,"Return to LA Summary"]
[null,"Blackburn with Darwen, Hyndburn, Rossendale and Ribble Valley","Blackpool, Fylde and Wyre","Burnley and Pendle","Lancaster and Morecambe ","Preston, Chorley and South Ribble ","West Lancashire ","Preston and South Ribble City Deal","Blackburn with Darwen ","Blackpool","Burnley","Chorley ","Fylde","Hyndburn","Lancaster ","Pendle ","Preston","Ribble Valley","Rossendale ","South Ribble ","West Lancashire ","Wrye ","Lancashire ","North West ","England Minus London","England"]
["Number"]
["Jul 2006-Jun 2007",7500,6800,8200,2600,10400,2800,{"$f":"SUM(Q4,T4)","v":8200},4100,3600,3800,2100,1100,"..",2600,4400,5500,"..",2400,2700,2800,2000,38300,189000,1068300,1360900]
["Jul 2007-Jun 2008",11600,6700,7600,2900,9500,1600,7500,4100,3500,3500,2000,1500,3700,2900,4100,4600,900,2900,2900,1600,1700,39900,195200,1101800,1358400]
["Jul 2008-Jun 2009",11000,7400,7600,4300,11800,6400,9400,5400,4600,4500,2500,"..",3900,4300,3100,5800,1300,"..",3600,6400,2400,48500,255200,1468600,1803500]
["Jul 2009-Jun 2010",12700,8600,5900,3700,11700,3900,9800,5800,5400,3700,1900,1400,2600,3700,2200,6800,1500,2800,3000,3900,1800,46500,279800,1648800,2024500]
["Jul 2010-Jun 2011",12200,11800,4700,3500,9200,1600,7100,6100,6100,1100,2200,2400,1100,3500,3600,4800,1400,3700,2300,1600,3300,43000,276600,1640500,2032000]
["Jul 2011-Jun 2012",12900,11700,7700,3300,16000,5200,13700,6300,5900,3300,2400,1700,2200,3300,4300,8800,1000,3500,4900,5200,4100,56800,302200,1743900,2147900]
["Jul 2012-Jun 2013",10000,10300,7300,4700,9200,3100,7600,5600,5100,1800,1600,"..",1500,4700,5500,4800,"..",1700,2800,3100,4700,44600,278400,1700900,2102700]
["Jul 2013-Jun 2014",13800,9500,11400,3000,12800,3000,10700,4800,5500,6800,2100,1600,3900,3000,4600,6100,1300,3800,4600,3000,2400,53500,270100,1496700,1838500]
["Jul 2014-Jun 2015",8300,6200,5600,2000,6100,3400,4300,4900,4500,3800,1900,1300,"..",2000,1800,1700,1300,"..",2600,3400,"..",31500,201100,1221000,1521000]
["Jul 2015-Jun 2016",10700,6300,4400,"..",6400,"..",4200,4400,3800,2300,1200,"..",4600,"..",2000,4200,"..","..","..","..",1700,29700,185500,1111900,1396900]
["Jul 2016-Jun 2017",5500,8300,5200,3400,6300,2200,3800,3600,3700,2900,1600,1100,"..",3400,2300,3800,"..","..","..",2200,3400,30800,164800,1003500,1266800]
[]
[]
["Rate"]
[{"$f":"A4","v":"Jul 2006-Jun 2007"},4.7,4.5999999999999996,10.1,3.8,5.9,5.3,6.8,6.3,5.9,9.5,4,3.2,"..",3.8,10.6,8.4,"..",7.8,4.9000000000000004,5.3,4,5.6,5.7,5,5.4]
[{"$f":"A5","v":"Jul 2007-Jun 2008"},7.1,4.5999999999999996,9,4.5,5.2,2.8,5.8,6.4,5.7,8.6999999999999993,3.8,4.0999999999999996,10.3,4.5,9.1999999999999993,6.7,3.1,8.6999999999999993,4.8,2.8,3.5,5.7,5.9,5.0999999999999996,5.3]
["Jul 2008-Jun 2009",7,5.0999999999999996,9.3000000000000007,6.3,6.7,11.7,7.7,8.5,7,11.6,4.5999999999999996,"..",10.6,6.3,7.2,8.9,4.8,"..",6.2,11.7,5.3,7.1,7.6,6.7,7]
["Jul 2009-Jun 2010",7.8,5.8,7.1,5.5,6.8,7.3,8.1,8.8000000000000007,8.4,9,3.8,4,6.9,5.5,5.2,10.3,5.2,9.3000000000000007,5.4,7.3,3.6,6.8,8.4,7.6,7.9]
["Jul 2010-Jun 2011",7.6,7.9,5.7,5.3,5.2,3,5.8,9.5,9.5,2.7,4,6.5,3,5.3,8.5,7.3,4.8,11.5,4,3,6.8,6.2,8.1999999999999993,7.6,7.9]
["Jul 2011-Jun 2012",7.6,8,9.1,5,8.6,9.6999999999999993,10.3,9.9,9.1999999999999993,7.6,4.3,5.0999999999999996,5.3,5,10.7,12.2,3.3,9.9,8.1,9.6999999999999993,8.5,8,8.9,8,8.1999999999999993]
["Jul 2012-Jun 2013",6.1,7.1,9.4,7.5,5.2,5.9,6.1,8.6,8,4.9000000000000004,2.9,"..",4.0999999999999996,7.5,13.5,7,"..",5.3,5.0999999999999996,5.9,9.8000000000000007,6.6,8.1999999999999993,7.7,8]
["Jul 2013-Jun 2014",8.9,6.7,14.5,4.7,7.1,5.9,8.6,7.8,9,16.899999999999999,3.7,4.9000000000000004,10.5,4.7,11.9,8.6,5.3,12,8.6,5.9,5,8,8.1,6.8,7]
["Jul 2014-Jun 2015",5.0999999999999996,4.4000000000000004,7,3.2,3.6,6.6,3.7,7.5,7.4,9.6999999999999993,3.3,3.8,3.7,3.2,4.4000000000000004,2.6,4.8,"..",5.0999999999999996,6.6,"..",4.7,6,5.5,5.7]
["Jul 2015-Jun 2016",6.3,4.3,5.2,"..",3.5,"..",4,6.8,6,5.5,2.1,"..",11.2,"..",4.9000000000000004,6.1,"..","..","..","..",3.6,4.2,5.5,5,5.2]
["Jul 2016-Jun 2017",3.5,5.7,5.9,4.5,3.4,4.4000000000000004,3.6,5.7,5.9,6.3,3,3.2,"..",4.5,5.4,5.4,"..","..","..",4.4000000000000004,7.2,4.4000000000000004,4.8,4.5,4.7]
[]
[]
["Source: Annual Population Survey"]
["Description: Resident unemployment, 16-64 working age population"]
["Years: July-June 2007 to July-June 2017"]
["http://nomisweb.co.uk/ "]

{"sheet":"LS17. Unemployment Split","index":21,"n_rows":110,"n_cols":26,"rows_kept":110,"cut":false,"hidden":false,"merged":[]}
["LS17. Resident Unemployment by Age, Gender and Ethnicity",null,null,null,"Return to Contents",null,"Return to TTWA Summary",null,"Return to LA Summary"]
[null,"Blackburn with Darwen, Hyndburn, Rossendale and Ribble Valley","Blackpool, Fylde and Wyre","Burnley and Pendle","Lancaster and Morecambe ","Preston, Chorley and South Ribble ","West Lancashire ","Preston and South Ribble City Deal","Blackburn with Darwen ","Blackpool","Burnley","Chorley ","Fylde","Hyndburn","Lancaster ","Pendle ","Preston","Ribble Valley","Rossendale ","South Ribble ","West Lancashire ","Wrye ","Lancashire ","North West ","England Minus London","England"]
["Number (2007)"]
["Aged 16-19",500,1500,1200,"..",2400,1200,{"$f":"SUM(Q4,T4)","v":2100},500,800,"..","..","..","..","..",1200,1000,"..","..",1100,1200,"..",8200,43500,242000,298900]
["Aged 20-24",2500,1400,3500,1200,2000,"..",{"$f":"SUM(Q5,T5)","v":1500},800,1000,2300,"..","..","..",1200,"..",1500,"..","..","..","..","..",11100,43900,215500,270200]
["Aged 25-34",1900,1400,2100,"..",1500,"..","..",900,"..",1300,"..","..","..","..","..","..","..","..","..","..",1100,7300,31500,201100,271000]
["Aged 35-49",1500,900,"..","..",2300,"..",{"$f":"SUM(Q7,T7)","v":1600},1100,700,"..","..","..","..","..","..",1600,"..","..","..","..","..",6300,45500,249800,330700]
["Aged 50-64",1100,1500,"..","..",2200,"..","..",700,700,"..",800,600,"..","..","..","..","..","..","..","..","..",5300,24600,159900,190200]
["Aged 65+","..","..","..","..","..","..","..","..","..","..","..","..","..","..","..","..","..","..","..","..","..","..",800,9800,11300]
["Male (aged 16-64)",5500,5100,4500,"..",7000,1500,{"$f":"SUM(Q10,T10)","v":5800},2500,3000,1900,1200,700,"..","..",2600,4600,"..",2000,1200,1500,1300,24100,120800,621600,785200]
["Female (aged 16-64)",2100,1700,3700,2000,3400,1300,{"$f":"SUM(Q11,T11)","v":2400},1600,600,1900,900,"..","..",2000,1700,900,"..","..",1500,1300,"..",14200,68200,446600,575700]
["White (aged 16+)",5300,6800,6000,2600,7800,2300,5700,2600,3600,2500,2100,1100,"..",2600,3500,3000,"..",2400,2700,2300,2000,30800,163500,933300,1073500]
["Ethnic minority (aged 16+)",2200,"..",2200,"..",2600,"..",2600,1500,"..",1300,"..","..","..","..",900,2600,"..","..","..","..","..",7500,26300,143400,296800]
["Mixed ethnic group (aged 16+)","..","..","..","..","..","..","..","..","..","..","..","..","..","..","..","..","..","..","..","..","..","..",2500,14700,22700]
["Indians (aged 16+)",800,"..","..","..","..","..","..",800,"..","..","..","..","..","..","..","..","..","..","..","..","..",800,2700,26300,47200]
["Pakistanis/Bangladeshis (aged 16+)",1200,"..",2200,"..",1800,"..",1800,"~","..",1300,"..","..","..","..",900,1800,"..","..","..","..","..",5200,10900,43600,65800]
["Black or black British (aged 16+)","..","..","..","..","..","..","..","..","..","..","..","..","..","..","..","..","..","..","..","..","..","..",5200,29300,89400]
["All other ethnic group (aged 16+)","..","..","..","..","..","..","..","..","..","..","..","..","..","..","..","..","..","..","..","..","..",700,5000,29500,71600]
[]
["Number (2012)"]
["Aged 16-19",3400,2800,1900,1400,2700,"..",{"$f":"SUM(Q21,T21)","v":1600},1100,1000,"..","..","..","..",1400,1400,1600,"..","..","..","..",1000,13100,56800,329500,380100]
["Aged 20-24",3100,3900,1600,"..",5600,1700,{"$f":"SUM(Q22,T22)","v":4000},1300,1800,"..","..","..","..","..","..",4000,"..",1400,"..",1700,1600,16400,71700,362900,442200]
["Aged 25-34",3700,2000,"..","..",2600,"..",{"$f":"SUM(Q23,T23)","v":1700},1500,800,"..","..","..","..","..","..",1700,"..","..","..","..","..",11200,62300,375600,493900]
["Aged 35-49",1700,1700,2700,"..",3700,1100,{"$f":"SUM(Q24,T24)","v":3100},1700,1300,1400,"..","..","..","..",1300,1100,"..","..",2000,1100,"..",10900,70500,400500,505300]
["Aged 50-64",1000,1300,"..","..",1400,"..","..",700,1000,"..","..","..","..","..","..","..","..","..","..","..","..",5300,40900,275400,326400]
["Aged 65+","..","..","..","..","..","..","..","..","..","..","..","..","..","..","..","..","..","..","..","..","..",900,2100,18300,22600]
["Male (aged 16-64)",8900,7200,4400,1900,9700,2600,{"$f":"SUM(Q27,T27)","v":8000},4000,3500,1800,1800,1300,1700,1900,2600,4700,"..",2500,3300,2600,2400,34700,185700,1010700,1232500]
["Female (aged 16-64)",4000,4600,3200,1300,6300,2600,{"$f":"SUM(Q28,T28)","v":5700},2300,2400,"..","..","..","..",1300,1700,4100,"..","..",1600,2600,1600,22100,116500,733200,915400]
["White (aged 16+)",10400,12100,7200,3300,13700,5200,11300,3800,6000,3300,2400,2000,2200,3300,3900,6500,1000,3500,4900,5200,4100,51800,267000,1520700,1711200]
["Ethnic minority (aged 16+)",2900,"..","..","..",2300,"..",2300,2500,"..","..","..","..","..","..","..",2300,"..","..","..","..","..",5900,37300,241000,457100]
["Mixed ethnic group (aged 16+)","..","..","..","..","..","..","..","..","..","..","..","..","..","..","..","..","..","..","..","..","..","..",3700,30900,46400]
["Indians (aged 16+)",900,"..","..","..","..","..","..",900,"..","..","..","..","..","..","..","..","..","..","..","..","..",2200,4500,43200,74600]
["Pakistanis/Bangladeshis (aged 16+)",1800,"..","..","..","..","..","..",1400,"..","..","..","..","..","..","..","..","..","..","..","..","..",2700,14200,62400,91800]
["Black or black British (aged 16+)","..","..","..","..","..","..","..","..","..","..","..","..","..","..","..","..","..","..","..","..","..","..",10200,63600,149800]
["All other ethnic group (aged 16+)","..","..","..","..","..","..","..","..","..","..","..","..","..","..","..","..","..","..","..","..","..","..",4600,40900,94400]
[]
["Number (2017)"]
["Aged 16-19",1000,1900,"..","..","..","..",2000,"..",1200,"..","..","..","..","..","..","..","..","..","..","..","..",5000,29800,192100,222300]
["Aged 20-24",600,1700,"..","..",1900,"..",2000,600,"..","..","..","..","..","..","..","..","..","..","..","..","..",5600,34200,192200,237700]
["Aged 25-34",1400,1900,"..","..",1600,"..",900,900,900,"..","..","..","..","..","..","..","..","..","..","..","..",6200,34700,211500,287200]
["Aged 35-49",2000,1100,1400,"..",1100,"..",1900,1100,600,"..","..","..","..","..","..","..","..","..","..","..","..",6500,33700,214600,282700]
["Aged 50-64",500,1800,2000,"..",1800,"..",1400,500,600,"..","..","..","..","..","..","..","..","..","..","..","..",7500,32300,193100,236900]
["Aged 65+","..","..","..","..","..","..","..","..","..","..","..","..","..","..","..","..","..","..","..","..","..","..",1000,14600,17000]
["Male (aged 16-64)",3200,6300,1900,"..",4400,1400,5800,2300,2400,"..","..","..","..","..",1900,3000,"..","..","..",1400,3400,18500,94500,560800,691600]
["Female (aged 16-64)",2300,2000,3300,2100,1900,"..",2500,1300,1300,2900,"..","..","..",2100,"..","..","..","..","..","..","..",12300,70300,442700,575200]
["White (aged 16+)",4000,8300,1600,3400,2800,2200,2300,2400,3700,1200,"..",1100,"..",3400,"..",1800,"..","..","..",2200,3400,22300,134200,853400,977700]
["Ethnic minority (aged 16+)",1600,"..",3500,"..",3500,"..",2300,1200,"..","..","..","..","..","..",1800,2000,"..","..","..","..","..",8600,31600,164000,305200]
["Mixed ethnic group (aged 16+)","..","..","..","..","..","..","..","..","..","..","..","..","..","..","..","..","..","..","..","..","..","..",2900,20900,32600]
["Indians (aged 16+)","~","..","..","..",1400,"..",1400,"~","..","..","..","..","..","..","..",1400,"..","..","..","..","..",1700,4700,21300,39400]
["Pakistanis/Bangladeshis (aged 16+)",1100,"..",3500,"..","..","..","..",700,"..","..","..","..","..","..",1800,"..","..","..","..","..","..",5200,11700,51400,76800]
["Black or black British (aged 16+)","..","..","..","..","..","..","..","..","..","..","..","..","..","..","..","..","..","..","..","..","..","..",7400,37900,86100]
["All other ethnic group (aged 16+)","..","..","..","..","..","..","..","..","..","..","..","..","..","..","..","..","..","..","..","..","..","..",4900,32600,70200]
[]
[]
["Rate (2007)"]
[{"$f":"A4","v":"Aged 16-19"},8.1,14.8,16.100000000000001,50.3,20.7,23.5,23.2,15.9,22.6,"..","..","..","..",50.3,25.8,19.7,"..","..",27.9,23.5,"..",18.899999999999999,22,18.8,20.8]
["Aged 20-24",14.9,9.9,29.2,16.600000000000001,11.7,"..",13.4,12.3,13.3,59.9,"..","..","..",16.600000000000001,"..",15.6,"..","..","..","..","..",15.8,12.1,10.1,10.6]
["Aged 25-34",5.0999999999999996,5.0999999999999996,10.9,"..",4.3,"..",3.5,5.6,2.9,11.8,"..","..","..","..","..","..","..","..","..","..",8.9,5.0999999999999996,4.4000000000000004,4.5,4.8]
["Aged 35-49",2.5,1.6,3.2,"..",3.4,"..",4.3,4.7,3.2,"..","..","..","..","..","..",7,"..","..","..","..","..",2.4,3.6,3.1,3.5]
["Aged 50-64",2.9,3.9,"..","..",5,"..",4.9000000000000004,4.8,4.5,"..",5.3,6.2,"..","..","..","..","..","..","..","..","..",3.2,3.1,3,3.1]
["Aged 65+","..","..","..","..","..","..","..","..","..","..","..","..","..","..","..","..","..","..","..","..","..","..",1.4,2.1,2]
["Male (aged 16-64)",6.3,6.4,10.1,"..",7.4,5.3,8.6999999999999993,6.9,9,8.6999999999999993,4.2,4,"..","..",11.3,12,"..",11.4,4.2,5.3,4.9000000000000004,6.5,6.8,5.4,5.7]
["Female (aged 16-64)",2.8,2.5,10.1,6.6,4.2,5.2,4.5,5.6,2.1,10.5,3.7,"..","..",6.6,9.6,3.4,"..","..",5.5,5.2,"..",4.5,4.4000000000000004,4.5,5]
["White (aged 16+)",3.6,4.5999999999999996,8.1,3.9,4.9000000000000004,4.4000000000000004,5.3,4.9000000000000004,6,6.7,4,3.3,"..",3.9,9.5,5.8,"..",7.7,4.9000000000000004,4.4000000000000004,3.9,4.8,5.2,4.5,4.5999999999999996]
["Ethnic minority (aged 16+)",13.7,"..",25.6,"..",12.3,"..",12.8,11.9,"..",41.7,"..","..","..","..",16.2,15,"..","..","..","..","..",14,12.5,10.3,11.3]
["Mixed ethnic group (aged 16+)","..","..","..","..","..","..","..","..","..","..","..","..","..","..","..","..","..","..","..","..","..","..",17.399999999999999,11.8,11.6]
["Indians (aged 16+)",12.8,"..","..","..","..","..","..",12.8,"..","..","..","..","..","..","..","..","..","..","..","..","..",5.2,5.9,7.1,7.7]
["Pakistanis/Bangladeshis (aged 16+)",15,"..",26.3,"..",38.5,"..",38.5,10.8,"..",41.7,"..","..","..","..",16.8,38.5,"..","..","..","..","..",24.6,18.600000000000001,16.399999999999999,16.399999999999999]
["Black or black British (aged 16+)","..","..","..","..","..","..","..","..","..","..","..","..","..","..","..","..","..","..","..","..","..","..",14.6,10.7,13]
["All other ethnic group (aged 16+)","..","..","..","..","..","..","..","..","..","..","..","..","..","..","..","..","..","..","..","..","..",5.5,8.9,8.1999999999999993,9.9]
[]
["Rate (2012)"]
[{"$f":"A21","v":"Aged 16-19"},30.9,33.799999999999997,57.8,26.5,29.3,"..",37.4,28.3,26,"..","..","..","..",26.5,50.3,36.5,"..","..","..","..",48.4,31.9,32.6,29.3,30.6]
["Aged 20-24",18.2,25.3,18.8,"..",24,27.5,27.8,20.9,25.1,"..","..","..","..","..","..",39.1,"..",44,"..",27.5,24.3,21.3,19.899999999999999,16.5,17]
["Aged 25-34",10.9,6.8,"..","..",6.5,"..",7.7,9.8000000000000007,6.7,"..","..","..","..","..","..",8.8000000000000007,"..",24.3,"..","..","..",7.7,8.1999999999999993,8,8.1999999999999993]
["Aged 35-49",2.6,3.1,8.1,"..",5.4,5.8,6.7,7.3,5.3,7.5,"..","..","..","..",8.9,4.4000000000000004,"..","..",9.1,5.8,"..",4.0999999999999996,5.7,5,5.3]
["Aged 50-64",2.2999999999999998,3.3,"..","..",3,"..",3.2,4.7,6.1,"..","..","..","..","..","..","..","..","..","..","..","..",2.9,4.8,4.8,5]
["Aged 65+","..",6.6,"..","..","..","..","..","..",9.9,"..","..","..","..","..","..","..","..","..","..","..","..",3.7,2.5,2.7,2.9]
["Male (aged 16-64)",9.8000000000000007,9.1999999999999993,9.9,5.6,9.9,9.8000000000000007,11.6,11.3,9.8000000000000007,7.9,6.1,6.9,7.7,5.6,11.9,12.5,"..",14.2,10.5,9.8000000000000007,10.1,9.3000000000000007,10.3,8.6,8.8000000000000007]
["Female (aged 16-64)",5.0999999999999996,6.6,8.1999999999999993,4.3,7.1,9.5,9,8.1,8.4,7.1,"..","..","..",4.3,9.3000000000000007,11.8,"..","..",5.6,9.5,6.9,6.6,7.4,7.2,7.6]
["White (aged 16+)",6.6,8,9.1999999999999993,5.0999999999999996,7.9,9.3000000000000007,9.6,7.5,9.4,8.1,4.2,5.7,5.5,5.0999999999999996,10.3,11.3,3.2,9.6,7.9,9.3000000000000007,8,7.6,8.3000000000000007,7.4,7.3]
["Ethnic minority (aged 16+)",16.7,"..","..","..",12,"..",12.8,17.8,"..","..","..","..","..","..","..",13.7,"..","..","..","..","..",11.8,13.7,13.1,13.7]
["Mixed ethnic group (aged 16+)","..","..","..","..","..","..","..","..","..","..","..","..","..","..","..","..","..","..","..","..","..","..",14.7,16.8,16.399999999999999]
["Indians (aged 16+)",14.6,"..","..","..",16.2,"..",16.2,15.4,"..","..","..","..","..","..","..",17.100000000000001,"..","..","..","..","..",14.7,8.9,9.1,9.3000000000000007]
["Pakistanis/Bangladeshis (aged 16+)",21.9,"..","..","..","..","..","..",23.3,"..","..","..","..","..","..","..","..","..","..","..","..","..",16.899999999999999,17.8,16.7,16.2]
["Black or black British (aged 16+)","..","..","..","..","..","..","..","..","..","..","..","..","..","..","..","..","..","..","..","..","..","..",17.7,17.3,18.7]
["All other ethnic group (aged 16+)","..","..","..","..","..","..","..","..","..","..","..","..","..","..","..","..","..","..","..","..","..","..",7.9,9.4,10.7]
[]
["Rate (2017)"]
[{"$f":"A38","v":"Aged 16-19"},16.8,28.7,"..","..","..","..","..",17.899999999999999,36.200000000000003,"..","..","..","..","..","..","..","..","..","..","..","..",15.3,21.3,19.7,20.6]
["Aged 20-24",3.9,16.899999999999999,"..","..",7.8,"..","..",11.3,6.3,"..","..","..","..","..","..","..","..","..","..","..","..",7.8,9.6999999999999993,8.8000000000000007,9.1999999999999993]
["Aged 25-34",3.9,5.9,"..","..",3.8,"..",6.2,5.8,6,"..","..","..","..","..","..","..","..","..","..","..","..",4.0999999999999996,4.3,4.2,4.4000000000000004]
["Aged 35-49",3.5,2.2999999999999998,4.4000000000000004,"..",1.9,"..",2.5,5.4,3.2,"..","..","..","..","..","..","..","..","..","..","..","..",2.7,2.9,2.8,3]
["Aged 50-64",1.1000000000000001,3.5,8.1,"..",3.7,"..","..",2.8,3,"..","..","..","..","..",11.5,"..","..","..","..","..","..",3.7,3.4,3,3.2]
["Aged 65+","..","..","..","..","..","..","..","..","..","..","..","..","..","..","..","..","..","..","..","..","..","..",0.9,1.6,1.7]
["Male (aged 16-64)",3.9,8.1,4.0999999999999996,"..",4.5,5.2,5.4,6.8,7.3,"..","..","..","..","..",8.3000000000000007,7.4,"..","..","..",5.2,13.2,5,5.3,4.7,4.8]
["Female (aged 16-64)",3,2.9,7.8,6,2.2000000000000002,"..","..",4.4000000000000004,4.4000000000000004,12.7,"..","..","..",6,"..","..","..","..","..","..","..",3.7,4.4000000000000004,4.2,4.5]
["White (aged 16+)",2.8,5.6,2,4.4000000000000004,1.7,4.0999999999999996,2.1,5.3,5.9,2.7,"..",3.1,"..",4.4000000000000004,"..",3.4,"..","..","..",4.0999999999999996,7.2,3.3,4.2,4,4]
["Ethnic minority (aged 16+)",6.9,"..",32.6,"..",16.5,"..",12.4,6.6,"..",42.5,"..","..","..","..",26.7,11.4,"..","..","..","..","..",14,9.4,7.6,7.9]
["Mixed ethnic group (aged 16+)","..","..","..","..","..","..","..","..","..","..","..","..","..","..","..","..","..","..","..","..","..","..",9.4,9.1999999999999993,8.9]
["Indians (aged 16+)",3.7,"..","..","..",17.8,"..",17.8,3.7,"..","..","..","..","..","..","..",18.600000000000001,"..","..","..","..","..",10.4,7.7,4.2,4.7]
["Pakistanis/Bangladeshis (aged 16+)",11.3,"..",37.200000000000003,"..","..","..","..",11.9,"..",62.9,"..","..","..","..",26.7,"..","..","..","..","..","..",24.6,11.2,11,11.3]
["Black or black British (aged 16+)","..","..","..","..","..","..","..","..","..","..","..","..","..","..","..","..","..","..","..","..","..","..",11.3,8.5,8.8000000000000007]
["All other ethnic group (aged 16+)","..","..","..","..","..","..","..","..","..","..","..","..","..","..","..","..","..","..","..","..","..","..",6.6,6.4,6.9]
[]
[]
["Source: Annual Population Survey"]
["Description: Resident unemployment and rate, by age, gender and ethnicity"]
["Years: July-June 2007, July-June 2012 and July-June 2017"]
["http://nomisweb.co.uk/ "]

{"sheet":"LS18. Claimant Count","index":22,"n_rows":22,"n_cols":26,"rows_kept":22,"cut":false,"hidden":false,"merged":[]}
["LS18. Claimant Count","Return to Contents",null,"Return to TTWA Summary",null,null,null,null,"Return to LA Summary"]
[null,"Blackburn with Darwen, Hyndburn, Rossendale and Ribble Valley","Blackpool, Fylde and Wyre","Burnley and Pendle","Lancaster and Morecambe ","Preston, Chorley and South Ribble ","West Lancashire ","Preston and South Ribble City Deal","Blackburn with Darwen ","Blackpool","Burnley","Chorley ","Fylde","Hyndburn","Lancaster ","Pendle ","Preston","Ribble Valley","Rossendale ","South Ribble ","West Lancashire ","Wrye ","Lancashire ","North West ","England Minus London","England"]
["Count"]
["2013-11-01",6380,6870,3605,2325,5290,1740,3955,3460,4640,2050,1335,925,1410,2325,1555,2765,380,1130,1190,1740,1305,26210,154565,817645,992950]
["2014-11-01",4435,4925,2390,1650,3670,920,2785,2485,3395,1385,885,605,925,1650,1005,1995,245,775,790,920,925,17995,105410,555135,682690]
["2015-11-01",4575,4650,2420,1600,3610,1255,2675,2445,3185,1370,935,590,1015,1600,1050,1850,270,845,825,1255,875,18110,102005,478435,586215]
["2016-11-01",4775,4960,2795,1755,3825,1330,2735,2465,3390,1680,1090,605,1195,1755,1115,1900,250,865,835,1330,965,19440,103140,495560,608280]
["2017-11-01",5090,5250,3330,2480,4175,1185,3080,2665,3620,2245,1115,645,1270,2480,1085,2135,250,905,925,1185,980,21505,109670,525290,646245]
[]
[]
["% of working age residents"]
["2013-11-01",2.9,3.5,3.3,2.6,2.2999999999999998,2.5,2.5,3.7,5.3,3.8,1.9,2.1,2.8,2.6,2.8,3,1.1000000000000001,2.6,1.7,2.5,2.1,2.9,3.4,2.9,2.9]
["2014-11-01",2,2.5,2.2000000000000002,1.8,1.6,1.3,1.7,2.7,3.9,2.6,1.3,1.4,1.9,1.8,1.8,2.1,0.7,1.8,1.2,1.3,1.5,2,2.2999999999999998,1.9,2]
["2015-11-01",2.1,2.4,2.2000000000000002,1.8,1.6,1.8,1.7,2.7,3.7,2.5,1.3,1.3,2.1,1.8,1.9,2,0.8,1.9,1.2,1.8,1.4,2,2.2999999999999998,1.7,1.7]
["2016-11-01",2.2000000000000002,2.6,2.6,1.9,1.7,1.9,1.7,2.7,4,3.1,1.5,1.4,2.4,1.9,2,2,0.7,2,1.2,1.9,1.5,2.1,2.2999999999999998,1.7,1.7]
["2017-11-01",2.2999999999999998,2.7,3.1,2.7,1.8,1.7,1.9,2.9,4.2,4.2,1.6,1.4,2.6,2.7,2,2.2999999999999998,0.7,2.1,1.4,1.7,1.6,2.4,2.4,1.8,1.9]
[]
[]
["Source: Claimant Count"]
["Description: Claimant Count, proportion of 16-64 working age population"]
["Years: November 2013 to November 2017"]
["http://nomisweb.co.uk/ "]

{"sheet":"LS19. Claimant Count Split","index":23,"n_rows":63,"n_cols":26,"rows_kept":63,"cut":false,"hidden":false,"merged":[]}
["LS19. Claimant Count by Age and Gender",null,"Return to Contents",null,"Return to TTWA Summary",null,null,null,"Return to LA Summary"]
[null,"Blackburn with Darwen, Hyndburn, Rossendale and Ribble Valley","Blackpool, Fylde and Wyre","Burnley and Pendle","Lancaster and Morecambe ","Preston, Chorley and South Ribble ","West Lancashire ","Preston and South Ribble City Deal","Blackburn with Darwen ","Blackpool","Burnley","Chorley ","Fylde","Hyndburn","Lancaster ","Pendle ","Preston","Ribble Valley","Rossendale ","South Ribble ","West Lancashire ","Wrye ","Lancashire ","North West ","England Minus London","England"]
["Number (2013)"]
["Aged 16-24",1795,1670,1100,610,1500,460,{"$f":"SUM(Q4,T4)","v":1115},920,1060,635,385,235,415,610,465,750,105,350,365,460,375,7135,41875,218830,253890]
["Aged 25-49",3570,3910,1910,1300,2890,995,{"$f":"SUM(Q5,T5)","v":2185},2010,2710,1075,705,495,780,1300,835,1550,190,595,635,995,710,14580,86425,452005,558520]
["Aged 50+",1010,1285,595,415,895,285,{"$f":"SUM(Q6,T6)","v":660},525,870,340,240,195,215,415,255,470,85,185,190,285,220,4490,26080,145830,179410]
["Male (aged 16+)",4205,4665,2320,1595,3430,1170,{"$f":"SUM(Q7,T7)","v":2570},2280,3155,1320,860,630,915,1595,1000,1820,250,760,750,1170,880,17385,101470,527560,630410]
["Female (aged 16+)",2175,2205,1285,730,1860,570,{"$f":"SUM(Q8,T8)","v":1385},1175,1485,735,475,295,495,730,555,945,135,370,440,570,425,8825,53095,290085,362540]
[]
["Number (2014)"]
["Aged 16-24",1185,995,635,395,935,240,{"$f":"SUM(Q11,T11)","v":720},665,640,380,220,105,265,395,255,485,65,190,235,240,250,4390,26455,135870,160210]
["Aged 25-49",2395,2835,1310,905,2040,490,{"$f":"SUM(Q12,T12)","v":1540},1375,1995,745,495,345,490,905,565,1125,125,405,415,490,495,9975,58685,307985,383630]
["Aged 50+",850,1095,450,350,695,190,{"$f":"SUM(Q13,T13)","v":525},445,760,260,170,150,170,350,185,385,60,180,140,190,180,3625,20205,110925,138260]
["Male (aged 16+)",2840,3285,1485,1110,2415,610,{"$f":"SUM(Q14,T14)","v":1830},1605,2260,855,585,385,575,1110,630,1330,160,495,500,610,640,11745,68025,353660,427780]
["Female (aged 16+)",1595,1640,910,540,1255,315,{"$f":"SUM(Q15,T15)","v":955},880,1135,535,300,220,350,540,375,665,90,280,290,315,285,6250,37385,201475,254910]
[]
["Number (2015)"]
["Aged 16-24",1260,960,605,415,875,340,{"$f":"SUM(Q18,T18)","v":640},675,590,335,235,130,315,415,275,410,65,200,230,340,245,4460,25460,109950,128550]
["Aged 25-49",2385,2595,1320,805,1975,630,1505,1310,1835,745,470,300,495,805,570,1075,135,450,430,630,465,9715,55605,261100,323030]
["Aged 50+",925,1085,495,375,755,280,530,460,755,290,230,160,200,375,205,365,70,190,165,280,170,3920,20900,106965,133985]
["Male (aged 16+)",2930,3115,1585,1075,2330,820,1745,1570,2170,895,585,365,645,1075,690,1230,180,535,515,820,580,11855,66020,307375,369620]
["Female (aged 16+)",1645,1535,835,525,1285,430,930,875,1015,475,350,225,370,525,360,620,90,310,310,430,295,6255,35985,171055,216595]
[]
["Number (2016)"]
["Aged 16-24",1185,980,675,435,925,350,{"$f":"SUM(Q25,T25)","v":640},620,615,400,280,130,335,435,275,425,50,180,215,350,230,4545,24080,114125,133230]
["Aged 25-49",2575,2725,1515,870,2065,695,{"$f":"SUM(Q26,T26)","v":1520},1345,1900,905,540,300,630,870,610,1065,125,470,455,695,520,10440,56760,263255,325420]
["Aged 50+",1015,1255,605,450,835,285,{"$f":"SUM(Q27,T27)","v":565},495,870,370,265,170,225,450,235,405,75,215,160,285,210,4440,22270,117985,149265]
["Male (aged 16+)",3005,3340,1730,1110,2450,870,{"$f":"SUM(Q28,T28)","v":1745},1585,2325,1040,705,380,740,1110,690,1225,140,540,520,870,635,12505,65800,314170,378635]
["Female (aged 16+)",1770,1620,1070,645,1375,460,{"$f":"SUM(Q29,T29)","v":990},880,1065,640,385,225,455,645,425,675,110,330,315,460,330,6935,37340,181390,229645]
[]
["Number (2017)"]
["Aged 16-24",1150,880,705,565,895,265,{"$f":"SUM(Q32,T32)","v":650},590,590,480,245,105,300,565,225,420,60,200,230,265,185,4455,22725,111225,129950]
["Aged 25-49",2815,2970,1850,1300,2320,660,{"$f":"SUM(Q33,T33)","v":1720},1505,2075,1230,600,345,700,1300,615,1235,125,485,485,660,545,11920,61755,280655,347015]
["Aged 50+",1120,1395,775,610,960,260,{"$f":"SUM(Q34,T34)","v":680},565,950,530,275,195,270,610,245,475,65,220,205,260,250,5120,25165,133210,168930]
["Male (aged 16+)",3105,3375,1905,1455,2530,710,{"$f":"SUM(Q35,T35)","v":1855},1645,2370,1255,675,405,760,1455,650,1315,140,560,540,710,605,13080,66315,322575,390975]
["Female (aged 16+)",1985,1870,1425,1025,1645,480,{"$f":"SUM(Q36,T36)","v":1205},1020,1255,985,440,240,510,1025,440,820,110,345,385,480,380,8425,43355,202715,255270]
[]
[]
["% of working age residents (2013)"]
["Male (aged 16+)",3.8,4.8,4.2,3.6,2.9,3.5,3.2,4.9000000000000004,7.2,4.9000000000000004,2.4,2.8,3.7,3.6,3.6,3.8,1.4,3.5,2.2000000000000002,3.5,2.8,3.8,4.5,3.7,3.7]
["Female (aged 16+)",2,2.2000000000000002,2.2999999999999998,1.6,1.6,1.6,1.7,2.5,3.4,2.7,1.4,1.3,2,1.6,2,2.1,0.8,1.7,1.3,1.6,1.3,1.9,2.2999999999999998,2,2.1]
[]
["% of working age residents (2014)"]
["Male (aged 16+)",2.6,3.4,2.7,2.5,2.1,1.8,2.2999999999999998,3.5,5.2,3.2,1.6,1.7,2.2999999999999998,2.5,2.2999999999999998,2.8,0.9,2.2999999999999998,1.5,1.8,2.1,2.6,3,2.5,2.5]
["Female (aged 16+)",1.4,1.7,1.6,1.2,1.1000000000000001,0.9,1.2,1.9,2.6,2,0.9,1,1.4,1.2,1.4,1.5,0.5,1.3,0.8,0.9,0.9,1.4,1.7,1.4,1.5]
[]
["% of working age residents (2015)"]
["Male (aged 16+)",2.7,3.2,2.9,2.4,2,2.4,2.2000000000000002,3.4,5,3.3,1.6,1.6,2.6,2.4,2.5,2.6,1,2.5,1.5,2.4,1.9,2.6,2.9,2.1,2.1]
["Female (aged 16+)",1.5,1.6,1.5,1.1000000000000001,1.1000000000000001,1.2,1.2,1.9,2.4,1.7,1,1,1.5,1.1000000000000001,1.3,1.4,0.5,1.4,0.9,1.2,0.9,1.4,1.6,1.2,1.2]
[]
["% of working age residents (2016)"]
["Male (aged 16+)",2.7,3.5,3.2,2.4,2.1,2.6,2.2000000000000002,3.4,5.4,3.9,2,1.7,3,2.4,2.5,2.6,0.8,2.5,1.6,2.6,2,2.7,2.9,2.2000000000000002,2.2000000000000002]
["Female (aged 16+)",1.6,1.7,2,1.4,1.2,1.3,1.2,1.9,2.5,2.4,1.1000000000000001,1,1.8,1.4,1.5,1.5,0.6,1.5,0.9,1.3,1,1.5,1.6,1.3,1.3]
[]
["% of working age residents (2017)"]
["Male (aged 16+)",2.8,3.5,3.5,3.2,2.2000000000000002,2.1,2.2999999999999998,3.6,5.5,4.7,1.9,1.8,3.1,3.2,2.4,2.7,0.8,2.6,1.6,2.1,1.9,2.9,2.9,2.2000000000000002,2.2000000000000002]
["Female (aged 16+)",1.8,1.9,2.6,2.2000000000000002,1.4,1.3,1.5,2.2000000000000002,2.9,3.7,1.3,1.1000000000000001,2.1,2.2000000000000002,1.6,1.8,0.6,1.6,1.1000000000000001,1.3,1.2,1.8,1.9,1.4,1.5]
[]
[]
["Source: Claimant Count"]
["Description: Claimant Count by age and gender, proportion of 16-64 working age population"]
["Years: November 2013 to November 2017"]
["http://nomisweb.co.uk/ "]

{"sheet":"LS20. Economic Inactivity","index":24,"n_rows":34,"n_cols":26,"rows_kept":34,"cut":false,"hidden":false,"merged":[]}
["LS20. Economic Inactivity","Return to Contents",null,"Return to TTWA Summary",null,null,null,null,"Return to LA Summary"]
[null,"Blackburn with Darwen, Hyndburn, Rossendale and Ribble Valley","Blackpool, Fylde and Wyre","Burnley and Pendle","Lancaster and Morecambe ","Preston, Chorley and South Ribble ","West Lancashire ","Preston and South Ribble City Deal","Blackburn with Darwen ","Blackpool","Burnley","Chorley ","Fylde","Hyndburn","Lancaster ","Pendle ","Preston","Ribble Valley","Rossendale ","South Ribble ","West Lancashire ","Wrye ","Lancashire ","North West ","England Minus London","England"]
["Number"]
["Jul 2006-Jun 2007",59300,48300,30000,19200,55200,18400,{"$f":"SUM(Q4,T4)","v":40600},27300,25700,14700,14600,9500,13700,19200,15200,25000,5700,12600,15600,18400,13200,230400,1115500,6281300,7636400]
["Jul 2007-Jun 2008",60700,48800,26600,23900,48200,14700,32100,26900,25400,14600,16100,7300,16900,23900,12000,23100,5100,11800,9000,14700,16200,222800,1138800,6354500,7726000]
["Jul 2008-Jun 2009",66400,49700,30000,20200,53200,15200,39300,28700,20700,15400,13900,11200,14800,20200,14600,26000,6900,16100,13300,15200,17800,234700,1139600,6332600,7728200]
["Jul 2009-Jun 2010",61000,47700,29000,20800,57900,15600,40300,26600,22800,14000,17600,10600,12700,20800,15000,26700,6800,15000,13600,15600,14200,232000,1151000,6534100,7933600]
["Jul 2010-Jun 2011",64200,46900,26500,20300,56100,15100,42400,30300,22800,12200,13800,8600,15100,20300,14400,27400,6000,12800,15000,15100,15400,229100,1148700,6646900,8079000]
["Jul 2011-Jun 2012",51300,48900,27400,22000,43900,14800,33000,30300,21600,11100,11000,9800,9200,22000,16400,21900,4300,7600,11100,14800,17400,208300,1117700,6530800,7973400]
["Jul 2012-Jun 2013",57000,48600,32600,25800,52700,15100,39300,27100,22700,17800,13300,8900,13400,25800,14800,24800,7000,9500,14500,15100,17000,231800,1110400,6338700,7715800]
["Jul 2013-Jun 2014",63600,48800,30100,26200,49500,19200,35800,29600,23000,14000,13700,9400,13800,26200,16100,20800,8900,11300,15000,19200,16400,237400,1134700,6367500,7709300]
["Jul 2014-Jun 2015",55600,49800,30500,27700,55800,16700,43700,26400,23500,15700,12100,10500,13000,27700,14900,26900,6900,9300,16800,16700,15800,236200,1138300,6330700,7647800]
["Jul 2015-Jun 2016",49300,44000,23600,19800,47600,19300,33800,27100,19500,11400,13800,7000,8100,19800,12200,24500,3700,10400,9300,19300,17500,203600,1086900,6246800,7553000]
["Jul 2016-Jun 2017",57800,42600,19800,16200,46100,17600,33300,28800,20300,7500,12700,7500,13600,16200,12300,21800,5400,10000,11500,17600,14700,200100,1073900,6201000,7519600]
[]
[]
["Rate"]
[{"$f":"A4","v":"Jul 2006-Jun 2007"},27,24.7,26.9,21.9,24,25.9,25,29.6,29.3,26.8,21.4,21.1,27.7,21.9,27,27.5,16.600000000000001,28.9,21.8,25.9,20.8,25.2,25.1,22.6,23.2]
[{"$f":"A5","v":"Jul 2007-Jun 2008"},27.1,24.9,23.9,27.4,21,20.9,19.899999999999999,29.3,29,26.4,23.4,16.399999999999999,31.9,27.4,21.3,25.3,14.9,26.3,12.9,20.9,25.1,24.3,25.5,22.7,23.2]
["Jul 2008-Jun 2009",29.5,25.4,26.9,23.2,23.2,21.7,24.3,31,23.7,28.3,20.5,25,28.5,23.2,25.6,28.5,20.100000000000001,34.9,18.899999999999999,21.7,28,25.6,25.4,22.5,23.1]
["Jul 2009-Jun 2010",27.4,24.4,25.8,23.6,25.3,22.4,24.9,28.6,26.1,25.5,26.2,23.5,25,23.6,26.1,28.9,19.3,33.6,19.600000000000001,22.4,22.6,25.3,25.6,23.2,23.5]
["Jul 2010-Jun 2011",28.7,23.9,24.2,23.3,24.2,21.7,25.7,32.299999999999997,26.3,22.8,20.399999999999999,18.899999999999999,30,23.3,25.5,29.7,17.100000000000001,28.7,20.7,21.7,24.1,24.9,25.4,23.4,23.8]
["Jul 2011-Jun 2012",23.3,25,24.6,25.1,19,21.5,20,32.299999999999997,25.1,20.2,16.5,22.2,18.5,25.1,28.8,23.2,12.4,17.8,15.6,21.5,26.8,22.8,24.8,23,23.4]
["Jul 2012-Jun 2013",25.8,25.1,29.5,29.1,22.9,22.4,24.1,29.4,26.5,32.299999999999997,19.8,20.6,27,29.1,26.7,26.6,19.3,22.4,20.8,22.4,26.3,25.5,24.7,22.4,22.7]
["Jul 2013-Jun 2014",29,25.6,27.6,29.2,21.6,27.8,22.3,32.299999999999997,27.5,25.9,19.7,22,27.4,29.2,29.3,22.6,26.5,26.1,22,27.8,25.6,26.2,25.3,22.5,22.6]
["Jul 2014-Jun 2015",25.4,26.1,27.9,30.7,24.6,24.4,27.5,29.1,28.1,28.8,17.8,24.1,26.2,30.7,27.1,29.6,20.3,20.8,24.8,24.4,24.9,26.1,25.4,22.3,22.3]
["Jul 2015-Jun 2016",22.6,23.3,22,22.4,20.6,27.6,20.8,29.9,23.6,21.2,20.100000000000001,16.600000000000001,16.5,22.4,22.8,26.3,10.6,24.1,13.3,27.6,27.5,22.5,24.2,21.9,21.9]
["Jul 2016-Jun 2017",26.7,22.7,18.399999999999999,17.899999999999999,20.100000000000001,25.8,20.6,31.6,24.6,13.9,18.899999999999999,17.600000000000001,27.7,17.899999999999999,22.8,23.6,15.7,23.7,16.7,25.8,23.6,22.2,24,21.7,21.7]
[]
[]
["Source: Annual Population Survey"]
["Description: Economic inactivity number and rate, 16-64 working age population"]
["Years: July-June 2007 to July-June 2017"]
["http://nomisweb.co.uk/ "]

{"sheet":"LS21. Inactivity Split","index":25,"n_rows":110,"n_cols":26,"rows_kept":110,"cut":false,"hidden":false,"merged":[]}
["LS21. Economic Inactivity by Age, Gender and Ethnicity",null,null,null,"Return to Contents",null,"Return to TTWA Summary",null,"Return to LA Summary"]
[null,"Blackburn with Darwen, Hyndburn, Rossendale and Ribble Valley","Blackpool, Fylde and Wyre","Burnley and Pendle","Lancaster and Morecambe ","Preston, Chorley and South Ribble ","West Lancashire ","Preston and South Ribble City Deal","Blackburn with Darwen ","Blackpool","Burnley","Chorley ","Fylde","Hyndburn","Lancaster ","Pendle ","Preston","Ribble Valley","Rossendale ","South Ribble ","West Lancashire ","Wrye ","Lancashire ","North West ","England Minus London","England"]
["Number (2007)"]
["Aged 16-19",9200,6600,6600,3200,5100,3100,4300,3500,3300,2400,800,2900,3400,3200,4200,2800,"..",2000,1500,3100,"..",33800,173400,940300,1152200]
["Aged 20-24",5300,4700,1300,2400,7800,"..",7200,2300,2700,"..","..",1000,1300,2400,1300,6300,"..",1100,"..","..","..",21500,102800,610500,781000]
["Aged 25-34",6400,4100,4000,2200,5100,1800,3700,4700,3400,2500,1400,"..",1300,2200,1600,3200,"..","..","..",1800,700,23600,139000,823100,1099400]
["Aged 35-49",15500,9000,6200,2400,11200,3900,8500,6200,6400,2800,2700,800,3300,2400,3500,4500,1300,4800,4000,3900,1900,48300,243000,1335600,1678600]
["Aged 50-64",22900,23800,11900,9000,25900,9600,17000,10500,9900,7100,9000,4800,4600,9000,4700,8200,3100,4800,8800,9600,9100,103200,457400,2571800,2925200]
["Aged 65+",47300,60700,28900,27100,41100,11100,30900,15500,25000,13900,10100,11700,14800,27100,14900,17100,7300,9700,13900,11100,24000,216200,1002500,6433900,7203100]
["Male (aged 16-64)",22800,19100,10900,5100,18400,6600,13800,9400,10300,5700,4700,3900,6800,5100,5200,7400,2500,4100,6400,6600,4900,83100,415300,2179700,2638600]
["Female (aged 16-64)",36500,29200,19000,14100,36800,11700,26800,17900,15400,9100,10000,5500,6900,14100,10000,17600,3200,8500,9200,11700,8200,147300,700200,4101600,4997800]
["White (aged 16-64)",43100,46700,23200,18400,43900,18200,30000,17400,25000,12700,13900,9100,10600,18400,10500,15500,5700,9500,14500,18200,12500,193500,983900,5589700,6344800]
["Ethnic minority (aged 16-64)",15800,1600,6700,"..",11300,"..",10600,9900,700,2000,700,"..",2800,"..",4700,9500,"..",3100,1100,"..","..",36500,130600,686800,1281500]
["Mixed ethnic group (aged 16-64)","..","..","..","..","..","..","..","..","..","..","..","..","..","..","..","..","..","..","..","..","..",700,7600,43300,73200]
["Indians (aged 16-64)",4100,"..","..","..",2100,"..",2100,4100,"..","..","..","..","..","..","..",1600,"..","..","..","..","..",7700,17700,132800,220500]
["Pakistanis/Bangladeshis (aged 16-64)",10300,"..",5400,"..",3600,"..",3600,4300,"..",1100,"..","..",2800,"..",4300,3200,"..",3100,"..","..","..",19800,55700,237000,354800]
["Black or black British (aged 16-64)","..","..","..","..","..","..","..","..","..","..","..","..","..","..","..","..","..","..","..","..","..",800,16400,89600,247400]
["All other ethnic group (aged 16-64)",1300,"..","..","..",5100,"..",4600,1300,"..","..","..","..","..","..","..",4400,"..","..","..","..","..",7600,33200,184200,385500]
[]
["Number (2012)"]
["Aged 16-19",7900,4900,2900,3500,10900,3200,8500,4600,2700,2000,2400,"..","..",3500,"..",6500,"..",1600,2100,3200,1300,33500,183000,1104200,1358800]
["Aged 20-24",3500,4700,3100,2000,6100,"..",6100,2100,2500,"..","..","..","..",2000,2600,4700,"..","..","..","..",1200,19800,128700,742900,951100]
["Aged 25-34",8900,5700,4600,3900,2200,"..",1600,5100,2700,1500,"..","..",2600,3900,3100,"..","..",1200,1200,"..",2100,25700,141700,836100,1126200]
["Aged 35-49",10700,8500,4900,1400,6700,2800,4100,6800,4700,1500,2600,1300,2400,1400,3500,3300,"..","..","..",2800,2500,34900,215300,1249600,1565800]
["Aged 50-64",20400,25000,11900,11200,18000,8000,12600,11600,8900,5600,5400,5800,3300,11200,6300,7000,2400,3100,5600,8000,10300,94500,448900,2598100,2971500]
["Aged 65+",45700,60300,24800,24100,53700,20400,35200,19900,24400,12500,18500,17700,10900,24100,12300,17500,7300,7600,17700,20400,18200,228900,1069000,6992500,7788500]
["Male (aged 16-64)",19900,18500,10600,8700,16700,7500,12600,11000,7900,4500,4100,3700,2900,8700,6100,9500,1700,4300,3100,7500,6900,81800,428300,2390800,2885800]
["Female (aged 16-64)",31500,30400,16900,13300,27200,7300,20400,19200,13700,6600,6900,6100,6300,13300,10200,12400,2700,3300,8000,7300,10500,126500,689400,4140000,5087600]
["White (aged 16-64)",39600,48400,21600,18700,34500,14800,23600,19800,21100,9600,11000,9800,7900,18700,12000,12500,4300,7600,11100,14800,17400,177500,958300,5652300,6411000]
["Ethnic minority (aged 16-64)",11800,"..",5900,2800,9400,"..",9400,10500,"..",1500,"..","..",1300,2800,4400,9400,"..","..","..","..","..",30200,158500,868900,1549700]
["Mixed ethnic group (aged 16-64)","..","..","..","..",1100,"..",1100,"..","..","..","..","..","..","..","..",1100,"..","..","..","..","..",1200,13100,61600,105500]
["Indians (aged 16-64)",3200,"..","..","..",5300,"..",5300,3200,"..","..","..","..","..","..","..",5300,"..","..","..","..","..",8800,21500,146500,252700]
["Pakistanis/Bangladeshis (aged 16-64)",7200,"..",5000,"..","..","..","..",5900,"..","..","..","..",1300,"..",3900,"..","..","..","..","..","..",12300,57700,287500,413700]
["Black or black British (aged 16-64)","..","..","..","..","..","..","..","~","..","..","..","..","..","..","..","..","..","..","..","..","..",1400,25200,133000,321700]
["All other ethnic group (aged 16-64)",900,"..","..",2000,3000,"..",3000,900,"..","..","..","..","..",2000,"..",3000,"..","..","..","..","..",6500,41000,240200,456200]
[]
["Number (2017)"]
["Aged 16-19",10700,10000,3700,2000,7600,3000,6400,6200,3200,2700,"..",1500,2500,2000,"..",3800,"..",1400,2600,3000,5200,36900,189100,1137400,1401900]
["Aged 20-24",7300,2500,"..","..",4600,3600,3000,2800,1900,"..","..","..",2600,"..","..",1800,"..",1900,"..",3600,"..",21600,115700,754100,918100]
["Aged 25-34",5100,4400,5800,3100,5200,1700,2800,4100,2800,1100,2300,"..","..",3100,4700,2800,"..","..","..",1700,"..",25100,154700,805900,1060900]
["Aged 35-49",10900,6200,3200,"..",9500,2600,7500,5300,4500,"..",2000,1300,3000,"..",2500,6600,"..",2100,900,2600,"..",32400,192800,1136100,1415800]
["Aged 50-64",23800,19500,7100,7600,19300,6700,13600,10400,7900,3000,5600,3500,5500,7600,4100,6800,4300,3700,6900,6700,8100,84000,421700,2367400,2722800]
["Aged 65+",63400,71500,24600,21000,53800,17900,32200,23100,29200,12800,21600,17400,12700,21000,11800,14200,15800,11700,18100,17900,24900,252100,1168200,7738100,8598600]
["Male (aged 16-64)",23900,16400,7800,5600,16000,6300,8900,11500,8300,3100,7100,3300,5200,5600,4700,6000,2200,5000,2900,6300,4800,75900,426700,2352300,2812600]
["Female (aged 16-64)",33900,26200,12100,10600,30100,11300,24400,17300,12100,4400,5700,4300,8400,10600,7600,15800,3200,5000,8600,11300,9800,124200,647200,3848700,4707000]
["White (aged 16-64)",37700,41000,12600,13000,38100,17200,25800,15600,19900,6700,12300,7500,7800,13000,5900,15100,5400,8900,10700,17200,13600,159600,890300,5214000,5853900]
["Ethnic minority (aged 16-64)",20100,1500,7200,3300,8000,"..",7500,13200,"..","..","..","..",5800,3300,6400,6700,"..","..","..","..","..",40500,183200,980200,1656900]
["Mixed ethnic group (aged 16-64)",1000,"..","..","..","..","..","..",600,"..","..","..","..","..","..","..","..","..","..","..","..","..",1700,12900,89500,141400]
["Indians (aged 16-64)",5300,"..","..","..",3800,"..",3800,5300,"..","..","..","..","..","..","..",3500,"..","..","..","..","..",9200,23200,161100,255300]
["Pakistanis/Bangladeshis (aged 16-64)",11300,"..",6700,"..",1700,"..",1700,5900,"..","..","..","..",5400,"..",5900,1700,"..","..","..","..","..",19900,68800,296000,424700]
["Black or black British (aged 16-64)","..","..","..","..","..","..","..","..","..","..","..","..","..","..","..","..","..","..","..","..","..",3400,31700,159700,329500]
["All other ethnic group (aged 16-64)",2100,"..","..","..","..","..","..",1100,"..","..","..","..","..","..","..","..","..","..","..","..","..",6300,46500,273800,505900]
[]
[]
["Rate (2007)"]
[{"$f":"A4","v":"Aged 16-19"},58.3,40.200000000000003,46.6,53.3,31.2,37.700000000000003,32.9,51.4,48,45.8,24.5,52.3,72.599999999999994,53.3,47.1,36.200000000000003,"..",61,28.2,37.700000000000003,"..",43.9,46.7,42.2,44.5]
["Aged 20-24",23.9,24.5,9.9,24.8,31,"..",32.1,26.3,25.8,"..","..",26.7,21.8,24.8,13.9,38.9,"..",26.2,"..","..","..",23.4,22.1,22.2,23.5]
["Aged 25-34",14.8,12.9,17.600000000000001,13.7,12.6,15.3,12.5,21.9,21.6,17.899999999999999,12.7,"..",10.199999999999999,13.7,17.2,16.2,"..","..","..",15.3,5.7,14.2,16.399999999999999,15.6,16.3]
["Aged 35-49",19.899999999999999,13.8,16.8,9.5,14.3,14.5,16.5,21.4,22.7,14.5,10.1,4.3,22.4,9.5,19.100000000000001,16.2,7.9,25.7,16.899999999999999,14.5,9.6,15.5,16.100000000000001,14,14.9]
["Aged 50-64",38.1,37.9,49,29.7,37,44.5,36.799999999999997,40.700000000000003,37.299999999999997,54,37.4,33.299999999999997,38,29.7,43,42.7,30.7,38.799999999999997,32.6,44.5,41.7,38.299999999999997,36.6,32.200000000000003,32.299999999999997]
["Aged 65+",94,96.3,96.9,96.9,87.1,91.9,85.9,95.8,97.4,98.4,91.1,96.7,100,96.9,95.6,85.8,82.1,93,86,91.9,95,93.9,94.5,93.1,92.9]
["Male (aged 16-64)",20.8,19.5,19.5,12,16.3,19.5,17.2,20.7,23.3,20.6,13.9,17.600000000000001,26.8,12,18.5,16.2,14.2,19.3,18.600000000000001,19.5,15.6,18.3,18.899999999999999,15.8,16.100000000000001]
["Female (aged 16-64)",33.299999999999997,29.8,34.299999999999997,31.4,31.4,31.7,32.6,38.4,35.4,33,28.6,24.5,28.7,31.4,35.6,39.1,19.2,38.200000000000003,24.7,31.7,26.1,31.9,31.2,29.3,30.1]
["White (aged 16-64)",23.1,24.5,24.2,21.8,22.1,26.6,22.8,24.9,29.3,25.5,20.8,21,24.9,21.8,22.8,24,16.600000000000001,23.4,21.6,26.6,20.2,23.5,24,21.8,21.8]
["Ethnic minority (aged 16-64)",50.2,32.700000000000003,43.7,"..",35.5,"..",34.799999999999997,44.4,26.9,38.6,51.3,"..",45.9,"..",46.3,36.1,"..",100,26,"..","..",40.700000000000003,38.6,33.200000000000003,33]
["Mixed ethnic group (aged 16-64)","..","..","..","..","..","..","..","..","..","..","..","..","..","..","..","..","..","..","..","..","..",25.9,34.9,25.8,27.4]
["Indians (aged 16-64)",38.9,"..","..","..",19.899999999999999,"..",19.899999999999999,38.9,"..","..","..","..","..","..","..",21.4,"..","..","..","..","..",33,28.4,26.5,26.6]
["Pakistanis/Bangladeshis (aged 16-64)",57.9,"..",38.9,"..",43.8,"..",43.8,51,"..",26.2,"..","..",45.9,"..",44.8,41.1,"..",100,"..","..","..",48.9,48.9,47.3,47]
["Black or black British (aged 16-64)","..","..","..","..","..","..","..","..","..","..","..","..","..","..","..","..","..","..","..","..","..",19.100000000000001,31.7,24.8,26.6]
["All other ethnic group (aged 16-64)",45.1,11.1,"..","..",47.1,"..",46.5,45.1,22.3,"..","..","..","..","..","..",47.9,"..","..","..","..","..",39.1,37.4,34.200000000000003,35.1]
[]
["Rate (2012)"]
[{"$f":"A21","v":"Aged 16-19"},41.8,37,46.9,39.6,54,46.9,56.8,54.7,41.8,79.7,45.9,"..","..",39.6,"..",59.3,"..",50,50.1,46.9,37.799999999999997,44.9,51.2,49.6,52.3]
["Aged 20-24",16.8,23.3,26.6,23.7,20.9,"..",25.9,24.7,25.9,"..","..","..","..",23.7,40.9,31.2,"..","..",16.7,"..",15.5,20.399999999999999,26.4,25.3,26.8]
["Aged 25-34",20.7,15.9,20.3,23,5.2,"..",5.3,24.7,18.3,13.7,"..","..",22.6,23,26.8,"..","..",18.8,11.4,"..",17.899999999999999,15.1,15.8,15.2,15.7]
["Aged 35-49",14.5,13.5,12.9,5.2,8.9,12.5,8,23.1,15.6,7.3,10.7,8.5,17.600000000000001,5.2,19.100000000000001,11.9,"..","..","..",12.5,14.2,11.7,14.8,13.4,14]
["Aged 50-64",31.8,39.4,36,40.799999999999997,28,33.4,27.9,43.9,35.700000000000003,35.200000000000003,28.2,41,23.7,40.799999999999997,36.700000000000003,34.1,21.6,24.5,22.7,33.4,42.2,34.200000000000003,34.299999999999997,31.1,31.2]
["Aged 65+",89.7,89.2,94.7,96.6,89.4,90,88.5,95.2,92.8,92.5,91.1,90.9,90.7,96.6,97.1,90.7,85.2,80.2,86.4,90,83.4,90.7,92.6,91.1,90.9]
["Male (aged 16-64)",17.899999999999999,19.2,19.100000000000001,20.2,14.5,22.2,15.5,23.6,18.2,16.3,12.2,16.899999999999999,11.5,20.2,21.9,20.100000000000001,9.6999999999999993,19.7,9.1,22.2,22.2,18,19.100000000000001,17,17.100000000000001]
["Female (aged 16-64)",28.7,30.5,29.9,29.9,23.4,20.9,24.3,41,31.9,24.1,21,27.3,25.7,29.9,35.4,26.3,15.1,15.9,21.8,20.9,30.9,27.4,30.4,29,29.7]
["White (aged 16-64)",20.6,25.3,21.9,22.6,17,21.5,17.100000000000001,28.6,25.5,19.399999999999999,16.8,22.5,17.100000000000001,22.6,24.4,18.399999999999999,12.6,18,15.9,21.5,26.9,21.2,23.5,22,22]
["Ethnic minority (aged 16-64)",41,10.8,44.3,61.1,32.9,"..",34.200000000000003,42.7,14.4,27.1,"..","..",37.5,61.1,56.6,35.9,"..","..","..","..","..",38.200000000000003,37.1,32.4,31.9]
["Mixed ethnic group (aged 16-64)","..","..","..","..",43.6,"..",49.4,"..","..","..","..","..","..","..","..",59,"..","..","..","..","..",28.9,34,25.2,27.3]
["Indians (aged 16-64)",33.299999999999997,"..","..","..",41.4,"..",41.4,34.6,"..","..","..","..","..","..","..",42.8,"..","..","..","..","..",37.6,30.2,23.8,24.2]
["Pakistanis/Bangladeshis (aged 16-64)",48.3,"..",45.7,"..","..","..","..",49.8,"..","..","..","..",42.4,"..",54.1,"..","..","..","..","..","..",44.6,42.2,43.6,42.3]
["Black or black British (aged 16-64)",50.1,"..","..","..","..","..","..",50.1,"..","..","..","..","..","..","..","..","..","..","..","..","..",20.7,30.7,26.8,28.9]
["All other ethnic group (aged 16-64)",38.5,"..","..",81.5,32.200000000000003,"..",34.299999999999997,46.1,"..","..","..","..","..",81.5,"..",34.299999999999997,"..","..","..","..","..",37.9,41.5,35.9,34.299999999999997]
[]
["Rate (2017)"]
[{"$f":"A38","v":"Aged 16-19"},64.599999999999994,60.6,43.7,50.7,44.4,43.9,44,72.3,48.5,53.1,"..",54.3,68.2,50.7,"..",49.6,"..",45.9,37.799999999999997,43.9,74.5,53.3,57.5,53.9,56.5]
["Aged 20-24",32.700000000000003,19.8,"..",29.9,16,50.9,13.2,35.1,24.8,"..","..","..",40.6,29.9,"..",13,"..",43.9,"..",50.9,"..",23,24.7,25.7,26.1]
["Aged 25-34",12.2,12.3,25.4,13.6,11.1,17.8,10.1,20.8,15.4,10.9,12.7,"..","..",13.6,36.200000000000003,17.899999999999999,"..","..","..",17.8,"..",14.1,16.2,13.8,14.1]
["Aged 35-49",15.9,11.8,9.4,"..",13.6,11.4,14.4,20.2,19.399999999999999,"..",11.2,10.4,20,"..",14.2,21.2,"..",13.8,4.2,11.4,"..",11.9,14.2,12.8,13]
["Aged 50-64",35.1,27.6,22.5,28.8,28.7,30.1,30.7,36.200000000000003,29.4,18,24.7,19.899999999999999,38.700000000000003,28.8,27.4,28.1,32.700000000000003,30.9,33.9,30.1,30.9,29.4,30.8,26.8,26.7]
["Aged 65+",89.3,93.4,86.1,85.4,94.4,80.5,92.6,93.5,95.8,88.2,97.3,91.8,80.400000000000006,85.4,83.9,95,89.9,91.6,90.8,80.5,91.7,90.1,91.2,89.7,89.4]
["Male (aged 16-64)",22.2,17.399999999999999,14.5,12.6,14,18.600000000000001,10.9,25.3,19.7,11.6,21.8,15.1,21.4,12.6,17.3,12.8,13.2,23.7,8.4,18.600000000000001,15.8,17,19.2,16.600000000000001,16.3]
["Female (aged 16-64)",31.1,28,22.2,22.9,26.2,32.700000000000003,30.5,37.799999999999997,29.5,16.100000000000001,16.3,20.2,34,22.9,28.3,34.700000000000003,18.2,23.7,24.9,32.700000000000003,31.4,27.4,28.7,26.8,27.1]
["White (aged 16-64)",21.6,22.5,14.1,15.1,19.100000000000001,26,19.100000000000001,25.9,24.4,13.7,19,17.8,20.2,15.1,14.5,22,15.7,21.7,16.100000000000001,26,23.1,20,22.5,20.5,20.100000000000001]
["Ethnic minority (aged 16-64)",47.4,30.2,39.9,66.7,27.4,"..",28.4,42.9,33.5,"..","..","..",55.2,66.7,48.7,28,"..","..","..","..","..",39.799999999999997,35.4,31.6,30.2]
["Mixed ethnic group (aged 16-64)",68.8,"..","..","..","..","..","..",56.8,"..","..","..","..","..","..","..","..","..","..","..","..","..",21.5,29.4,28.4,27.9]
["Indians (aged 16-64)",38.1,"..","..","..",32.5,"..",32.5,38.1,"..","..","..","..","..","..","..",31.8,"..","..","..","..","..",35.4,28,24.5,23.6]
["Pakistanis/Bangladeshis (aged 16-64)",53.4,"..",41.4,"..",50.4,"..",50.4,48.9,"..","..","..","..",59.2,"..",46.8,50.4,"..","..","..","..","..",48.4,39.6,39,38.5]
["Black or black British (aged 16-64)",40.799999999999997,"..","..","..","..","..","..",40.799999999999997,"..","..","..","..","..","..","..","..","..","..","..","..","..",32.200000000000003,32.6,26.5,25.5]
["All other ethnic group (aged 16-64)",43.6,"..","..",81.3,28.7,"..",32,37,"..","..","..","..","..",81.3,"..","..","..","..","..","..","..",39.1,39,35.5,33.6]
[]
[]
["Source: Annual Population Survey"]
["Description: Economic inactivity and rate, by age, gender and ethnicity"]
["Years: July-June 2007, July-June 2012 and July-June 2017"]
["http://nomisweb.co.uk/ "]

{"sheet":"LS22. Economic Activity","index":26,"n_rows":34,"n_cols":26,"rows_kept":34,"cut":false,"hidden":false,"merged":[]}
["LS22. Economic Activity","Return to Contents",null,"Return to TTWA Summary",null,null,null,null,"Return to LA Summary"]
[null,"Blackburn with Darwen, Hyndburn, Rossendale and Ribble Valley","Blackpool, Fylde and Wyre","Burnley and Pendle","Lancaster and Morecambe ","Preston, Chorley and South Ribble ","West Lancashire ","Preston and South Ribble City Deal","Blackburn with Darwen ","Blackpool","Burnley","Chorley ","Fylde","Hyndburn","Lancaster ","Pendle ","Preston","Ribble Valley","Rossendale ","South Ribble ","West Lancashire ","Wrye ","Lancashire ","North West ","England Minus London","England"]
["Number"]
["Jul 2006-Jun 2007",160100,147500,81500,68500,175300,52600,{"$f":"SUM(Q4,T4)","v":121600},64900,62000,40300,53600,35400,35800,68500,41100,65800,28500,31000,55800,52600,50000,685400,3326100,21463800,25331900]
["Jul 2007-Jun 2008",162900,147400,84700,63500,181700,55400,129000,64800,62200,40500,52700,37100,36000,63500,44100,68200,28900,33200,60800,55400,48100,695600,3329000,21608200,25543500]
["Jul 2008-Jun 2009",158300,146000,81400,67100,176000,54900,122300,63800,66600,38900,53700,33600,37100,67100,42500,65200,27400,30000,57100,54900,45800,683700,3345100,21764200,25766200]
["Jul 2009-Jun 2010",162100,148000,83300,67500,171200,54100,121500,66300,64600,40800,49700,34600,37900,67500,42500,65600,28300,29700,55900,54100,48800,686300,3347900,21678400,25762600]
["Jul 2010-Jun 2011",159400,149600,83000,66700,176000,54700,122300,63600,64100,41200,53800,36900,35200,66700,41900,64800,28800,31800,57500,54700,48600,689500,3364900,21698600,25843600]
["Jul 2011-Jun 2012",169200,146800,84300,65600,187400,53900,131900,63400,64600,43800,55400,34500,40500,65600,40500,72200,30400,34900,59700,53900,47700,707200,3392900,21836300,26043400]
["Jul 2012-Jun 2013",163700,145000,77800,62800,177500,52200,123500,65100,62800,37200,54000,34500,36200,62800,40500,68400,29200,33100,55100,52200,47800,679000,3381800,21985600,26304500]
["Jul 2013-Jun 2014",155300,141700,78900,63500,180300,49700,124400,62000,60900,40000,55900,33200,36600,63500,39000,71000,24600,32100,53400,49700,47700,669400,3346700,21981400,26394500]
["Jul 2014-Jun 2015",163600,140900,78800,62700,171000,51900,114900,64500,60200,38800,56100,33000,36600,62700,40000,64000,27200,35300,50900,51900,47700,668900,3344800,22102900,26616000]
["Jul 2015-Jun 2016",168600,144600,83900,68400,183700,50500,128900,63700,63200,42500,54800,35200,41200,68400,41400,68600,31000,32700,60300,50500,46300,699800,3397600,22269400,26891500]
["Jul 2016-Jun 2017",159100,145100,88200,74500,182900,50700,128300,62500,62500,46400,54600,35300,35400,74500,41800,70600,28800,32300,57700,50700,47400,700500,3406500,22376400,27078000]
[]
[]
["Rate"]
[{"$f":"A4","v":"Jul 2006-Jun 2007"},73,75.3,73.099999999999994,78.099999999999994,76,74.099999999999994,75,70.400000000000006,70.7,73.2,78.599999999999994,78.900000000000006,72.3,78.099999999999994,73,72.5,83.4,71.099999999999994,78.2,74.099999999999994,79.2,74.8,74.900000000000006,77.400000000000006,76.8]
[{"$f":"A5","v":"Jul 2007-Jun 2008"},72.900000000000006,75.099999999999994,76.099999999999994,72.599999999999994,79,79.099999999999994,80.099999999999994,70.7,71,73.599999999999994,76.599999999999994,83.6,68.099999999999994,72.599999999999994,78.7,74.7,85.1,73.7,87.1,79.099999999999994,74.900000000000006,75.7,74.5,77.3,76.8]
["Jul 2008-Jun 2009",70.5,74.599999999999994,73.099999999999994,76.8,76.8,78.3,75.7,69,76.3,71.7,79.5,75,71.5,76.8,74.400000000000006,71.5,79.900000000000006,65.099999999999994,81.099999999999994,78.3,72,74.400000000000006,74.599999999999994,77.5,76.900000000000006]
["Jul 2009-Jun 2010",72.599999999999994,75.599999999999994,74.2,76.400000000000006,74.7,77.599999999999994,75.099999999999994,71.400000000000006,73.900000000000006,74.5,73.8,76.5,75,76.400000000000006,73.900000000000006,71.099999999999994,80.7,66.400000000000006,80.400000000000006,77.599999999999994,77.400000000000006,74.7,74.400000000000006,76.8,76.5]
["Jul 2010-Jun 2011",71.3,76.099999999999994,75.8,76.7,75.8,78.3,74.3,67.7,73.7,77.2,79.599999999999994,81.099999999999994,70,76.7,74.5,70.3,82.9,71.3,79.3,78.3,75.900000000000006,75.099999999999994,74.599999999999994,76.599999999999994,76.2]
["Jul 2011-Jun 2012",76.7,75,75.400000000000006,74.900000000000006,81,78.5,80,67.7,74.900000000000006,79.8,83.5,77.8,81.5,74.900000000000006,71.2,76.8,87.6,82.2,84.4,78.5,73.2,77.2,75.2,77,76.599999999999994]
["Jul 2012-Jun 2013",74.2,74.900000000000006,70.5,70.900000000000006,77.099999999999994,77.599999999999994,75.900000000000006,70.599999999999994,73.5,67.7,80.2,79.400000000000006,73,70.900000000000006,73.3,73.400000000000006,80.7,77.599999999999994,79.2,77.599999999999994,73.7,74.5,75.3,77.599999999999994,77.3]
["Jul 2013-Jun 2014",71,74.400000000000006,72.400000000000006,70.8,78.400000000000006,72.2,77.7,67.7,72.5,74.099999999999994,80.3,78,72.599999999999994,70.8,70.7,77.400000000000006,73.5,73.900000000000006,78,72.2,74.400000000000006,73.8,74.7,77.5,77.400000000000006]
["Jul 2014-Jun 2015",74.599999999999994,73.900000000000006,72.099999999999994,69.3,75.400000000000006,75.599999999999994,72.5,70.900000000000006,71.900000000000006,71.2,82.2,75.900000000000006,73.8,69.3,72.900000000000006,70.400000000000006,79.7,79.2,75.2,75.599999999999994,75.099999999999994,73.900000000000006,74.599999999999994,77.7,77.7]
["Jul 2015-Jun 2016",77.400000000000006,76.7,78,77.599999999999994,79.400000000000006,72.400000000000006,79.2,70.099999999999994,76.400000000000006,78.8,79.900000000000006,83.4,83.5,77.599999999999994,77.2,73.7,89.4,75.900000000000006,86.7,72.400000000000006,72.5,77.5,75.8,78.099999999999994,78.099999999999994]
["Jul 2016-Jun 2017",73.3,77.3,81.599999999999994,82.1,79.900000000000006,74.2,79.400000000000006,68.400000000000006,75.400000000000006,86.1,81.099999999999994,82.4,72.3,82.1,77.2,76.400000000000006,84.3,76.3,83.3,74.2,76.400000000000006,77.8,76,78.3,78.3]
[]
[]
["Source: Annual Population Survey"]
["Description: Economic activity number and rate, 16-64 working age population"]
["Years: July-June 2007 to July-June 2017"]
["http://nomisweb.co.uk/ "]

{"sheet":"LS23. Reason for Inactivity","index":27,"n_rows":26,"n_cols":26,"rows_kept":26,"cut":false,"hidden":false,"merged":[]}
["LS23. Reason for Inactivity","Return to Contents",null,"Return to TTWA Summary",null,null,null,null,"Return to LA Summary"]
[null,"Blackburn with Darwen, Hyndburn, Rossendale and Ribble Valley","Blackpool, Fylde and Wyre","Burnley and Pendle","Lancaster and Morecambe ","Preston, Chorley and South Ribble ","West Lancashire ","Preston and South Ribble City Deal","Blackburn with Darwen ","Blackpool","Burnley","Chorley ","Fylde","Hyndburn","Lancaster ","Pendle ","Preston","Ribble Valley","Rossendale ","South Ribble ","West Lancashire ","Wrye ","Lancashire ","North West ","England Minus London","England"]
["Number"]
["Student",15300,9800,3300,5600,11300,4900,8100,8300,3500,2300,3300,1900,4500,5600,"..",4500,"..",1900,3600,4900,4400,50100,259600,1590700,2025000]
["Looking after family/home",11700,10400,6300,4200,11700,3900,9700,8200,5700,2200,2000,1800,1300,4200,4100,8000,"..",1700,1700,3900,3000,48200,249600,1525700,1914500]
["Temporary sick","..",900,1400,"..","..","..","..","..","..","..","..","..","..","..",1400,"..","..","..","..","..","..",3200,23700,118200,139700]
["Long-term sick",16100,10500,5400,4500,9500,4200,6400,7100,7600,1800,3100,"..",4600,4500,3600,4500,"..",4400,1900,4200,2500,50100,287100,1371300,1585900]
["Discouraged","..","..","..","..",1300,"..",1300,"..","..","..","..","..","..","..","..",1300,"..","..","..","..","..",1700,6200,20400,25700]
["Retired",8300,7600,2300,2000,7900,3200,5500,2700,1800,"..",2400,2300,1700,2000,1500,2000,3400,"..",3400,3200,3500,31200,149700,905200,992900]
["Other",5600,3300,1200,"..",4000,1400,2100,1700,1400,"..",1900,"..",1500,"..","..","..","..","..",900,1400,1300,15600,98000,669500,836000]
[]
[]
["Share"]
[{"$f":"A4","v":"Student"},26.5,23,16.399999999999999,34.4,24.5,27.8,24.2,29,17.100000000000001,31,25.6,25.4,32.799999999999997,34.4,"..",20.6,"..",19.3,30.9,27.8,29.9,25.1,24.2,25.7,26.9]
["Looking after family/home",20.2,24.5,31.8,25.7,25.4,22.2,29.1,28.3,27.9,29.6,16,23.3,9.8000000000000007,25.7,33.1,36.5,"..",16.7,15,22.2,20.3,24.1,23.2,24.6,25.5]
["Temporary sick",0.8,2.2000000000000002,7.1,"..","..","..","..",1.5,2.1,"..","..","..","..","..",11.4,"..","..","..","..","..","..",1.6,2.2000000000000002,1.9,1.9]
["Long-term sick",27.8,24.7,27.3,27.5,20.5,23.7,19.100000000000001,24.5,37.1,24.6,24.2,"..",33.700000000000003,27.5,29,20.6,"..",43.9,16.3,23.7,17.2,25,26.7,22.1,21.1]
["Discouraged",0.7,"..","..","..",2.7,"..",3.8,1.4,"..","..","..","..","..","..","..",5.8,"..","..","..","..","..",0.8,0.6,0.3,0.3]
["Retired",14.3,17.899999999999999,11.4,12.4,17.100000000000001,18.3,16.399999999999999,9.4,8.8000000000000007,"..",19,31,12.6,12.4,12.3,9.3000000000000007,62.9,"..",29.8,18.3,23.7,15.6,13.9,14.6,13.2]
["Other",9.8000000000000007,7.8,6.1,"..",8.6999999999999993,8,6.2,5.9,7,"..",15.3,"..",11,"..","..","..","..",15.3,8,8,9,7.8,9.1,10.8,11.1]
[]
[]
["Source: Annual Population Survey"]
["Description: Reasons for economic inactivity number and rate, 16-64 working age population"]
["Years: July-June 2017"]
["http://nomisweb.co.uk/ "]

{"sheet":"LS24. Activity Health Condition","index":28,"n_rows":56,"n_cols":26,"rows_kept":56,"cut":false,"hidden":false,"merged":[]}
["LS24. Economic Activity of those with Health Conditions",null,null,"Return to Contents",null,"Return to TTWA Summary",null,null,"Return to LA Summary"]
[null,"Blackburn with Darwen, Hyndburn, Rossendale and Ribble Valley","Blackpool, Fylde and Wyre","Burnley and Pendle","Lancaster and Morecambe ","Preston, Chorley and South Ribble ","West Lancashire ","Preston and South Ribble City Deal","Blackburn with Darwen ","Blackpool","Burnley","Chorley ","Fylde","Hyndburn","Lancaster ","Pendle ","Preston","Ribble Valley","Rossendale ","South Ribble ","West Lancashire ","Wrye ","Lancashire ","North West ","England Minus London","England"]
["Number in employment"]
["Health conditions or illnesses lasting more than 12 months",48100,40600,22800,24200,46600,11800,35200,15900,17600,14800,11400,8600,10800,24200,8000,21900,9700,11600,13300,11800,14400,194100,871500,5837900,6743100]
["Conditions or disabilities connected with arms, legs, hands, feet, back or neck",16200,13700,10700,10600,17400,6500,11600,6400,5500,6000,5800,3500,4700,10600,4700,6900,2000,3100,4700,6500,4700,75100,293100,2022800,2320100]
["Difficulty in seeing or hearing",2300,1800,"..","..",4900,"..",3600,1100,1400,"..",1300,"..","..","..","..",3000,"..","..","..","..","..",10200,60700,407300,465600]
["Blood or circulation conditions, stomach, liver, kidney or digestive problems, diabetes",26200,18500,9800,9300,24600,6200,19900,8700,8300,5300,4700,3000,5700,9300,4500,13000,4900,6900,6900,6200,7100,94600,446500,3020800,3483900]
["Depression, learning probs, mental problems and nervous disorders",6000,10500,4400,7400,6200,"..",4600,1700,4100,2500,1700,3000,"..",7400,1900,3100,"..",3300,1500,"..",3400,34500,171700,1184100,1344500]
["Skin conditions epilepsy; other progressive illnesses & other health problems",10900,10900,4600,6800,8000,2500,5500,4100,5300,3400,2500,2200,2100,6800,1200,2900,3100,1700,2500,2500,3300,43700,229800,1650500,1928200]
[]
["Number in unemployment"]
["Health conditions or illnesses lasting more than 12 months",1100,3100,"..",2600,2700,"..",1600,1100,2000,"..","..","..","..",2600,"..",1100,"..","..","..","..","..",11000,52400,355000,425400]
["Conditions or disabilities connected with arms, legs, hands, feet, back or neck","..",1300,"..","..","..","..","..","..",900,"..","..","..","..","..","..","..","..","..","..","..","..",2900,13600,111900,139700]
["Difficulty in seeing or hearing","..","..","..","..","..","..","..","..","..","..","..","..","..","..","..","..","..","..","..","..","..","..",4000,27900,32200]
["Blood or circulation conditions, stomach, liver, kidney or digestive problems, diabetes","..",600,"..",1700,1500,"..","..","..",600,"..","..","..","..",1700,"..","..","..","..","..","..","..",4600,24500,166200,195000]
["Depression, learning probs, mental problems and nervous disorders",700,1400,"..","..",1500,"..","..",700,1400,"..","..","..","..","..","..","..","..","..","..","..","..",5500,23700,156400,182400]
["Skin conditions epilepsy; other progressive illnesses & other health problems","..",1000,"..","..","..","..","..","..","..","..","..","..","..","..","..","..","..","..","..","..","..",2500,15500,102900,125900]
[]
["Number in economic inactivity"]
["Health conditions or illnesses lasting more than 12 months",66500,61500,28700,24200,61400,21500,37400,21500,21900,12300,23900,13000,17400,24200,16400,20200,12900,14700,17200,21500,26600,263700,1092200,6920200,7778700]
["Conditions or disabilities connected with arms, legs, hands, feet, back or neck",35100,31000,18100,13000,30000,12300,17500,12300,11500,7100,12500,6100,9200,13000,10900,9600,6700,7000,7900,12300,13400,139300,563400,3543400,3966800]
["Difficulty in seeing or hearing",12900,11300,6300,8400,13200,4300,7300,3700,5000,2400,5900,2600,3100,8400,3900,3200,5100,"..",4100,4300,3700,56500,183900,1239300,1375600]
["Blood or circulation conditions, stomach, liver, kidney or digestive problems, diabetes",43700,35500,15100,18200,37500,14900,22600,13400,12500,7600,14900,7300,11400,18200,7500,10900,10400,8500,11600,14900,15700,164900,664700,4271300,4783500]
["Depression, learning probs, mental problems and nervous disorders",15300,17600,8000,5000,15200,5900,9700,6800,8300,2900,5500,2400,4500,5000,5100,6100,1200,2900,3600,5900,6900,67000,321800,1798600,2035100]
["Skin conditions epilepsy; other progressive illnesses & other health problems",21600,21800,4200,10600,20700,6900,14900,6500,7600,"..",5800,4500,4800,10600,3200,8000,4800,5500,6900,6900,9800,85800,361900,2319800,2612500]
[]
[]
["Share in employment"]
["Health conditions or illnesses lasting more than 12 months",41.6,38.6,43.5,47.4,42.1,35,47.4,41.4,42.4,54.6,31.2,39.200000000000003,38.5,47.4,31.7,50.7,42.8,44.1,42.8,35,34.5,41.4,43.2,44.5,45.1]
["Conditions or disabilities connected with arms, legs, hands, feet, back or neck",31.5,29.8,36.5,44,36.700000000000003,33.799999999999997,39.799999999999997,34,30.8,45.7,31.9,35.1,33.799999999999997,44,29,41.7,23.1,30.9,37.200000000000003,33.799999999999997,25.9,34.6,33.700000000000003,35.6,36.1]
["Difficulty in seeing or hearing",15,13.4,"..","..",26.8,"..",33.1,22.2,21.2,"..",17.399999999999999,"..","..","..","..",48.6,"..","..","..","..","..",15.3,24.4,24.3,24.9]
["Blood or circulation conditions, stomach, liver, kidney or digestive problems, diabetes",37.200000000000003,33.9,39.4,31.9,38.700000000000003,28.8,46.5,38.6,39,41,22.8,29.2,33.4,31.9,37.6,53.4,31.8,44.9,37.4,28.8,31.2,35.799999999999997,39.299999999999997,40.5,41.2]
["Depression, learning probs, mental problems and nervous disorders",27.4,35.5,34.1,54.9,27.2,"..",30.3,18.5,29.7,45.6,21.3,55.3,"..",54.9,25.9,32.6,"..",53.7,26.2,"..",33,32.200000000000003,33.200000000000003,37.700000000000003,37.700000000000003]
["Skin conditions epilepsy; other progressive illnesses & other health problems",33.4,32.299999999999997,49.6,38,27.5,26.5,26.3,37.799999999999997,40.299999999999997,76.900000000000006,30.4,33.4,30.3,38,25.2,26,39.6,23.1,26.6,26.5,24.2,33.1,37.799999999999997,40.5,41.3]
[]
["Share in unemployment"]
["Health conditions or illnesses lasting more than 12 months",0.9,3,"..",5.2,2.5,"..",2.2000000000000002,2.8,4.9000000000000004,"..","..","..","..",5.2,"..",2.6,"..","..","..","..","..",2.2999999999999998,2.6,2.7,2.8]
["Conditions or disabilities connected with arms, legs, hands, feet, back or neck","..",2.9,"..","..","..","..","..","..",5,"..","..","..","..","..","..","..","..","..","..","..","..",1.3,1.6,2,2.2000000000000002]
["Difficulty in seeing or hearing","..","..","..","..","..","..","..","..","..","..","..","..","..","..","..","..","..","..","..","..","..",0.4,1.6,1.7,1.7]
["Blood or circulation conditions, stomach, liver, kidney or digestive problems, diabetes",0.6,1.1000000000000001,"..",5.7,2.2999999999999998,"..","..",1.8,2.7,"..","..","..","..",5.7,"..","..","..","..","..","..","..",1.7,2.2000000000000002,2.2000000000000002,2.2999999999999998]
["Depression, learning probs, mental problems and nervous disorders",3,4.8,"..","..",6.6,"..","..",7.2,10.1,"..","..","..","..","..","..","..","..","..","..","..","..",5.0999999999999996,4.5999999999999996,5,5.0999999999999996]
["Skin conditions epilepsy; other progressive illnesses & other health problems","..",2.9,"..","..","..","..","..","..",2.2999999999999998,"..","..","..","..","..","..","..","..","..","..","..","..",1.9,2.5,2.5,2.7]
[]
["Share in economic inactivity"]
["Health conditions or illnesses lasting more than 12 months",57.5,58.4,54.7,47.4,55.5,63.6,50.4,55.9,52.6,45.4,65.8,58.9,61.5,47.4,64.7,46.7,57.2,55.9,55.6,63.6,63.9,56.3,54.2,52.8,52]
["Conditions or disabilities connected with arms, legs, hands, feet, back or neck",68.099999999999994,67.3,61.8,54,63.3,63.7,60.2,65.099999999999994,64.2,54.3,68.099999999999994,60.6,66.2,54,68,58.3,76.900000000000006,69.099999999999994,62.8,63.7,74.099999999999994,64.099999999999994,64.8,62.4,61.7]
["Difficulty in seeing or hearing",84.4,85.4,88.6,94.6,73.2,100,66.900000000000006,76,76.400000000000006,85.6,82.6,87,100,94.6,90.5,51.4,80.8,"..",87.5,100,100,84.4,74,74,73.400000000000006]
["Blood or circulation conditions, stomach, liver, kidney or digestive problems, diabetes",62.2,65,60.6,62.4,59,69,52.7,59.6,58.3,59,71.900000000000006,70.8,66.599999999999994,62.4,62.4,45.1,68.2,55.1,62.6,69,68.8,62.4,58.5,57.3,56.5]
["Depression, learning probs, mental problems and nervous disorders",69.599999999999994,59.7,62.3,37.6,66.2,92.5,64,74.3,60.2,54.4,70.599999999999994,44.7,100,37.6,68,63.5,53.7,46.3,64.7,92.5,67,62.6,62.2,57.3,57.1]
["Skin conditions epilepsy; other progressive illnesses & other health problems",66,64.8,45.3,59.2,71.099999999999994,73.5,71.7,60.3,57.5,"..",69.599999999999994,66.599999999999994,69.7,59.2,65.099999999999994,70.400000000000006,60.4,76.900000000000006,73.400000000000006,73.5,70.900000000000006,65,59.6,57,56]
[]
[]
["Source: Annual Population Survey"]
["Description: Economic activity status of those with health conditions, number and share of 16-64 working age population"]
["Years: July-June 2017"]
["http://nomisweb.co.uk/ "]

{"sheet":"LS25. Households by Activity","index":29,"n_rows":37,"n_cols":27,"rows_kept":37,"cut":false,"hidden":false,"merged":[]}
["LS25. Workless Households","Return to Contents",null,"Return to TTWA Summary",null,null,null,null,"Return to LA Summary"]
[null,"Blackburn with Darwen, Hyndburn, Rossendale and Ribble Valley","Blackpool, Fylde and Wyre","Burnley and Pendle","Lancaster and Morecambe ","Preston, Chorley and South Ribble ","West Lancashire ","Preston and South Ribble City Deal","Blackburn with Darwen ","Blackpool","Burnley","Chorley ","Fylde","Hyndburn","Lancaster ","Pendle ","Preston","Ribble Valley","Rossendale ","South Ribble ","West Lancashire ","Wrye ","Lancashire ","North West ","England Minus London","England"]
["Number(2006)"]
["Working households",56900,54500,29700,24100,70300,18700,46300,22600,25000,15200,24000,12300,10900,24100,14500,24200,10300,13000,22100,18700,17200,254200,1236100,8076100,9419800,18700]
["Mixed households",27300,27900,18000,12300,28400,9100,23400,12800,10100,8700,5000,6900,7400,12300,9300,12900,2900,4200,10500,9100,10900,122900,595200,3747800,4492700,9100]
["Workless households",25100,22800,11000,7300,18600,7500,13400,11200,12500,5300,5100,3800,4700,7300,5700,8800,2700,6500,4700,7500,6500,92200,461100,2358900,2881300,7500]
[]
["Number(2011)"]
["Working households",60200,56000,33000,24600,67200,21100,43800,19500,22200,17200,23400,16300,16200,24600,15800,24700,12600,11900,19100,21100,17400,262100,1196800,7802800,9115600]
["Mixed households",31400,26600,14800,10600,32900,9700,25100,15000,12100,6900,7800,5800,5600,10600,7900,13300,4800,5800,11800,9700,8700,126000,651900,4164800,5062700]
["Workless households",24100,24100,11000,7300,19600,6800,13600,12600,12100,5800,5900,3800,4800,7300,5200,9600,1100,5700,4000,6800,8300,92900,505200,2701000,3216200]
[]
["Number(2016)"]
["Working households",63400,54500,36400,25700,73200,18300,51000,20200,24800,18200,22200,13000,17700,25700,18200,27900,12800,12700,23100,18300,16700,271400,1273400,8304700,9831300]
["Mixed households",34100,28700,14300,13400,26300,11500,19400,15900,10900,7800,6900,6700,7800,13400,6500,11200,4800,5600,8200,11500,11100,128400,648900,4077500,5018900]
["Workless households",18100,17900,7700,7300,21000,5700,13900,7700,10000,3100,7100,3200,4900,7300,4600,9800,2300,3100,4100,5700,4600,77700,422200,2179900,2541600]
[]
["Rate(2006)"]
["Working households",52.1,51.8,50.6,55.2,59.9,53.1,55.7,48.6,52.4,52.1,70.3,53.5,47.5,55.2,49.2,52.8,64.8,54.9,59.2,53.1,49.8,54.2,53.9,56.9,56.1]
["Mixed households",25,26.5,30.6,28.1,24.2,25.8,28.1,27.4,21.3,29.8,14.7,30,32.299999999999997,28.1,31.5,28,18.2,17.7,28.3,25.8,31.4,26.2,26,26.4,26.8]
["Workless households",22.9,21.7,18.7,16.7,15.8,21.1,16.2,24.1,26.3,18.100000000000001,15,16.5,20.3,16.7,19.399999999999999,19.100000000000001,17,27.3,12.5,21.1,18.8,19.600000000000001,20.100000000000001,16.600000000000001,17.2]
[]
["Rate(2011)"]
["Working households",52,52.5,56.1,58,56.1,56.1,53.1,41.4,47.9,57.5,63,62.9,60.9,58,54.7,51.8,67.8,51,54.8,56.1,50.7,54.5,50.8,53.2,52.4]
["Mixed households",27.1,24.9,25.1,24.9,27.5,25.8,30.4,31.9,26.1,23,21,22.5,21.2,24.9,27.4,28,26.1,24.9,33.799999999999997,25.8,25.3,26.2,27.7,28.4,29.1]
["Workless households",20.8,22.6,18.8,17.100000000000001,16.399999999999999,18.100000000000001,16.5,26.7,26,19.5,16,14.6,17.899999999999999,17.100000000000001,18,20.2,6.1,24.1,11.5,18.100000000000001,24,19.3,21.5,18.399999999999999,18.5]
[]
["Rate(2016)"]
["Working households",54.9,53.9,62.3,55.3,60.7,51.5,60.5,46,54.3,62.5,61.3,56.5,58.3,55.3,62.1,57.1,64.099999999999994,59.5,65.3,51.5,51.4,56.8,54.3,57,56.5]
["Mixed households",29.5,28.4,24.4,29,21.8,32.5,23,36.299999999999997,23.8,26.8,19.100000000000001,29.4,25.6,29,22.1,22.9,24.3,26,23.1,32.5,34.299999999999997,26.9,27.7,28,28.9]
["Workless households",15.6,17.7,13.2,15.7,17.399999999999999,16,16.5,17.600000000000001,22,10.6,19.600000000000001,14.1,16.100000000000001,15.7,15.8,20,11.6,14.5,11.6,16,14.3,16.3,18,15,14.6]
[]
[]
["Source: Annual Population Survey household dataset"]
["Description: Number of workless households and rate as a % of all households"]
["Years: 2006, 2011 and 2016"]
["http://nomisweb.co.uk/ "]

{"sheet":"LS26. Workless Households","index":30,"n_rows":49,"n_cols":26,"rows_kept":49,"cut":false,"hidden":false,"merged":[]}
["LS26. Workless Household Characteristics",null,null,"Return to Contents",null,"Return to TTWA Summary",null,null,"Return to LA Summary"]
[null,"Blackburn with Darwen, Hyndburn, Rossendale and Ribble Valley","Blackpool, Fylde and Wyre","Burnley and Pendle","Lancaster and Morecambe ","Preston, Chorley and South Ribble ","West Lancashire ","Preston and South Ribble City Deal","Blackburn with Darwen ","Blackpool","Burnley","Chorley ","Fylde","Hyndburn","Lancaster ","Pendle ","Preston","Ribble Valley","Rossendale ","South Ribble ","West Lancashire ","Wrye ","Lancashire ","North West ","England Minus London","England"]
["Activity Split"]
["Number(2006)"]
["All unemployed",1200,1000,1300,"..",1600,"..",1300,900,1000,"..","..","..","..","..","..",1000,"..","..","..","..","..",5400,37500,215100,279800]
["Unemployed and inactive",1400,1500,"..","..",1500,"..",1200,700,900,"..","..","..","..","..","..",1200,"..","..","..","..","..",6100,31200,166500,212200]
["All inactive",22500,20300,9300,6600,15500,6500,11000,9600,10600,4300,4500,3800,4000,6600,5000,6700,2700,6200,4400,6500,5900,80700,392500,1977300,2389300]
[]
["Number(2011)"]
["All unemployed",2000,2400,"..","..",2800,"..",2500,1000,1700,"..","..","..","..","..","..",1800,"..","..","..","..","..",8800,67900,393600,473000]
["Unemployed and inactive",1500,2400,1600,"..",1100,"..",1100,700,800,"..","..","..","..","..","..",1100,"..","..","..","..",1600,7000,46400,264100,325100]
["All inactive",20600,19300,8600,6900,15700,6100,10100,10900,9500,5100,5600,3500,4200,6900,3400,6800,1100,4300,3300,6100,6400,77100,390800,2043300,2418100]
[]
["Number(2016)"]
["All unemployed",2600,2300,"..",1700,2200,"..",1800,"..",1300,"..","..","..",1500,1700,"..",1300,"..","..","..","..","..",9600,40500,209500,252000]
["Unemployed and inactive",1000,1600,1700,"..",1700,"..","..",600,"..","..","..","..","..","..","..","..","..","..","..","..","..",6600,27600,156900,191200]
["All inactive",14500,14000,5200,5100,17000,5700,11100,6700,8300,1900,5900,2900,3400,5100,3300,7500,1900,2500,3600,5700,2800,61500,354100,1813500,2098400]
[]
["Rate(2006)"]
["All unemployed",1.1000000000000001,1,2.2999999999999998,"..",1.3,"..",1.5,2,2.1,"..","..","..","..","..","..",2.1,"..","..","..","..","..",1.2,1.6,1.5,1.7]
["Unemployed and inactive",1.3,1.5,"..","..",1.3,"..",1.4,1.6,1.9,"..","..","..","..","..","..",2.5,"..","..","..","..","..",1.3,1.4,1.2,1.3]
["All inactive",20.6,19.3,15.9,15.1,13.2,18.399999999999999,13.3,20.5,22.3,14.8,13.2,16.5,17.399999999999999,15.1,17,14.5,17,26.1,11.7,18.399999999999999,16.899999999999999,17.2,17.100000000000001,13.9,14.2]
[]
["Rate(2011)"]
["All unemployed",1.7,2.2000000000000002,"..","..",2.2999999999999998,"..",3,2.1,3.7,"..","..","..","..","..","..",3.7,"..","..","..","..","..",1.8,2.9,2.7,2.7]
["Unemployed and inactive",1.3,2.2999999999999998,2.7,"..",0.9,"..",1.3,1.5,1.8,"..","..","..","..","..","..",2.2000000000000002,"..","..","..","..",4.5999999999999996,1.5,2,1.8,1.9]
["All inactive",17.8,18.100000000000001,14.6,16.2,13.2,16.100000000000001,12.3,23.2,20.5,17.100000000000001,15.1,13.3,15.8,16.2,11.9,14.3,6.1,18.5,9.5,16.100000000000001,18.5,16,16.600000000000001,13.9,13.9]
[]
["Rate(2016)"]
["All unemployed",2.2999999999999998,2.2000000000000002,"..",3.6,1.9,"..",2.2000000000000002,"..",2.9,"..","..","..",5,3.6,"..",2.6,"..","..","..","..","..",2,1.7,1.4,1.4]
["Unemployed and inactive",0.8,1.6,2.9,"..",1.4,"..","..",1.3,"..","..","..","..","..","..","..","..","..","..","..","..","..",1.4,1.2,1.1000000000000001,1.1000000000000001]
["All inactive",12.5,13.9,8.9,11,14.1,16,13.2,15.3,18.2,6.5,16.3,12.5,11.1,11,11.3,15.4,9.6999999999999993,11.5,10.1,16,8.6999999999999993,12.9,15.1,12.5,12.1]
[]
["Children in Workless Households"]
["Number"]
[2006,13841.509999999998,9152.06,8349.75,2065.54,7230.82,3985.53,5915,7417.74,6810.45,5974.19,1315.63,564.13,3803.88,2065.54,2375.56,5320.03,"..",2619.89,595,3985.53,1777.48,44625.210000000006,225040.40000000002,1140970.8799999999,1524465.17]
[2011,11365,9140,6163,1164,6649,1575,4514,6658,5927,4120,2135,"..",1717,1164,2043,3950,1198,1792,564,1575,3213,36056,246451,1255032,1602324]
[2016,6825,6669,7236,5217,7662,1286,5403,3795,5389,3655,2259,0,2300,5217,3581,5403,397,333,0,1286,1280,34895,178320,971073,1171713]
[]
["Rate"]
[2006,"n/a","n/a","n/a","n/a","n/a","n/a","n/a",0.22282006123711223,0.25582652426472574,0.32372169489523273,6.2518800118800122E-2,3.5887547727709364E-2,0.22542299256685122,9.3199606182323869E-2,0.14730483300189809,0.2170484917050817,"..",0.22360134473691173,3.5481926669333551E-2,0.16675760058309283,0.10362810297513655,"n/a",0.17155199699464366,1.387156630641512E-3,0.15610246993971166]
[2011,"n/a","n/a","n/a","n/a","n/a","n/a","n/a",0.20423312883435582,0.24361872662254921,0.22462108821284485,0.12034270897920071,"..",9.8164770453376016E-2,4.3621645930145406E-2,0.12131108604002136,0.15851358401219953,0.10349892008639311,0.16598740274175622,3.4252398882545852E-2,7.0920389048991353E-2,0.17593910853137662,"n/a",0.18928430164015009,1.5086162026778397E-3,0.16048884512562625]
[2016,"n/a","n/a","n/a","n/a","n/a","n/a","n/a",0.12285529297507283,0.24598320248311117,0.22083257809195816,0.10645115687290892,"n/a",0.14386689184962781,0.20393245250566808,0.17135611063259643,0.1898120498858247,8.767667844522968E-2,2.3941332949888559E-2,"n/a",5.9919858354300623E-2,6.7347153530464068E-2,"n/a",0.13341243910887793,1.1206068963034177E-3,0.11153442807898763]
[]
["Source: Annual Population Survey household dataset"]
["Description: Number of workless households and rate as a % of all households"]
["Years: 2006, 2011 and 2016"]
["https://www.ons.gov.uk/employmentandlabourmarket/peoplenotinwork/unemployment/datasets/childrenbythecombinedeconomicactivitystatusofhouseholdmembersbylocalauthoritytablec1la"]
["Please note: Percentages for Travel to Work Areas and Lancashire LEP are not available due to data restrictions at the Local Authority level"]

{"sheet":"LS27. Resident Occupations","index":31,"n_rows":74,"n_cols":26,"rows_kept":74,"cut":false,"hidden":false,"merged":[]}
["LS27. Resident Based Occupations",null,"Return to Contents",null,"Return to TTWA Summary",null,null,null,"Return to LA Summary"]
[null,"Blackburn with Darwen, Hyndburn, Rossendale and Ribble Valley","Blackpool, Fylde and Wyre","Burnley and Pendle","Lancaster and Morecambe ","Preston, Chorley and South Ribble ","West Lancashire ","Preston and South Ribble City Deal","Blackburn with Darwen ","Blackpool","Burnley","Chorley ","Fylde","Hyndburn","Lancaster ","Pendle ","Preston","Ribble Valley","Rossendale ","South Ribble ","West Lancashire ","Wrye ","Lancashire ","North West ","England Minus London","England"]
["Number (2007)"]
["Managers, directors and senior officials",13800,16200,5100,3500,15300,5100,{"$f":"SUM(Q4,T4)","v":10000},5500,5400,2800,5300,5500,4500,3500,2400,5000,2400,1400,5000,5100,5400,59100,289700,2031900,2445300]
["Professional occupations",24700,23100,10000,15100,25500,7800,{"$f":"SUM(Q5,T5)","v":16000},9900,6300,4800,9600,7900,1400,15100,5200,7800,6400,7100,8200,7800,8900,106200,527700,3558400,4369900]
["Associate professional & tech occupations",21500,16400,8400,8800,22400,5400,14600,7000,6100,4500,7800,4800,4300,8800,3900,8000,5500,4600,6600,5400,5600,82900,408100,2664500,3281500]
["Administrative and secretarial occupations",21200,19000,4500,7700,26700,10100,20200,8000,8500,1900,6500,3400,3400,7700,2600,7100,3300,6600,13100,10100,7000,89200,410200,2578500,3067100]
["Skilled trades occupations",16500,18100,11200,8600,20100,5700,14900,7400,7100,5000,5200,4700,6100,8600,6200,7600,2600,"..",7300,5700,6200,80300,354100,2499900,2796900]
["Caring, leisure and other service occupations",13800,14700,7800,8500,16700,3300,10200,5600,5300,3000,6500,4000,3700,8500,4800,5700,2600,2000,4500,3300,5500,64700,283400,1712600,1976500]
["Sales and customer service occupations",9700,11100,8200,5900,18200,3200,13900,4400,6200,4000,4400,1800,3100,5900,4200,10400,700,1500,3500,3200,3100,56300,295700,1779900,2041600]
["Process, plant and machine operatives",16600,9500,8100,3200,11000,5900,8700,6400,4600,4900,2200,"..",4300,3200,3200,4300,2900,3000,4400,5900,4400,54300,252000,1582200,1730700]
["Elementary occupations",16800,14500,9900,4000,15100,4400,10100,7200,9200,5900,5000,2100,3400,4000,4000,7300,3400,2800,2800,4400,3200,64600,355700,2367100,2692100]
[]
["Number (2012)"]
["Managers, directors and senior officials",16500,13800,6600,3900,15700,4500,{"$f":"SUM(Q15,T15)","v":11500},3900,5700,4400,4200,5200,4800,3900,2200,4000,4400,3500,7500,4500,2900,61000,302500,2112800,2553400]
["Professional occupations",25200,23800,11000,11500,31700,6800,22800,8500,7800,7100,8800,8500,6000,11500,3900,11300,3100,7600,11500,6800,7500,110000,558900,3775000,4735200]
["Associate professional & tech occupations",16100,19800,8300,6300,22900,4600,13200,5500,5200,3300,9700,5100,2400,6300,5000,6800,3500,4700,6400,4600,9400,78000,405300,2806600,3496300]
["Administrative and secretarial occupations",18600,17400,10600,7100,26400,6900,19000,6700,6800,5500,7400,5100,5300,7100,5100,7500,3200,3400,11500,6900,5500,87100,378800,2303100,2721700]
["Skilled trades occupations",19600,14100,9500,8300,17700,5800,11000,6700,7500,4400,6600,"..",4400,8300,5100,6200,6100,2400,4800,5800,5900,75100,320000,2321500,2611600]
["Caring, leisure and other service occupations",18400,12100,12500,8900,15300,5600,10500,5700,7700,8100,4700,1200,4100,8900,4400,4500,3600,4900,6000,5600,3200,72800,317000,1929100,2213300]
["Sales and customer service occupations",13700,13500,4900,2300,11900,7000,8100,4700,5800,1600,3800,2700,6900,2300,3300,5500,1700,"..",2600,7000,5000,53300,275600,1716400,1969100]
["Process, plant and machine operatives",15900,6500,6100,2600,15000,3200,13100,7300,4500,1800,1800,"..",3200,2600,4200,9000,1300,4000,4100,3200,1600,49300,230000,1386400,1559300]
["Elementary occupations",16600,19900,8600,10300,20200,6300,12800,8400,8700,5300,7300,5200,2400,10300,3300,10000,3700,2000,2800,6300,6000,81800,369900,2320100,2684100]
[]
["Number (2017)"]
["Managers, directors and senior officials",17100,11600,10700,6000,15700,6600,{"$f":"SUM(Q26,T26)","v":11300},4700,4900,3600,4400,3700,1600,6000,7100,5000,5000,5900,6300,6600,3000,67600,327900,2389000,2945400]
["Professional occupations",23900,23600,15100,15200,32300,7300,21400,9500,8000,8300,10800,7400,4000,15200,6800,11800,3400,7000,9600,7300,8300,117300,623200,4302600,5463600]
["Associate professional & tech occupations",19000,19000,9100,7500,23800,6500,15300,7600,6900,3500,8500,5200,6600,7500,5500,6500,2700,2200,8800,6500,6900,84900,456400,3074300,3878400]
["Administrative and secretarial occupations",17800,19600,7900,5900,19800,5000,14700,6900,7000,5800,5100,4700,3500,5900,2000,6200,4700,2700,8500,5000,7900,75900,359700,2310900,2761100]
["Skilled trades occupations",22700,14400,7900,9300,23700,5000,15500,7400,6900,4400,8200,2300,7000,9300,3500,8300,4300,4100,7200,5000,5200,83000,347200,2391100,2727000]
["Caring, leisure and other service occupations",17200,15600,9800,10000,20800,7000,14200,6300,6700,4500,6600,3200,4900,10000,5400,8700,3000,3000,5500,7000,5700,80400,333700,2103200,2442400]
["Sales and customer service occupations",16500,14600,6900,6000,15500,3000,12300,6400,6700,3600,3300,4100,4400,6000,3300,7700,2700,3000,4600,3000,3800,62600,286200,1686600,1993400]
["Process, plant and machine operatives",10600,9300,9300,4400,13000,3400,10000,5600,4000,4300,2900,1600,1400,4400,5000,5500,"..",2400,4500,3400,3600,50000,233600,1487000,1691600]
["Elementary occupations",15500,14000,9700,10400,15200,9100,11700,6100,8600,6500,3600,3500,3500,10400,3200,7900,3700,2200,3800,9100,1900,73900,374500,2420100,2817800]
[]
[]
["Share (2007)"]
["Managers, directors and senior officials",8.9,11.4,6.9,5.2,9,10.1,8.4,9,9.1,7.5,10.1,15.7,12.7,5.2,6.3,7.9,8.1999999999999993,4.5999999999999996,9.1,10.1,11,8.9,9.1,9.6999999999999993,10]
["Professional occupations",15.9,16.2,13.5,22.6,14.9,15.3,13.4,16.100000000000001,10.7,13.1,18.2,22.9,4,22.6,14,12.3,21.4,24.1,14.7,15.3,18,16.100000000000001,16.5,17.100000000000001,17.8]
["Associate professional & tech occupations",13.8,11.5,11.3,13.2,13.1,10.7,12.3,11.5,10.3,12.2,14.9,13.8,12.2,13.2,10.4,12.6,18.600000000000001,15.9,11.9,10.7,11.3,12.5,12.8,12.8,13.4]
["Administrative and secretarial occupations",13.6,13.3,6.1,11.5,15.6,19.8,17.100000000000001,13,14.5,5.2,12.4,9.9,9.6,11.5,7,11.3,11,22.5,23.6,19.8,14.3,13.5,12.8,12.4,12.5]
["Skilled trades occupations",10.6,12.7,15.1,13,11.8,11.2,12.6,12,12.1,13.6,10,13.6,17.5,13,16.7,12.1,8.8000000000000007,"..",13.1,11.2,12.7,12.1,11.1,12,11.4]
["Caring, leisure and other service occupations",8.9,10.3,10.5,12.7,9.8000000000000007,6.4,8.6,9.1,8.9,8.1999999999999993,12.4,11.4,10.5,12.7,12.8,9,8.6,6.7,8.1999999999999993,6.4,11.1,9.8000000000000007,8.9,8.1999999999999993,8.1]
["Sales and customer service occupations",6.2,7.8,11.1,8.9,10.6,6.2,11.7,7.2,10.6,11,8.3000000000000007,5.3,8.6999999999999993,8.9,11.2,16.399999999999999,2.4,5,6.3,6.2,6.2,8.5,9.3000000000000007,8.5,8.3000000000000007]
["Process, plant and machine operatives",10.7,6.6,11,4.8,6.4,11.7,7.4,10.4,7.7,13.3,4.2,"..",12.2,4.8,8.6999999999999993,6.8,9.6999999999999993,10.4,8,11.7,9,8.1999999999999993,7.9,7.6,7.1]
["Elementary occupations",10.8,10.1,13.3,6,8.8000000000000007,8.6,8.5,11.7,15.6,15.9,9.5,6.1,9.8000000000000007,6,10.7,11.5,11.4,9.5,5.0999999999999996,8.6,6.4,9.8000000000000007,11.1,11.3,11]
[]
["Share (2012)"]
["Managers, directors and senior officials",10.3,9.6999999999999993,8.4,6.2,8.8000000000000007,8.9,9.3000000000000007,6.8,9.5,10.6,7.7,15.1,12,6.2,6,6.1,14.2,10.6,12.9,8.9,6.1,9.1,9.5,10.199999999999999,10.4]
["Professional occupations",15.6,16.8,14.2,18.2,17.8,13.4,18.600000000000001,14.7,13,17.2,16.100000000000001,24.9,15.2,18.2,10.7,17.399999999999999,10.1,23,19.899999999999999,13.4,15.8,16.3,17.600000000000001,18.2,19.2]
["Associate professional & tech occupations",10,13.9,10.6,9.9,12.9,9.1,10.7,9.5,8.6,8,17.7,15,6.2,9.9,13.5,10.4,11.4,14.3,11.1,9.1,19.899999999999999,11.6,12.8,13.5,14.2]
["Administrative and secretarial occupations",11.5,12.3,13.6,11.3,14.9,13.6,15.5,11.6,11.3,13.2,13.5,14.8,13.4,11.3,14,11.5,10.6,10.199999999999999,20,13.6,11.6,12.9,11.9,11.1,11]
["Skilled trades occupations",12.1,10,12.2,13.1,10,11.5,9,11.5,12.3,10.6,12.1,"..",11.1,13.1,14,9.6,19.899999999999999,7.3,8.4,11.5,12.4,11.2,10.1,11.2,10.6]
["Caring, leisure and other service occupations",11.4,8.5,16,14.1,8.6,11.1,8.6,9.8000000000000007,12.7,19.399999999999999,8.6,3.5,10.4,14.1,12.1,6.9,11.9,15,10.4,11.1,6.8,10.8,10,9.3000000000000007,9]
["Sales and customer service occupations",8.5,9.5,6.3,3.6,6.7,13.8,6.6,8,9.5,3.8,6.9,7.8,17.399999999999999,3.6,9.1,8.5,5.6,"..",4.5999999999999996,13.8,10.6,7.9,8.6999999999999993,8.3000000000000007,8]
["Process, plant and machine operatives",9.9,4.5999999999999996,7.8,4.0999999999999996,8.4,6.3,10.7,12.5,7.4,4.5,3.4,"..",8.1999999999999993,4.0999999999999996,11.5,13.8,4.3,12.3,7.1,6.3,3.4,7.3,7.2,6.7,6.3]
["Elementary occupations",10.3,14,11,16.3,11.3,12.4,10.4,14.5,14.3,12.8,13.4,15.2,6.1,16.3,9,15.3,12.1,6.2,4.9000000000000004,12.4,12.7,12.2,11.7,11.2,10.9]
[]
["Share (2017)"]
["Managers, directors and senior officials",10.6,8.1999999999999993,12.3,8,8.6999999999999993,12.4,8.9,7.7,8.1,7.9,8.3000000000000007,10.3,4.2,8,16.899999999999999,7.3,16.3,18.100000000000001,10.7,12.4,6.6,9.6999999999999993,9.8000000000000007,10.7,11]
["Professional occupations",14.8,16.7,17.3,20.3,17.899999999999999,13.7,17,15.6,13.2,18.399999999999999,20.2,20.6,10.8,20.3,16.2,17.5,11,21.6,16.399999999999999,13.7,18,16.8,18.600000000000001,19.3,20.399999999999999]
["Associate professional & tech occupations",11.8,13.4,10.4,10.1,13.3,12.3,12.1,12.5,11.5,7.8,15.9,14.6,17.600000000000001,10.1,13.2,9.6999999999999993,8.8000000000000007,6.7,14.9,12.3,14.9,12.2,13.6,13.8,14.5]
["Administrative and secretarial occupations",11,13.8,9,7.9,11,9.4,11.6,11.4,11.7,12.9,9.5,13.1,9.3000000000000007,7.9,4.8,9.1999999999999993,15.3,8.4,14.4,9.4,17,10.9,10.7,10.4,10.3]
["Skilled trades occupations",14.1,10.1,9,12.5,13.2,9.5,12.3,12.2,11.5,9.6999999999999993,15.3,6.4,18.600000000000001,12.5,8.3000000000000007,12.2,14.1,12.6,12.3,9.5,11.2,11.9,10.4,10.7,10.199999999999999]
["Caring, leisure and other service occupations",10.7,11,11.3,13.4,11.5,13.3,11.2,10.5,11.2,9.9,12.4,8.9,13,13.4,12.9,12.8,9.8000000000000007,9.3000000000000007,9.3000000000000007,13.3,12.3,11.5,10,9.5,9.1]
["Sales and customer service occupations",10.199999999999999,10.3,8,8.1,8.6,5.7,9.6999999999999993,10.6,11.2,8,6.2,11.5,11.7,8.1,7.9,11.4,8.6999999999999993,9.3000000000000007,7.8,5.7,8.1999999999999993,9,8.5,7.6,7.4]
["Process, plant and machine operatives",6.6,6.5,10.7,5.9,7.2,6.5,8,9.3000000000000007,6.7,9.6,5.5,4.5999999999999996,3.6,5.9,12,8.1999999999999993,"..",7.4,7.7,6.5,7.8,7.2,7,6.7,6.3]
["Elementary occupations",9.6,9.9,11.2,13.9,8.5,17.2,9.1999999999999993,10,14.4,14.3,6.7,9.9,9.4,13.9,7.8,11.7,12.1,6.7,6.4,17.2,4,10.6,11.2,10.9,10.5]
[]
[]
["Source: Annual Population Survey"]
["Description: Number and share of resident based occupations"]
["Years: July-June 2007, July-June 2012 and July-June 2017"]
["http://nomisweb.co.uk/ "]

{"sheet":"LS28. Occupations by Gender","index":32,"n_rows":52,"n_cols":26,"rows_kept":52,"cut":false,"hidden":false,"merged":[]}
["LS28. Resident Based Occupations by Gender",null,null,"Return to Contents",null,"Return to TTWA Summary",null,null,"Return to LA Summary"]
[null,"Blackburn with Darwen, Hyndburn, Rossendale and Ribble Valley","Blackpool, Fylde and Wyre","Burnley and Pendle","Lancaster and Morecambe ","Preston, Chorley and South Ribble ","West Lancashire ","Preston and South Ribble City Deal","Blackburn with Darwen ","Blackpool","Burnley","Chorley ","Fylde","Hyndburn","Lancaster ","Pendle ","Preston","Ribble Valley","Rossendale ","South Ribble ","West Lancashire ","Wrye ","Lancashire ","North West ","England Minus London","England"]
["Male number (2017)"]
["Managers, directors and senior officials",10700,7200,6400,3000,10500,5000,7800,3200,3200,2500,2700,2300,1100,3000,3900,3400,2600,3800,4500,5000,1800,42800,207700,1552500,1924500]
["Professional occupations",10200,11600,6100,9300,15000,3000,10900,4200,3300,4100,4000,3700,1300,9300,2000,6700,1900,2800,4200,3000,4500,55100,303400,2174600,2797300]
["Associate professional & tech occupations",11100,9900,4200,5400,13400,3200,8800,4300,4000,1300,4600,2000,4200,5400,2900,2500,2200,"..",6300,3200,4000,47200,255100,1751800,2203900]
["Administrative and secretarial occupations",4500,4100,2400,1500,4300,2300,4300,1600,1800,1100,"..",1400,"..",1500,"..",2100,"..",1400,2200,2300,"..",19100,94900,536900,677100]
["Skilled trades occupations",20400,13800,7100,7800,21200,4700,13500,6900,6300,4100,7600,2300,6600,7800,3100,7200,3300,3600,6300,4700,5200,75000,315400,2159800,2459100]
["Caring, leisure and other service occupations",3600,4400,2000,1700,3300,1500,2700,1200,2000,"..","..",1400,1800,1700,"..",2000,"..","..","..",1500,"..",16500,63000,384000,458800]
["Sales and customer service occupations",6800,6900,3800,1600,5800,1400,5100,3000,2900,2500,"..",2400,1900,1600,"..",3500,"..","..",1500,1400,1600,26300,112700,629800,763700]
["Process, plant and machine operatives",9300,8500,7400,4400,11900,3400,9400,4800,3600,3900,2500,1600,1400,4400,3400,5500,"..",1900,3900,3400,3200,44900,205000,1298400,1485500]
["Elementary occupations",8100,7500,5700,5500,10300,3700,7600,3500,4300,3800,2700,2200,1200,5500,1900,5300,2400,"..",2300,3700,"..",40700,204600,1280300,1498800]
[]
["Female number (2017)"]
["Managers, directors and senior officials",6400,4400,4300,3000,5200,1600,3400,1500,1700,1100,1700,1400,"..",3000,3200,1600,2400,2100,1800,1600,1200,24800,120200,836500,1020900]
["Professional occupations",13700,12000,9000,5800,17300,4300,10500,5300,4600,4200,6800,3600,2800,5800,4800,5100,1500,4200,5400,4300,3800,62100,319800,2128000,2666300]
["Associate professional & tech occupations",7900,9100,4800,2100,10500,3300,6600,3200,2900,2300,3900,3300,2400,2100,2600,4100,"..",1800,2500,3300,2900,37800,201400,1322500,1674500]
["Administrative and secretarial occupations",13300,15400,5500,4400,15400,2700,10300,5300,5300,4700,5100,3300,3100,4400,"..",4100,3600,1300,6300,2700,6900,56800,264800,1774100,2084000]
["Skilled trades occupations",2300,600,"..",1500,2500,"..",2000,"..",600,"..","..","..","..",1500,"..","..","..","..",900,"..","..",8000,31800,231300,268000]
["Caring, leisure and other service occupations",13600,11300,7900,8300,17500,5500,11400,5200,4700,3600,6100,1800,3100,8300,4200,6700,3000,2300,4700,5500,4800,64000,270700,1719200,1983600]
["Sales and customer service occupations",9700,7700,3100,4500,9800,1600,7200,3400,3800,1100,2600,1700,2500,4500,2000,4200,"..",2400,3000,1600,2200,36300,173500,1056800,1229700]
["Process, plant and machine operatives",1300,800,1900,"..",1100,"..","..",800,"..","..","..","..","..","..",1600,"..","..","..","..","..","..",5100,28600,188500,206100]
["Elementary occupations",7400,6500,4100,4900,5000,5400,4100,2500,4300,2700,"..",1400,2300,4900,1400,2600,"..",1300,1500,5400,"..",33300,170000,1139800,1319000]
[]
[]
["Male share (2017)"]
["Managers, directors and senior officials",12.5,9.6999999999999993,14.1,7.5,11,17.7,11.2,9.6999999999999993,10,10.199999999999999,10.6,11.7,5.4,7.5,18.7,8.8000000000000007,16.100000000000001,23.7,14,17.7,7.8,11.6,11.7,13.1,13.4]
["Professional occupations",11.9,15.7,13.6,23.2,15.7,10.6,15.6,12.8,10.5,17.100000000000001,15.9,19.399999999999999,6.2,23.2,9.5,17.5,11.8,17.399999999999999,13.2,10.6,19.5,15,17.2,18.399999999999999,19.5]
["Associate professional & tech occupations",13,13.3,9.4,13.5,14,11.2,12.5,13.2,12.5,5.4,18.3,10.1,20.7,13.5,14,6.5,13.7,"..",19.7,11.2,17,12.8,14.4,14.8,15.4]
["Administrative and secretarial occupations",5.2,5.6,5.3,3.7,4.5,8.1999999999999993,6.2,4.9000000000000004,5.6,4.7,"..",7.2,"..",3.7,"..",5.6,"..",8.8000000000000007,6.9,8.1999999999999993,"..",5.2,5.4,4.5,4.7]
["Skilled trades occupations",23.9,18.600000000000001,15.8,19.399999999999999,22.2,16.600000000000001,19.3,21,20,16.8,30.1,12,32.1,19.399999999999999,14.6,18.899999999999999,20.7,22.7,19.8,16.600000000000001,22.3,20.399999999999999,17.8,18.3,17.2]
["Caring, leisure and other service occupations",4.3,5.9,4.4000000000000004,4.3,3.4,5.3,3.9,3.6,6.4,"..","..",7.4,8.6,4.3,"..",5.2,"..","..","..",5.3,"..",4.5,3.6,3.2,3.2]
["Sales and customer service occupations",7.9,9.3000000000000007,8.5,3.9,6,5.0999999999999996,7.2,9.1,9,10.5,"..",12.6,9.4,3.9,"..",9.1999999999999993,"..","..",4.8,5.0999999999999996,7,7.1,6.4,5.3,5.3]
["Process, plant and machine operatives",10.9,11.4,16.399999999999999,11,12.4,12.2,13.4,14.7,11.4,16.3,9.6999999999999993,8.5,6.6,11,16.399999999999999,14.5,"..",12,12.1,12.2,13.8,12.2,11.6,11,10.4]
["Elementary occupations",9.5,10.1,12.6,13.6,10.7,13.1,10.8,10.8,13.6,15.7,10.5,11.2,6,13.6,9,13.8,15.2,"..",7.2,13.1,"..",11,11.6,10.8,10.5]
[]
["Female share (2017)"]
["Managers, directors and senior officials",8.5,6.4,10.3,8.6,6.1,6.4,6.1,5.4,6,5.4,6.2,8.6999999999999993,"..",8.6,15.2,5.4,16.5,12.6,6.8,6.4,5.3,7.5,7.6,8,8.1999999999999993]
["Professional occupations",18.100000000000001,17.7,21.4,17,20.5,17.3,18.7,19,16.3,19.899999999999999,24.1,22,16.2,17,23,17.399999999999999,10.1,25.6,20.2,17.3,16.5,18.899999999999999,20.2,20.399999999999999,21.4]
["Associate professional & tech occupations",10.5,13.4,11.5,6.1,12.4,13.5,11.7,11.6,10.4,10.7,13.8,19.8,14,6.1,12.4,13.9,"..",11.2,9.3000000000000007,13.5,12.7,11.5,12.7,12.7,13.4]
["Administrative and secretarial occupations",17.600000000000001,22.8,13,12.8,18.3,10.9,18.399999999999999,19,18.600000000000001,22.3,18.100000000000001,20.100000000000001,18.399999999999999,12.8,"..",13.9,24.7,8,23.4,10.9,30,17.3,16.7,17,16.7]
["Skilled trades occupations",3.1,0.8,"..",4.3,3,"..",3.5,1.7,2,"..","..","..","..",4.3,"..","..","..","..",3.4,"..","..",2.4,2,2.2000000000000002,2.1]
["Caring, leisure and other service occupations",18,16.600000000000001,18.7,23.9,20.8,22.2,20.399999999999999,18.600000000000001,16.600000000000001,17.3,21.7,10.8,18.3,23.9,20.100000000000001,22.8,20.7,14.1,17.7,22.2,20.8,19.5,17.100000000000001,16.5,15.9]
["Sales and customer service occupations",12.8,11.4,7.4,13,11.6,6.4,12.8,12.4,13.6,5.2,9.1999999999999993,10.3,14.5,13,9.6,14.2,"..",14.9,11.2,6.4,9.4,11,11,10.1,9.8000000000000007]
["Process, plant and machine operatives",1.7,1.2,4.5999999999999996,"..",1.3,"..","..",2.9,1.4,"..","..","..","..","..",7.5,"..","..","..","..","..","..",1.6,1.8,1.8,1.7]
["Elementary occupations",9.8000000000000007,9.6,9.6999999999999993,14.3,5.9,21.8,7.3,9.1,15.2,12.8,"..",8.3000000000000007,13.5,14.3,6.6,9,"..",7.9,5.4,21.8,"..",10.1,10.7,10.9,10.6]
[]
[]
["Source: Annual Population Survey"]
["Description: Number and share of resident based occupations by gender"]
["Years: July-June 2017"]
["http://nomisweb.co.uk/ "]

{"sheet":"LS29. Qualifications by NVQ","index":33,"n_rows":62,"n_cols":26,"rows_kept":62,"cut":false,"hidden":false,"merged":[]}
["LS29. Qualifications by NVQ Level",null,"Return to Contents",null,"Return to TTWA Summary",null,null,null,"Return to LA Summary"]
[null,"Blackburn with Darwen, Hyndburn, Rossendale and Ribble Valley","Blackpool, Fylde and Wyre","Burnley and Pendle","Lancaster and Morecambe ","Preston, Chorley and South Ribble ","West Lancashire ","Preston and South Ribble City Deal","Blackburn with Darwen ","Blackpool","Burnley","Chorley ","Fylde","Hyndburn","Lancaster ","Pendle ","Preston","Ribble Valley","Rossendale ","South Ribble ","West Lancashire ","Wrye ","Lancashire ","North West ","England Minus London","England"]
["Number (2006)"]
["NVQ4+",48700,39800,22300,23100,48700,14700,34300,18700,12400,10900,14500,12800,10700,23100,11400,19800,11800,7500,14500,14700,14600,197400,1068700,6884500,8665600]
["NVQ3+",90400,75200,43600,43400,94900,28900,66700,34500,27600,21100,28200,21200,20600,43400,22600,37500,18000,17300,29200,28900,26400,376300,1879400,11842400,14292900]
["NVQ2+",132700,118400,67700,57700,137800,44100,95600,51000,45600,34100,42200,30200,29700,57700,33600,50900,25200,26800,44700,44100,42600,558300,2722100,17035400,20140800]
["NVQ1+",162400,146000,84500,73100,174400,53400,119700,63500,59000,40900,54700,35900,36200,73100,43700,64700,28700,34000,55100,53400,51200,693900,3351800,21088800,24689400]
["Trade Apprenticeships",12500,11400,7500,5200,13900,5700,9800,4700,5900,3900,4000,1600,3600,5200,3600,4500,1700,2500,5300,5700,4000,56100,254700,1496300,1624200]
["Other NVQ qualifications",15500,10700,7000,6200,15000,1900,12100,6700,5200,4100,2900,2000,5400,6200,2900,7300,2100,1300,4800,1900,3600,56400,253900,2030900,2816200]
["No NVQ qualifications",33400,31500,16700,6000,30900,11900,23100,17600,19900,8600,7800,4700,7600,6000,8100,16200,2500,5800,6900,11900,6900,130500,686100,3675100,4373400]
[]
["Number (2011)"]
["NVQ4+",50600,54600,25500,32400,69300,18000,48400,20300,17300,12400,20900,17000,9800,32400,13100,27700,8600,11900,20700,18000,20400,250300,1291100,8439700,10972000]
["NVQ3+",96100,89500,52300,51900,114300,30100,82200,35900,32400,28400,32000,25800,23000,51900,23900,45500,15900,21200,36800,30100,31300,434100,2144700,13787300,17042200]
["NVQ2+",143500,131300,71000,69900,156800,48100,115000,56200,51600,38200,41800,33500,33600,69900,32800,60100,24600,29200,54900,48100,46200,620700,3051400,19401100,23373100]
["NVQ1+",174200,157400,84600,79100,192000,55000,136400,69100,65600,45700,55500,39400,38900,79100,38900,72000,29800,36400,64500,55000,52400,742200,3664800,23348300,27866700]
["Trade Apprenticeships",12900,9100,7500,4400,8700,4400,6300,4500,4000,3800,2400,1200,3500,4400,3700,1300,2100,2800,5000,4400,3800,47100,191500,1082800,1162600]
["Other NVQ qualifications",14800,13000,11200,3900,10600,3500,6400,7100,5000,2600,4100,2700,3600,3900,8700,4000,1700,2500,2400,3500,5300,57000,271700,1771100,2312800]
["No NVQ qualifications",31100,26200,13000,3300,26800,10700,20000,16500,15400,4600,6800,3500,6800,3300,8300,16200,2700,5100,3800,10700,7300,111000,541700,3010600,3534300]
[]
["Number (2016)"]
["NVQ4+",68400,61100,29800,31300,84600,17500,51700,25300,21200,13700,32900,18900,12600,31300,16100,27900,14400,16100,23800,17500,21100,292700,1518400,9942100,13040700]
["NVQ3+",115700,103600,53100,48300,129100,33100,86500,41500,38400,24700,42600,27800,24600,48300,28400,45800,24500,25100,40700,33100,37400,482900,2400000,15589900,19545800]
["NVQ2+",155300,145300,76100,64800,177700,47400,121900,60200,58800,38000,55800,35000,32900,64800,38100,65000,30800,31300,56900,47400,51500,666600,3265900,20932200,25568000]
["NVQ1+",177600,167600,93000,76800,204700,57900,145300,71800,69300,45700,59400,40200,39400,76800,47300,80100,32500,33900,65200,57900,58100,777700,3790900,24356500,29445300]
["Trade Apprenticeships",11500,6900,5200,2800,6300,1700,3300,3200,4400,3400,3000,"..",3200,2800,1800,1100,2500,2600,2200,1700,1700,34300,156800,949300,1019000]
["Other NVQ qualifications",12100,7800,6800,4600,9700,5600,6900,7200,5000,2500,2800,1200,3500,4600,4400,6200,"..",1500,"..",5600,1600,46600,255900,1821800,2310500]
["No NVQ qualifications",28200,12600,6900,7100,14700,5300,10600,11400,8000,5100,4100,1600,6800,7100,1800,6800,2100,7900,3800,5300,3000,74800,425500,2287800,2680600]
[]
[]
["Share (2006)"]
["NVQ4+",23.1,21.1,20.6,27.1,22.1,21.9,22.1,21.3,14.7,20.3,22.1,30,21.8,27.1,20.9,22.5,35.6,18.2,21.7,21.9,23.7,22.4,24.9,25.7,27.2]
["NVQ3+",42.8,39.9,40.299999999999997,50.9,43.1,42.9,43,39.299999999999997,32.799999999999997,39.299999999999997,43.1,49.8,41.9,50.9,41.2,42.5,54,42.1,43.7,42.9,42.8,42.7,43.8,44.2,44.8]
["NVQ2+",62.8,62.9,62.6,67.599999999999994,62.5,65.5,61.7,58.1,54.2,63.6,64.5,71.099999999999994,60.4,67.599999999999994,61.5,57.7,75.599999999999994,65.2,66.900000000000006,65.5,69,63.4,63.4,63.6,63.2]
["NVQ1+",76.8,77.599999999999994,78.099999999999994,85.7,79.2,79.400000000000006,77.3,72.3,70.2,76.2,83.7,84.3,73.5,85.7,79.900000000000006,73.3,86.2,82.8,82.4,79.400000000000006,83,78.8,78.099999999999994,78.7,77.400000000000006]
["Trade Apprenticeships",5.9,6.1,6.9,6.1,6.3,8.4,6.3,5.4,7,7.3,6.2,3.7,7.3,6.1,6.5,5.2,5,6,7.9,8.4,6.5,6.4,5.9,5.6,5.0999999999999996]
["Other NVQ qualifications",7.3,5.7,6.5,7.3,6.8,2.8,7.8,7.6,6.2,7.6,4.5,4.5999999999999996,10.9,7.3,5.3,8.3000000000000007,6.4,3.1,7.2,2.8,5.8,6.4,5.9,7.6,8.8000000000000007]
["No NVQ qualifications",15.8,16.7,15.4,7,14,17.8,14.9,20,23.6,16.100000000000001,11.9,11.1,15.5,7,14.8,18.399999999999999,7.4,14.1,10.4,17.8,11.2,14.8,16,13.7,13.7]
[]
["Share (2011)"]
["NVQ4+",23,27.8,23.4,37.5,30.2,26,29.7,21.9,20.100000000000001,23.4,31.4,37.200000000000003,19.899999999999999,37.5,23.4,30,25.2,27,29.2,26,31.4,27.5,28.8,30,32.5]
["NVQ3+",43.7,45.5,48.1,60.2,49.8,43.5,50.5,38.799999999999997,37.799999999999997,53.7,48.2,56.5,46.7,60.2,42.8,49.3,46.7,48.3,52,43.5,48.1,47.7,47.9,49,50.5]
["NVQ2+",65.2,66.8,65.2,81.099999999999994,68.400000000000006,69.5,70.599999999999994,60.6,60,72.099999999999994,62.9,73.400000000000006,68.099999999999994,81.099999999999994,58.7,65.2,72.2,66.400000000000006,77.7,69.5,71.2,68.2,68.099999999999994,69,69.3]
["NVQ1+",79.099999999999994,80.099999999999994,77.8,91.7,83.7,79.5,83.8,74.5,76.3,86.4,83.5,86.4,78.900000000000006,91.7,69.599999999999994,78.099999999999994,87.3,82.8,91.2,79.5,80.599999999999994,81.599999999999994,81.8,83,82.7]
["Trade Apprenticeships",5.9,4.5999999999999996,6.9,5.0999999999999996,3.8,6.4,3.9,4.9000000000000004,4.7,7.2,3.6,2.7,7.2,5.0999999999999996,6.6,1.5,6.2,6.3,7.1,6.4,5.9,5.2,4.3,3.8,3.4]
["Other NVQ qualifications",6.7,6.6,10.3,4.5,4.5999999999999996,5.0999999999999996,3.9,7.6,5.8,4.8,6.2,5.9,7.3,4.5,15.5,4.3,4.9000000000000004,5.7,3.4,5.0999999999999996,8.1999999999999993,6.3,6.1,6.3,6.9]
["No NVQ qualifications",14.1,13.3,11.9,3.8,11.7,15.4,12.3,17.8,17.899999999999999,8.8000000000000007,10.199999999999999,7.7,13.8,3.8,14.9,17.600000000000001,7.8,11.5,5.4,15.4,11.2,12.2,12.1,10.7,10.5]
[]
["Share (2016)"]
["NVQ4+",31.4,32.5,28,35.4,36.9,25.4,31.7,28,25.7,25.7,49.6,43.9,25.3,35.4,30.2,30,41.5,37.299999999999997,34.1,25.4,33.700000000000003,32.6,34,34.9,37.9]
["NVQ3+",53.1,55.1,49.8,54.6,56.3,48.1,53.1,46,46.7,46.4,64.2,64.5,49.5,54.6,53.1,49.2,70.599999999999994,58.1,58.3,48.1,59.8,53.7,53.7,54.8,56.8]
["NVQ2+",71.2,77.3,71.3,73.2,77.5,68.900000000000006,74.900000000000006,66.599999999999994,71.5,71.5,84.1,81.3,66.3,73.2,71.099999999999994,69.8,89,72.400000000000006,81.599999999999994,68.900000000000006,82.3,74.099999999999994,73,73.5,74.2]
["NVQ1+",81.5,89.2,87.1,86.8,89.3,84.2,89.2,79.400000000000006,84.2,85.9,89.6,93.4,79.3,86.8,88.4,86.1,93.9,78.5,93.5,84.2,92.7,86.5,84.8,85.6,85.5]
["Trade Apprenticeships",5.3,3.7,4.9000000000000004,3.1,2.7,2.5,2,3.5,5.4,6.4,4.5,"..",6.3,3.1,3.4,1.1000000000000001,7.2,6,3.2,2.5,2.7,3.8,3.5,3.3,3]
["Other NVQ qualifications",5.6,4.0999999999999996,6.4,5.2,4.2,8.1,4.3,7.9,6.1,4.5999999999999996,4.2,2.9,7.1,5.2,8.1999999999999993,6.7,"..",3.4,"..",8.1,2.5,5.2,5.7,6.4,6.7]
["No NVQ qualifications",12.9,6.7,6.5,8.1,6.4,7.7,6.5,12.7,9.6999999999999993,9.5,6.3,3.7,13.7,8.1,3.4,7.3,6.1,18.2,5.5,7.7,4.8,8.3000000000000007,9.5,8,7.8]
[]
[]
["Source: Annual Population Survey"]
["Description: Number and share of qualification levels, working age population"]
["Years: Jan-Dec 2006, Jan-Dec 2011 and Jan-Dec 2016"]
["http://nomisweb.co.uk/ "]

{"sheet":"LS30. Qualifications Split","index":34,"n_rows":368,"n_cols":26,"rows_kept":368,"cut":false,"hidden":false,"merged":[]}
["LS30. Qualifications by Gender and Age",null,"Return to Contents",null,"Return to TTWA Summary",null,null,null,"Return to LA Summary"]
[null,"Blackburn with Darwen, Hyndburn, Rossendale and Ribble Valley","Blackpool, Fylde and Wyre","Burnley and Pendle","Lancaster and Morecambe ","Preston, Chorley and South Ribble ","West Lancashire ","Preston and South Ribble City Deal","Blackburn with Darwen ","Blackpool","Burnley","Chorley ","Fylde","Hyndburn","Lancaster ","Pendle ","Preston","Ribble Valley","Rossendale ","South Ribble ","West Lancashire ","Wrye ","Lancashire ","North West ","England Minus London","England"]
["Number by Gender (2006)"]
["NVQ4+ (male)",25800,21400,10700,12500,24700,8200,18000,10200,6800,6200,6700,7400,6200,12500,4500,9400,5800,3600,8600,8200,7200,103400,554100,3504600,4408100]
["NVQ3 only (male)",18400,19400,9700,9900,23100,5300,15800,7500,7700,4900,7400,4400,2900,9900,4900,8800,3800,4300,7000,5300,7300,85900,373700,2320300,2642300]
["NVQ2 only (male)",15800,15800,8000,4600,13900,5600,9100,6300,6600,4400,4800,3600,3300,4600,3600,4600,2600,3700,4500,5600,5600,63800,287800,1834900,2095800]
["NVQ1 only (male)",14700,12600,8100,6000,16700,3100,10500,5000,5500,2600,6200,2200,3400,6000,5600,6700,1700,4500,3800,3100,4900,61100,273800,1792300,2019500]
["Trade Apprenticeships (male)",11200,9200,6900,4600,10600,4500,8500,4400,4700,3400,2100,1100,3000,4600,3600,4000,1300,2500,4500,4500,3400,46900,216700,1253800,1356000]
["Other NVQ qualifications (male)",9500,5100,4600,2900,9700,1300,7900,4000,3000,2600,1800,1200,3800,2900,2000,5000,1000,"..",2900,1300,900,33100,145600,1182300,1598600]
["No NVQ qualifications (male)",14100,14400,7600,2500,14200,5800,9900,7600,9400,3500,4300,2200,3100,2500,4100,7300,1300,2000,2600,5800,2800,58600,340800,1804000,2143600]
["NVQ4+ (female)",23000,18400,11600,10600,24000,6500,16300,8500,5600,4600,7800,5400,4500,10600,7000,10400,6100,3900,5900,6500,7400,94000,514600,3379900,4257500]
["NVQ3 only (female)",17000,10300,7800,7800,16100,6000,11800,6000,4500,3400,4300,3200,5200,7800,4400,6700,1500,4300,5100,6000,2500,65000,309500,1889500,2173000]
["NVQ2 only (female)",20200,21700,12300,7100,22100,6700,14900,7900,8500,6600,7200,4600,4000,7100,5700,6500,3700,4600,8300,6700,8600,90100,427700,2610000,2940000]
["NVQ1 only (female)",15000,15100,8700,9400,19900,6300,13600,7400,7900,4200,6300,3400,3000,9400,4500,7100,1900,2700,6500,6300,3700,74500,355900,2261100,2529100]
["Trade Apprenticeships (female)",1400,2300,"..","..",3300,1200,1300,"..",1200,"..",1900,"..","..","..","..","..","..","..","..",1200,"..",9200,38000,242400,268100]
["Other NVQ qualifications (female)",6000,5600,2400,3300,5400,"..",4200,2700,2200,1500,1100,800,1600,3300,900,2300,1100,"..",1900,"..",2700,23300,108400,848600,1217600]
["No NVQ qualifications (female)",19300,17100,9100,3400,16700,6100,13300,9900,10500,5100,3400,2500,4500,3400,4000,9000,1100,3800,4300,6100,4100,71800,345400,1871100,2229800]
[]
["Number by Gender (2011)"]
["NVQ4+ (male)",21500,26300,10300,15400,31800,7800,22300,9200,7900,3800,9500,9600,3800,15400,6400,12400,3500,5000,9900,7800,8700,113000,632200,4079400,5356400]
["NVQ3 only (male)",20700,14300,12800,7700,22800,5100,17000,6500,7100,7900,5700,2700,6300,7700,4900,10300,3100,4800,6700,5100,4500,83400,382200,2460200,2800500]
["NVQ2 only (male)",11900,7800,7000,4200,6800,4100,11600,3800,3500,3800,2100,"..",3500,4200,3200,1000,1800,2800,3800,4100,3500,41700,164400,914500,980500]
["NVQ1 only (male)",18800,15200,6300,6500,15900,4800,11400,8400,7100,3400,4300,3500,3400,6500,2900,5900,5300,1700,5700,4800,4600,67700,353800,2221100,2536200]
["Trade Apprenticeships (male)",14900,13500,7500,4900,17400,3000,4700,6300,7000,4600,6000,3600,2300,4900,2900,6000,2100,4200,5400,3000,2900,61100,290500,1850000,2099300]
["Other NVQ qualifications (male)",8600,7300,6600,2400,5700,1700,3500,4100,3100,2200,2300,"..",3000,2400,4400,2400,"..",1200,1100,1700,3500,32400,154500,1029500,1310300]
["No NVQ qualifications (male)",14400,12100,4800,1400,13900,6900,10100,8500,7500,1400,3800,"..",2800,1400,3400,8400,900,2200,1700,6900,3600,53400,245000,1403300,1654300]
["NVQ4+ (female)",29100,28400,15200,17000,37500,10200,26100,11100,9300,8600,11400,7400,5900,17000,6600,15300,5200,6900,10800,10200,11700,137300,658900,4360300,5615600]
["NVQ3 only (female)",18300,16000,10300,9600,17900,4700,13700,6800,6100,6200,4200,5500,5200,9600,4100,6800,3100,3200,6900,4700,4500,76900,375700,2346100,2688400]
["NVQ2 only (female)",1100,1300,"..","..",1900,"..",18000,800,500,"..","..","..","..","..","..","..","..","..",1200,"..","..",5400,27100,168300,182200]
["NVQ1 only (female)",22200,22000,8600,9300,22300,11000,10000,9600,10000,4500,4300,3600,5400,9300,4100,8100,2400,4900,9900,11000,8500,95400,457200,2851300,3213400]
["Trade Apprenticeships (female)",15700,12600,6200,4300,17700,3900,1600,6600,7000,3000,7700,2300,3000,4300,3200,5900,3100,3000,4100,3900,3200,60400,322900,2097200,2394300]
["Other NVQ qualifications (female)",6200,5600,4700,1500,4800,1800,3000,2900,1900,"..",1900,1900,"..",1500,4300,1600,1300,1300,1300,1800,1900,24600,117200,741600,1002500]
["No NVQ qualifications (female)",16700,14100,8200,1900,12900,3800,9900,8100,7800,3300,3000,2600,4000,1900,4900,7800,1700,2900,2100,3800,3600,57500,296700,1607200,1880100]
[]
["Number by Gender (2016)"]
["NVQ4+ (male)",31100,29300,13900,14900,38100,8700,24000,11100,10100,6600,14100,10100,7400,14900,7200,12800,6700,5900,11200,8700,9100,136100,722500,4715700,6266400]
["NVQ3 only (male)",20800,20100,12700,8000,20600,7500,16800,6700,7800,4900,3800,3900,3600,8000,7800,8000,5500,5000,8800,7500,8500,89700,391000,2585200,2988100]
["NVQ2 only (male)",8300,5200,4400,2200,5800,1700,16800,2600,3400,3100,2500,"..",2100,2200,1300,1100,1600,2000,2200,1700,1400,27500,128200,763300,816800]
["NVQ1 only (male)",14100,15500,7000,7200,21800,5400,11900,8500,8200,4500,5000,2600,2100,7200,2500,8800,1300,2100,8000,5400,4700,71000,350600,2170000,2467200]
["Trade Apprenticeships (male)",12200,13700,7400,4200,14600,4900,3300,6700,5800,3900,2600,3100,3100,4200,3500,7800,"..",1900,4100,4900,4800,56900,262500,1702800,1917000]
["Other NVQ qualifications (male)",7400,3600,5600,2800,6200,1900,4500,4100,2400,1700,1700,"..",2200,2800,4000,4500,"..",1100,"..",1900,"..",27600,149000,1059100,1335200]
["No NVQ qualifications (male)",13900,6300,2900,5100,6800,3000,4800,5500,4100,2000,2000,1300,3800,5100,"..",3900,1300,3300,"..",3000,"..",38000,215900,1142300,1339300]
["NVQ4+ (female)",37300,31800,16000,16400,46400,8800,27600,14300,11000,7100,18800,8800,5200,16400,8900,15100,7700,10200,12600,8800,11900,156700,795900,5226400,6774300]
["NVQ3 only (female)",20800,18900,8000,7700,20800,7200,16400,7900,7300,4400,4400,4600,6900,7700,3600,9400,3300,2700,7000,7200,7000,83400,412200,2587900,3007400]
["NVQ2 only (female)",3200,1700,"..","..","..","..",17000,600,1100,"..","..","..","..","..","..","..","..","..","..","..","..",6800,28600,186000,202200]
["NVQ1 only (female)",19700,22800,13400,7900,23700,8100,11500,8600,10000,7100,6700,4200,4600,7900,6200,9800,3800,2800,7200,8100,8600,95500,436900,2697700,3045500]
["Trade Apprenticeships (female)",10200,8600,9500,7800,12500,5600,"..",4800,4700,3800,"..",2200,3300,7800,5700,7300,1300,"..",4100,5600,1700,54100,262600,1721500,1960200]
["Other NVQ qualifications (female)",4800,4200,1200,1800,3500,3600,2500,3000,2600,"..","..",900,1300,1800,"..",1700,"..","..","..",3600,"..",19000,106800,762700,975300]
["No NVQ qualifications (female)",14300,6300,4000,2000,8000,2300,5800,5900,3900,3100,2200,"..",3000,2000,1000,2900,"..",4600,3000,2300,2100,36900,209700,1145600,1341300]
[]
["% by Gender (2006)"]
["NVQ4+ (male)",23.6,21.9,19.2,29.2,21.9,24.3,22.6,22.7,15.5,22.6,20.2,33.5,24.2,29.2,15.9,20.7,33,16.899999999999999,25.3,24.3,22.5,22.8,25.3,25.6,27.1]
["NVQ3 only (male)",16.8,19.8,17.399999999999999,23.1,20.5,15.7,19.8,16.600000000000001,17.600000000000001,17.600000000000001,22.2,19.899999999999999,11.2,23.1,17.3,19.2,21.6,20.2,20.5,15.7,22.7,19,17,16.899999999999999,16.2]
["NVQ2 only (male)",14.5,16.2,14.4,10.7,12.3,16.600000000000001,11.4,13.9,15.2,16,14.3,16.399999999999999,12.8,10.7,12.8,10,15,17.2,13.4,16.600000000000001,17.3,14.1,13.1,13.4,12.9]
["NVQ1 only (male)",13.4,12.8,14.6,13.9,14.8,9,13.2,11.2,12.5,9.3000000000000007,18.7,10,13.3,13.9,19.8,14.6,9.6999999999999993,21.3,11.3,9,15.3,13.5,12.5,13.1,12.4]
["Trade Apprenticeships (male)",10.199999999999999,9.4,12.4,10.6,9.4,13.3,10.7,9.8000000000000007,10.7,12.3,6.3,5,11.6,10.6,12.6,8.6999999999999993,7.4,11.7,13.3,13.3,10.6,10.4,9.9,9.1999999999999993,8.3000000000000007]
["Other NVQ qualifications (male)",8.6999999999999993,5.2,8.3000000000000007,6.7,8.6,3.9,9.9,8.8000000000000007,6.9,9.5,5.4,5.3,14.8,6.7,7.2,10.9,5.8,"..",8.6,3.9,2.7,7.3,6.6,8.6,9.8000000000000007]
["No NVQ qualifications (male)",12.9,14.7,13.6,5.9,12.6,17.100000000000001,12.4,17,21.5,12.8,13.1,10,12.1,5.9,14.5,15.9,7.6,9.4,7.6,17.100000000000001,8.9,13,15.5,13.2,13.2]
["NVQ4+ (female)",22.5,20.3,22.1,24.9,22.4,19.5,21.6,19.8,13.9,17.8,24.2,26.3,19.3,24.9,26.3,24.4,38.4,19.7,17.899999999999999,19.5,24.9,22,24.5,25.8,27.3]
["NVQ3 only (female)",16.7,11.4,15,18.399999999999999,15,17.899999999999999,15.6,13.9,11.2,13.1,13.5,15.7,22.1,18.399999999999999,16.8,15.7,9.6999999999999993,21.7,15.5,17.899999999999999,8.6,15.2,14.7,14.4,13.9]
["NVQ2 only (female)",19.8,24,23.5,16.7,20.6,20.100000000000001,19.7,18.399999999999999,20.9,25.5,22.5,22.7,17.100000000000001,16.7,21.5,15.4,23.6,23,25.4,20.100000000000001,29.1,21.1,20.399999999999999,19.899999999999999,18.8]
["NVQ1 only (female)",14.8,16.7,16.5,22.3,18.600000000000001,18.899999999999999,18.100000000000001,17.399999999999999,19.7,16.2,19.7,16.899999999999999,12.9,22.3,16.899999999999999,16.7,11.7,13.7,19.899999999999999,18.899999999999999,12.5,17.399999999999999,17,17.3,16.2]
["Trade Apprenticeships (female)",1.3,2.5,"..","..",3,3.5,1.8,0.8,3,"..",6,"..","..","..","..","..","..","..","..",3.5,"..",2.2000000000000002,1.8,1.9,1.7]
["Other NVQ qualifications (female)",5.9,6.2,4.5,7.9,5,"..",5.6,6.4,5.3,5.7,3.5,3.8,6.7,7.9,3.4,5.4,7.1,"..",5.8,"..",9.1,5.4,5.2,6.5,7.8]
["No NVQ qualifications (female)",19,18.899999999999999,17.399999999999999,8.1,15.5,18.399999999999999,17.600000000000001,23.2,26,19.7,10.7,12.2,19.2,8.1,15.1,21,7.2,19,13.2,18.399999999999999,13.8,16.8,16.5,14.3,14.3]
[]
["% by Gender (2011)"]
["NVQ4+ (male)",19.399999999999999,27.2,18.600000000000001,36.299999999999997,27.8,23.4,27.7,19.7,18.399999999999999,14.1,28.1,43.6,15.3,36.299999999999997,22.9,26.8,20.2,22.8,28.8,23.4,27.9,25,28.4,29.2,32]
["NVQ3 only (male)",18.7,14.8,23.1,18.2,19.899999999999999,15.4,21.1,13.9,16.5,29.2,17,12.3,25,18.2,17.399999999999999,22.3,18.399999999999999,21.9,19.600000000000001,15.4,14.3,18.399999999999999,17.2,17.600000000000001,16.7]
["NVQ2 only (male)",17,15.8,11.5,15.4,14,14.4,14.4,18,16.5,12.5,12.9,16,13.6,15.4,10.4,12.7,31,7.7,16.7,14.4,14.7,14.9,15.9,15.9,15.2]
["NVQ1 only (male)",13.5,14,13.5,11.6,15.2,8.9,14.1,13.4,16.100000000000001,17,17.8,16.399999999999999,9.1999999999999993,11.6,10.199999999999999,12.9,12.2,19.399999999999999,15.8,8.9,9.1999999999999993,13.5,13.1,13.3,12.5]
["Trade Apprenticeships (male)",10.7,8.1,12.7,9.8000000000000007,5.9,12.1,5.9,8,8,14,6.1,"..",14,9.8000000000000007,11.5,2.1,10.7,12.7,11,12.1,11.1,9.1999999999999993,7.4,6.6,5.9]
["Other NVQ qualifications (male)",7.8,7.6,11.9,5.6,5,5.2,4.3,8.8000000000000007,7.2,8.1999999999999993,6.8,"..",11.8,5.6,15.5,5.0999999999999996,"..",5.3,3.2,5.2,11.1,7.2,7,7.4,7.8]
["No NVQ qualifications (male)",13,12.5,8.6,3.2,12.2,20.6,12.5,18.100000000000001,17.399999999999999,5,11.4,"..",11,3.2,12.1,18.2,5.5,10.1,4.9000000000000004,20.6,11.7,11.8,11,10.1,9.9]
["NVQ4+ (female)",26.6,28.4,28.3,38.700000000000003,32.6,28.4,31.7,24.2,21.8,33.1,34.9,31.3,24.6,38.700000000000003,23.9,33.299999999999997,30.2,31.1,29.6,28.4,34.6,30,29.2,30.8,33.1]
["NVQ3 only (female)",16.7,16,19.3,21.9,15.6,13.3,16.600000000000001,14.9,14.2,24.1,12.9,23.2,21.4,21.9,14.7,14.8,18.3,14.3,19,13.3,13.3,16.8,16.7,16.600000000000001,15.8]
["NVQ2 only (female)",20.3,22,16.100000000000001,21.2,19.399999999999999,30.8,21.9,20.8,23.4,17.3,13.1,15.1,22.2,21.2,14.9,17.7,13.8,22.2,27.2,30.8,25.1,20.9,20.3,20.100000000000001,18.899999999999999]
["NVQ1 only (female)",14.4,12.6,11.5,9.6999999999999993,15.4,11,12.2,14.5,16.5,11.4,23.5,9.8000000000000007,12.6,9.6999999999999993,11.5,12.9,18.100000000000001,13.4,11.4,11,9.6,13.2,14.3,14.8,14.1]
["Trade Apprenticeships (female)",1,1.3,"..","..",1.7,"..",2,1.7,1.3,"..","..","..","..","..","..","..","..","..",3.4,"..","..",1.2,1.2,1.2,1.1000000000000001]
["Other NVQ qualifications (female)",5.7,5.6,8.6999999999999993,3.4,4.2,4.9000000000000004,3.6,6.4,4.3,"..",5.7,8.1,"..",3.4,15.6,3.5,7.8,6,3.6,4.9000000000000004,5.5,5.4,5.2,5.2,5.9]
["No NVQ qualifications (female)",15.3,14.1,15.3,4.4000000000000004,11.2,10.6,12,17.600000000000001,18.399999999999999,12.7,9.1,10.9,16.7,4.4000000000000004,17.7,16.899999999999999,10,13,5.8,10.6,10.8,12.6,13.2,11.3,11.1]
[]
["% by Gender (2016)"]
["NVQ4+ (male)",28.9,31.3,25.7,33.700000000000003,33.5,26.2,29.3,24.4,24.3,24.8,44.4,46.3,30.3,33.700000000000003,26.6,27.4,39.799999999999997,27.9,31.8,26.2,30.2,30.5,32.5,33.4,36.6]
["NVQ3 only (male)",19.3,21.4,23.5,18,18.100000000000001,22.6,20.5,14.8,18.600000000000001,18.399999999999999,12,17.8,14.8,18,28.5,17.100000000000001,32.700000000000003,23.4,25,22.6,28.1,20.100000000000001,17.600000000000001,18.3,17.399999999999999]
["NVQ2 only (male)",13.1,16.5,13,16.2,19.100000000000001,16.3,20.5,18.899999999999999,19.5,16.8,15.7,12,8.6999999999999993,16.2,9.3000000000000007,18.8,8,10,22.7,16.3,15.6,15.9,15.8,15.3,14.4]
["NVQ1 only (male)",11.3,14.6,13.8,9.4,12.8,14.9,14.5,14.9,13.9,14.6,8.3000000000000007,14.1,12.9,9.4,12.9,16.7,"..",9,11.7,14.9,15.9,12.7,11.8,12,11.2]
["Trade Apprenticeships (male)",7.7,5.5,8.1,4.9000000000000004,5.0999999999999996,5.2,4,5.7,8.1,11.5,7.9,"..",8.8000000000000007,4.9000000000000004,4.9000000000000004,2.2000000000000002,9.6,9.1999999999999993,6.3,5.2,4.5,6.2,5.8,5.4,4.8]
["Other NVQ qualifications (male)",6.8,3.9,10.5,6.3,5.5,5.8,5.5,9.1,5.8,6.3,5.4,"..",8.9,6.3,14.6,9.6,"..",5.0999999999999996,"..",5.8,"..",6.2,6.7,7.5,7.8]
["No NVQ qualifications (male)",12.9,6.7,5.3,11.6,5.9,9.1,5.8,12.2,9.8000000000000007,7.5,6.3,6.1,15.6,11.6,"..",8.3000000000000007,7.5,15.4,"..",9.1,"..",8.5,9.6999999999999993,8.1,7.8]
["NVQ4+ (female)",33.9,33.799999999999997,30.2,37.1,40.299999999999997,24.7,34.200000000000003,31.6,27.3,26.6,54.3,41.4,20.5,37.1,33.9,32.6,43.1,46.5,36.5,24.7,36.9,34.6,35.299999999999997,36.5,39.1]
["NVQ3 only (female)",18.8,20.100000000000001,15.1,17.3,18,20.3,20.3,17.5,18,16.600000000000001,12.8,21.7,27,17.3,13.6,20.399999999999999,18.7,12.2,20.2,20.3,21.7,18.399999999999999,18.3,18.100000000000001,17.399999999999999]
["NVQ2 only (female)",17.899999999999999,24.2,25.3,18,20.5,22.7,21,18.899999999999999,24.7,26.8,19.399999999999999,19.7,18.2,18,23.7,21.3,21.2,12.6,20.7,22.7,26.4,21.1,19.399999999999999,18.8,17.600000000000001]
["NVQ1 only (female)",9.1999999999999993,9.1,18,17.8,10.8,15.6,14.2,10.7,11.5,14.2,"..",10.1,13.2,17.8,21.8,15.8,7.4,"..",12,15.6,5.4,12,11.7,12,11.3]
["Trade Apprenticeships (female)",2.9,1.8,"..","..","..","..","..",1.4,2.6,"..","..","..","..","..","..","..","..","..","..","..","..",1.5,1.3,1.3,1.2]
["Other NVQ qualifications (female)",4.3,4.4000000000000004,2.2000000000000002,4,3,10.3,3.1,6.7,6.3,"..","..",4.0999999999999996,5.3,4,"..",3.8,"..","..","..",10.3,"..",4.2,4.7,5.3,5.6]
["No NVQ qualifications (female)",13,6.7,7.6,4.5,6.9,6.4,7.2,13.1,9.6999999999999993,11.5,6.2,"..",11.8,4.5,3.6,6.2,"..",20.9,8.5,6.4,6.5,8.1,9.3000000000000007,8,7.8]
[]
[]
["Number by Age (2006)"]
["NVQ4+ (aged 16-19)",500,"..","..","..","..","..","..","..","..","..","..","..","..","..","..","..","..","..","..","..","..",600,2400,23200,26700]
["NVQ4+ (aged 20-24)",4300,3300,2500,"..",6300,1100,5600,1600,1100,1000,"..","..",2300,"..",1500,4400,"..","..",1200,1100,1600,18000,100100,557100,724900]
["NVQ4+ (aged 25-29)",4500,4300,2600,2100,4900,1800,4100,3000,1300,2300,"..","..","..",2100,"..",2500,"..","..",1600,1800,2000,20300,140600,855900,1201600]
["NVQ4+ (aged 30-39)",11100,8700,5900,7200,13800,1700,8400,5000,3200,2800,5500,2600,1800,7200,3200,4700,3000,1300,3600,1700,2900,48500,277000,1841400,2428900]
["NVQ4+ (aged 40-49)",13400,12300,6800,6300,13200,4900,9000,4600,3300,2500,4200,5200,2300,6300,4200,6000,3400,3100,3100,4900,3900,56900,274000,1814600,2197100]
["NVQ4+ (aged 50-64)",14900,11000,4400,7100,10500,5200,7200,4400,3400,2300,3300,3200,3700,7100,2200,2300,4600,2300,5000,5200,4400,53200,274500,1792300,2086500]
["NVQ3 only (aged 16-19)",3600,3900,1900,1600,5000,2300,3300,1300,1000,"..",1600,1600,1000,1600,1200,1300,"..",900,2100,2300,1300,18300,73900,464100,546600]
["NVQ3 only (aged 20-24)",5900,4100,2300,5800,4900,1500,4100,2500,1800,"..","..",1500,"..",5800,2000,2700,1800,"..",1500,1500,"..",24400,131200,787000,922800]
["NVQ3 only (aged 25-29)",3200,2900,2500,1600,5100,"..",4800,1700,1900,1800,"..","..",1200,1600,"..",3900,"..","..","..","..","..",16100,78700,461300,534700]
["NVQ3 only (aged 30-39)",7700,4200,2800,3100,8300,2500,5400,3000,2300,1200,2900,"..",1600,3100,1600,2400,1500,1600,3000,2500,1200,28600,140300,840400,959600]
["NVQ3 only (aged 40-49)",8300,7900,4700,2600,7600,4000,4400,2900,2500,2500,3300,2900,1800,2600,2100,2500,"..",3200,1900,4000,2600,35100,135500,849800,957800]
["NVQ3 only (aged 50-64)",6700,6700,3500,2900,8300,"..",5400,2100,2700,1700,2900,"..",1600,2900,1700,2700,1300,1600,2800,"..",3500,28300,123800,807100,893800]
["NVQ2 only (aged 16-19)",7200,7000,4100,2000,6100,2400,3400,3200,2600,1900,2700,2000,2000,2000,2200,1200,"..",1600,2200,2400,2400,28700,138800,793800,914200]
["NVQ2 only (aged 20-24)",4000,4300,2100,1200,5100,1500,3100,2100,2400,"..",1900,"..",1500,1200,1700,2300,"..","..","..",1500,1500,18300,88500,524400,605200]
["NVQ2 only (aged 25-29)",3200,4600,2900,1200,1400,1200,1400,1400,2300,1500,"..",1500,"..",1200,1400,1000,"..",1200,"..",1200,"..",14600,68000,412700,468800]
["NVQ2 only (aged 30-39)",6900,6800,4100,3200,7300,2200,6100,3000,3000,2100,1300,1400,1800,3200,1900,2800,1200,900,3300,2200,2300,30400,151000,967700,1097300]
["NVQ2 only (aged 40-49)",8800,7800,4300,2300,6700,2900,3100,2600,2600,3100,3600,1000,1200,2300,1200,1800,2200,2800,1300,2900,4200,32800,159000,986900,1104300]
["NVQ2 only (aged 50-64)",6000,7100,2900,1700,9300,2200,6900,1800,2100,2000,2500,1900,"..",1700,900,1900,2600,1300,4900,2200,3000,29100,110200,759300,845900]
["NVQ1 only (aged 16-19)",3600,3000,3600,2000,2700,1000,1500,1300,1800,1100,1200,800,1100,2000,2500,1500,"..","..","..",1000,"..",15900,73000,457800,528200]
["NVQ1 only (aged 20-24)",3900,3300,4000,"..",2700,"..",2700,1800,1500,"..","..","..","..","..",3300,2300,"..",1300,"..","..",1100,14900,64000,380800,437000]
["NVQ1 only (aged 25-29)",3100,2600,2300,"..",3000,"..",2600,1400,1000,1500,"..","..","..","..","..",1400,"..","..","..","..",1200,11300,45100,308600,348900]
["NVQ1 only (aged 30-39)",7600,6400,2600,5700,12000,3900,8100,4200,2400,1000,3900,1100,"..",5700,1700,4400,"..",1600,3700,3900,2900,38200,167500,1022200,1138500]
["NVQ1 only (aged 40-49)",6800,6200,3200,3000,10900,3100,6100,1900,3400,1700,4800,1300,1600,3000,1500,3300,"..",2200,2900,3100,1500,33200,166700,1075000,1200700]
["NVQ1 only (aged 50-64)",4800,6200,1100,3300,5400,1300,3100,1800,3400,800,2300,1300,1600,3300,"..",900,"..","..",2200,1300,1500,22100,113400,809000,895300]
["Trade Apprenticeships (aged 16-19)","..","..","..","..","..","..","..","..","..","..","..","..","..","..","..","..","..","..","..","..","..",1500,3700,20600,21700]
["Trade Apprenticeships (aged 20-24)","..","~","..","..","..","..","..","..","~","..","..","..","..","..","..","..","..","..","..","..","..",1600,11000,74700,80800]
["Trade Apprenticeships (aged 25-29)",1000,"~","..","..",1200,"..","..","~","~","..","..","..","..","..","..","..","..","..","..","..","..",2900,13200,77200,89300]
["Trade Apprenticeships (aged 30-39)",3300,1400,2200,"..",3100,1300,2200,800,800,1100,900,"..",1400,"..",1000,1500,"..","..","..",1300,"..",11700,41300,254600,284900]
["Trade Apprenticeships (aged 40-49)",2400,2400,1400,"..",2700,900,1500,"~",1300,1100,1200,"..","..","..","..","..","..",1000,1200,900,900,10400,64200,370900,403100]
["Trade Apprenticeships (aged 50-64)",5700,6900,3500,3000,6100,2800,5000,2900,3100,1700,1200,1300,1400,3000,1800,2400,"..","..",2600,2800,2500,28000,121300,698300,744400]
["Other NVQ qualifications (aged 16-19)","..","..","..","..","..","..","..","..","..","..","..","..","..","..","..","..","..","..","..","..","..",800,6900,46500,60000]
["Other NVQ qualifications (aged 20-24)",1900,1000,1900,"..",1100,"..",1100,700,"..","..","..","..",1300,"..","..",1100,"..","..","..","..","..",6900,20500,166900,241200]
["Other NVQ qualifications (aged 25-29)",1800,1100,"..","..",1100,"..",1100,1000,"..","..","..","..","..","..","..","..","..","..","..","..","..",5300,23100,210700,367300]
["Other NVQ qualifications (aged 30-39)",4100,1800,1300,2200,2600,900,2600,1900,1500,"..","..","..",1400,2200,1000,2300,"..","..","..",900,"..",13000,54000,442800,690000]
["Other NVQ qualifications (aged 40-49)",3600,2000,2100,"..",3000,"..",2400,1100,900,"..","..",800,1000,"..",1500,"..",1400,"..",1500,"..","..",11300,57400,434800,587400]
["Other NVQ qualifications (aged 50-64)",4000,4800,900,2200,6500,"..",4200,1900,2100,900,2300,"..",900,2200,"..",2400,"..",900,1800,"..",2100,19000,92100,729300,870300]
["No NVQ qualifications (aged 16-19)",2000,2400,2000,"..",2100,1600,1800,1100,1300,800,"..",700,"..","..",1200,1500,"..","..","..",1600,"..",10300,68500,392500,459400]
["No NVQ qualifications (aged 20-24)",2100,1700,1100,"..",1500,"..",1500,1400,1700,"..","..","..","..","..","..",1500,"..","..","..","..","..",7300,46700,232600,278400]
["No NVQ qualifications (aged 25-29)",1800,2600,2600,"..",1200,1100,1200,1500,1500,1800,"..","..","..","..","..","..","..","..","..",1100,"..",9200,45500,232800,293000]
["No NVQ qualifications (aged 30-39)",5900,5800,1500,1000,5300,1800,4200,3600,4200,900,1100,900,2100,1000,"..",2800,"..","..",1400,1800,"..",21300,113000,554300,707400]
["No NVQ qualifications (aged 40-49)",7900,6300,2300,1300,6900,1700,4500,3800,4300,1700,2400,800,1300,1300,"..",3500,"..",2200,1000,1700,1200,26400,139000,736800,892300]
["No NVQ qualifications (aged 50-64)",13700,12800,7200,2800,14000,5400,10000,6300,6900,3000,4000,1700,3300,2800,4200,6100,1400,2600,3900,5400,4200,55800,273400,1526100,1742800]
[]
["Number by Age (2011)"]
["NVQ4+ (aged 16-19)","..",700,"..","..","..","..","..","..","..","..","..","..","..","..","..","..","..","..","..","..","..",1600,5500,31100,39600]
["NVQ4+ (aged 20-24)",2500,3900,2600,3700,7500,"..",5300,1100,1700,2100,2200,"..","..",3700,"..",3500,"..","..",1800,"..",2200,21800,111300,645400,879300]
["NVQ4+ (aged 25-29)",6000,4400,4500,2100,9100,"..",7000,3200,1800,"..",2100,"..",1500,2100,3700,4800,"..","..",2300,"..",1500,26100,174100,998900,1478300]
["NVQ4+ (aged 30-39)",14400,12800,9200,8200,13200,5800,9300,5400,4100,4200,3900,5100,4100,8200,5000,6300,1900,3100,3000,5800,3600,63500,325700,2205400,3058900]
["NVQ4+ (aged 40-49)",13200,14700,4900,8800,17700,5200,10100,4400,4700,3400,7500,4800,2600,8800,1400,5500,3300,2900,4600,5200,5100,64400,324500,2167400,2680300]
["NVQ4+ (aged 50-64)",14500,18200,4300,9500,20900,5400,16100,6300,4800,1800,4800,6100,1300,9500,2500,7100,3000,4000,9000,5400,7400,72800,350100,2391400,2835600]
["NVQ3 only (aged 16-19)",4600,4300,"..","..",5500,1600,3900,1000,1200,"..",1500,1800,1500,"..","..",3200,"..",2100,"..",1600,1300,17500,80500,541800,624900]
["NVQ3 only (aged 20-24)",7100,5200,2900,2800,9200,"..",8800,1600,2500,2300,"..",1800,2500,2800,"..",3900,"..","..",4900,"..","..",28200,146900,877300,1041400]
["NVQ3 only (aged 25-29)",3400,2900,2300,1600,3900,"..",2500,1600,1200,1700,1500,"..","..",1600,"..",2500,"..","..","..","..",1200,14600,83100,521900,604800]
["NVQ3 only (aged 30-39)",6600,5900,5900,3000,7800,2200,6500,2900,2400,2300,1300,1700,2600,3000,3500,3400,1200,"..",3000,2200,1800,31400,143600,899000,1019700]
["NVQ3 only (aged 40-49)",5800,4900,6700,4300,8300,2100,6100,2600,2700,4800,2200,"..",1400,4300,1900,3500,1400,"..",2600,2100,1400,32100,145100,946800,1066300]
["NVQ3 only (aged 50-64)",11600,7100,4800,4500,6100,2400,3000,3600,3100,3000,3100,1600,3000,4500,1900,"..",2000,2900,2300,2400,2300,36400,158600,1019500,1131900]
["NVQ2 only (aged 16-19)",8500,5600,"..",3700,7700,3200,5500,4000,2600,"..",2200,"..",2200,3700,"..",2600,1800,"..",2900,3200,2400,29800,148300,880000,1026100]
["NVQ2 only (aged 20-24)",4600,3200,2500,"..",4600,"..",3300,2400,1800,1400,"..","..","..","..","..",1600,"..","..",1700,"..","..",16500,96100,593700,675700]
["NVQ2 only (aged 25-29)",4500,2300,2300,1700,4900,"..",3400,1900,1000,1200,1500,"..","..",1700,"..",2300,"..","..",1100,"..",1200,16000,74800,473000,548200]
["NVQ2 only (aged 30-39)",5200,5400,1800,5100,5400,1800,5000,2600,2800,"..","..","..",1100,5100,"..",1500,"..","..",3500,1800,1700,24700,139700,873900,990000]
["NVQ2 only (aged 40-49)",10100,10300,3600,"..",6600,6100,5400,3600,4000,2200,1200,"..",2000,"..",1400,2700,1100,3400,2700,6100,5100,37300,177400,1142100,1271300]
["NVQ2 only (aged 50-64)",8100,10500,3700,3700,9100,3800,7000,3500,4900,1700,2200,3500,2400,3700,2000,3200,1400,"..",3800,3800,2200,38900,174700,1109600,1238300]
["NVQ1 only (aged 16-19)",3900,2400,"..","..",3100,"..",2300,1300,1900,"..","..","..","..","..","..",2300,"..",1600,"..","..","..",11500,63200,415500,484300]
["NVQ1 only (aged 20-24)",4300,2200,2500,"..",4100,"..",2900,2000,1700,2500,1200,"..",1400,"..","..",1200,"..","..",1700,"..","..",14200,63000,377800,431100]
["NVQ1 only (aged 25-29)",3400,2100,"..","..",3600,"..",2400,1300,1100,"..",1100,"..","..","..","..",1700,"..",1400,"..","..","..",11000,58800,341300,397600]
["NVQ1 only (aged 30-39)",6300,4200,2900,"..",3900,1300,1700,2900,2700,2400,2300,"..",1000,"..","..","..",1500,"..",1000,1300,1100,20200,103400,655100,764500]
["NVQ1 only (aged 40-49)",7600,7000,3100,2000,10500,2500,5400,3100,3500,"..",5000,2100,"..",2000,2400,2900,1700,2000,2500,2500,1400,32700,162600,1079000,1211100]
["NVQ1 only (aged 50-64)",5200,8200,4100,3400,10000,1200,6700,2300,3100,1400,3300,2300,1000,3400,2600,3100,1100,"..",3600,1200,2800,32000,162500,1078500,1205000]
["Trade Apprenticeships (aged 16-19)","..","..","..","..","..","..","..","..","..","..","..","..","..","..","..","..","..","..","..","..","..","..",3600,20100,21900]
["Trade Apprenticeships (aged 20-24)","~","..","..","..","..","..","..","~","..","..","..","..","..","..","..","..","..","..","..","..","..",1200,10000,60500,64700]
["Trade Apprenticeships (aged 25-29)",1300,800,"..","..","..","..","..","~","~","..","..","..","..","..","..","..","..","..","..","..","..",2100,9700,57600,62100]
["Trade Apprenticeships (aged 30-39)",1700,1200,1400,"..","..","..","..",1000,"~","..","..","..","..","..","..","..","..","..","..","..","..",5600,22500,121400,134500]
["Trade Apprenticeships (aged 40-49)",2600,2100,2100,"..",2000,1200,1300,"~",1100,1200,"..","..","..","..","..","..","..",1200,1000,1200,"..",12000,49900,256200,277800]
["Trade Apprenticeships (aged 50-64)",6800,4400,3900,2100,5600,2700,3900,2300,2100,2200,1700,"..",2300,2100,1800,"..","..",1600,3300,2700,1900,25500,95800,567000,601700]
["Other NVQ qualifications (aged 16-19)",500,"..","..","..",1600,"..",1200,"..","..","..","..","..","..","..","..","..","..","..","..","..","..",3000,9400,47300,61200]
["Other NVQ qualifications (aged 20-24)",null,1100,"..","..","..","..","..",null,700,"..","..","..","..","..","..","..","..","..","..","..","..",3900,17900,127600,173000]
["Other NVQ qualifications (aged 25-29)",700,null,2100,"..",1000,"..","..",700,null,"..","..","..","..","..","..","..","..","..","..","..","..",4400,22700,176800,256400]
["Other NVQ qualifications (aged 30-39)",3500,1600,2400,"..",2100,"..",1400,1500,800,"..","..","..",1600,"..",1500,1000,"..","..","..","..","..",10000,49600,339300,489500]
["Other NVQ qualifications (aged 40-49)",2300,2100,3200,1900,1600,"..",1000,1600,1100,"..","..","..","..",1900,2500,"..","..","..","..","..","..",11600,61700,373100,490300]
["Other NVQ qualifications (aged 50-64)",7500,7500,2500,1400,3900,1200,2400,2800,2100,"..",1500,1500,1300,1400,2500,2000,1300,2100,"..",1200,3900,24000,110500,707000,842400]
["No NVQ qualifications (aged 16-19)",2600,1400,1400,"..",3300,"..",3000,1100,1100,"..","..","..","..","..","..",1600,"..","..",1400,"..","..",10100,46000,266400,310300]
["No NVQ qualifications (aged 20-24)",2200,2000,1400,"..","..",2200,"..",1000,1200,"..","..","..","..","..","..","..","..","..","..",2200,"..",9500,34600,208900,239600]
["No NVQ qualifications (aged 25-29)",3500,2100,1400,"..",5400,"..",4700,1400,800,"..","..","..","..","..","..",4700,"..","..","..","..","..",12400,35700,188500,237800]
["No NVQ qualifications (aged 30-39)",4800,3400,1400,"..",3200,"..",2500,2900,1900,"..","..","..",1400,"..","..",2100,"..","..","..","..",1100,13100,77500,390900,482600]
["No NVQ qualifications (aged 40-49)",5700,5400,2600,"..",3600,2500,2700,3500,4300,1100,900,"..","..","..",1500,2000,1100,"..","..",2500,"..",20200,100600,534000,657900]
["No NVQ qualifications (aged 50-64)",12400,11900,4700,2400,9700,4700,5500,6700,6200,1000,4200,2200,1700,2400,3700,4100,1200,2800,1300,4700,3600,45700,247400,1421900,1606100]
[]
["Number by Age (2016)"]
["NVQ4+ (aged 16-19)","..",700,"..","..","..","..","..","..","..","..","..","..","..","..","..","..","..","..","..","..","..",1600,5500,31100,39600]
["NVQ4+ (aged 20-24)",2500,3900,2600,3700,7500,"..",5300,1100,1700,2100,2200,"..","..",3700,"..",3500,"..","..",1800,"..",2200,21800,111300,645400,879300]
["NVQ4+ (aged 25-29)",6000,4400,4500,2100,9100,"..",7000,3200,1800,"..",2100,"..",1500,2100,3700,4800,"..","..",2300,"..",1500,26100,174100,998900,1478300]
["NVQ4+ (aged 30-39)",14400,12800,9200,8200,13200,5800,9300,5400,4100,4200,3900,5100,4100,8200,5000,6300,1900,3100,3000,5800,3600,63500,325700,2205400,3058900]
["NVQ4+ (aged 40-49)",13200,14700,4900,8800,17700,5200,10100,4400,4700,3400,7500,4800,2600,8800,1400,5500,3300,2900,4600,5200,5100,64400,324500,2167400,2680300]
["NVQ4+ (aged 50-64)",14500,18200,4300,9500,20900,5400,16100,6300,4800,1800,4800,6100,1300,9500,2500,7100,3000,4000,9000,5400,7400,72800,350100,2391400,2835600]
["NVQ3 only (aged 16-19)",4600,4300,"..","..",5500,1600,3900,1000,1200,"..",1500,1800,1500,"..","..",3200,"..",2100,"..",1600,1300,17500,80500,541800,624900]
["NVQ3 only (aged 20-24)",7100,5200,2900,2800,9200,"..",8800,1600,2500,2300,"..",1800,2500,2800,"..",3900,"..","..",4900,"..","..",28200,146900,877300,1041400]
["NVQ3 only (aged 25-29)",3400,2900,2300,1600,3900,"..",2500,1600,1200,1700,1500,"..","..",1600,"..",2500,"..","..","..","..",1200,14600,83100,521900,604800]
["NVQ3 only (aged 30-39)",6600,5900,5900,3000,7800,2200,6500,2900,2400,2300,1300,1700,2600,3000,3500,3400,1200,"..",3000,2200,1800,31400,143600,899000,1019700]
["NVQ3 only (aged 40-49)",5800,4900,6700,4300,8300,2100,6100,2600,2700,4800,2200,"..",1400,4300,1900,3500,1400,"..",2600,2100,1400,32100,145100,946800,1066300]
["NVQ3 only (aged 50-64)",11600,7100,4800,4500,6100,2400,3000,3600,3100,3000,3100,1600,3000,4500,1900,"..",2000,2900,2300,2400,2300,36400,158600,1019500,1131900]
["NVQ2 only (aged 16-19)",8500,5600,"..",3700,7700,3200,5500,4000,2600,"..",2200,"..",2200,3700,"..",2600,1800,"..",2900,3200,2400,29800,148300,880000,1026100]
["NVQ2 only (aged 20-24)",4600,3200,2500,"..",4600,"..",3300,2400,1800,1400,"..","..","..","..","..",1600,"..","..",1700,"..","..",16500,96100,593700,675700]
["NVQ2 only (aged 25-29)",4500,2300,2300,1700,4900,"..",3400,1900,1000,1200,1500,"..","..",1700,"..",2300,"..","..",1100,"..",1200,16000,74800,473000,548200]
["NVQ2 only (aged 30-39)",5200,5400,1800,5100,5400,1800,5000,2600,2800,"..","..","..",1100,5100,"..",1500,"..","..",3500,1800,1700,24700,139700,873900,990000]
["NVQ2 only (aged 40-49)",10100,10300,3600,"..",6600,6100,5400,3600,4000,2200,1200,"..",2000,"..",1400,2700,1100,3400,2700,6100,5100,37300,177400,1142100,1271300]
["NVQ2 only (aged 50-64)",8100,10500,3700,3700,9100,3800,7000,3500,4900,1700,2200,3500,2400,3700,2000,3200,1400,"..",3800,3800,2200,38900,174700,1109600,1238300]
["NVQ1 only (aged 16-19)",3900,2400,"..","..",3100,"..",2300,1300,1900,"..","..","..","..","..","..",2300,"..",1600,"..","..","..",11500,63200,415500,484300]
["NVQ1 only (aged 20-24)",4300,2200,2500,"..",4100,"..",2900,2000,1700,2500,1200,"..",1400,"..","..",1200,"..","..",1700,"..","..",14200,63000,377800,431100]
["NVQ1 only (aged 25-29)",3400,2100,"..","..",3600,"..",2400,1300,1100,"..",1100,"..","..","..","..",1700,"..",1400,"..","..","..",11000,58800,341300,397600]
["NVQ1 only (aged 30-39)",6300,4200,2900,"..",3900,1300,1700,2900,2700,2400,2300,"..",1000,"..","..","..",1500,"..",1000,1300,1100,20200,103400,655100,764500]
["NVQ1 only (aged 40-49)",7600,7000,3100,2000,10500,2500,5400,3100,3500,"..",5000,2100,"..",2000,2400,2900,1700,2000,2500,2500,1400,32700,162600,1079000,1211100]
["NVQ1 only (aged 50-64)",5200,8200,4100,3400,10000,1200,6700,2300,3100,1400,3300,2300,1000,3400,2600,3100,1100,"..",3600,1200,2800,32000,162500,1078500,1205000]
["Trade Apprenticeships (aged 16-19)","..","..","..","..","..","..","..","..","..","..","..","..","..","..","..","..","..","..","..","..","..",1300,5100,29500,32700]
["Trade Apprenticeships (aged 20-24)",1700,"~","..","..","..","..","..","~","~","..","..","..","..","..","..","..","..","..","..","..","..",3500,12600,94900,103000]
["Trade Apprenticeships (aged 25-29)",1300,"..","..","..","..","..","..","~","..","..","..","..","..","..","..","..","..","..","..","..","..",2500,12100,78800,84800]
["Trade Apprenticeships (aged 30-39)",700,2100,"..","..","..","..","..","~",1200,"..","..","..","..","..","..","..","..","..","..","..","..",5300,22600,126500,134500]
["Trade Apprenticeships (aged 40-49)",2300,1100,1300,"..",1200,"..","..","~",700,1300,"..","..",1200,"..","..","..","..","..","..","..","..",6500,31100,164600,177800]
["Trade Apprenticeships (aged 50-64)",4800,3100,2500,"..",2600,1200,1100,1700,2000,1200,1500,"..","..","..",1300,"..",2000,"..","..",1200,1100,15200,73300,455100,486200]
["Other NVQ qualifications (aged 16-19)",500,"..","..","..",1600,"..",1200,"..","..","..","..","..","..","..","..","..","..","..","..","..","..",3000,9400,47300,61200]
["Other NVQ qualifications (aged 20-24)",null,1100,"..","..","..","..","..",null,700,"..","..","..","..","..","..","..","..","..","..","..","..",3900,17900,127600,173000]
["Other NVQ qualifications (aged 25-29)",700,null,2100,"..",1000,"..","..",700,null,"..","..","..","..","..","..","..","..","..","..","..","..",4400,22700,176800,256400]
["Other NVQ qualifications (aged 30-39)",3500,1600,2400,"..",2100,"..",1400,1500,800,"..","..","..",1600,"..",1500,1000,"..","..","..","..","..",10000,49600,339300,489500]
["Other NVQ qualifications (aged 40-49)",2300,2100,3200,1900,1600,"..",1000,1600,1100,"..","..","..","..",1900,2500,"..","..","..","..","..","..",11600,61700,373100,490300]
["Other NVQ qualifications (aged 50-64)",7500,7500,2500,1400,3900,1200,2400,2800,2100,"..",1500,1500,1300,1400,2500,2000,1300,2100,"..",1200,3900,24000,110500,707000,842400]
["No NVQ qualifications (aged 16-19)",2600,1400,1400,"..",3300,"..",3000,1100,1100,"..","..","..","..","..","..",1600,"..","..",1400,"..","..",10100,46000,266400,310300]
["No NVQ qualifications (aged 20-24)",2200,2000,1400,"..","..",2200,"..",1000,1200,"..","..","..","..","..","..","..","..","..","..",2200,"..",9500,34600,208900,239600]
["No NVQ qualifications (aged 25-29)",3500,2100,1400,"..",5400,"..",4700,1400,800,"..","..","..","..","..","..",4700,"..","..","..","..","..",12400,35700,188500,237800]
["No NVQ qualifications (aged 30-39)",4800,3400,1400,"..",3200,"..",2500,2900,1900,"..","..","..",1400,"..","..",2100,"..","..","..","..",1100,13100,77500,390900,482600]
["No NVQ qualifications (aged 40-49)",5700,5400,2600,"..",3600,2500,2700,3500,4300,1100,900,"..","..","..",1500,2000,1100,"..","..",2500,"..",20200,100600,534000,657900]
["No NVQ qualifications (aged 50-64)",12400,11900,4700,2400,9700,4700,5500,6700,6200,1000,4200,2200,1700,2400,3700,4100,1200,2800,1300,4700,3600,45700,247400,1421900,1606100]
[]
["% by Age (2006)"]
["NVQ4+ (aged 16-19)",3.1,"..","..","..","..","..","..","..","..","..","..","..","..","..","..","..","..","..","..","..","..",0.8,0.7,1.1000000000000001,1]
["NVQ4+ (aged 20-24)",19.3,18.5,17.8,"..",28.8,24.6,30.7,15.3,11.7,24,"..","..",33.5,"..",15.1,30.6,"..","..",31.1,24.6,29.5,19.7,21.7,20.5,22]
["NVQ4+ (aged 25-29)",24.3,23.5,19,33.6,27.2,37.799999999999997,25.5,29.1,14.7,23.2,"..",25.5,"..",33.6,"..",23.8,"..","..",28.6,37.799999999999997,36,25.4,33.9,33.4,36.4]
["NVQ4+ (aged 30-39)",23.9,24.8,28.9,31.5,26.4,12,22.6,23.3,18.5,29.2,35.299999999999997,37,16.7,31.5,28.7,22.7,40.5,18.8,22.6,12,27,25.3,29.3,31.1,33.200000000000003]
["NVQ4+ (aged 40-49)",26.2,27.5,27.4,37.9,25.9,27.5,29.2,26.2,18.3,19,20.9,42.5,24.3,37.9,37.200000000000003,32.700000000000003,35,21.4,24,27.5,26.4,27.6,27.5,28.9,29.9]
["NVQ4+ (aged 50-64)",26.7,19.899999999999999,18.899999999999999,31,17.399999999999999,29.2,17.2,20.6,14.4,18.5,17.8,30.9,28.6,31,19.5,12.1,39.4,22.6,21.4,29.2,20.6,22.6,24.8,25.2,25.8]
["NVQ3 only (aged 16-19)",21.3,23.6,16.100000000000001,26.1,29.4,28.9,30.3,17.899999999999999,14.8,"..",27.7,30.9,23.6,26.1,17.100000000000001,21.8,"..",24.8,39.6,28.9,28.8,24,20.100000000000001,21.1,21.4]
["NVQ3 only (aged 20-24)",26.4,22.7,16.100000000000001,56.1,22.2,33,22.8,24.2,20.100000000000001,"..","..",41.8,"..",56.1,19.7,18.600000000000001,67.099999999999994,"..",38.1,33,"..",26.7,28.4,28.9,28]
["NVQ3 only (aged 25-29)",17.2,15.8,18.100000000000001,26.4,28.8,"..",29.9,16.399999999999999,21.8,18.399999999999999,"..","..",23.3,26.4,"..",37.700000000000003,"..","..","..","..","..",20.2,19,18,16.2]
["NVQ3 only (aged 30-39)",16.5,12,13.8,13.7,15.8,17.5,14.7,13.8,13.2,13,18.399999999999999,"..",14.9,13.7,14.6,11.6,19.899999999999999,23.5,18.600000000000001,17.5,11.7,14.9,14.9,14.2,13.1]
["NVQ3 only (aged 40-49)",16.2,17.7,18.8,15.7,14.9,22.6,14.1,16.7,13.6,19.100000000000001,16.3,23.5,19.3,15.7,18.399999999999999,13.7,"..",22.3,14.6,22.6,18,17,13.6,13.6,13]
["NVQ3 only (aged 50-64)",12.1,12,14.7,12.5,13.9,"..",13,10.1,11.5,14,15.8,"..",12.6,12.5,15.6,14.4,11.5,16.3,11.9,"..",16.3,12,11.2,11.3,11.1]
["NVQ2 only (aged 16-19)",42.2,42.2,35.4,31.5,36,30.5,30.7,46.1,37.799999999999997,43,46.1,40,44.8,31.5,30.6,21.1,"..",42.6,41.2,30.5,51.2,37.700000000000003,37.799999999999997,36.1,35.799999999999997]
["NVQ2 only (aged 20-24)",18.100000000000001,24,14.7,11.7,23.1,34.200000000000003,17.3,20.8,26.8,"..",50.7,"..",21.1,11.7,17.2,16.399999999999999,"..","..","..",34.200000000000003,27.4,20,19.2,19.3,18.399999999999999]
["NVQ2 only (aged 25-29)",17.3,25,21.2,20,8,24.4,8.9,13.2,26.8,15.5,"..",34.799999999999997,"..",20,34.9,9.5,"..",35.700000000000003,"..",24.4,"..",18.3,16.399999999999999,16.100000000000001,14.2]
["NVQ2 only (aged 30-39)",14.7,19.399999999999999,19.7,14.2,14,15,16.399999999999999,14,17.2,22.5,8.1999999999999993,20.6,16.5,14.2,17.399999999999999,13.4,15.4,13.4,20.3,15,22.2,15.9,16,16.3,15]
["NVQ2 only (aged 40-49)",17.100000000000001,17.3,17.5,14.1,13.1,16.2,10,14.9,14.1,23.6,18,8.4,12.3,14.1,10.4,9.9,22.7,19.100000000000001,10,16.2,28.7,15.9,16,15.7,15]
["NVQ2 only (aged 50-64)",10.7,12.7,12.3,7.3,15.5,12.3,16.5,8.5,9,16.100000000000001,13.4,17.8,"..",7.3,8.1,10.4,22.6,12.9,21.3,12.3,14.4,12.4,9.9,10.7,10.5]
["NVQ1 only (aged 16-19)",21.3,18,31.3,31.9,15.8,13.1,13.2,17.899999999999999,25.5,24.4,20.8,15.5,24.5,31.9,35.6,25.1,"..","..","..",13.1,"..",20.9,19.899999999999999,20.8,20.7]
["NVQ1 only (aged 20-24)",17.3,18.399999999999999,27.6,"..",12.3,"..",14.9,18.100000000000001,16.399999999999999,"..","..","..","..","..",32.9,16.100000000000001,"..",51.3,"..","..",20.9,16.3,13.8,14,13.3]
["NVQ1 only (aged 25-29)",16.7,13.9,16.600000000000001,"..",16.600000000000001,"..",16.3,13.2,11.4,15.5,"..","..","..","..","..",13.9,"..","..",20.9,"..",21.7,14.2,10.9,12.1,10.6]
["NVQ1 only (aged 30-39)",16.3,18.3,12.9,24.8,22.9,27.3,22,19.600000000000001,13.9,10.4,25.2,16.100000000000001,"..",24.8,15,21.1,14.7,22.8,23.2,27.3,27,19.899999999999999,17.7,17.3,15.6]
["NVQ1 only (aged 40-49)",13.3,13.8,12.9,18.2,21.4,17.5,19.8,11.2,18.5,12.8,23.8,10.6,16.7,18.2,13,17.899999999999999,11.1,15.1,22.3,17.5,10.5,16.100000000000001,16.7,17.100000000000001,16.399999999999999]
["NVQ1 only (aged 50-64)",8.6,11.2,4.8,14.2,9,7.3,7.5,8.6,14.2,6.8,12.4,12.9,12.6,14.2,"..",5,"..","..",9.5,7.3,7,9.4,10.199999999999999,11.4,11.1]
["Trade Apprenticeships (aged 16-19)","..","..","..","..","..","..","..","..","..","..","..","..","..","..","..","..","..","..","..","..","..",2,1,0.9,0.8]
["Trade Apprenticeships (aged 20-24)","..",1.6,"..","..","..","..","..","..",3.2,"..","..","..","..","..","..","..","..","..","..","..","..",1.8,2.4,2.7,2.5]
["Trade Apprenticeships (aged 25-29)",5.0999999999999996,1.8,"..","..",6.6,"..","..",4.7,3.8,"..","..","..","..","..","..","..","..","..","..","..","..",3.6,3.2,3,2.7]
["Trade Apprenticeships (aged 30-39)",7.1,4,10.6,"..",5.9,9.1,5.9,3.8,4.4000000000000004,12.1,6,"..",12.9,"..",9.3000000000000007,7,"..","..","..",9.1,"..",6.1,4.4000000000000004,4.3,3.9]
["Trade Apprenticeships (aged 40-49)",4.7,5.4,5.7,"..",5.2,5,4.8,2.4,7.1,8.4,5.9,"..","..","..","..","..","..",6.9,9.4,5,5.9,5.0999999999999996,6.4,5.9,5.5]
["Trade Apprenticeships (aged 50-64)",10.199999999999999,12.5,14.8,13,10.199999999999999,15.9,11.8,13.4,13.1,13.3,6.4,12.5,11.2,13,16.5,12.6,"..","..",11.2,15.9,11.9,11.9,10.9,9.8000000000000007,9.1999999999999993]
["Other NVQ qualifications (aged 16-19)","..","..","..","..","..","..","..","..","..","..","..","..","..","..","..","..","..","..","..","..","..",1.1000000000000001,1.9,2.1,2.2999999999999998]
["Other NVQ qualifications (aged 20-24)",8.6999999999999993,5.4,13.3,"..",5.0999999999999996,"..",6.2,6.5,3.1,34.9,"..","..",18.5,"..","..",7.9,"..","..","..","..","..",7.6,4.4000000000000004,6.1,7.3]
["Other NVQ qualifications (aged 25-29)",9.6999999999999993,6.1,"..","..",6.3,"..",7.1,9.5,4.3,"..","..","..","..","..","..","..","..","..","..","..","..",6.6,5.6,8.1999999999999993,11.1]
["Other NVQ qualifications (aged 30-39)",8.8000000000000007,5.2,6.5,9.6999999999999993,4.9000000000000004,6.5,7,8.9,8.6999999999999993,"..","..","..",13.3,9.6999999999999993,9.3000000000000007,10.9,"..","..","..",6.5,"..",6.8,5.7,7.5,9.4]
["Other NVQ qualifications (aged 40-49)",7,4.4000000000000004,8.3000000000000007,"..",5.9,"..",7.8,6.6,4.9000000000000004,"..","..",6.5,10.7,"..",13,4.8,14.8,"..",12,"..","..",5.5,5.8,6.9,8]
["Other NVQ qualifications (aged 50-64)",7.2,8.6,3.8,9.6999999999999993,10.8,"..",10,9.1,8.6,7.2,12.6,"..",6.8,9.6999999999999993,"..",12.8,"..",8.8000000000000007,7.8,"..",10.1,8.1,8.3000000000000007,10.199999999999999,10.8]
["No NVQ qualifications (aged 16-19)",11.8,14.7,17.3,"..",12.4,19.600000000000001,16,15.2,18.3,18.100000000000001,"..",13.5,"..","..",16.7,26.3,"..","..","..",19.600000000000001,"..",13.6,18.7,17.899999999999999,18]
["No NVQ qualifications (aged 20-24)",9.5,9.4,7.8,"..",6.7,"..",8.1,13.4,18.7,"..","..","..","..","..","..",10.3,"..","..","..","..","..",8,10.1,8.5,8.5]
["No NVQ qualifications (aged 25-29)",9.6999999999999993,14,19.100000000000001,"..",6.5,22.3,7.2,14,17.3,19,"..","..","..","..","..","..","..","..","..",22.3,"..",11.6,11,9.1,8.9]
["No NVQ qualifications (aged 30-39)",12.7,16.399999999999999,7.5,4.4000000000000004,10.1,12.6,11.4,16.5,24.2,9.6,6.9,12.3,19.5,4.4000000000000004,"..",13.4,"..","..",8.8000000000000007,12.6,"..",11.1,12,9.4,9.6999999999999993]
["No NVQ qualifications (aged 40-49)",15.5,14,9.3000000000000007,8,13.5,9.6,14.5,22,23.5,12.8,12,6.4,13.2,8,"..",19.3,"..",15.2,7.6,9.6,8.5,12.8,14,11.8,12.2]
["No NVQ qualifications (aged 50-64)",24.5,23,30.5,12.3,23.2,30.4,24,29.7,29.1,24.1,21.6,16.100000000000001,26,12.3,37.700000000000003,32.799999999999997,11.8,26.4,16.899999999999999,30.4,19.7,23.7,24.7,21.4,21.6]
[]
["% by Age (2011)"]
["NVQ4+ (aged 16-19)","..",4.8,"..","..","..","..","..","..","..","..","..","..","..","..","..","..","..","..","..","..","..",2.2000000000000002,1.5,1.4,1.5]
["NVQ4+ (aged 20-24)",11.7,22,20,44.9,26.6,24,23.1,12.5,17.2,24.1,41.5,"..","..",44.9,"..",28.1,"..","..",17.3,24,46,22.9,23.2,22.3,25.1]
["NVQ4+ (aged 25-29)",26.4,29.6,34.799999999999997,35.799999999999997,32.799999999999997,"..",34.700000000000003,30.4,27.3,"..",27.8,"..",28.9,35.799999999999997,53.1,30.1,"..","..",51.2,"..",26.9,30.2,37.9,36.200000000000003,41.2]
["NVQ4+ (aged 30-39)",33.799999999999997,37,37,44.6,36.700000000000003,46.4,34.799999999999997,28,27.1,37.1,42.4,56.6,33.5,44.6,36.9,41.6,31.2,58.3,25.8,46.4,34.6,37.700000000000003,37.799999999999997,40.200000000000003,44.1]
["NVQ4+ (aged 40-49)",28,31.5,18.5,44.4,35.200000000000003,25.8,31.6,23.1,22.2,24.2,41.5,47.2,30.8,44.4,11.7,31.4,35.4,27.9,31.9,25.8,34.200000000000003,30.6,31.8,33.4,35]
["NVQ4+ (aged 50-64)",22,26.9,15.2,35.4,32,25.3,36.200000000000003,22.8,18.3,16.100000000000001,23.1,34.700000000000003,10,35.4,14.6,34.299999999999997,27.9,26.7,37.799999999999997,25.3,30.5,26.4,26.9,28.8,30]
["NVQ3 only (aged 16-19)",22.7,28.1,"..","..",24.9,25.8,24,13.2,17.3,"..",27.8,53.3,27.2,"..","..",30.3,"..",46.3,"..",25.8,26.3,23.7,22.6,24.6,24.3]
["NVQ3 only (aged 20-24)",33.200000000000003,29.6,22.2,34.4,32.5,"..",38.700000000000003,18.899999999999999,25.8,26.5,"..",57.3,47.1,34.4,"..",31.8,"..",40.299999999999997,46.7,"..","..",29.6,30.6,30.3,29.7]
["NVQ3 only (aged 25-29)",15,19.5,17.5,26.9,14.1,"..",12.1,15.5,18.600000000000001,28,19.399999999999999,"..","..",26.9,"..",15.5,"..","..","..","..",21.8,16.8,18.100000000000001,18.899999999999999,16.899999999999999]
["NVQ3 only (aged 30-39)",15.5,17.2,23.6,16.5,21.7,17.899999999999999,24.2,15,16,20.7,14.2,19.399999999999999,21.2,16.5,26,22.7,19.100000000000001,"..",26.1,17.899999999999999,17.2,18.600000000000001,16.7,16.399999999999999,14.7]
["NVQ3 only (aged 40-49)",12.2,10.6,25.5,21.6,16.5,10.6,18.899999999999999,13.5,12.7,33.799999999999997,12.1,"..",16.7,21.6,15.9,19.7,14.9,"..",18,10.6,9.1999999999999993,15.3,14.2,14.6,13.9]
["NVQ3 only (aged 50-64)",17.5,10.4,17.2,16.7,9.3000000000000007,11.2,6.6,13.2,12,26.7,15,9.1,23.3,16.7,11,"..",19.100000000000001,19.3,9.6999999999999993,11.2,9.6999999999999993,13.2,12.2,12.3,12]
["NVQ2 only (aged 16-19)",41.9,36.5,"..",54.1,34.9,52.8,33.200000000000003,51.3,37.799999999999997,"..",39.799999999999997,"..",40.799999999999997,54.1,"..",24.6,72.8,"..",48.7,52.8,47.8,40.200000000000003,41.6,40,40]
["NVQ2 only (aged 20-24)",21.8,18.100000000000001,19,"..",16.2,"..",14.5,27.5,18.7,15.7,23.6,"..","..","..","..",13.3,"..","..",15.9,"..","..",17.3,20,20.5,19.3]
["NVQ2 only (aged 25-29)",19.600000000000001,15.4,17.399999999999999,27.9,17.5,"..",16.8,18.3,15.8,20.100000000000001,19.399999999999999,"..","..",27.9,"..",14.7,38.6,"..",24.4,"..",21.8,18.5,16.3,17.2,15.3]
["NVQ2 only (aged 30-39)",12.3,15.7,7.2,27.7,15,14.1,18.8,13.6,18.7,"..","..","..",8.8000000000000007,27.7,"..",10.1,18.8,"..",30.2,14.1,16.600000000000001,14.6,16.2,15.9,14.3]
["NVQ2 only (aged 40-49)",21.3,22.2,13.8,"..",13.2,30.3,16.899999999999999,18.8,18.5,15.4,6.5,12.4,23.6,"..",11.9,15.3,11.9,32.700000000000003,18.899999999999999,30.3,34.1,17.7,17.399999999999999,17.600000000000001,16.600000000000001]
["NVQ2 only (aged 50-64)",12.3,15.5,13.2,13.7,14,17.7,15.6,12.6,18.5,15.6,10.4,19.899999999999999,18.3,13.7,11.6,15.4,12.8,"..",15.8,17.7,9,14.1,13.4,13.4,13.1]
["NVQ1 only (aged 16-19)",19.3,15.5,"..","..",13.9,"..",13.9,17.100000000000001,26.6,"..","..","..","..","..","..",21.7,"..",34.700000000000003,"..","..","..",15.5,17.7,18.899999999999999,18.899999999999999]
["NVQ1 only (aged 20-24)",20.2,12.3,19.5,"..",14.6,"..",12.9,22.7,18.100000000000001,29,22,"..",25.1,"..","..",9.6999999999999993,"..","..",16.600000000000001,"..","..",14.9,13.1,13.1,12.3]
["NVQ1 only (aged 25-29)",14.9,14.2,"..","..",12.8,"..",11.9,12.1,17.100000000000001,"..",15.3,"..","..","..","..",10.4,"..",37.299999999999997,"..","..","..",12.7,12.8,12.4,11.1]
["NVQ1 only (aged 30-39)",14.8,12.2,11.5,8.5,11,10.7,6.3,15.2,17.899999999999999,21,24.6,"..",8.3000000000000007,8.5,"..","..",24.8,"..",8.4,10.7,10.1,12,12,11.9,11]
["NVQ1 only (aged 40-49)",16,15,11.9,10,20.9,12.5,17,16.2,16.399999999999999,"..",27.8,20.7,"..",10,19.8,16.600000000000001,18.600000000000001,19.7,17.399999999999999,12.5,9.1,15.5,15.9,16.600000000000001,15.8]
["NVQ1 only (aged 50-64)",7.8,12.1,14.6,12.4,15.3,5.6,15,8.5,11.7,12.9,15.8,13.2,7.5,12.4,15.7,14.9,10.4,"..",15.1,5.6,11.8,11.6,12.5,13,12.7]
["Trade Apprenticeships (aged 16-19)","..","..","..","..","..","..","..","..","..","..","..","..","..","..","..","..","..","..","..","..","..","..",1,0.9,0.9]
["Trade Apprenticeships (aged 20-24)",1.5,"..","..","..","..","..","..",3.7,"..","..","..","..","..","..","..","..","..","..","..","..","..",1.2,2.1,2.1,1.8]
["Trade Apprenticeships (aged 25-29)",5.9,5.5,"..","..","..","..","..",4.2,5.7,"..","..","..","..","..","..","..","..","..","..","..","..",2.5,2.1,2.1,1.7]
["Trade Apprenticeships (aged 30-39)",4.0999999999999996,3.4,5.7,"..","..","..","..",5.0999999999999996,2.8,"..","..","..","..","..","..","..","..","..","..","..","..",3.3,2.6,2.2000000000000002,1.9]
["Trade Apprenticeships (aged 40-49)",5.6,4.5999999999999996,8.1,"..",3.9,6.2,4.0999999999999996,2,5,8.4,"..","..","..","..","..","..","..",11.7,6.7,6.2,"..",5.7,4.9000000000000004,3.9,3.6]
["Trade Apprenticeships (aged 50-64)",10.3,6.5,14.1,7.8,8.6,12.7,8.6999999999999993,8.3000000000000007,7.9,19.5,8.3000000000000007,"..",17.8,7.8,10.5,"..","..",10.5,13.8,12.7,8,9.3000000000000007,7.4,6.8,6.4]
["Other NVQ qualifications (aged 16-19)",2.7,"..","..","..",7.1,"..",7.5,"..","..","..","..","..","..","..","..","..","..","..","..","..","..",4.0999999999999996,2.6,2.1,2.4]
["Other NVQ qualifications (aged 20-24)",1.5,6.5,"..","..","..","..","..",3.6,7.3,"..","..","..","..","..","..","..","..","..","..","..","..",4.0999999999999996,3.7,4.4000000000000004,4.9000000000000004]
["Other NVQ qualifications (aged 25-29)",2.9,1.6,15.8,"..",3.4,"..","..",6.2,3.6,"..","..","..","..","..","..","..","..","..","..","..","..",5,5,6.4,7.2]
["Other NVQ qualifications (aged 30-39)",8.3000000000000007,4.5999999999999996,9.5,"..",5.9,"..",5.2,8,5.3,"..","..","..",12.9,"..",11.1,6.8,"..","..","..","..","..",6,5.8,6.2,7.1]
["Other NVQ qualifications (aged 40-49)",4.9000000000000004,4.5999999999999996,12.3,9.6999999999999993,3.2,"..",3.1,8.1999999999999993,5.0999999999999996,"..","..","..","..",9.6999999999999993,20.7,"..","..","..","..","..","..",5.5,6,5.7,6.4]
["Other NVQ qualifications (aged 50-64)",11.4,11,8.9,5.3,6.1,5.5,5.5,10.199999999999999,8.1,"..",7.2,8.3000000000000007,10,5.3,14.8,9.4,12.5,13.8,"..",5.5,16.100000000000001,8.6999999999999993,8.5,8.5,8.9]
["No NVQ qualifications (aged 16-19)",12.8,9.4,40.4,"..",15.1,"..",18.2,14.2,15.7,"..","..","..","..","..","..",15.3,"..","..",23.5,"..","..",13.6,12.9,12.1,12.1]
["No NVQ qualifications (aged 20-24)",10.3,11.1,11.1,"..",6.1,32.1,7.5,11.1,12.2,"..","..","..","..","..","..",13.9,"..","..","..",32.1,"..",9.9,7.2,7.2,6.8]
["No NVQ qualifications (aged 25-29)",15.3,14.2,10.9,"..",19.399999999999999,"..",23,13.3,11.8,"..","..","..",31.1,"..","..",29.3,"..","..","..","..","..",14.3,7.8,6.8,6.6]
["No NVQ qualifications (aged 30-39)",11.2,9.8000000000000007,5.5,"..",8.8000000000000007,"..",9.4,15.1,12.4,"..","..","..",11.9,"..","..",14.1,"..","..","..","..",10.7,7.8,9,7.1,7]
["No NVQ qualifications (aged 40-49)",12,11.5,9.8000000000000007,"..",7.1,12.5,8.3000000000000007,18.3,20,7.8,5.0999999999999996,"..","..","..",12.2,11.2,12,"..","..",12.5,"..",9.6,9.8000000000000007,8.1999999999999993,8.6]
["No NVQ qualifications (aged 50-64)",18.7,17.600000000000001,16.8,8.6999999999999993,14.8,22.1,12.3,24.3,23.5,9.1999999999999993,20.2,12.4,13.2,8.6999999999999993,21.8,19.899999999999999,11.2,18.600000000000001,5.7,22.1,14.9,16.600000000000001,19,17.100000000000001,17]
[]
["% by Age (2016)"]
["NVQ4+ (aged 16-19)","..","..","..","..","..","..","..","..","..","..","..","..","..","..","..","..","..","..","..","..","..",0.5,1.6,1.5,1.4]
["NVQ4+ (aged 20-24)",17.899999999999999,43.1,"..",19.7,28.5,"..",28.2,26.4,29.9,"..",29.6,84,"..",19.7,"..",26.4,"..","..",30.1,"..",37.5,24.4,26.5,26.6,29.2]
["NVQ4+ (aged 25-29)",33.299999999999997,35.5,30,"..",51.3,"..",45.5,44,29.7,"..",64.3,"..","..","..",34.5,42.1,"..",39.6,57.9,"..",46.3,36.299999999999997,40.200000000000003,40.4,45.9]
["NVQ4+ (aged 30-39)",39.4,37.4,33.4,47.6,44.1,29.2,40.200000000000003,33.1,31,30.4,52.5,31.6,41.9,47.6,34.700000000000003,43.5,"..",44.2,34.6,29.2,54.2,39.299999999999997,44.1,43.6,48.3]
["NVQ4+ (aged 40-49)",37.4,40.299999999999997,41.3,55.3,47.2,36.700000000000003,40.6,31.2,28.9,44.7,64.599999999999994,67.5,39.1,55.3,36.6,32,44.7,38.5,49.2,36.700000000000003,38.700000000000003,42.7,41.3,40.6,43]
["NVQ4+ (aged 50-64)",32.9,29.7,26.4,33.1,32.4,28.8,25.8,25.5,22.7,29.5,46.1,42.3,18.899999999999999,33.1,23.3,23.5,42.3,54.3,28.5,28.8,28,31,30.4,34.4,35.6]
["NVQ3 only (aged 16-19)",22.6,22,19.3,"..",32.1,"..",35.200000000000003,20.7,18.100000000000001,23.8,"..","..","..","..","..",41,"..","..",27.7,"..","..",20.3,22.1,25.4,25.7]
["NVQ3 only (aged 20-24)",36.9,27.7,35.1,39.5,26.9,61.4,28,30.3,25.2,"..","..","..","..",39.5,46.7,26.5,57.6,37.9,29.7,61.4,50.9,34.5,36.1,35.6,34.9]
["NVQ3 only (aged 25-29)",24.6,25.2,11.9,"..",14.2,"..",20.5,12.3,23.1,"..","..","..",31.3,"..","..",17.8,50.8,"..","..","..",31.7,19.399999999999999,19,19.5,17.7]
["NVQ3 only (aged 30-39)",18.3,22.8,23.7,19.899999999999999,18.399999999999999,20,21.7,15.1,17.100000000000001,"..",11,31.2,28.8,19.899999999999999,28.9,19.600000000000001,"..",10.9,25.3,20,25.7,20.2,17.100000000000001,17.3,15.5]
["NVQ3 only (aged 40-49)",19.7,17.600000000000001,16.2,16.899999999999999,14.1,17.899999999999999,14.1,18.5,19.399999999999999,17.5,13.9,"..",20,16.899999999999999,14.3,13.8,23.4,16.5,14.5,17.899999999999999,19.5,17,14.3,14.5,13.8]
["NVQ3 only (aged 50-64)",10.5,18.3,16.7,12.6,15.4,15.4,16.7,10.6,14,15.3,12.7,20.3,10.9,12.6,18.3,12.2,"..",14.4,22.1,15.4,21,14.8,13.4,13.3,13.2]
["NVQ2 only (aged 16-19)",35.1,40,48.2,65.2,29.8,79.3,31.3,48.9,34.799999999999997,36.299999999999997,"..",38.5,"..",65.2,100,"..","..","..",53.6,79.3,46.9,43,41.3,40.200000000000003,40.4]
["NVQ2 only (aged 20-24)",13.4,15.5,30,25.6,28.9,"..",26.3,19,30.9,33.5,37.6,"..","..",25.6,"..",31.2,"..","..",20.8,"..","..",21.6,18.399999999999999,16.2,15.4]
["NVQ2 only (aged 25-29)",14.1,14.4,35.1,"..",20.100000000000001,"..",22.7,19.899999999999999,20.6,56.3,"..","..","..","..",23.1,29,"..","..","..","..","..",18.600000000000001,16.7,15.4,13.5]
["NVQ2 only (aged 30-39)",16,15.9,14.5,9.3000000000000007,18.899999999999999,21.6,19.2,17.8,19.7,19.5,18.3,20.9,"..",9.3000000000000007,12.2,17.5,"..",23.2,22.1,21.6,"..",16.3,14.4,14.2,12.5]
["NVQ2 only (aged 40-49)",14.6,16.5,14,11.1,17.899999999999999,18.2,20.100000000000001,15.7,17.2,14.6,12.2,"..","..",11.1,13.2,24.9,24.2,12.4,15.4,18.2,26.4,15.7,15.7,15.9,14.8]
["NVQ2 only (aged 50-64)",12.3,22.9,6.7,10.5,15.8,9.5,16.100000000000001,12.1,21.3,7.5,15.3,20.8,17.5,10.5,"..",10.9,13.1,"..",22.2,9.5,25.6,14.8,15.3,15.1,14.5]
["NVQ1 only (aged 16-19)",12,20.8,"..","..",13.6,"..",11.5,15.7,19.8,"..","..","..","..","..","..",20.6,"..","..","..","..","..",14.2,16.2,16.100000000000001,15.8]
["NVQ1 only (aged 20-24)",15.6,9.6,22.4,"..",8.1,"..",10.6,12.4,5.8,41.2,"..","..","..","..","..","..","..","..","..","..","..",10.7,8.5,9.3000000000000007,8.6]
["NVQ1 only (aged 25-29)",6,13.5,14.5,27.1,8.3000000000000007,31.1,8.8000000000000007,10.1,12.1,"..","..","..","..",27.1,17.3,11.2,"..","..","..",31.1,"..",12.3,9.4,10,8.8000000000000007]
["NVQ1 only (aged 30-39)",6.8,7,15.3,13.1,10.1,25.9,11.5,10.3,8.5,18.399999999999999,"..","..","..",13.1,13.9,12.4,"..","..","..",25.9,"..",11,9.5,9.5,8.6]
["NVQ1 only (aged 40-49)",11.5,15.2,12.7,8.4,9.1,14.8,11.4,15.1,17.3,"..","..",16.2,18.8,8.4,26.5,9.1,"..",9.6999999999999993,13.7,14.8,11.6,11.7,12.1,13.3,12.5]
["NVQ1 only (aged 50-64)",10.9,10.7,18.5,15.5,16.8,13.5,22.7,12.9,13.5,15.3,4.7,5.8,8.6999999999999993,15.5,21.8,27.5,13.1,6.6,16.899999999999999,13.5,11.2,13.8,13.8,13.4,13]
["Trade Apprenticeships (aged 16-19)","..","..","..","..","..","..","..","..","..","..","..","..","..","..","..","..","..","..","..","..","..",1.8,1.5,1.4,1.3]
["Trade Apprenticeships (aged 20-24)",7.9,2.2000000000000002,"..","..","..","..","..",5.3,4.4000000000000004,"..","..","..","..","..","..","..","..","..","..","..","..",3.7,2.7,3.2,2.9]
["Trade Apprenticeships (aged 25-29)",5.5,"..","..","..","..","..","..",3.2,"..","..","..","..","..","..","..","..","..","..","..","..","..",2.8,2.5,2.7,2.2000000000000002]
["Trade Apprenticeships (aged 30-39)",1.7,6.1,"..","..","..","..","..",1.9,7,"..","..","..","..","..","..","..","..","..","..","..","..",3.2,2.5,2.2999999999999998,1.9]
["Trade Apprenticeships (aged 40-49)",4.7,3.1,5.3,"..",2.5,"..","..",1.4,4.2,9.1999999999999993,"..","..",10.9,"..","..","..","..","..","..","..","..",3.4,3.3,2.7,2.4]
["Trade Apprenticeships (aged 50-64)",7.2,4.5999999999999996,8.4,"..",3.7,5.8,2.2999999999999998,6.4,8.1,7.7,6.5,"..","..","..",9.1,"..",15.6,"..","..",5.8,4.3,5.4,5.4,5.2,4.8]
["Other NVQ qualifications (aged 16-19)","..","..","..","..","..","..","..","..","..","..","..","..","..","..","..","..","..","..","..","..","..",2.6,2.5,2.8,2.7]
["Other NVQ qualifications (aged 20-24)","..","..","..","..","..","..","..","..","..","..","..","..","..","..","..","..","..","..","..","..","..",0.9,3.1,4.5,4.5999999999999996]
["Other NVQ qualifications (aged 25-29)",8.6999999999999993,4.0999999999999996,"..","..","..","..","..",5.2,7.3,"..","..","..",23.3,"..","..","..","..","..","..","..","..",6.9,6.2,6.6,6.7]
["Other NVQ qualifications (aged 30-39)",6.9,4.0999999999999996,9.3000000000000007,"..",5.3,"..",4.4000000000000004,11.4,8.3000000000000007,"..","..","..","..","..",10.3,7,"..","..","..","..","..",5.3,5.7,7.5,7.8]
["Other NVQ qualifications (aged 40-49)",2.9,3.6,7.4,"..",3.3,"..",4.5,6.1,5.2,"..","..","..","..","..","..",9,"..","..","..","..","..",3.6,5.4,6.3,6.9]
["Other NVQ qualifications (aged 50-64)",7.6,6.3,8.4,12.1,6.1,11.4,7.4,11.5,7.9,7.8,"..",7.2,14.1,12.1,9,10.9,"..","..","..",11.4,4.2,7.7,7.5,7.2,7.5]
["No NVQ qualifications (aged 16-19)",21.1,15.9,14.8,"..",21.1,"..",17.899999999999999,9.6999999999999993,23.8,18.3,"..","..","..","..","..",17.3,"..",39,"..","..","..",17.600000000000001,14.8,12.5,12.7]
["No NVQ qualifications (aged 20-24)",7.3,1.9,"..","..","..","..","..",4,3.8,"..","..","..","..","..","..","..","..","..","..","..","..",4.3,4.7,4.5,4.3]
["No NVQ qualifications (aged 25-29)",7.9,6.2,"..","..","..","..","..",5.2,5.2,"..","..","..","..","..","..","..","..","..","..","..","..",3.7,5.9,5.5,5.2]
["No NVQ qualifications (aged 30-39)",10.9,6.7,"..","..","..","..","..",10.4,8.3000000000000007,"..","..","..",13,"..","..","..","..",11.2,"..","..","..",4.8,6.7,5.7,5.4]
["No NVQ qualifications (aged 40-49)",9.3000000000000007,3.6,"..","..",5.9,"..",6.9,12,7.8,"..","..","..","..","..","..",9.1,"..",14.7,"..","..","..",6,8,6.7,6.6]
["No NVQ qualifications (aged 50-64)",18.600000000000001,7.6,14.9,12.7,9.8000000000000007,15.6,9,21,12.5,17.100000000000001,11.5,"..",24.5,12.7,12.6,12.4,9.6,16.399999999999999,5,15.6,5.6,12.6,14.1,11.4,11.4]
[]
[]
["Source: Annual Population Survey"]
["Description: Number and share of qualification levels by gender and age, working age population"]
["Years: Jan-Dec 2006, Jan-Dec 2011 and Jan-Dec 2016"]
["http://nomisweb.co.uk/ "]

{"sheet":"LS31. Employed Qualifications","index":35,"n_rows":62,"n_cols":26,"rows_kept":62,"cut":false,"hidden":false,"merged":[]}
["LS31. Qualifications for those Employed",null,"Return to Contents",null,"Return to TTWA Summary",null,null,null,"Return to LA Summary"]
[null,"Blackburn with Darwen, Hyndburn, Rossendale and Ribble Valley","Blackpool, Fylde and Wyre","Burnley and Pendle","Lancaster and Morecambe ","Preston, Chorley and South Ribble ","West Lancashire ","Preston and South Ribble City Deal","Blackburn with Darwen ","Blackpool","Burnley","Chorley ","Fylde","Hyndburn","Lancaster ","Pendle ","Preston","Ribble Valley","Rossendale ","South Ribble ","West Lancashire ","Wrye ","Lancashire ","North West ","England Minus London","England"]
["Number (2006)"]
["NVQ4+",41200,35500,18100,20100,40800,12000,27200,15800,10900,8200,13600,12100,8200,20100,9900,15000,10700,6500,12200,12000,12500,167800,920500,5994700,7525800]
["NVQ3 only",28200,22400,13000,9700,32100,9100,21800,10200,9500,5500,10300,4900,6400,9700,7500,11800,4600,7000,10100,9100,8000,114500,533300,3292200,3698900]
["NVQ2 only",25900,27900,15500,8200,30500,9800,19800,9900,11400,9500,10700,6300,5400,8200,6000,9900,5100,5500,9800,9800,10300,117800,527100,3364300,3738900]
["NVQ1 only",19400,19600,12400,10700,29300,6600,19500,8100,9100,4600,9900,4300,3300,10700,7800,10100,2800,5300,9400,6600,6200,98000,441500,2965800,3270400]
["Trade Apprenticeships",10100,8700,6600,4200,11300,5300,7900,3700,4600,3600,3400,1100,3300,4200,3000,3300,"..",2100,4600,5300,2900,46200,204400,1238200,1340600]
["Other NVQ qualifications",12200,9200,5100,5000,11800,1900,10100,4400,4100,3100,1800,2000,4500,5000,2000,6200,2100,1300,3900,1900,3200,45200,188000,1562900,2082200]
["No NVQ qualifications",14200,14200,5600,3200,17100,4300,11300,7300,9600,3200,5800,2100,2500,3200,2400,6600,1700,2800,4700,4300,2500,58500,311700,1883200,2173100]
[]
["Number (2011)"]
["NVQ4+",40600,45400,19900,24200,57700,15100,40600,15500,14400,9800,17100,14700,8000,24200,10100,22800,7400,9700,17800,15100,16200,202800,1057600,6985000,9034700]
["NVQ3 only",31900,22500,19700,14200,32800,8200,24500,10000,10300,12200,8300,7400,9000,14200,7500,12000,5900,7100,12500,8200,4800,129200,553600,3577500,4005700]
["NVQ2 only",28100,26900,10500,11400,25900,11500,18900,11800,12800,6100,7000,4700,6000,11400,4400,8200,5600,4700,10700,11500,9300,114300,543300,3491400,3871400]
["NVQ1 only",19300,18300,8600,7400,24300,4400,13400,7000,9000,4700,11000,5100,4700,7400,3900,7000,4700,2900,6400,4400,4100,82200,384500,2517200,2820500]
["Trade Apprenticeships",9400,7100,6200,4000,6600,4000,4500,3200,3000,3400,2100,1200,2800,4000,2800,1000,1800,1600,3500,4000,2800,37200,143300,846800,904500]
["Other NVQ qualifications",9800,7500,8800,2500,6100,3200,3000,4100,2700,1800,3100,1900,2300,2500,7000,2300,1300,2000,"..",3200,2900,37900,173700,1241000,1576000]
["No NVQ qualifications",8700,10900,3800,1600,14300,4900,10400,4500,4700,1100,3800,2800,2400,1600,2700,8700,1300,"..",1700,4900,3400,44200,204600,1215900,1421100]
[]
["Number (2016)"]
["NVQ4+",58500,51000,27700,27400,70500,14500,43700,20600,17600,12900,26700,16000,10900,27400,14700,23500,13100,13800,20200,14500,17400,249500,1270800,8435400,11060300]
["NVQ3 only",35400,30400,16400,12300,33200,10100,27800,10900,11500,7300,5300,7100,10000,12300,9000,14200,7800,6600,13600,10100,11800,137700,591500,3893700,4441800]
["NVQ2 only",21600,24100,13800,9700,35100,9100,25500,10300,12900,8400,9500,4400,4100,9700,5400,12100,3800,3500,13400,9100,6900,113500,538600,3430400,3819400]
["NVQ1 only",12800,13400,12200,9000,17200,7800,14200,6700,6900,5000,3000,3200,3300,9000,7200,7600,"..",1900,6600,7800,3300,72400,334800,2296900,2564500]
["Trade Apprenticeships",9400,5700,4400,2800,4700,"..",2800,2300,3600,3100,1900,"..",2800,2800,1400,1100,1700,2600,1700,"..",1400,27900,122700,774800,832700]
["Other NVQ qualifications",7600,5300,5100,3800,6500,4400,4100,4700,3100,2000,"..","..",2300,3800,3000,3800,"..","..","..",4400,1600,32700,185900,1354500,1706400]
["No NVQ qualifications",11100,5600,1800,3500,4400,1700,3600,3800,3000,1800,"..","..",3300,3500,"..",1500,1700,2400,2200,1700,2100,28200,157300,992600,1156800]
[]
[]
["Share (2006)"]
["NVQ4+",27.3,25.8,23.7,33,23.6,24.5,23.1,26.7,18.399999999999999,21.7,24.6,36.9,24.3,33,25.7,23.9,38.299999999999997,21.5,22.3,24.5,27.5,25.9,29.4,29.5,31.6]
["NVQ3 only",18.600000000000001,16.3,17,15.9,18.600000000000001,18.600000000000001,18.600000000000001,17.3,16.100000000000001,14.5,18.5,15,19,15.9,19.399999999999999,18.7,16.3,22.9,18.399999999999999,18.600000000000001,17.5,17.7,17.100000000000001,16.2,15.5]
["NVQ2 only",17.100000000000001,20.3,20.3,13.4,17.600000000000001,19.899999999999999,16.8,16.7,19.2,25.3,19.399999999999999,19.2,16.2,13.4,15.5,15.8,18.100000000000001,18,18,19.899999999999999,22.5,18.2,16.899999999999999,16.600000000000001,15.7]
["NVQ1 only",12.9,14.2,16.3,17.5,17,13.4,16.600000000000001,13.6,15.3,12.3,17.8,13,9.8000000000000007,17.5,20.2,16,10.1,17.3,17.2,13.4,13.7,15.1,14.1,14.6,13.7]
["Trade Apprenticeships",6.7,6.3,8.6,6.9,6.5,10.9,6.7,6.2,7.8,9.6,6.2,3.4,9.8000000000000007,6.9,7.7,5.2,3.6,7,8.5,10.9,6.4,7.1,6.5,6.1,5.6]
["Other NVQ qualifications",8.1,6.7,6.7,8.1999999999999993,6.8,3.8,8.6,7.4,6.9,8.1,3.2,6,13.3,8.1999999999999993,5.3,9.9,7.6,4.2,7.1,3.8,7,7,6,7.7,8.6999999999999993]
["No NVQ qualifications",9.4,10.3,7.4,5.2,9.9,8.9,9.6,12.2,16.2,8.6,10.4,6.5,7.4,5.2,6.2,10.5,6,9.1,8.6,8.9,5.4,9,10,9.3000000000000007,9.1]
[]
["Share (2011)"]
["NVQ4+",27.5,32.799999999999997,25.7,37,34.4,29.5,35.200000000000003,27.6,25.3,25,32.700000000000003,38.799999999999997,22.7,37,26.3,36.799999999999997,26.3,34.200000000000003,33.4,29.5,37.299999999999997,31.3,34.6,35.1,38.200000000000003]
["NVQ3 only",21.6,16.2,25.4,21.7,19.5,16.100000000000001,21.3,17.8,18.100000000000001,31.2,15.8,19.399999999999999,25.6,21.7,19.399999999999999,19.3,21,24.8,23.5,16.100000000000001,11.1,19.899999999999999,18.100000000000001,18,16.899999999999999]
["NVQ2 only",19,19.399999999999999,13.6,17.5,15.4,22.5,16.399999999999999,21.1,22.5,15.6,13.3,12.4,17,17.5,11.6,13.2,19.8,16.600000000000001,20.100000000000001,22.5,21.4,17.600000000000001,17.8,17.600000000000001,16.399999999999999]
["NVQ1 only",13.1,13.2,11,11.3,14.5,8.5,11.6,12.4,15.8,12,20.9,13.5,13.4,11.3,10,11.3,16.899999999999999,10.1,12,8.5,9.4,12.7,12.6,12.7,11.9]
["Trade Apprenticeships",6.3,5.0999999999999996,8,6.1,3.9,7.8,3.9,5.7,5.3,8.8000000000000007,4,3.3,7.9,6.1,7.3,1.5,6.5,5.6,6.6,7.8,6.5,5.7,4.7,4.3,3.8]
["Other NVQ qualifications",6.6,5.4,11.4,3.8,3.6,6.2,2.6,7.4,4.8,4.5999999999999996,6,5.0999999999999996,6.5,3.8,18.2,3.7,4.8,7.2,"..",6.2,6.6,5.8,5.7,6.2,6.7]
["No NVQ qualifications",5.9,7.8,4.9000000000000004,2.5,8.5,9.5,9,8.1,8.1999999999999993,2.8,7.4,7.4,6.8,2.5,7.1,14.1,4.8,"..",3.2,9.5,7.8,6.8,6.7,6.1,6]
[]
["Share (2016)"]
["NVQ4+",37.4,37.6,34,40,41.1,29.9,35.9,34.9,30.1,31.8,53.9,49,29.8,40,36.1,36.9,45.2,43.7,34.799999999999997,29.9,39.200000000000003,37.700000000000003,39.700000000000003,39.799999999999997,43.2]
["NVQ3 only",22.6,22.4,20.100000000000001,17.899999999999999,19.3,20.9,22.8,18.399999999999999,19.600000000000001,18,10.7,21.8,27.3,17.899999999999999,22.2,22.3,26.9,21.1,23.4,20.9,26.6,20.8,18.5,18.399999999999999,17.399999999999999]
["NVQ2 only",13.8,17.8,17,14.2,20.399999999999999,18.7,21,17.3,22,20.7,19.2,13.5,11.1,14.2,13.3,19,13.2,11,23.1,18.7,15.4,17.100000000000001,16.8,16.2,14.9]
["NVQ1 only",8.1999999999999993,9.9,15,13.1,10,16.100000000000001,11.6,11.3,11.7,12.4,6,9.8000000000000007,9.1,13.1,17.7,12,"..",6.1,11.3,16.100000000000001,7.5,10.9,10.5,10.8,10]
["Trade Apprenticeships",6,4.2,5.4,4,2.7,"..",2.2999999999999998,3.8,6.1,7.5,3.8,"..",7.6,4,3.3,1.6,5.9,8.3000000000000007,3,"..",3.1,4.2,3.8,3.7,3.3]
["Other NVQ qualifications",4.9000000000000004,3.9,6.2,5.6,3.8,9.1,3.4,7.9,5.3,5,4.8,"..",6.1,5.6,7.4,5.9,"..","..","..",9.1,3.5,4.9000000000000004,5.8,6.4,6.7]
["No NVQ qualifications",7.1,4.0999999999999996,2.2000000000000002,5.0999999999999996,2.6,3.5,3,6.3,5.0999999999999996,4.5,"..","..",8.9,5.0999999999999996,"..",2.2999999999999998,5.8,7.7,3.8,3.5,4.7,4.3,4.9000000000000004,4.7,4.5]
[]
[]
["Source: Annual Population Survey"]
["Description: Qualification levels by number and share of those employed, wokring age population"]
["Years: Jan-Dec 2006, Jan-Dec 2011 and Jan-Dec 2016"]
["http://nomisweb.co.uk/ "]

{"sheet":"LS32. Travel to Work, method","index":36,"n_rows":35,"n_cols":26,"rows_kept":35,"cut":false,"hidden":false,"merged":[[35,0,35,6]]}
["LS32. Travel to Work, method, 2011",null,"Return to Contents",null,"Return to TTWA Summary",null,null,null,"Return to LA Summary"]
[null,"Blackburn with Darwen, Hyndburn, Rossendale and Ribble Valley","Blackpool, Fylde and Wyre","Burnley and Pendle","Lancaster and Morecambe ","Preston, Chorley and South Ribble ","West Lancashire ","Preston and South Ribble City Deal","Blackburn with Darwen ","Blackpool","Burnley","Chorley ","Fylde","Hyndburn","Lancaster ","Pendle ","Preston","Ribble Valley","Rossendale ","South Ribble ","West Lancashire ","Wrye ","Lancashire ","North West ","England Minus London","England"]
["Method"]
["Work mainly at or from home",7339,7972,2778,3388,7474,2780,{"$f":"SUM(Q4,T4)","v":4665},2269,3305,1258,2809,2131,1175,3388,1520,2437,2282,1613,2228,2780,2536,31731,144079,1146889,1349568]
["Underground, metro, light rail, tram",109,121,41,58,113,95,{"$f":"SUM(Q5,T5)","v":79},43,41,20,34,32,11,58,21,45,26,29,34,95,48,537,20719,125362,1027625]
["Train",1851,1542,547,1305,3034,1724,1736,1003,528,249,1298,437,349,1305,298,903,328,171,833,1724,577,10003,89429,810964,1343684]
["Bus, minibus or coach",8091,8670,5356,3785,11603,1471,10007,3297,5252,3232,1596,1377,2286,3785,2124,7272,603,1905,2735,1471,2041,38976,267140,1324934,1886539]
["Taxi",1714,1034,697,395,720,600,563,1133,619,331,157,154,390,395,366,391,51,140,172,600,261,5160,26302,111151,131465]
["Motorcycle, scooter or moped",951,1211,411,544,1281,285,900,322,562,216,381,240,240,544,195,427,167,222,473,285,409,4683,19988,160574,206550]
["Driving a car or van",106842,91638,50360,36945,116263,35231,77791,38582,34724,24554,38472,23501,24306,36945,25806,37751,20320,23634,40040,35231,33413,437279,2021199,13225056,14345882]
["Passenger in a car or van",11016,9384,5991,3915,10655,3181,7628,5034,4670,3061,3027,1731,2644,3915,2930,4394,1338,2000,3234,3181,2983,44142,197661,1194894,1264553]
["Bicycle",1637,4310,908,2551,3865,876,3086,600,1948,402,779,978,407,2551,506,1471,389,241,1615,876,1384,14147,70557,580970,742675]
["On foot",17598,17362,9919,9518,17796,5106,12884,7874,9191,4617,4912,3718,4002,9518,5302,8714,3053,2669,4170,5106,4453,77299,351807,2348841,2701453]
["Other method of travel to work",889,1243,449,428,839,345,602,366,579,193,237,211,183,428,256,375,156,184,227,345,453,4193,19863,134189,162727]
["Total",{"$f":"SUM(B4:B14)","v":158037},144487,77457,62832,173643,51694,119941,60523,61419,38133,53702,34510,35993,62832,39324,64180,28713,32808,55761,51694,48558,668150,3228744,21163824,25162721]
[]
["%"]
["Work mainly at or from home",{"$f":"B4/B$15","v":4.6438492251814449E-2},{"$f":"C4/C$15","v":5.5174513970114955E-2},3.5865060614276308E-2,5.3921568627450983E-2,4.3042333984093802E-2,5.3778001315433123E-2,{"$f":"H4/H$15","v":3.8894122943780689E-2},3.7489879880376054E-2,5.3810710040866835E-2,3.298979886187816E-2,5.230717664146587E-2,6.1750217328310632E-2,3.2645236573778234E-2,5.3921568627450983E-2,3.8653239751805513E-2,3.7971330632595827E-2,7.9476195451537626E-2,4.916483784442819E-2,3.9956241817757934E-2,5.3778001315433123E-2,5.2226203715144776E-2,4.7490832896804606E-2,4.4623853733835817E-2,5.419101009345003E-2,5.3633627301276361E-2]
["Underground, metro, light rail, tram",{"$f":"B5/B$15","v":6.8971190290881247E-4},8.3744558333967759E-4,5.2932594859083108E-4,9.2309651133180544E-4,6.5076046831717953E-4,1.8377374550237939E-3,{"$f":"H5/H$15","v":6.586571731101125E-4},7.1047370421162205E-4,6.6754587342678974E-4,5.2448010909186273E-4,6.3312353357416855E-4,9.27267458707621E-4,3.0561498069068985E-4,9.2309651133180544E-4,5.3402502288678669E-4,7.0115300716734185E-4,9.0551318218228677E-4,8.8393074859790296E-4,6.0974516238948367E-4,1.8377374550237939E-3,9.8850858766835531E-4,8.0371174137543969E-4,6.4170463808837118E-3,5.923409682484602E-3,4.0839184283766448E-2]
["Train",{"$f":"B6/B$15","v":1.1712447085176256E-2},1.067224040917176E-2,7.0619827775410876E-3,2.0769671504965621E-2,1.7472630627206394E-2,3.335009865748443E-2,{"$f":"H6/H$15","v":1.4473782943280446E-2},1.6572212216843185E-2,8.5966883212035359E-3,6.5297773581936905E-3,2.4170421958213846E-2,1.2662996232975949E-2,9.6963298419137055E-3,2.0769671504965621E-2,7.5780693723934492E-3,1.4069803677157993E-2,1.1423397067530388E-2,5.2121433796634966E-3,1.4938756478542351E-2,3.335009865748443E-2,1.1882696980930021E-2,1.497118910424306E-2,2.7697767305181208E-2,3.8318405974270053E-2,5.3399789315312918E-2]
["Bus, minibus or coach",{"$f":"B7/B$15","v":5.1196871618671577E-2},6.0005398409545496E-2,6.9148043430548561E-2,6.0240005092946268E-2,6.6821006317559592E-2,2.8455913645684217E-2,{"$f":"H7/H$15","v":8.3432687738137917E-2},5.4475158204319016E-2,8.5510998225304877E-2,8.4755985629245009E-2,2.9719563517187443E-2,3.9901477832512314E-2,6.3512349623537911E-2,6.0240005092946268E-2,5.4012816600549282E-2,0.11330632595824244,2.1000940340612267E-2,5.8065106071689833E-2,4.9048618209859937E-2,2.8455913645684217E-2,4.2032208904814863E-2,5.8334206390780512E-2,8.2738055417214865E-2,6.2603714716206293E-2,7.4973569034922735E-2]
["Taxi",{"$f":"B8/B$15","v":1.0845561482437658E-2},7.1563531667208817E-3,8.9985411260441271E-3,6.2866055513114338E-3,4.1464383821979579E-3,1.1606762873834487E-2,{"$f":"H8/H$15","v":4.6939745374809279E-3},1.8720155973762042E-2,1.007831452807763E-2,8.6801458054703278E-3,2.9235410226807197E-3,4.4624746450304259E-3,1.0835440224488095E-2,6.2866055513114338E-3,9.3072932560268537E-3,6.0922405733873477E-3,1.7761989342806395E-3,4.2672518897829796E-3,3.0845931744409175E-3,1.1606762873834487E-2,5.3750154454466825E-3,7.7228167327695876E-3,8.1462017428448955E-3,5.2519336770141352E-3,5.2245939538891678E-3]
["Motorcycle, scooter or moped",{"$f":"B9/B$15","v":6.0175781620759698E-3},8.381376871275617E-3,5.3061698748983303E-3,8.658008658008658E-3,7.377204954993867E-3,5.513212365071382E-3,{"$f":"H9/H$15","v":7.5036893139126737E-3},5.3202914594451698E-3,9.150262947947704E-3,5.6643851781921174E-3,7.0947078321105363E-3,6.9545059403071574E-3,6.6679632150695965E-3,8.658008658008658E-3,4.9588037839487335E-3,6.6531629791212214E-3,5.8161808240169959E-3,6.766642282370154E-3,8.4826312297125225E-3,5.513212365071382E-3,8.4229169240907786E-3,7.0089051859612362E-3,6.1906425532652944E-3,7.5871921822823702E-3,8.208571720045698E-3]
["Driving a car or van",{"$f":"B10/B$15","v":0.67605687275764537},0.63423006914116842,0.65016718953742081,0.58799656226126817,0.66955189670761273,0.6815297713467714,{"$f":"H10/H$15","v":0.64857721713175642},0.63747666176494888,0.56536250997248405,0.64390422993207985,0.716397899519571,0.68099101709649379,0.67529797460617347,0.58799656226126817,0.65624046383887702,0.58820504830165166,0.70769337930554099,0.72037307973664955,0.71806459711985082,0.6815297713467714,0.68810494666172417,0.65446232133502957,0.62600162787758951,0.62488971747260802,0.5701244312965994]
["Passenger in a car or van",{"$f":"B11/B$15","v":6.9705195618747509E-2},6.4947019455037475E-2,7.7346140439211439E-2,6.2309014514896871E-2,6.1361529114332278E-2,6.1535187836112511E-2,{"$f":"H11/H$15","v":6.3597935651695414E-2},8.317499132561175E-2,7.6035103143978253E-2,8.0271680696509584E-2,5.6366615768500244E-2,5.0159374094465373E-2,7.3458728086016722E-2,6.2309014514896871E-2,7.4509205574204054E-2,6.8463695855406667E-2,4.6599101452303837E-2,6.0960741282613994E-2,5.7997525151987951E-2,6.1535187836112511E-2,6.1431689937806337E-2,6.6066003143006813E-2,6.1219161382878293E-2,5.6459267474535793E-2,5.0255018127808991E-2]
["Bicycle",{"$f":"B12/B$15","v":1.0358333807905743E-2},2.9829673257801739E-2,1.1722633202938405E-2,4.0600331041507509E-2,2.2258311593326537E-2,1.6945873795798351E-2,{"$f":"H12/H$15","v":2.5729316914149456E-2},9.9135865703947265E-3,3.1716569791106985E-2,1.0542050192746439E-2,1.4505977431008156E-2,2.8339611706751665E-2,1.1307754285555525E-2,4.0600331041507509E-2,1.2867460075272098E-2,2.2919912745403552E-2,1.3547870302650367E-2,7.3457693245549864E-3,2.8962895213500477E-2,1.6945873795798351E-2,2.8501997611104245E-2,2.1173389209009952E-2,2.185276999353309E-2,2.7451088234337992E-2,2.951489228847707E-2]
["On foot",{"$f":"B13/B$15","v":0.11135367034302093},0.12016305965242548,0.12805814839201105,0.15148332060096767,0.10248613534665953,9.8773552056331496E-2,{"$f":"H13/H$15","v":0.10741948124494544},0.13009930109214679,0.14964424689428352,0.1210762331838565,9.1467729321068114E-2,0.10773688785859172,0.11118828661128553,0.15148332060096767,0.13482860339741634,0.13577438454347149,0.10632814404625082,8.1352109241648374E-2,7.4783450798945494E-2,9.8773552056331496E-2,9.1704765435149715E-2,0.11569108733068921,0.10896094580431276,0.11098377117481227,0.10735933526425859]
["Other method of travel to work",{"$f":"B14/B$15","v":5.625264969595728E-3},8.6028500833985073E-3,5.7967646565191006E-3,6.8118156353450471E-3,4.8317525037001206E-3,6.67388865245483E-3,{"$f":"H14/H$15","v":5.0191344077504772E-3},6.047287807940783E-3,9.4270502613197863E-3,5.061233052736475E-3,4.4132434546199396E-3,6.1141698058533762E-3,5.0843219514905679E-3,6.8118156353450471E-3,6.5100193266198758E-3,5.8429417263945157E-3,5.4330790930937206E-3,5.6083881980004873E-3,4.0709456430121412E-3,6.67388865245483E-3,9.3290497961201046E-3,6.2755369303300161E-3,6.1519278084605031E-3,6.3404893179984864E-3,6.4669874136425868E-3]
["Total",{"$f":"B15/B$15","v":1},1,1,1,1,1,{"$f":"H15/H$15","v":1},1,1,1,1,1,1,1,1,1,1,1,1,1,1,1,1,1,1]
[]
[]
["Source: 2011 Census"]
["Description: Number and percentage in employment by method of travel to work"]
["Year: 2011"]
["http://nomisweb.co.uk/ "]

{"sheet":"LS33. Travel to Work, distance","index":37,"n_rows":36,"n_cols":26,"rows_kept":36,"cut":false,"hidden":false,"merged":[[35,0,35,6]]}
["LS33. Travel to Work, distance, 2011",null,"Return to Contents",null,"Return to TTWA Summary",null,null,null,"Return to LA Summary"]
[null,"Blackburn with Darwen, Hyndburn, Rossendale and Ribble Valley","Blackpool, Fylde and Wyre","Burnley and Pendle","Lancaster and Morecambe ","Preston, Chorley and South Ribble ","West Lancashire ","Preston and South Ribble City Deal","Blackburn with Darwen ","Blackpool","Burnley","Chorley ","Fylde","Hyndburn","Lancaster ","Pendle ","Preston","Ribble Valley","Rossendale ","South Ribble ","West Lancashire ","Wrye ","Lancashire ","North West ","England Minus London","England"]
["Distance"]
["Work mainly at or from home",15152,15634,6311,6644,15556,5648,{"$f":"SUM(Q4,T4)","v":9729},4930,6173,2941,5827,4055,2860,6644,3370,5038,4070,3292,4691,5648,5406,64945,290983,2201167,2581832]
["Less than 2km",30642,30398,17401,14211,30410,8765,22225,14083,15754,8390,8185,6453,7087,14211,9011,13944,4699,4773,8281,8765,8191,131827,585311,3695553,4170138]
["2km to less than 5km",29842,31984,16852,13477,39782,7040,31459,14124,17613,9421,8323,5676,7880,13477,7431,18332,3183,4655,13127,7040,8695,138977,674012,3911353,4627289]
["5km to less than 10km",25914,23682,12526,9972,30894,8169,21651,8256,8224,6117,9243,6960,7710,9972,6409,8827,4919,5029,12824,8169,8498,111157,606289,3438342,4364988]
["10km to less than 20km",25117,16123,9775,3731,23670,10607,13355,8609,3217,4499,10315,5273,3888,3731,5276,6740,5720,6900,6615,10607,7633,89023,467253,3052231,3848064]
["20km to less than 30km",9694,6765,3322,2741,9058,4160,5681,2796,2604,1524,3377,1434,1721,2741,1798,2956,1711,3466,2725,4160,2727,35740,160888,1285266,1439855]
["30km to less than 40km",4596,1971,2570,3231,5644,1371,2893,1634,643,1249,2751,664,1028,3231,1321,1119,983,951,1774,1371,664,19383,70136,603895,642205]
["40km to less than 60km",2614,2317,1719,1229,3646,1003,2861,635,740,626,785,675,611,1229,1093,1790,931,437,1071,1003,902,12528,55505,558195,586489]
["60km and over",3151,3876,1493,2764,3577,1134,2457,1341,1468,678,1120,909,628,2764,815,1407,547,635,1050,1134,1499,15995,82383,721901,773984]
["Other",11315,11737,5488,4832,11406,3797,7630,4115,4983,2688,3776,2411,2580,4832,2800,4027,1950,2670,3603,3797,4343,48575,235984,1695921,2127877]
["All people aged 16 to 74 in employment",{"$f":"SUM(B4:B13)","v":158037},{"$f":"SUM(C4:C13)","v":144487},77457,62832,173643,51694,119941,60523,61419,38133,53702,34510,35993,62832,39324,64180,28713,32808,55761,51694,48558,668150,3228744,21163824,25162721]
[]
["%"]
[{"$f":"A4","v":"Work mainly at or from home"},9.587628213646171E-2,0.10820350619778941,8.1477464916017914E-2,0.10574229691876751,8.9586104824265878E-2,0.10925832785236197,{"$f":"H4/H$14","v":8.1114881483396004E-2},8.1456636320076659E-2,0.10050635796740422,7.7124800041958402E-2,0.10850620088637294,0.11750217328310635,7.9459894979579365E-2,0.10574229691876751,8.5698301291831966E-2,7.8497974446868179E-2,0.14174764044161181,0.10034138015118264,8.4126898728502E-2,0.10925832785236197,0.11133077968614852,9.7201227269325743E-2,9.0122660700259913E-2,0.1040061096709177,0.10260543762337944]
[{"$f":"A5","v":"Less than 2km"},0.19389130393515441,0.21038570944098778,0.22465367881534271,0.22617456073338427,0.17512943222588875,0.16955546098193214,{"$f":"H5/H$14","v":0.18529943889078798},0.2326883994514482,0.25650043146257673,0.22001940576403639,0.15241518006778146,0.18698927847000868,0.19689939710499263,0.22617456073338427,0.2291475943444207,0.21726394515425365,0.16365409396440636,0.14548280907095831,0.14850881440433278,0.16955546098193214,0.16868487169982288,0.19730150415325901,0.18128132797149604,0.17461650597736969,0.16572683057607324]
["2km to less than 5km",0.18882919822573194,0.2213624755168285,0.21756587525982157,0.21449261522790936,0.22910223850083217,0.13618601771965799,0.262287291251532,0.23336582786709184,0.28676793826014751,0.24705635538772192,0.15498491676287662,0.16447406548826426,0.2189314588947851,0.21449261522790936,0.18896856881293866,0.285634153942038,0.11085570995716226,0.14188612533528408,0.23541543372608095,0.13618601771965799,0.17906421187034063,0.20800269400583701,0.20875362060293415,0.18481315096931444,0.18389461934581716]
["5km to less than 10km",0.16397425919246758,0.16390401904669624,0.1617155324889939,0.15870893812070283,0.17791676024947736,0.15802607652725656,0.18051375259502589,0.13641095120863142,0.13389993324541266,0.16041224136574619,0.17211649473017765,0.20168067226890757,0.2142083182841108,0.15870893812070283,0.16297935103244837,0.13753505765035837,0.17131612858287187,0.1532857839551329,0.22998152830831584,0.15802607652725656,0.17500720787511842,0.16636533712489709,0.18777859130361527,0.16246317300691973,0.17347042873463486]
["10km to less than 20km",0.15893113637945544,0.11158789372054233,0.12619905237744813,5.9380570409982174E-2,0.13631416181475786,0.20518822300460401,0.11134641198589307,0.14224344464088032,5.2377928653999574E-2,0.11798180054021451,0.1920785073181632,0.15279629093016517,0.10802100408412747,5.9380570409982174E-2,0.13416742955955652,0.10501713929573075,0.19921290008010309,0.21031455742501828,0.11863130144724808,0.20518822300460401,0.15719345936817827,0.13323804534909825,0.14471664523418395,0.14421925829661028,0.1529271814443279]
["20km to less than 30km",6.1340065933926866E-2,4.6820821250354701E-2,4.2888312224847333E-2,4.3624267888973771E-2,5.2164498424929311E-2,8.0473555925252446E-2,4.7364954435931E-2,4.6197313418039426E-2,4.2397303765935625E-2,3.9965384312799938E-2,6.2884063908234325E-2,4.1553172993335268E-2,4.7814852888061567E-2,4.3624267888973771E-2,4.5722713864306784E-2,4.6057961981925834E-2,5.9589732873611259E-2,0.10564496464277005,4.8869281397392446E-2,8.0473555925252446E-2,5.6159644136908438E-2,5.3490982563795558E-2,4.9829902897225671E-2,6.0729384254943716E-2,5.7221752766721853E-2]
["30km to less than 40km",2.908179730063213E-2,1.3641365659194252E-2,3.3179699704352091E-2,5.1422841864018333E-2,3.2503469762673994E-2,2.6521453166711804E-2,2.4120192427943738E-2,2.6998000760041638E-2,1.0469073088132337E-2,3.2753782812786826E-2,5.1227142378309935E-2,1.9240799768183135E-2,2.8561109104548107E-2,5.1422841864018333E-2,3.3592716915878347E-2,1.7435338111561234E-2,3.423536377250723E-2,2.8986832479882957E-2,3.1814350531733648E-2,2.6521453166711804E-2,1.3674368796078916E-2,2.9009952854897852E-2,2.1722378733030553E-2,2.8534304575581426E-2,2.5522080859220274E-2]
["40km to less than 60km",1.6540430405537945E-2,1.6036044765273001E-2,2.2192958673844843E-2,1.9560096765979119E-2,2.0997103252074659E-2,1.9402638604093317E-2,2.3853394585671289E-2,1.0491879120334419E-2,1.2048388935020108E-2,1.6416227414575303E-2,1.4617705113403597E-2,1.9559547957113881E-2,1.6975523018364681E-2,1.9560096765979119E-2,2.7794730953107517E-2,2.7890308507323155E-2,3.2424337408142656E-2,1.3319921970251159E-2,1.9206972615268735E-2,1.9402638604093317E-2,1.8575723876601179E-2,1.8750280625608021E-2,1.719089528311938E-2,2.637495945912232E-2,2.3307852914635108E-2]
["60km and over",1.993836886298778E-2,2.6825942818385046E-2,1.9275210762100262E-2,4.3990323402088111E-2,2.0599736240447353E-2,2.1936781831547181E-2,2.0485071826981598E-2,2.2156865984832214E-2,2.3901398590012862E-2,1.7779875698214147E-2,2.0855834047149083E-2,2.6340191248913358E-2,1.7447837079432111E-2,4.3990323402088111E-2,2.0725256840606245E-2,2.1922717357432221E-2,1.9050604255911957E-2,1.9355035357229943E-2,1.8830365309086997E-2,2.1936781831547181E-2,3.0870299435726348E-2,2.3939235201676269E-2,2.5515494570024753E-2,3.4110140020064426E-2,3.0759153590742432E-2]
["Other",7.1597157627644153E-2,8.123222158394873E-2,7.0852214777231234E-2,7.6903488668194547E-2,6.5686494704652654E-2,7.3451464386582579E-2,6.361461051683745E-2,6.7990681228623825E-2,8.1131246031358378E-2,7.0490126661946345E-2,7.0313954787531191E-2,6.9863807592002322E-2,7.1680604561998165E-2,7.6903488668194547E-2,7.1203336384904892E-2,6.2745403552508572E-2,6.7913488663671515E-2,8.1382589612289682E-2,6.4615053532038516E-2,7.3451464386582579E-2,8.9439433255076403E-2,7.2700740851605175E-2,7.3088482704110336E-2,8.0133013769156269E-2,8.456466214444773E-2]
[]
["Average Distance (km)"]
["Average distance travelled to work",13.5,13.4,13,16.2,13.5,15.6,12.7,12.5,11.4,12.1,15.4,14.5,11.9,16.2,14,12.5,15.5,15.6,13,15.6,15.4,13.9,14,15.6,14.9]
[]
[]
["Source: 2011 Census"]
["Description: Number and percentage in employment by distance travelled to work and by location of employment"]
["Year: 2011"]
["http://nomisweb.co.uk/ "]
["Please note, location of employment figures exclude those working outside the UK, on offshore installations or with no fixed place of work"]

{"sheet":"LS34. Travel to Work, location","index":38,"n_rows":27,"n_cols":26,"rows_kept":27,"cut":false,"hidden":false,"merged":[[26,0,26,6]]}
["LS34. Travel to Work, destination, 2011",null,"Return to Contents",null,"Return to TTWA Summary",null,null,null,"Return to LA Summary"]
[null,"Blackburn with Darwen, Hyndburn, Rossendale and Ribble Valley","Blackpool, Fylde and Wyre","Burnley and Pendle","Lancaster and Morecambe ","Preston, Chorley and South Ribble ","West Lancashire ","Preston and South Ribble City Deal","Blackburn with Darwen ","Blackpool","Burnley","Chorley ","Fylde","Hyndburn","Lancaster ","Pendle ","Preston","Ribble Valley","Rossendale ","South Ribble ","West Lancashire ","Wrye ","Lancashire ","North West ","England Minus London","England"]
["Destination"]
["Home LA ",65754,65441,35565,39800,68840,20637,51560,31801,32638,17395,17280,15100,13194,39800,18170,34082,9896,10863,17478,20637,17703,296037,"..","..",".."]
["Rest of TTWA",22955,32163,9851,0,35430,0,18678,5941,12214,4692,11307,6477,9538,0,5159,6560,4767,2709,17563,0,13472,100399,"..","..",".."]
["TTWA Total",88709,97604,45416,39800,104270,20637,70238,37742,44852,22087,28587,21577,22732,39800,23329,40642,14663,13572,35041,20637,31175,396436,"..","..",".."]
["Rest of Lancashire",21008,14028,12148,5115,23013,4357,23046,7268,3576,7305,5412,4907,4837,5115,4843,10075,5962,2941,7526,4357,5545,79669,"..","..",".."]
["Lancashire Total",109717,111632,57564,44915,127283,24994,93284,45010,48428,29392,33999,26484,27569,44915,28172,50717,20625,16513,42567,24994,36720,476105,"..","..",".."]
["Rest of NW",17941,3506,3308,4905,16522,16349,7416,5131,1071,1840,9106,1073,2210,4905,1468,3321,1351,9249,4095,16349,1362,62531,"..","..",".."]
["Rest of England",3926,2226,4815,1529,2997,930,2011,1272,882,1285,986,602,777,1529,3530,1129,775,1102,882,930,742,16423,"..","..",".."]
["Total",{"$f":"SUM(B8,B9,B10)","v":131584},{"$f":"SUM(C8,C9,C10)","v":117364},65687,51349,146802,42273,{"$f":"SUM(H8,H9,H10)","v":102711},51413,50381,32517,44091,28159,30556,51349,33170,55167,22751,26864,47544,42273,38824,555059,"..","..",".."]
[]
["%"]
["Home LA ",{"$f":"B4/B$11","v":0.49971121108949418},{"$f":"C4/C$11","v":0.55759006168842229},0.54143133344497385,0.77508812245613357,0.46893094099535426,0.48818394720034064,0.50199102335679724,0.61854005796199407,0.64782358428772746,0.5349509487345081,0.39191671769748926,0.53624063354522533,0.43179735567482652,0.77508812245613357,0.54778414229725658,0.6177968713179981,0.43496989143334358,0.40437016081000593,0.36761736496718828,0.48818394720034064,0.45598083659592004,0.53334330224354531,"..","..",".."]
["Rest of TTWA",0.17445130107003892,{"$f":"C5/C$11","v":0.27404485191370437},0.14996879138946823,0,0.24134548575632483,0,0.18185004527265825,0.11555443175850466,0.24243266310712372,0.14429375403635022,0.25644689392393005,0.23001527042863737,0.31214818693546276,0,0.1555321073258969,0.11891166820744285,0.20952925146147422,0.10084127456819536,0.36940518256772675,0,0.34700185452297549,0.1808798704281887,"..","..",".."]
["TTWA Total",0.67416251215953304,{"$f":"C6/C$11","v":0.83163491360212671},0.69140012483444213,0.77508812245613357,0.71027642675167912,0.48818394720034064,0.68384106862945548,0.73409448972049873,0.89025624739485121,0.67924470277085836,0.64836361162141931,0.76625590397386267,0.74394554261028933,0.77508812245613357,0.70331624962315342,0.73670853952544091,0.6444991428948178,0.50521143537820135,0.73702254753491503,0.48818394720034064,0.80298269111889553,0.71422317267173396,"..","..",".."]
["Rest of Lancashire",0.15965466926070038,{"$f":"C7/C$11","v":0.11952557854197199},0.18493765889749875,9.9612455938771938E-2,0.15676216945273225,0.10306815224848012,0.22437713584718288,0.14136502441016863,7.0979138961116295E-2,0.22465172063843528,0.12274613866775533,0.1742604495898292,0.15829951564340883,9.9612455938771938E-2,0.14600542659029242,0.18262729530335164,0.26205441519054107,0.10947736748064324,0.1582954736664984,0.10306815224848012,0.14282402637543787,0.14353248933897117,"..","..",".."]
["Lancashire Total",0.83381718142023342,{"$f":"C8/C$11","v":0.9511604921440987},0.87633778373194082,0.87470057839490545,0.86703859620441137,0.59125209944882073,0.90821820447663837,0.87545951413066736,0.9612353863559675,0.90389642340929355,0.77110975028917461,0.9405163535636919,0.90224505825369816,0.87470057839490545,0.8493216762134459,0.91933583482879255,0.90655355808535887,0.61468880285884453,0.89531802120141346,0.59125209944882073,0.94580671749433343,0.85775566201070519,"..","..",".."]
["Rest of NW",0.13634636429961089,{"$f":"C9/C$11","v":2.9872874135169217E-2},5.036004079954938E-2,9.5522794991139068E-2,0.1125461505974033,0.3867480424857474,7.2202587843561053E-2,9.9799661564195827E-2,2.125801393382426E-2,5.6585785896607926E-2,0.20652740922183666,3.8105046343975282E-2,7.2326220709516956E-2,9.5522794991139068E-2,4.425685860717516E-2,6.0199032030017946E-2,5.9382005186585207E-2,0.34428975580702798,8.6130742049469966E-2,0.3867480424857474,3.5081392952812693E-2,0.11265649237288289,"..","..",".."]
["Rest of England",2.9836454280155644E-2,{"$f":"C10/C$11","v":1.8966633720732082E-2},7.3302175468509756E-2,2.9776626613955481E-2,2.041525319818531E-2,2.1999858065431838E-2,1.9579207679800606E-2,2.4740824305136834E-2,1.7506599710208213E-2,3.951779069409847E-2,2.2362840488988681E-2,2.1378600092332823E-2,2.542872103678492E-2,2.9776626613955481E-2,0.10642146517937896,2.046513314118948E-2,3.4064436728055911E-2,4.1021441334127454E-2,1.8551236749116608E-2,2.1999858065431838E-2,1.9111889552853905E-2,2.9587845616411947E-2,"..","..",".."]
[]
[]
["Source: 2011 Census"]
["Description: Number and percentage in employment by location of employment"]
["Year: 2011"]
["http://nomisweb.co.uk/ "]
["Please note, location of employment figures exclude those working outside the UK, on offshore installations or with no fixed place of work"]

{"sheet":"LS35. Workplace Earnings","index":39,"n_rows":12,"n_cols":26,"rows_kept":12,"cut":false,"hidden":false,"merged":[]}
["LS35. Mean and Median Workplace Earnings, 2017",null,null,"Return to Contents",null,"Return to TTWA Summary",null,null,"Return to LA Summary"]
[null,"Blackburn with Darwen, Hyndburn, Rossendale and Ribble Valley","Blackpool, Fylde and Wyre","Burnley and Pendle","Lancaster and Morecambe ","Preston, Chorley and South Ribble ","West Lancashire ","Preston and South Ribble City Deal","Blackburn with Darwen ","Blackpool","Burnley","Chorley ","Fylde","Hyndburn","Lancaster ","Pendle ","Preston","Ribble Valley","Rossendale ","South Ribble ","West Lancashire ","Wrye ","Lancashire ","North West ","England Minus London","England"]
["Annual Earnings"]
["Median","..","..","..","..","..","..","..",23976,23754,22541,24908,34137,24170,27993,25348,25946,31916,20171,25330,27623,"..",25726,26746,"..",29079]
["Mean","..","..","..","..","..","..","..",33376,26395,27413,27202,37061,29606,34434,29498,31244,34669,23213,27915,33542,"..",30895,31771,"..",36107]
[]
[]
["Source: Annual Survey of Hours and Earnings"]
["Description: Average annual gross pay for full-time workers, based on place of work"]
["Year: 2017"]
["http://nomisweb.co.uk/ "]
["Please note, data is unavailable for TTWAs, the City Deal region and England Minus London"]

{"sheet":"LS36. Resident Earnings","index":40,"n_rows":12,"n_cols":26,"rows_kept":12,"cut":false,"hidden":false,"merged":[]}
["LS36. Mean and Median Resident Earnings, 2017",null,null,"Return to Contents",null,"Return to TTWA Summary",null,null,"Return to LA Summary"]
[null,"Blackburn with Darwen, Hyndburn, Rossendale and Ribble Valley","Blackpool, Fylde and Wyre","Burnley and Pendle","Lancaster and Morecambe ","Preston, Chorley and South Ribble ","West Lancashire ","Preston and South Ribble City Deal","Blackburn with Darwen ","Blackpool","Burnley","Chorley ","Fylde","Hyndburn","Lancaster ","Pendle ","Preston","Ribble Valley","Rossendale ","South Ribble ","West Lancashire ","Wrye ","Lancashire ","North West ","England Minus London","England"]
["Annual Earnings (£)"]
["Median","..","..","..","..","..","..","..",23203,22862,23658,27419,30523,25069,27605,25074,24729,27951,23119,26369,28376,"..",25821,26662,"..",29085]
["Mean","..","..","..","..","..","..","..",26648,24866,28360,30304,35364,28386,33216,31793,30196,36347,30437,29422,34526,33567,30666,31640,"..",36118]
[]
[]
["Source: Annual Survey of Hours and Earnings"]
["Description: Average annual gross pay for full-time workers, based on place of residence"]
["Year: 2017"]
["http://nomisweb.co.uk/ "]
["Please note, data is unavailable for TTWAs, the City Deal region and England Minus London"]